{"text_format":"1","workbook":"xlsx","n_sheets":10,"sheets":["Def. Prix & Parcours","Saisie des Résultats","Classement Général","Prix Sciences & Techniques","Prix Marketing & Communication","Prix Numérique","Trophées","Prix Avenir","Resultats","KO 16 Vierge"],"not_rendered":{"charts":0,"images":1,"macros":1,"external_links":1,"defined_names":18,"comments":0,"pivot_tables":0},"unopened":[],"bounds":{"document_bytes":16777216,"sheet_cells":100000,"rows_first":2000,"rows_last":500,"rows_between":2000,"halvings":0,"cell_chars":16384,"cell_head_chars":4096},"cells_cut":0,"cells_raw":0,"read":"whole","date_system":"1900"}

{"sheet":"Def. Prix & Parcours","index":0,"n_rows":33,"n_cols":14,"rows_kept":33,"cut":false,"hidden":false,"merged":[[1,4,1,8],[3,2,3,6]]}
[]
[null,null,null,null,"FINALE FRANCE / ACADEMIQUES COURSE EN COURS"]
[]
[null,null,"Définition des coefficients pour les parcours et les Prix et Trophées"]
[]
["N°","Critère d'évaluation","Parcours Général","Parcours Technique","Parcours Numérique","Jury",null,"N°","Critère d'évaluation","Avenir","Sciences & techniques","Marketing & communication","Numérique","Jury"]
[1,"Ingénierie et conception",6,6,6,"Soutenance",null,1,"Ingénierie et conception",6,6,2,2,"Soutenance"]
[2,"Innovation mécanique",6,12,4,"Soutenance",null,2,"Innovation mécanique",null,12,2,3,"Soutenance"]
[3,"Design du Véhicule",3,6,3,"Spécifique",null,3,"Design du Véhicule",null,6,2,2,"Spécifique"]
[4,"Développement Durable",4,6,4,"Spécifique",null,4,"Développement Durable",null,6,6,6,"Spécifique"]
[5,"Ingénierie de fabrication",3,8,3,"Soutenance",null,5,"Ingénierie de fabrication",null,8,null,null,"Soutenance"]
[6,"Gestion de projet et collaborations",5,5,5,"Soutenance",null,6,"Gestion de projet et collaborations",5,5,5,5,"Soutenance"]
[7,"Présentation Orale",5,5,5,"Soutenance",null,7,"Présentation Orale",5,4,5,4,"Soutenance"]
[8,"Innovation numérique",4,4,14,"Spécifique",null,8,"Innovation numérique",null,null,null,15,"Spécifique"]
[9,"Programmation",4,4,12,"Spécifique",null,9,"Programmation",null,null,null,15,"Spécifique"]
[10,"Epreuve CAO",4,4,4,"Spécifique",null,10,"Epreuve CAO",4,null,null,null,"Spécifique"]
[11,"Respect du règlement",5,5,5,"Spécifique",null,11,"Respect du règlement",5,5,5,5,"Spécifique"]
[12,"Identité Equipe",5,5,5,"Stand",null,12,"Identité Equipe",5,4,5,4,"Stand"]
[13,"Design du Stand",8,2,2,"Stand",null,13,"Design du Stand",null,null,8,null,"Stand"]
[14,"Portfolio",8,4,4,"Stand",null,14,"Portfolio",null,4,8,4,"Stand"]
[15,"Marketing et Sponsoring",8,2,2,"Stand",null,15,"Marketing et Sponsoring",null,null,10,null,"Stand"]
[16,"Communication : vidéo",3,3,3,"Spécifique",null,16,"Communication : vidéo",3,null,10,null,"Spécifique"]
[17,"Budget",2,2,2,"Stand",null,17,"Budget",null,null,2,null,"Stand"]
[18,"Temps Course",10,10,10,"Piste",null,18,"Temps Course",10,10,null,5,"Piste"]
[19,"Temps Réaction",3,3,3,"Piste",null,19,"Temps Réaction",3,null,null,null,"Piste"]
[20,"Epreuve arrêt au stand",4,4,4,"Piste",null,20,"Epreuve arrêt au stand",4,null,null,null,"Piste"]
[21,"Coup de Cœur",null,null,null,"Spécifique",null,21,"Coup de Cœur",20,null,null,null,"Spécifique"]
[22,"Epreuve KO",null,null,null,"Piste",null,22,"Epreuve KO",null,null,null,null,"Piste"]
[null,"Total points",100,100,100,null,null,null,"Total points",{"$f":"SUM(J7:J28)","v":70},{"$f":"SUM(K7:K28)","v":70},70,70]
[]
[]
[]
[null,"Epreuve CAO","G",null,{"$f":"VLOOKUP(B33,B6:E28,IF(C33=\"G\",2,IF(C33=\"T\",3,IF(C33=\"N\",4,0))),FALSE)","v":4}]

{"sheet":"Saisie des Résultats","index":1,"n_rows":38,"n_cols":32,"rows_kept":38,"cut":false,"hidden":false,"merged":[[3,13,3,17],[3,4,3,9],[1,7,1,16],[3,25,3,28],[3,20,3,23]]}
[]
[null,null,null,null,null,null,null,"FINALE FRANCE / ACADEMIQUES COURSE EN COURS"]
[]
[null,null,null,null,"Attention: tous les critères sont notés sur 20",null,null,null,null,null,null,null,null,"Feuille de saisie des résultats :",null,null,null,null,null,null,"Saisir une valeur",null,null,null,null,"NE PAS TOUCHER FORMULE"]
[]
["N° équipe","Nom équipe","Etablissement","Type établissement","Académie","Parcours choisi","Points Ingénierie et conception","Points Innovation mécanique","Points Développement Durable","Points Ingénierie de fabrication","Points Gestion de projet et \ncollaborations","Points Présentation Orale","Points Identité Equipe","Points Design du Stand","Points Portfolio","Points Marketing et Sponsoring","Points Budget","Points Design du Véhicule","Points Innovation numérique","Points Programmation","Points Respect du règlement","Points Communication : vidéo","Class. Epreuve CAO","Points Epreuve CAO","Temps de Réaction","Class. Temps de Réaction","Points Temps Réaction","Temps Course","Class. Temps Course","Points Temps Course","Points Epreuve arrêt au stand","Points Coup de cœur"]
[1,"Star Car","AVEC","C","Nancy-Metz","G",14,16,4,14,17,14,13,11,0,12,9,15,0,0,9,13,1,{"$f":"IF(Table3[[#This Row],[Class. Epreuve CAO]]<>\"\",IF(Table3[[#This Row],[Class. Epreuve CAO]]=1,20,\nIF(Table3[[#This Row],[Class. Epreuve CAO]]=2,18,\nIF(Table3[[#This Row],[Class. Epreuve CAO]]=3,16,\nIF(Table3[[#This Row],[Class. Epreuve CAO]]=4,14,\nIF(Table3[[#This Row],[Class. Epreuve CAO]]<9,11,\nIF(Table3[[#This Row],[Class. Epreuve CAO]]<13,8,\nIF(Table3[[#This Row],[Class. Epreuve CAO]]<17,6,\nIF(Table3[[#This Row],[Class. Epreuve CAO]]<21,4,2)))))))),\"0\")","v":20},0.27700000000000002,{"$f":"IF(Table3[[#This Row],[Temps de Réaction]]<>\"\",_xlfn.RANK.EQ(Table3[[#This Row],[Temps de Réaction]],Table3[Temps de Réaction],1),\"0\")","v":25},{"$f":"IF(Table3[[#This Row],[Temps de Réaction]]<>\"\",IF(Table3[[#This Row],[Class. Temps de Réaction]]=1,20,IF(Table3[[#This Row],[Class. Temps de Réaction]]=2,18,IF(Table3[[#This Row],[Class. Temps de Réaction]]=3,16,IF(Table3[[#This Row],[Class. Temps de Réaction]]=4,14,IF(Table3[[#This Row],[Class. Temps de Réaction]]<9,11,IF(Table3[[#This Row],[Class. Temps de Réaction]]<13,8,IF(Table3[[#This Row],[Class. Temps de Réaction]]<17,6,IF(Table3[[#This Row],[Class. Temps de Réaction]]<21,4,2)))))))),\"0\")","v":2},3.722,{"$f":"IF(Table3[[#This Row],[Temps Course]]<>\"\",_xlfn.RANK.EQ(Table3[[#This Row],[Temps Course]],Table3[Temps Course],1),\"\")","v":17},{"$f":"IF(Table3[[#This Row],[Temps Course]]<>\"\",IF(Table3[[#This Row],[Class. Temps Course]]=1,20,\nIF(Table3[[#This Row],[Class. Temps Course]]=2,19,\nIF(Table3[[#This Row],[Class. Temps Course]]=3,18,\nIF(Table3[[#This Row],[Class. Temps Course]]=4,17,\nIF(Table3[[#This Row],[Class. Temps Course]]=5,16,\nIF(Table3[[#This Row],[Class. Temps Course]]=6,15,\nIF(Table3[[#This Row],[Class. Temps Course]]=7,14,\nIF(Table3[[#This Row],[Class. Temps Course]]=8,13,\nIF(Table3[[#This Row],[Class. Temps Course]]=9,12,\nIF(Table3[[#This Row],[Class. Temps Course]]=10,11,\nIF(Table3[[#This Row],[Class. Temps Course]]<16,10,\nIF(Table3[[#This Row],[Class. Temps Course]]<21,9,\nIF(Table3[[#This Row],[Class. Temps Course]]<26,8,7))))))))))))),\"0\")","v":9},20]
[2,"Les industriels","Loritz Nancy","L","Nancy-Metz","T",0,0,0,0,0,0,0,0,0,0,0,0,0,0,0,0,1,{"$f":"IF(Table3[[#This Row],[Class. Epreuve CAO]]<>\"\",IF(Table3[[#This Row],[Class. Epreuve CAO]]=1,20,\nIF(Table3[[#This Row],[Class. Epreuve CAO]]=2,18,\nIF(Table3[[#This Row],[Class. Epreuve CAO]]=3,16,\nIF(Table3[[#This Row],[Class. Epreuve CAO]]=4,14,\nIF(Table3[[#This Row],[Class. Epreuve CAO]]<9,11,\nIF(Table3[[#This Row],[Class. Epreuve CAO]]<13,8,\nIF(Table3[[#This Row],[Class. Epreuve CAO]]<17,6,\nIF(Table3[[#This Row],[Class. Epreuve CAO]]<21,4,2)))))))),\"0\")","v":20},10,{"$f":"IF(Table3[[#This Row],[Temps de Réaction]]<>\"\",_xlfn.RANK.EQ(Table3[[#This Row],[Temps de Réaction]],Table3[Temps de Réaction],1),\"\")","v":26},{"$f":"IF(Table3[[#This Row],[Temps de Réaction]]<>\"\",IF(Table3[[#This Row],[Class. Temps de Réaction]]=1,20,IF(Table3[[#This Row],[Class. Temps de Réaction]]=2,18,IF(Table3[[#This Row],[Class. Temps de Réaction]]=3,16,IF(Table3[[#This Row],[Class. Temps de Réaction]]=4,14,IF(Table3[[#This Row],[Class. Temps de Réaction]]<9,11,IF(Table3[[#This Row],[Class. Temps de Réaction]]<13,8,IF(Table3[[#This Row],[Class. Temps de Réaction]]<17,6,IF(Table3[[#This Row],[Class. Temps de Réaction]]<21,4,2)))))))),\"0\")","v":2},10,{"$f":"IF(Table3[[#This Row],[Temps Course]]<>\"\",_xlfn.RANK.EQ(Table3[[#This Row],[Temps Course]],Table3[Temps Course],1),\"\")","v":22},{"$f":"IF(Table3[[#This Row],[Temps Course]]<>\"\",IF(Table3[[#This Row],[Class. Temps Course]]=1,20,\nIF(Table3[[#This Row],[Class. Temps Course]]=2,19,\nIF(Table3[[#This Row],[Class. Temps Course]]=3,18,\nIF(Table3[[#This Row],[Class. Temps Course]]=4,17,\nIF(Table3[[#This Row],[Class. Temps Course]]=5,16,\nIF(Table3[[#This Row],[Class. Temps Course]]=6,15,\nIF(Table3[[#This Row],[Class. Temps Course]]=7,14,\nIF(Table3[[#This Row],[Class. Temps Course]]=8,13,\nIF(Table3[[#This Row],[Class. Temps Course]]=9,12,\nIF(Table3[[#This Row],[Class. Temps Course]]=10,11,\nIF(Table3[[#This Row],[Class. Temps Course]]<16,10,\nIF(Table3[[#This Row],[Class. Temps Course]]<21,9,\nIF(Table3[[#This Row],[Class. Temps Course]]<26,8,7))))))))))))),\"0\")","v":8},20]
[3," S1 motor sport","Lotitz Nancy","L","Nancy-Metz","T",0,0,0,0,0,0,0,0,0,0,0,0,0,0,0,0,1,{"$f":"IF(Table3[[#This Row],[Class. Epreuve CAO]]<>\"\",IF(Table3[[#This Row],[Class. Epreuve CAO]]=1,20,\nIF(Table3[[#This Row],[Class. Epreuve CAO]]=2,18,\nIF(Table3[[#This Row],[Class. Epreuve CAO]]=3,16,\nIF(Table3[[#This Row],[Class. Epreuve CAO]]=4,14,\nIF(Table3[[#This Row],[Class. Epreuve CAO]]<9,11,\nIF(Table3[[#This Row],[Class. Epreuve CAO]]<13,8,\nIF(Table3[[#This Row],[Class. Epreuve CAO]]<17,6,\nIF(Table3[[#This Row],[Class. Epreuve CAO]]<21,4,2)))))))),\"0\")","v":20},10,{"$f":"IF(Table3[[#This Row],[Temps de Réaction]]<>\"\",_xlfn.RANK.EQ(Table3[[#This Row],[Temps de Réaction]],Table3[Temps de Réaction],1),\"\")","v":26},{"$f":"IF(Table3[[#This Row],[Temps de Réaction]]<>\"\",IF(Table3[[#This Row],[Class. Temps de Réaction]]=1,20,IF(Table3[[#This Row],[Class. Temps de Réaction]]=2,18,IF(Table3[[#This Row],[Class. Temps de Réaction]]=3,16,IF(Table3[[#This Row],[Class. Temps de Réaction]]=4,14,IF(Table3[[#This Row],[Class. Temps de Réaction]]<9,11,IF(Table3[[#This Row],[Class. Temps de Réaction]]<13,8,IF(Table3[[#This Row],[Class. Temps de Réaction]]<17,6,IF(Table3[[#This Row],[Class. Temps de Réaction]]<21,4,2)))))))),\"0\")","v":2},10,{"$f":"IF(Table3[[#This Row],[Temps Course]]<>\"\",_xlfn.RANK.EQ(Table3[[#This Row],[Temps Course]],Table3[Temps Course],1),\"\")","v":22},{"$f":"IF(Table3[[#This Row],[Temps Course]]<>\"\",IF(Table3[[#This Row],[Class. Temps Course]]=1,20,\nIF(Table3[[#This Row],[Class. Temps Course]]=2,19,\nIF(Table3[[#This Row],[Class. Temps Course]]=3,18,\nIF(Table3[[#This Row],[Class. Temps Course]]=4,17,\nIF(Table3[[#This Row],[Class. Temps Course]]=5,16,\nIF(Table3[[#This Row],[Class. Temps Course]]=6,15,\nIF(Table3[[#This Row],[Class. Temps Course]]=7,14,\nIF(Table3[[#This Row],[Class. Temps Course]]=8,13,\nIF(Table3[[#This Row],[Class. Temps Course]]=9,12,\nIF(Table3[[#This Row],[Class. Temps Course]]=10,11,\nIF(Table3[[#This Row],[Class. Temps Course]]<16,10,\nIF(Table3[[#This Row],[Class. Temps Course]]<21,9,\nIF(Table3[[#This Row],[Class. Temps Course]]<26,8,7))))))))))))),\"0\")","v":8},20]
[4,"Back to the past","Loritz Nancy","L","Nancy-Metz","T",17,14,15,18,14,14,16,16,15,14,14,15,3,2,18,17,1,{"$f":"IF(Table3[[#This Row],[Class. Epreuve CAO]]<>\"\",IF(Table3[[#This Row],[Class. Epreuve CAO]]=1,20,\nIF(Table3[[#This Row],[Class. Epreuve CAO]]=2,18,\nIF(Table3[[#This Row],[Class. Epreuve CAO]]=3,16,\nIF(Table3[[#This Row],[Class. Epreuve CAO]]=4,14,\nIF(Table3[[#This Row],[Class. Epreuve CAO]]<9,11,\nIF(Table3[[#This Row],[Class. Epreuve CAO]]<13,8,\nIF(Table3[[#This Row],[Class. Epreuve CAO]]<17,6,\nIF(Table3[[#This Row],[Class. Epreuve CAO]]<21,4,2)))))))),\"0\")","v":20},0.27600000000000002,{"$f":"IF(Table3[[#This Row],[Temps de Réaction]]<>\"\",_xlfn.RANK.EQ(Table3[[#This Row],[Temps de Réaction]],Table3[Temps de Réaction],1),\"\")","v":24},{"$f":"IF(Table3[[#This Row],[Temps de Réaction]]<>\"\",IF(Table3[[#This Row],[Class. Temps de Réaction]]=1,20,IF(Table3[[#This Row],[Class. Temps de Réaction]]=2,18,IF(Table3[[#This Row],[Class. Temps de Réaction]]=3,16,IF(Table3[[#This Row],[Class. Temps de Réaction]]=4,14,IF(Table3[[#This Row],[Class. Temps de Réaction]]<9,11,IF(Table3[[#This Row],[Class. Temps de Réaction]]<13,8,IF(Table3[[#This Row],[Class. Temps de Réaction]]<17,6,IF(Table3[[#This Row],[Class. Temps de Réaction]]<21,4,2)))))))),\"0\")","v":2},3.2069999999999999,{"$f":"IF(Table3[[#This Row],[Temps Course]]<>\"\",_xlfn.RANK.EQ(Table3[[#This Row],[Temps Course]],Table3[Temps Course],1),\"\")","v":11},{"$f":"IF(Table3[[#This Row],[Temps Course]]<>\"\",IF(Table3[[#This Row],[Class. Temps Course]]=1,20,\nIF(Table3[[#This Row],[Class. Temps Course]]=2,19,\nIF(Table3[[#This Row],[Class. Temps Course]]=3,18,\nIF(Table3[[#This Row],[Class. Temps Course]]=4,17,\nIF(Table3[[#This Row],[Class. Temps Course]]=5,16,\nIF(Table3[[#This Row],[Class. Temps Course]]=6,15,\nIF(Table3[[#This Row],[Class. Temps Course]]=7,14,\nIF(Table3[[#This Row],[Class. Temps Course]]=8,13,\nIF(Table3[[#This Row],[Class. Temps Course]]=9,12,\nIF(Table3[[#This Row],[Class. Temps Course]]=10,11,\nIF(Table3[[#This Row],[Class. Temps Course]]<16,10,\nIF(Table3[[#This Row],[Class. Temps Course]]<21,9,\nIF(Table3[[#This Row],[Class. Temps Course]]<26,8,7))))))))))))),\"0\")","v":10},20]
[5,"Ionix","Loritz Nancy","L","Nancy-Metz","T",14,13,18,16,16,13,11,12,10,14,11,14,8,0,20,16,1,{"$f":"IF(Table3[[#This Row],[Class. Epreuve CAO]]<>\"\",IF(Table3[[#This Row],[Class. Epreuve CAO]]=1,20,\nIF(Table3[[#This Row],[Class. Epreuve CAO]]=2,18,\nIF(Table3[[#This Row],[Class. Epreuve CAO]]=3,16,\nIF(Table3[[#This Row],[Class. Epreuve CAO]]=4,14,\nIF(Table3[[#This Row],[Class. Epreuve CAO]]<9,11,\nIF(Table3[[#This Row],[Class. Epreuve CAO]]<13,8,\nIF(Table3[[#This Row],[Class. Epreuve CAO]]<17,6,\nIF(Table3[[#This Row],[Class. Epreuve CAO]]<21,4,2)))))))),\"0\")","v":20},0.221,{"$f":"IF(Table3[[#This Row],[Temps de Réaction]]<>\"\",_xlfn.RANK.EQ(Table3[[#This Row],[Temps de Réaction]],Table3[Temps de Réaction],1),\"\")","v":14},{"$f":"IF(Table3[[#This Row],[Temps de Réaction]]<>\"\",IF(Table3[[#This Row],[Class. Temps de Réaction]]=1,20,IF(Table3[[#This Row],[Class. Temps de Réaction]]=2,18,IF(Table3[[#This Row],[Class. Temps de Réaction]]=3,16,IF(Table3[[#This Row],[Class. Temps de Réaction]]=4,14,IF(Table3[[#This Row],[Class. Temps de Réaction]]<9,11,IF(Table3[[#This Row],[Class. Temps de Réaction]]<13,8,IF(Table3[[#This Row],[Class. Temps de Réaction]]<17,6,IF(Table3[[#This Row],[Class. Temps de Réaction]]<21,4,2)))))))),\"0\")","v":6},4.0419999999999998,{"$f":"IF(Table3[[#This Row],[Temps Course]]<>\"\",_xlfn.RANK.EQ(Table3[[#This Row],[Temps Course]],Table3[Temps Course],1),\"\")","v":18},{"$f":"IF(Table3[[#This Row],[Temps Course]]<>\"\",IF(Table3[[#This Row],[Class. Temps Course]]=1,20,\nIF(Table3[[#This Row],[Class. Temps Course]]=2,19,\nIF(Table3[[#This Row],[Class. Temps Course]]=3,18,\nIF(Table3[[#This Row],[Class. Temps Course]]=4,17,\nIF(Table3[[#This Row],[Class. Temps Course]]=5,16,\nIF(Table3[[#This Row],[Class. Temps Course]]=6,15,\nIF(Table3[[#This Row],[Class. Temps Course]]=7,14,\nIF(Table3[[#This Row],[Class. Temps Course]]=8,13,\nIF(Table3[[#This Row],[Class. Temps Course]]=9,12,\nIF(Table3[[#This Row],[Class. Temps Course]]=10,11,\nIF(Table3[[#This Row],[Class. Temps Course]]<16,10,\nIF(Table3[[#This Row],[Class. Temps Course]]<21,9,\nIF(Table3[[#This Row],[Class. Temps Course]]<26,8,7))))))))))))),\"0\")","v":9},20]
[6,"Pavisado","Loritz Nancy","L","Nancy-Metz","T",0,0,0,0,0,0,0,0,0,0,0,0,0,0,0,0,1,{"$f":"IF(Table3[[#This Row],[Class. Epreuve CAO]]<>\"\",IF(Table3[[#This Row],[Class. Epreuve CAO]]=1,20,\nIF(Table3[[#This Row],[Class. Epreuve CAO]]=2,18,\nIF(Table3[[#This Row],[Class. Epreuve CAO]]=3,16,\nIF(Table3[[#This Row],[Class. Epreuve CAO]]=4,14,\nIF(Table3[[#This Row],[Class. Epreuve CAO]]<9,11,\nIF(Table3[[#This Row],[Class. Epreuve CAO]]<13,8,\nIF(Table3[[#This Row],[Class. Epreuve CAO]]<17,6,\nIF(Table3[[#This Row],[Class. Epreuve CAO]]<21,4,2)))))))),\"0\")","v":20},10,{"$f":"IF(Table3[[#This Row],[Temps de Réaction]]<>\"\",_xlfn.RANK.EQ(Table3[[#This Row],[Temps de Réaction]],Table3[Temps de Réaction],1),\"\")","v":26},{"$f":"IF(Table3[[#This Row],[Temps de Réaction]]<>\"\",IF(Table3[[#This Row],[Class. Temps de Réaction]]=1,20,IF(Table3[[#This Row],[Class. Temps de Réaction]]=2,18,IF(Table3[[#This Row],[Class. Temps de Réaction]]=3,16,IF(Table3[[#This Row],[Class. Temps de Réaction]]=4,14,IF(Table3[[#This Row],[Class. Temps de Réaction]]<9,11,IF(Table3[[#This Row],[Class. Temps de Réaction]]<13,8,IF(Table3[[#This Row],[Class. Temps de Réaction]]<17,6,IF(Table3[[#This Row],[Class. Temps de Réaction]]<21,4,2)))))))),\"0\")","v":2},10,{"$f":"IF(Table3[[#This Row],[Temps Course]]<>\"\",_xlfn.RANK.EQ(Table3[[#This Row],[Temps Course]],Table3[Temps Course],1),\"\")","v":22},{"$f":"IF(Table3[[#This Row],[Temps Course]]<>\"\",IF(Table3[[#This Row],[Class. Temps Course]]=1,20,\nIF(Table3[[#This Row],[Class. Temps Course]]=2,19,\nIF(Table3[[#This Row],[Class. Temps Course]]=3,18,\nIF(Table3[[#This Row],[Class. Temps Course]]=4,17,\nIF(Table3[[#This Row],[Class. Temps Course]]=5,16,\nIF(Table3[[#This Row],[Class. Temps Course]]=6,15,\nIF(Table3[[#This Row],[Class. Temps Course]]=7,14,\nIF(Table3[[#This Row],[Class. Temps Course]]=8,13,\nIF(Table3[[#This Row],[Class. Temps Course]]=9,12,\nIF(Table3[[#This Row],[Class. Temps Course]]=10,11,\nIF(Table3[[#This Row],[Class. Temps Course]]<16,10,\nIF(Table3[[#This Row],[Class. Temps Course]]<21,9,\nIF(Table3[[#This Row],[Class. Temps Course]]<26,8,7))))))))))))),\"0\")","v":8},20]
[7,"Les Toucaninos","Jean Lamour Nancy","C","Nancy-Metz","G",18,17,19,18,19,19,15,15,8,13,16,16,7,8,14,14,1,{"$f":"IF(Table3[[#This Row],[Class. Epreuve CAO]]<>\"\",IF(Table3[[#This Row],[Class. Epreuve CAO]]=1,20,\nIF(Table3[[#This Row],[Class. Epreuve CAO]]=2,18,\nIF(Table3[[#This Row],[Class. Epreuve CAO]]=3,16,\nIF(Table3[[#This Row],[Class. Epreuve CAO]]=4,14,\nIF(Table3[[#This Row],[Class. Epreuve CAO]]<9,11,\nIF(Table3[[#This Row],[Class. Epreuve CAO]]<13,8,\nIF(Table3[[#This Row],[Class. Epreuve CAO]]<17,6,\nIF(Table3[[#This Row],[Class. Epreuve CAO]]<21,4,2)))))))),\"0\")","v":20},0.249,{"$f":"IF(Table3[[#This Row],[Temps de Réaction]]<>\"\",_xlfn.RANK.EQ(Table3[[#This Row],[Temps de Réaction]],Table3[Temps de Réaction],1),\"\")","v":23},{"$f":"IF(Table3[[#This Row],[Temps de Réaction]]<>\"\",IF(Table3[[#This Row],[Class. Temps de Réaction]]=1,20,IF(Table3[[#This Row],[Class. Temps de Réaction]]=2,18,IF(Table3[[#This Row],[Class. Temps de Réaction]]=3,16,IF(Table3[[#This Row],[Class. Temps de Réaction]]=4,14,IF(Table3[[#This Row],[Class. Temps de Réaction]]<9,11,IF(Table3[[#This Row],[Class. Temps de Réaction]]<13,8,IF(Table3[[#This Row],[Class. Temps de Réaction]]<17,6,IF(Table3[[#This Row],[Class. Temps de Réaction]]<21,4,2)))))))),\"0\")","v":2},3.2229999999999999,{"$f":"IF(Table3[[#This Row],[Temps Course]]<>\"\",_xlfn.RANK.EQ(Table3[[#This Row],[Temps Course]],Table3[Temps Course],1),\"\")","v":12},{"$f":"IF(Table3[[#This Row],[Temps Course]]<>\"\",IF(Table3[[#This Row],[Class. Temps Course]]=1,20,\nIF(Table3[[#This Row],[Class. Temps Course]]=2,19,\nIF(Table3[[#This Row],[Class. Temps Course]]=3,18,\nIF(Table3[[#This Row],[Class. Temps Course]]=4,17,\nIF(Table3[[#This Row],[Class. Temps Course]]=5,16,\nIF(Table3[[#This Row],[Class. Temps Course]]=6,15,\nIF(Table3[[#This Row],[Class. Temps Course]]=7,14,\nIF(Table3[[#This Row],[Class. Temps Course]]=8,13,\nIF(Table3[[#This Row],[Class. Temps Course]]=9,12,\nIF(Table3[[#This Row],[Class. Temps Course]]=10,11,\nIF(Table3[[#This Row],[Class. Temps Course]]<16,10,\nIF(Table3[[#This Row],[Class. Temps Course]]<21,9,\nIF(Table3[[#This Row],[Class. Temps Course]]<26,8,7))))))))))))),\"0\")","v":10},20]
[8,"Les Daltram","Jean Lamour Nancy","C","Nancy-Metz","G",15,13,12,14,14,17,18,15,14,13,16,17,15,17,20,17,1,{"$f":"IF(Table3[[#This Row],[Class. Epreuve CAO]]<>\"\",IF(Table3[[#This Row],[Class. Epreuve CAO]]=1,20,\nIF(Table3[[#This Row],[Class. Epreuve CAO]]=2,18,\nIF(Table3[[#This Row],[Class. Epreuve CAO]]=3,16,\nIF(Table3[[#This Row],[Class. Epreuve CAO]]=4,14,\nIF(Table3[[#This Row],[Class. Epreuve CAO]]<9,11,\nIF(Table3[[#This Row],[Class. Epreuve CAO]]<13,8,\nIF(Table3[[#This Row],[Class. Epreuve CAO]]<17,6,\nIF(Table3[[#This Row],[Class. Epreuve CAO]]<21,4,2)))))))),\"0\")","v":20},0.221,{"$f":"IF(Table3[[#This Row],[Temps de Réaction]]<>\"\",_xlfn.RANK.EQ(Table3[[#This Row],[Temps de Réaction]],Table3[Temps de Réaction],1),\"\")","v":14},{"$f":"IF(Table3[[#This Row],[Temps de Réaction]]<>\"\",IF(Table3[[#This Row],[Class. Temps de Réaction]]=1,20,IF(Table3[[#This Row],[Class. Temps de Réaction]]=2,18,IF(Table3[[#This Row],[Class. Temps de Réaction]]=3,16,IF(Table3[[#This Row],[Class. Temps de Réaction]]=4,14,IF(Table3[[#This Row],[Class. Temps de Réaction]]<9,11,IF(Table3[[#This Row],[Class. Temps de Réaction]]<13,8,IF(Table3[[#This Row],[Class. Temps de Réaction]]<17,6,IF(Table3[[#This Row],[Class. Temps de Réaction]]<21,4,2)))))))),\"0\")","v":6},2.6579999999999999,{"$f":"IF(Table3[[#This Row],[Temps Course]]<>\"\",_xlfn.RANK.EQ(Table3[[#This Row],[Temps Course]],Table3[Temps Course],1),\"\")","v":1},{"$f":"IF(Table3[[#This Row],[Temps Course]]<>\"\",IF(Table3[[#This Row],[Class. Temps Course]]=1,20,\nIF(Table3[[#This Row],[Class. Temps Course]]=2,19,\nIF(Table3[[#This Row],[Class. Temps Course]]=3,18,\nIF(Table3[[#This Row],[Class. Temps Course]]=4,17,\nIF(Table3[[#This Row],[Class. Temps Course]]=5,16,\nIF(Table3[[#This Row],[Class. Temps Course]]=6,15,\nIF(Table3[[#This Row],[Class. Temps Course]]=7,14,\nIF(Table3[[#This Row],[Class. Temps Course]]=8,13,\nIF(Table3[[#This Row],[Class. Temps Course]]=9,12,\nIF(Table3[[#This Row],[Class. Temps Course]]=10,11,\nIF(Table3[[#This Row],[Class. Temps Course]]<16,10,\nIF(Table3[[#This Row],[Class. Temps Course]]<21,9,\nIF(Table3[[#This Row],[Class. Temps Course]]<26,8,7))))))))))))),\"0\")","v":20},20]
[9,"Droit devant","Boutet Lunéville","L","Nancy-Metz","T",0,0,0,0,0,0,0,0,0,0,0,0,0,0,0,0,1,{"$f":"IF(Table3[[#This Row],[Class. Epreuve CAO]]<>\"\",IF(Table3[[#This Row],[Class. Epreuve CAO]]=1,20,\nIF(Table3[[#This Row],[Class. Epreuve CAO]]=2,18,\nIF(Table3[[#This Row],[Class. Epreuve CAO]]=3,16,\nIF(Table3[[#This Row],[Class. Epreuve CAO]]=4,14,\nIF(Table3[[#This Row],[Class. Epreuve CAO]]<9,11,\nIF(Table3[[#This Row],[Class. Epreuve CAO]]<13,8,\nIF(Table3[[#This Row],[Class. Epreuve CAO]]<17,6,\nIF(Table3[[#This Row],[Class. Epreuve CAO]]<21,4,2)))))))),\"0\")","v":20},10,{"$f":"IF(Table3[[#This Row],[Temps de Réaction]]<>\"\",_xlfn.RANK.EQ(Table3[[#This Row],[Temps de Réaction]],Table3[Temps de Réaction],1),\"\")","v":26},{"$f":"IF(Table3[[#This Row],[Temps de Réaction]]<>\"\",IF(Table3[[#This Row],[Class. Temps de Réaction]]=1,20,IF(Table3[[#This Row],[Class. Temps de Réaction]]=2,18,IF(Table3[[#This Row],[Class. Temps de Réaction]]=3,16,IF(Table3[[#This Row],[Class. Temps de Réaction]]=4,14,IF(Table3[[#This Row],[Class. Temps de Réaction]]<9,11,IF(Table3[[#This Row],[Class. Temps de Réaction]]<13,8,IF(Table3[[#This Row],[Class. Temps de Réaction]]<17,6,IF(Table3[[#This Row],[Class. Temps de Réaction]]<21,4,2)))))))),\"0\")","v":2},10,{"$f":"IF(Table3[[#This Row],[Temps Course]]<>\"\",_xlfn.RANK.EQ(Table3[[#This Row],[Temps Course]],Table3[Temps Course],1),\"\")","v":22},{"$f":"IF(Table3[[#This Row],[Temps Course]]<>\"\",IF(Table3[[#This Row],[Class. Temps Course]]=1,20,\nIF(Table3[[#This Row],[Class. Temps Course]]=2,19,\nIF(Table3[[#This Row],[Class. Temps Course]]=3,18,\nIF(Table3[[#This Row],[Class. Temps Course]]=4,17,\nIF(Table3[[#This Row],[Class. Temps Course]]=5,16,\nIF(Table3[[#This Row],[Class. Temps Course]]=6,15,\nIF(Table3[[#This Row],[Class. Temps Course]]=7,14,\nIF(Table3[[#This Row],[Class. Temps Course]]=8,13,\nIF(Table3[[#This Row],[Class. Temps Course]]=9,12,\nIF(Table3[[#This Row],[Class. Temps Course]]=10,11,\nIF(Table3[[#This Row],[Class. Temps Course]]<16,10,\nIF(Table3[[#This Row],[Class. Temps Course]]<21,9,\nIF(Table3[[#This Row],[Class. Temps Course]]<26,8,7))))))))))))),\"0\")","v":8},20]
[10,"Space-hat","Boutet Lunéville","L","Nancy-Metz","T",13,14,16,16,12,12,17,16,13,12,12,15,0,0,19,15,1,{"$f":"IF(Table3[[#This Row],[Class. Epreuve CAO]]<>\"\",IF(Table3[[#This Row],[Class. Epreuve CAO]]=1,20,\nIF(Table3[[#This Row],[Class. Epreuve CAO]]=2,18,\nIF(Table3[[#This Row],[Class. Epreuve CAO]]=3,16,\nIF(Table3[[#This Row],[Class. Epreuve CAO]]=4,14,\nIF(Table3[[#This Row],[Class. Epreuve CAO]]<9,11,\nIF(Table3[[#This Row],[Class. Epreuve CAO]]<13,8,\nIF(Table3[[#This Row],[Class. Epreuve CAO]]<17,6,\nIF(Table3[[#This Row],[Class. Epreuve CAO]]<21,4,2)))))))),\"0\")","v":20},0.214,{"$f":"IF(Table3[[#This Row],[Temps de Réaction]]<>\"\",_xlfn.RANK.EQ(Table3[[#This Row],[Temps de Réaction]],Table3[Temps de Réaction],1),\"\")","v":12},{"$f":"IF(Table3[[#This Row],[Temps de Réaction]]<>\"\",IF(Table3[[#This Row],[Class. Temps de Réaction]]=1,20,IF(Table3[[#This Row],[Class. Temps de Réaction]]=2,18,IF(Table3[[#This Row],[Class. Temps de Réaction]]=3,16,IF(Table3[[#This Row],[Class. Temps de Réaction]]=4,14,IF(Table3[[#This Row],[Class. Temps de Réaction]]<9,11,IF(Table3[[#This Row],[Class. Temps de Réaction]]<13,8,IF(Table3[[#This Row],[Class. Temps de Réaction]]<17,6,IF(Table3[[#This Row],[Class. Temps de Réaction]]<21,4,2)))))))),\"0\")","v":8},2.9340000000000002,{"$f":"IF(Table3[[#This Row],[Temps Course]]<>\"\",_xlfn.RANK.EQ(Table3[[#This Row],[Temps Course]],Table3[Temps Course],1),\"\")","v":3},{"$f":"IF(Table3[[#This Row],[Temps Course]]<>\"\",IF(Table3[[#This Row],[Class. Temps Course]]=1,20,\nIF(Table3[[#This Row],[Class. Temps Course]]=2,19,\nIF(Table3[[#This Row],[Class. Temps Course]]=3,18,\nIF(Table3[[#This Row],[Class. Temps Course]]=4,17,\nIF(Table3[[#This Row],[Class. Temps Course]]=5,16,\nIF(Table3[[#This Row],[Class. Temps Course]]=6,15,\nIF(Table3[[#This Row],[Class. Temps Course]]=7,14,\nIF(Table3[[#This Row],[Class. Temps Course]]=8,13,\nIF(Table3[[#This Row],[Class. Temps Course]]=9,12,\nIF(Table3[[#This Row],[Class. Temps Course]]=10,11,\nIF(Table3[[#This Row],[Class. Temps Course]]<16,10,\nIF(Table3[[#This Row],[Class. Temps Course]]<21,9,\nIF(Table3[[#This Row],[Class. Temps Course]]<26,8,7))))))))))))),\"0\")","v":18},20]
[11,"Molécuisto","Bichat Lunéville","C","Nancy-Metz","G",13,14,11,15,13,13,16,17,10,16,11,11,17,19,20,9,1,{"$f":"IF(Table3[[#This Row],[Class. Epreuve CAO]]<>\"\",IF(Table3[[#This Row],[Class. Epreuve CAO]]=1,20,\nIF(Table3[[#This Row],[Class. Epreuve CAO]]=2,18,\nIF(Table3[[#This Row],[Class. Epreuve CAO]]=3,16,\nIF(Table3[[#This Row],[Class. Epreuve CAO]]=4,14,\nIF(Table3[[#This Row],[Class. Epreuve CAO]]<9,11,\nIF(Table3[[#This Row],[Class. Epreuve CAO]]<13,8,\nIF(Table3[[#This Row],[Class. Epreuve CAO]]<17,6,\nIF(Table3[[#This Row],[Class. Epreuve CAO]]<21,4,2)))))))),\"0\")","v":20},0.23,{"$f":"IF(Table3[[#This Row],[Temps de Réaction]]<>\"\",_xlfn.RANK.EQ(Table3[[#This Row],[Temps de Réaction]],Table3[Temps de Réaction],1),\"\")","v":18},{"$f":"IF(Table3[[#This Row],[Temps de Réaction]]<>\"\",IF(Table3[[#This Row],[Class. Temps de Réaction]]=1,20,IF(Table3[[#This Row],[Class. Temps de Réaction]]=2,18,IF(Table3[[#This Row],[Class. Temps de Réaction]]=3,16,IF(Table3[[#This Row],[Class. Temps de Réaction]]=4,14,IF(Table3[[#This Row],[Class. Temps de Réaction]]<9,11,IF(Table3[[#This Row],[Class. Temps de Réaction]]<13,8,IF(Table3[[#This Row],[Class. Temps de Réaction]]<17,6,IF(Table3[[#This Row],[Class. Temps de Réaction]]<21,4,2)))))))),\"0\")","v":4},2.9649999999999999,{"$f":"IF(Table3[[#This Row],[Temps Course]]<>\"\",_xlfn.RANK.EQ(Table3[[#This Row],[Temps Course]],Table3[Temps Course],1),\"\")","v":4},{"$f":"IF(Table3[[#This Row],[Temps Course]]<>\"\",IF(Table3[[#This Row],[Class. Temps Course]]=1,20,\nIF(Table3[[#This Row],[Class. Temps Course]]=2,19,\nIF(Table3[[#This Row],[Class. Temps Course]]=3,18,\nIF(Table3[[#This Row],[Class. Temps Course]]=4,17,\nIF(Table3[[#This Row],[Class. Temps Course]]=5,16,\nIF(Table3[[#This Row],[Class. Temps Course]]=6,15,\nIF(Table3[[#This Row],[Class. Temps Course]]=7,14,\nIF(Table3[[#This Row],[Class. Temps Course]]=8,13,\nIF(Table3[[#This Row],[Class. Temps Course]]=9,12,\nIF(Table3[[#This Row],[Class. Temps Course]]=10,11,\nIF(Table3[[#This Row],[Class. Temps Course]]<16,10,\nIF(Table3[[#This Row],[Class. Temps Course]]<21,9,\nIF(Table3[[#This Row],[Class. Temps Course]]<26,8,7))))))))))))),\"0\")","v":17},20]
[12,"Six divergents","Bichat Lunéville","C","Nancy-Metz","G",16,16,12,15,18,14,16,15,17,17,17,18,9,15,20,16,1,{"$f":"IF(Table3[[#This Row],[Class. Epreuve CAO]]<>\"\",IF(Table3[[#This Row],[Class. Epreuve CAO]]=1,20,\nIF(Table3[[#This Row],[Class. Epreuve CAO]]=2,18,\nIF(Table3[[#This Row],[Class. Epreuve CAO]]=3,16,\nIF(Table3[[#This Row],[Class. Epreuve CAO]]=4,14,\nIF(Table3[[#This Row],[Class. Epreuve CAO]]<9,11,\nIF(Table3[[#This Row],[Class. Epreuve CAO]]<13,8,\nIF(Table3[[#This Row],[Class. Epreuve CAO]]<17,6,\nIF(Table3[[#This Row],[Class. Epreuve CAO]]<21,4,2)))))))),\"0\")","v":20},0.23,{"$f":"IF(Table3[[#This Row],[Temps de Réaction]]<>\"\",_xlfn.RANK.EQ(Table3[[#This Row],[Temps de Réaction]],Table3[Temps de Réaction],1),\"\")","v":18},{"$f":"IF(Table3[[#This Row],[Temps de Réaction]]<>\"\",IF(Table3[[#This Row],[Class. Temps de Réaction]]=1,20,IF(Table3[[#This Row],[Class. Temps de Réaction]]=2,18,IF(Table3[[#This Row],[Class. Temps de Réaction]]=3,16,IF(Table3[[#This Row],[Class. Temps de Réaction]]=4,14,IF(Table3[[#This Row],[Class. Temps de Réaction]]<9,11,IF(Table3[[#This Row],[Class. Temps de Réaction]]<13,8,IF(Table3[[#This Row],[Class. Temps de Réaction]]<17,6,IF(Table3[[#This Row],[Class. Temps de Réaction]]<21,4,2)))))))),\"0\")","v":4},2.9870000000000001,{"$f":"IF(Table3[[#This Row],[Temps Course]]<>\"\",_xlfn.RANK.EQ(Table3[[#This Row],[Temps Course]],Table3[Temps Course],1),\"\")","v":5},{"$f":"IF(Table3[[#This Row],[Temps Course]]<>\"\",IF(Table3[[#This Row],[Class. Temps Course]]=1,20,\nIF(Table3[[#This Row],[Class. Temps Course]]=2,19,\nIF(Table3[[#This Row],[Class. Temps Course]]=3,18,\nIF(Table3[[#This Row],[Class. Temps Course]]=4,17,\nIF(Table3[[#This Row],[Class. Temps Course]]=5,16,\nIF(Table3[[#This Row],[Class. Temps Course]]=6,15,\nIF(Table3[[#This Row],[Class. Temps Course]]=7,14,\nIF(Table3[[#This Row],[Class. Temps Course]]=8,13,\nIF(Table3[[#This Row],[Class. Temps Course]]=9,12,\nIF(Table3[[#This Row],[Class. Temps Course]]=10,11,\nIF(Table3[[#This Row],[Class. Temps Course]]<16,10,\nIF(Table3[[#This Row],[Class. Temps Course]]<21,9,\nIF(Table3[[#This Row],[Class. Temps Course]]<26,8,7))))))))))))),\"0\")","v":16},20]
[13,"Andromeda","Duvivier Einville","C","Nancy-Metz","G",17,15,15,14,17,17,17,14,18,18,19,13,18,15,20,12,1,{"$f":"IF(Table3[[#This Row],[Class. Epreuve CAO]]<>\"\",IF(Table3[[#This Row],[Class. Epreuve CAO]]=1,20,\nIF(Table3[[#This Row],[Class. Epreuve CAO]]=2,18,\nIF(Table3[[#This Row],[Class. Epreuve CAO]]=3,16,\nIF(Table3[[#This Row],[Class. Epreuve CAO]]=4,14,\nIF(Table3[[#This Row],[Class. Epreuve CAO]]<9,11,\nIF(Table3[[#This Row],[Class. Epreuve CAO]]<13,8,\nIF(Table3[[#This Row],[Class. Epreuve CAO]]<17,6,\nIF(Table3[[#This Row],[Class. Epreuve CAO]]<21,4,2)))))))),\"0\")","v":20},0.22800000000000001,{"$f":"IF(Table3[[#This Row],[Temps de Réaction]]<>\"\",_xlfn.RANK.EQ(Table3[[#This Row],[Temps de Réaction]],Table3[Temps de Réaction],1),\"\")","v":16},{"$f":"IF(Table3[[#This Row],[Temps de Réaction]]<>\"\",IF(Table3[[#This Row],[Class. Temps de Réaction]]=1,20,IF(Table3[[#This Row],[Class. Temps de Réaction]]=2,18,IF(Table3[[#This Row],[Class. Temps de Réaction]]=3,16,IF(Table3[[#This Row],[Class. Temps de Réaction]]=4,14,IF(Table3[[#This Row],[Class. Temps de Réaction]]<9,11,IF(Table3[[#This Row],[Class. Temps de Réaction]]<13,8,IF(Table3[[#This Row],[Class. Temps de Réaction]]<17,6,IF(Table3[[#This Row],[Class. Temps de Réaction]]<21,4,2)))))))),\"0\")","v":6},3.3410000000000002,{"$f":"IF(Table3[[#This Row],[Temps Course]]<>\"\",_xlfn.RANK.EQ(Table3[[#This Row],[Temps Course]],Table3[Temps Course],1),\"\")","v":13},{"$f":"IF(Table3[[#This Row],[Temps Course]]<>\"\",IF(Table3[[#This Row],[Class. Temps Course]]=1,20,\nIF(Table3[[#This Row],[Class. Temps Course]]=2,19,\nIF(Table3[[#This Row],[Class. Temps Course]]=3,18,\nIF(Table3[[#This Row],[Class. Temps Course]]=4,17,\nIF(Table3[[#This Row],[Class. Temps Course]]=5,16,\nIF(Table3[[#This Row],[Class. Temps Course]]=6,15,\nIF(Table3[[#This Row],[Class. Temps Course]]=7,14,\nIF(Table3[[#This Row],[Class. Temps Course]]=8,13,\nIF(Table3[[#This Row],[Class. Temps Course]]=9,12,\nIF(Table3[[#This Row],[Class. Temps Course]]=10,11,\nIF(Table3[[#This Row],[Class. Temps Course]]<16,10,\nIF(Table3[[#This Row],[Class. Temps Course]]<21,9,\nIF(Table3[[#This Row],[Class. Temps Course]]<26,8,7))))))))))))),\"0\")","v":10},20]
[14,"Fifties","Duvivier Einville","C","Nancy-Metz","G",16,16,13,16,18,16,20,20,20,20,20,19,15,19,20,16,1,{"$f":"IF(Table3[[#This Row],[Class. Epreuve CAO]]<>\"\",IF(Table3[[#This Row],[Class. Epreuve CAO]]=1,20,\nIF(Table3[[#This Row],[Class. Epreuve CAO]]=2,18,\nIF(Table3[[#This Row],[Class. Epreuve CAO]]=3,16,\nIF(Table3[[#This Row],[Class. Epreuve CAO]]=4,14,\nIF(Table3[[#This Row],[Class. Epreuve CAO]]<9,11,\nIF(Table3[[#This Row],[Class. Epreuve CAO]]<13,8,\nIF(Table3[[#This Row],[Class. Epreuve CAO]]<17,6,\nIF(Table3[[#This Row],[Class. Epreuve CAO]]<21,4,2)))))))),\"0\")","v":20},0.21299999999999999,{"$f":"IF(Table3[[#This Row],[Temps de Réaction]]<>\"\",_xlfn.RANK.EQ(Table3[[#This Row],[Temps de Réaction]],Table3[Temps de Réaction],1),\"\")","v":11},{"$f":"IF(Table3[[#This Row],[Temps de Réaction]]<>\"\",IF(Table3[[#This Row],[Class. Temps de Réaction]]=1,20,IF(Table3[[#This Row],[Class. Temps de Réaction]]=2,18,IF(Table3[[#This Row],[Class. Temps de Réaction]]=3,16,IF(Table3[[#This Row],[Class. Temps de Réaction]]=4,14,IF(Table3[[#This Row],[Class. Temps de Réaction]]<9,11,IF(Table3[[#This Row],[Class. Temps de Réaction]]<13,8,IF(Table3[[#This Row],[Class. Temps de Réaction]]<17,6,IF(Table3[[#This Row],[Class. Temps de Réaction]]<21,4,2)))))))),\"0\")","v":8},4.2679999999999998,{"$f":"IF(Table3[[#This Row],[Temps Course]]<>\"\",_xlfn.RANK.EQ(Table3[[#This Row],[Temps Course]],Table3[Temps Course],1),\"\")","v":20},{"$f":"IF(Table3[[#This Row],[Temps Course]]<>\"\",IF(Table3[[#This Row],[Class. Temps Course]]=1,20,\nIF(Table3[[#This Row],[Class. Temps Course]]=2,19,\nIF(Table3[[#This Row],[Class. Temps Course]]=3,18,\nIF(Table3[[#This Row],[Class. Temps Course]]=4,17,\nIF(Table3[[#This Row],[Class. Temps Course]]=5,16,\nIF(Table3[[#This Row],[Class. Temps Course]]=6,15,\nIF(Table3[[#This Row],[Class. Temps Course]]=7,14,\nIF(Table3[[#This Row],[Class. Temps Course]]=8,13,\nIF(Table3[[#This Row],[Class. Temps Course]]=9,12,\nIF(Table3[[#This Row],[Class. Temps Course]]=10,11,\nIF(Table3[[#This Row],[Class. Temps Course]]<16,10,\nIF(Table3[[#This Row],[Class. Temps Course]]<21,9,\nIF(Table3[[#This Row],[Class. Temps Course]]<26,8,7))))))))))))),\"0\")","v":9},20]
[15,"SharkAttack","Vogt Commercy","L","Nancy-Metz","G",17,14,7,14,15,13,13,13,12,14,12,13,8,17,19,16,1,{"$f":"IF(Table3[[#This Row],[Class. Epreuve CAO]]<>\"\",IF(Table3[[#This Row],[Class. Epreuve CAO]]=1,20,\nIF(Table3[[#This Row],[Class. Epreuve CAO]]=2,18,\nIF(Table3[[#This Row],[Class. Epreuve CAO]]=3,16,\nIF(Table3[[#This Row],[Class. Epreuve CAO]]=4,14,\nIF(Table3[[#This Row],[Class. Epreuve CAO]]<9,11,\nIF(Table3[[#This Row],[Class. Epreuve CAO]]<13,8,\nIF(Table3[[#This Row],[Class. Epreuve CAO]]<17,6,\nIF(Table3[[#This Row],[Class. Epreuve CAO]]<21,4,2)))))))),\"0\")","v":20},0.192,{"$f":"IF(Table3[[#This Row],[Temps de Réaction]]<>\"\",_xlfn.RANK.EQ(Table3[[#This Row],[Temps de Réaction]],Table3[Temps de Réaction],1),\"\")","v":5},{"$f":"IF(Table3[[#This Row],[Temps de Réaction]]<>\"\",IF(Table3[[#This Row],[Class. Temps de Réaction]]=1,20,IF(Table3[[#This Row],[Class. Temps de Réaction]]=2,18,IF(Table3[[#This Row],[Class. Temps de Réaction]]=3,16,IF(Table3[[#This Row],[Class. Temps de Réaction]]=4,14,IF(Table3[[#This Row],[Class. Temps de Réaction]]<9,11,IF(Table3[[#This Row],[Class. Temps de Réaction]]<13,8,IF(Table3[[#This Row],[Class. Temps de Réaction]]<17,6,IF(Table3[[#This Row],[Class. Temps de Réaction]]<21,4,2)))))))),\"0\")","v":11},3.06,{"$f":"IF(Table3[[#This Row],[Temps Course]]<>\"\",_xlfn.RANK.EQ(Table3[[#This Row],[Temps Course]],Table3[Temps Course],1),\"\")","v":6},{"$f":"IF(Table3[[#This Row],[Temps Course]]<>\"\",IF(Table3[[#This Row],[Class. Temps Course]]=1,20,\nIF(Table3[[#This Row],[Class. Temps Course]]=2,19,\nIF(Table3[[#This Row],[Class. Temps Course]]=3,18,\nIF(Table3[[#This Row],[Class. Temps Course]]=4,17,\nIF(Table3[[#This Row],[Class. Temps Course]]=5,16,\nIF(Table3[[#This Row],[Class. Temps Course]]=6,15,\nIF(Table3[[#This Row],[Class. Temps Course]]=7,14,\nIF(Table3[[#This Row],[Class. Temps Course]]=8,13,\nIF(Table3[[#This Row],[Class. Temps Course]]=9,12,\nIF(Table3[[#This Row],[Class. Temps Course]]=10,11,\nIF(Table3[[#This Row],[Class. Temps Course]]<16,10,\nIF(Table3[[#This Row],[Class. Temps Course]]<21,9,\nIF(Table3[[#This Row],[Class. Temps Course]]<26,8,7))))))))))))),\"0\")","v":15},20]
[16,"Green Tiger","Hauts de Blémont Metz","C","Nancy-Metz","G",11,13,20,14,17,10,12,13,12,11,11,12,0,0,18,20,1,{"$f":"IF(Table3[[#This Row],[Class. Epreuve CAO]]<>\"\",IF(Table3[[#This Row],[Class. Epreuve CAO]]=1,20,\nIF(Table3[[#This Row],[Class. Epreuve CAO]]=2,18,\nIF(Table3[[#This Row],[Class. Epreuve CAO]]=3,16,\nIF(Table3[[#This Row],[Class. Epreuve CAO]]=4,14,\nIF(Table3[[#This Row],[Class. Epreuve CAO]]<9,11,\nIF(Table3[[#This Row],[Class. Epreuve CAO]]<13,8,\nIF(Table3[[#This Row],[Class. Epreuve CAO]]<17,6,\nIF(Table3[[#This Row],[Class. Epreuve CAO]]<21,4,2)))))))),\"0\")","v":20},0.19400000000000001,{"$f":"IF(Table3[[#This Row],[Temps de Réaction]]<>\"\",_xlfn.RANK.EQ(Table3[[#This Row],[Temps de Réaction]],Table3[Temps de Réaction],1),\"\")","v":7},{"$f":"IF(Table3[[#This Row],[Temps de Réaction]]<>\"\",IF(Table3[[#This Row],[Class. Temps de Réaction]]=1,20,IF(Table3[[#This Row],[Class. Temps de Réaction]]=2,18,IF(Table3[[#This Row],[Class. Temps de Réaction]]=3,16,IF(Table3[[#This Row],[Class. Temps de Réaction]]=4,14,IF(Table3[[#This Row],[Class. Temps de Réaction]]<9,11,IF(Table3[[#This Row],[Class. Temps de Réaction]]<13,8,IF(Table3[[#This Row],[Class. Temps de Réaction]]<17,6,IF(Table3[[#This Row],[Class. Temps de Réaction]]<21,4,2)))))))),\"0\")","v":11},2.8340000000000001,{"$f":"IF(Table3[[#This Row],[Temps Course]]<>\"\",_xlfn.RANK.EQ(Table3[[#This Row],[Temps Course]],Table3[Temps Course],1),\"\")","v":2},{"$f":"IF(Table3[[#This Row],[Temps Course]]<>\"\",IF(Table3[[#This Row],[Class. Temps Course]]=1,20,\nIF(Table3[[#This Row],[Class. Temps Course]]=2,19,\nIF(Table3[[#This Row],[Class. Temps Course]]=3,18,\nIF(Table3[[#This Row],[Class. Temps Course]]=4,17,\nIF(Table3[[#This Row],[Class. Temps Course]]=5,16,\nIF(Table3[[#This Row],[Class. Temps Course]]=6,15,\nIF(Table3[[#This Row],[Class. Temps Course]]=7,14,\nIF(Table3[[#This Row],[Class. Temps Course]]=8,13,\nIF(Table3[[#This Row],[Class. Temps Course]]=9,12,\nIF(Table3[[#This Row],[Class. Temps Course]]=10,11,\nIF(Table3[[#This Row],[Class. Temps Course]]<16,10,\nIF(Table3[[#This Row],[Class. Temps Course]]<21,9,\nIF(Table3[[#This Row],[Class. Temps Course]]<26,8,7))))))))))))),\"0\")","v":19},20]
[17,"Grey","Hauts de Blémont Metz","C","Nancy-Metz","G",10,8,11,11,15,11,16,16,13,13,11,13,0,0,16,14,1,{"$f":"IF(Table3[[#This Row],[Class. Epreuve CAO]]<>\"\",IF(Table3[[#This Row],[Class. Epreuve CAO]]=1,20,\nIF(Table3[[#This Row],[Class. Epreuve CAO]]=2,18,\nIF(Table3[[#This Row],[Class. Epreuve CAO]]=3,16,\nIF(Table3[[#This Row],[Class. Epreuve CAO]]=4,14,\nIF(Table3[[#This Row],[Class. Epreuve CAO]]<9,11,\nIF(Table3[[#This Row],[Class. Epreuve CAO]]<13,8,\nIF(Table3[[#This Row],[Class. Epreuve CAO]]<17,6,\nIF(Table3[[#This Row],[Class. Epreuve CAO]]<21,4,2)))))))),\"0\")","v":20},0.17699999999999999,{"$f":"IF(Table3[[#This Row],[Temps de Réaction]]<>\"\",_xlfn.RANK.EQ(Table3[[#This Row],[Temps de Réaction]],Table3[Temps de Réaction],1),\"\")","v":3},{"$f":"IF(Table3[[#This Row],[Temps de Réaction]]<>\"\",IF(Table3[[#This Row],[Class. Temps de Réaction]]=1,20,IF(Table3[[#This Row],[Class. Temps de Réaction]]=2,18,IF(Table3[[#This Row],[Class. Temps de Réaction]]=3,16,IF(Table3[[#This Row],[Class. Temps de Réaction]]=4,14,IF(Table3[[#This Row],[Class. Temps de Réaction]]<9,11,IF(Table3[[#This Row],[Class. Temps de Réaction]]<13,8,IF(Table3[[#This Row],[Class. Temps de Réaction]]<17,6,IF(Table3[[#This Row],[Class. Temps de Réaction]]<21,4,2)))))))),\"0\")","v":16},3.0779999999999998,{"$f":"IF(Table3[[#This Row],[Temps Course]]<>\"\",_xlfn.RANK.EQ(Table3[[#This Row],[Temps Course]],Table3[Temps Course],1),\"\")","v":8},{"$f":"IF(Table3[[#This Row],[Temps Course]]<>\"\",IF(Table3[[#This Row],[Class. Temps Course]]=1,20,\nIF(Table3[[#This Row],[Class. Temps Course]]=2,19,\nIF(Table3[[#This Row],[Class. Temps Course]]=3,18,\nIF(Table3[[#This Row],[Class. Temps Course]]=4,17,\nIF(Table3[[#This Row],[Class. Temps Course]]=5,16,\nIF(Table3[[#This Row],[Class. Temps Course]]=6,15,\nIF(Table3[[#This Row],[Class. Temps Course]]=7,14,\nIF(Table3[[#This Row],[Class. Temps Course]]=8,13,\nIF(Table3[[#This Row],[Class. Temps Course]]=9,12,\nIF(Table3[[#This Row],[Class. Temps Course]]=10,11,\nIF(Table3[[#This Row],[Class. Temps Course]]<16,10,\nIF(Table3[[#This Row],[Class. Temps Course]]<21,9,\nIF(Table3[[#This Row],[Class. Temps Course]]<26,8,7))))))))))))),\"0\")","v":13},20]
[18,"Danger","Hauts de Blémont Metz","C","Nancy-Metz","G",9,9,14,13,7,14,17,17,14,10,13,14,7,4,16,13,1,{"$f":"IF(Table3[[#This Row],[Class. Epreuve CAO]]<>\"\",IF(Table3[[#This Row],[Class. Epreuve CAO]]=1,20,\nIF(Table3[[#This Row],[Class. Epreuve CAO]]=2,18,\nIF(Table3[[#This Row],[Class. Epreuve CAO]]=3,16,\nIF(Table3[[#This Row],[Class. Epreuve CAO]]=4,14,\nIF(Table3[[#This Row],[Class. Epreuve CAO]]<9,11,\nIF(Table3[[#This Row],[Class. Epreuve CAO]]<13,8,\nIF(Table3[[#This Row],[Class. Epreuve CAO]]<17,6,\nIF(Table3[[#This Row],[Class. Epreuve CAO]]<21,4,2)))))))),\"0\")","v":20},0.19400000000000001,{"$f":"IF(Table3[[#This Row],[Temps de Réaction]]<>\"\",_xlfn.RANK.EQ(Table3[[#This Row],[Temps de Réaction]],Table3[Temps de Réaction],1),\"\")","v":7},{"$f":"IF(Table3[[#This Row],[Temps de Réaction]]<>\"\",IF(Table3[[#This Row],[Class. Temps de Réaction]]=1,20,IF(Table3[[#This Row],[Class. Temps de Réaction]]=2,18,IF(Table3[[#This Row],[Class. Temps de Réaction]]=3,16,IF(Table3[[#This Row],[Class. Temps de Réaction]]=4,14,IF(Table3[[#This Row],[Class. Temps de Réaction]]<9,11,IF(Table3[[#This Row],[Class. Temps de Réaction]]<13,8,IF(Table3[[#This Row],[Class. Temps de Réaction]]<17,6,IF(Table3[[#This Row],[Class. Temps de Réaction]]<21,4,2)))))))),\"0\")","v":11},4.2720000000000002,{"$f":"IF(Table3[[#This Row],[Temps Course]]<>\"\",_xlfn.RANK.EQ(Table3[[#This Row],[Temps Course]],Table3[Temps Course],1),\"\")","v":21},{"$f":"IF(Table3[[#This Row],[Temps Course]]<>\"\",IF(Table3[[#This Row],[Class. Temps Course]]=1,20,\nIF(Table3[[#This Row],[Class. Temps Course]]=2,19,\nIF(Table3[[#This Row],[Class. Temps Course]]=3,18,\nIF(Table3[[#This Row],[Class. Temps Course]]=4,17,\nIF(Table3[[#This Row],[Class. Temps Course]]=5,16,\nIF(Table3[[#This Row],[Class. Temps Course]]=6,15,\nIF(Table3[[#This Row],[Class. Temps Course]]=7,14,\nIF(Table3[[#This Row],[Class. Temps Course]]=8,13,\nIF(Table3[[#This Row],[Class. Temps Course]]=9,12,\nIF(Table3[[#This Row],[Class. Temps Course]]=10,11,\nIF(Table3[[#This Row],[Class. Temps Course]]<16,10,\nIF(Table3[[#This Row],[Class. Temps Course]]<21,9,\nIF(Table3[[#This Row],[Class. Temps Course]]<26,8,7))))))))))))),\"0\")","v":8},20]
[19,"Scott","Hauts de Blémont Metz","C","Nancy-Metz","G",11,14,11,12,15,9,18,16,18,18,18,18,0,0,16,18,1,{"$f":"IF(Table3[[#This Row],[Class. Epreuve CAO]]<>\"\",IF(Table3[[#This Row],[Class. Epreuve CAO]]=1,20,\nIF(Table3[[#This Row],[Class. Epreuve CAO]]=2,18,\nIF(Table3[[#This Row],[Class. Epreuve CAO]]=3,16,\nIF(Table3[[#This Row],[Class. Epreuve CAO]]=4,14,\nIF(Table3[[#This Row],[Class. Epreuve CAO]]<9,11,\nIF(Table3[[#This Row],[Class. Epreuve CAO]]<13,8,\nIF(Table3[[#This Row],[Class. Epreuve CAO]]<17,6,\nIF(Table3[[#This Row],[Class. Epreuve CAO]]<21,4,2)))))))),\"0\")","v":20},0.22900000000000001,{"$f":"IF(Table3[[#This Row],[Temps de Réaction]]<>\"\",_xlfn.RANK.EQ(Table3[[#This Row],[Temps de Réaction]],Table3[Temps de Réaction],1),\"\")","v":17},{"$f":"IF(Table3[[#This Row],[Temps de Réaction]]<>\"\",IF(Table3[[#This Row],[Class. Temps de Réaction]]=1,20,IF(Table3[[#This Row],[Class. Temps de Réaction]]=2,18,IF(Table3[[#This Row],[Class. Temps de Réaction]]=3,16,IF(Table3[[#This Row],[Class. Temps de Réaction]]=4,14,IF(Table3[[#This Row],[Class. Temps de Réaction]]<9,11,IF(Table3[[#This Row],[Class. Temps de Réaction]]<13,8,IF(Table3[[#This Row],[Class. Temps de Réaction]]<17,6,IF(Table3[[#This Row],[Class. Temps de Réaction]]<21,4,2)))))))),\"0\")","v":4},3.7010000000000001,{"$f":"IF(Table3[[#This Row],[Temps Course]]<>\"\",_xlfn.RANK.EQ(Table3[[#This Row],[Temps Course]],Table3[Temps Course],1),\"\")","v":16},{"$f":"IF(Table3[[#This Row],[Temps Course]]<>\"\",IF(Table3[[#This Row],[Class. Temps Course]]=1,20,\nIF(Table3[[#This Row],[Class. Temps Course]]=2,19,\nIF(Table3[[#This Row],[Class. Temps Course]]=3,18,\nIF(Table3[[#This Row],[Class. Temps Course]]=4,17,\nIF(Table3[[#This Row],[Class. Temps Course]]=5,16,\nIF(Table3[[#This Row],[Class. Temps Course]]=6,15,\nIF(Table3[[#This Row],[Class. Temps Course]]=7,14,\nIF(Table3[[#This Row],[Class. Temps Course]]=8,13,\nIF(Table3[[#This Row],[Class. Temps Course]]=9,12,\nIF(Table3[[#This Row],[Class. Temps Course]]=10,11,\nIF(Table3[[#This Row],[Class. Temps Course]]<16,10,\nIF(Table3[[#This Row],[Class. Temps Course]]<21,9,\nIF(Table3[[#This Row],[Class. Temps Course]]<26,8,7))))))))))))),\"0\")","v":9},20]
[20,"Amercan's 70","A. Dreux Folschviller","C","Nancy-Metz","G",13,13,16,16,14,12,12,12,10,7,4,12,3,0,14,16,1,{"$f":"IF(Table3[[#This Row],[Class. Epreuve CAO]]<>\"\",IF(Table3[[#This Row],[Class. Epreuve CAO]]=1,20,\nIF(Table3[[#This Row],[Class. Epreuve CAO]]=2,18,\nIF(Table3[[#This Row],[Class. Epreuve CAO]]=3,16,\nIF(Table3[[#This Row],[Class. Epreuve CAO]]=4,14,\nIF(Table3[[#This Row],[Class. Epreuve CAO]]<9,11,\nIF(Table3[[#This Row],[Class. Epreuve CAO]]<13,8,\nIF(Table3[[#This Row],[Class. Epreuve CAO]]<17,6,\nIF(Table3[[#This Row],[Class. Epreuve CAO]]<21,4,2)))))))),\"0\")","v":20},0.214,{"$f":"IF(Table3[[#This Row],[Temps de Réaction]]<>\"\",_xlfn.RANK.EQ(Table3[[#This Row],[Temps de Réaction]],Table3[Temps de Réaction],1),\"\")","v":12},{"$f":"IF(Table3[[#This Row],[Temps de Réaction]]<>\"\",IF(Table3[[#This Row],[Class. Temps de Réaction]]=1,20,IF(Table3[[#This Row],[Class. Temps de Réaction]]=2,18,IF(Table3[[#This Row],[Class. Temps de Réaction]]=3,16,IF(Table3[[#This Row],[Class. Temps de Réaction]]=4,14,IF(Table3[[#This Row],[Class. Temps de Réaction]]<9,11,IF(Table3[[#This Row],[Class. Temps de Réaction]]<13,8,IF(Table3[[#This Row],[Class. Temps de Réaction]]<17,6,IF(Table3[[#This Row],[Class. Temps de Réaction]]<21,4,2)))))))),\"0\")","v":8},10,{"$f":"IF(Table3[[#This Row],[Temps Course]]<>\"\",_xlfn.RANK.EQ(Table3[[#This Row],[Temps Course]],Table3[Temps Course],1),\"\")","v":22},{"$f":"IF(Table3[[#This Row],[Temps Course]]<>\"\",IF(Table3[[#This Row],[Class. Temps Course]]=1,20,\nIF(Table3[[#This Row],[Class. Temps Course]]=2,19,\nIF(Table3[[#This Row],[Class. Temps Course]]=3,18,\nIF(Table3[[#This Row],[Class. Temps Course]]=4,17,\nIF(Table3[[#This Row],[Class. Temps Course]]=5,16,\nIF(Table3[[#This Row],[Class. Temps Course]]=6,15,\nIF(Table3[[#This Row],[Class. Temps Course]]=7,14,\nIF(Table3[[#This Row],[Class. Temps Course]]=8,13,\nIF(Table3[[#This Row],[Class. Temps Course]]=9,12,\nIF(Table3[[#This Row],[Class. Temps Course]]=10,11,\nIF(Table3[[#This Row],[Class. Temps Course]]<16,10,\nIF(Table3[[#This Row],[Class. Temps Course]]<21,9,\nIF(Table3[[#This Row],[Class. Temps Course]]<26,8,7))))))))))))),\"0\")","v":8},20]
[21,"Les 80's","A. Dreux Folschviller","C","Nancy-Metz","G",14,12,9,15,10,14,15,15,14,13,9,15,3,3,15,11,1,{"$f":"IF(Table3[[#This Row],[Class. Epreuve CAO]]<>\"\",IF(Table3[[#This Row],[Class. Epreuve CAO]]=1,20,\nIF(Table3[[#This Row],[Class. Epreuve CAO]]=2,18,\nIF(Table3[[#This Row],[Class. Epreuve CAO]]=3,16,\nIF(Table3[[#This Row],[Class. Epreuve CAO]]=4,14,\nIF(Table3[[#This Row],[Class. Epreuve CAO]]<9,11,\nIF(Table3[[#This Row],[Class. Epreuve CAO]]<13,8,\nIF(Table3[[#This Row],[Class. Epreuve CAO]]<17,6,\nIF(Table3[[#This Row],[Class. Epreuve CAO]]<21,4,2)))))))),\"0\")","v":20},0.193,{"$f":"IF(Table3[[#This Row],[Temps de Réaction]]<>\"\",_xlfn.RANK.EQ(Table3[[#This Row],[Temps de Réaction]],Table3[Temps de Réaction],1),\"\")","v":6},{"$f":"IF(Table3[[#This Row],[Temps de Réaction]]<>\"\",IF(Table3[[#This Row],[Class. Temps de Réaction]]=1,20,IF(Table3[[#This Row],[Class. Temps de Réaction]]=2,18,IF(Table3[[#This Row],[Class. Temps de Réaction]]=3,16,IF(Table3[[#This Row],[Class. Temps de Réaction]]=4,14,IF(Table3[[#This Row],[Class. Temps de Réaction]]<9,11,IF(Table3[[#This Row],[Class. Temps de Réaction]]<13,8,IF(Table3[[#This Row],[Class. Temps de Réaction]]<17,6,IF(Table3[[#This Row],[Class. Temps de Réaction]]<21,4,2)))))))),\"0\")","v":11},10,{"$f":"IF(Table3[[#This Row],[Temps Course]]<>\"\",_xlfn.RANK.EQ(Table3[[#This Row],[Temps Course]],Table3[Temps Course],1),\"\")","v":22},{"$f":"IF(Table3[[#This Row],[Temps Course]]<>\"\",IF(Table3[[#This Row],[Class. Temps Course]]=1,20,\nIF(Table3[[#This Row],[Class. Temps Course]]=2,19,\nIF(Table3[[#This Row],[Class. Temps Course]]=3,18,\nIF(Table3[[#This Row],[Class. Temps Course]]=4,17,\nIF(Table3[[#This Row],[Class. Temps Course]]=5,16,\nIF(Table3[[#This Row],[Class. Temps Course]]=6,15,\nIF(Table3[[#This Row],[Class. Temps Course]]=7,14,\nIF(Table3[[#This Row],[Class. Temps Course]]=8,13,\nIF(Table3[[#This Row],[Class. Temps Course]]=9,12,\nIF(Table3[[#This Row],[Class. Temps Course]]=10,11,\nIF(Table3[[#This Row],[Class. Temps Course]]<16,10,\nIF(Table3[[#This Row],[Class. Temps Course]]<21,9,\nIF(Table3[[#This Row],[Class. Temps Course]]<26,8,7))))))))))))),\"0\")","v":8},20]
[22,"E-magie-nation","A. Dreux Folschviller","C","Nancy-Metz","G",13,14,12,14,14,13,14,15,18,8,8,15,17,0,20,20,1,{"$f":"IF(Table3[[#This Row],[Class. Epreuve CAO]]<>\"\",IF(Table3[[#This Row],[Class. Epreuve CAO]]=1,20,\nIF(Table3[[#This Row],[Class. Epreuve CAO]]=2,18,\nIF(Table3[[#This Row],[Class. Epreuve CAO]]=3,16,\nIF(Table3[[#This Row],[Class. Epreuve CAO]]=4,14,\nIF(Table3[[#This Row],[Class. Epreuve CAO]]<9,11,\nIF(Table3[[#This Row],[Class. Epreuve CAO]]<13,8,\nIF(Table3[[#This Row],[Class. Epreuve CAO]]<17,6,\nIF(Table3[[#This Row],[Class. Epreuve CAO]]<21,4,2)))))))),\"0\")","v":20},0.245,{"$f":"IF(Table3[[#This Row],[Temps de Réaction]]<>\"\",_xlfn.RANK.EQ(Table3[[#This Row],[Temps de Réaction]],Table3[Temps de Réaction],1),\"\")","v":21},{"$f":"IF(Table3[[#This Row],[Temps de Réaction]]<>\"\",IF(Table3[[#This Row],[Class. Temps de Réaction]]=1,20,IF(Table3[[#This Row],[Class. Temps de Réaction]]=2,18,IF(Table3[[#This Row],[Class. Temps de Réaction]]=3,16,IF(Table3[[#This Row],[Class. Temps de Réaction]]=4,14,IF(Table3[[#This Row],[Class. Temps de Réaction]]<9,11,IF(Table3[[#This Row],[Class. Temps de Réaction]]<13,8,IF(Table3[[#This Row],[Class. Temps de Réaction]]<17,6,IF(Table3[[#This Row],[Class. Temps de Réaction]]<21,4,2)))))))),\"0\")","v":2},3.4049999999999998,{"$f":"IF(Table3[[#This Row],[Temps Course]]<>\"\",_xlfn.RANK.EQ(Table3[[#This Row],[Temps Course]],Table3[Temps Course],1),\"\")","v":14},{"$f":"IF(Table3[[#This Row],[Temps Course]]<>\"\",IF(Table3[[#This Row],[Class. Temps Course]]=1,20,\nIF(Table3[[#This Row],[Class. Temps Course]]=2,19,\nIF(Table3[[#This Row],[Class. Temps Course]]=3,18,\nIF(Table3[[#This Row],[Class. Temps Course]]=4,17,\nIF(Table3[[#This Row],[Class. Temps Course]]=5,16,\nIF(Table3[[#This Row],[Class. Temps Course]]=6,15,\nIF(Table3[[#This Row],[Class. Temps Course]]=7,14,\nIF(Table3[[#This Row],[Class. Temps Course]]=8,13,\nIF(Table3[[#This Row],[Class. Temps Course]]=9,12,\nIF(Table3[[#This Row],[Class. Temps Course]]=10,11,\nIF(Table3[[#This Row],[Class. Temps Course]]<16,10,\nIF(Table3[[#This Row],[Class. Temps Course]]<21,9,\nIF(Table3[[#This Row],[Class. Temps Course]]<26,8,7))))))))))))),\"0\")","v":10},20]
[23,"Gol'o Team","A. Dreux Folschviller","C","Nancy-Metz","G",15,16,13,16,17,18,16,13,11,11,11,15,0,0,15,7,1,{"$f":"IF(Table3[[#This Row],[Class. Epreuve CAO]]<>\"\",IF(Table3[[#This Row],[Class. Epreuve CAO]]=1,20,\nIF(Table3[[#This Row],[Class. Epreuve CAO]]=2,18,\nIF(Table3[[#This Row],[Class. Epreuve CAO]]=3,16,\nIF(Table3[[#This Row],[Class. Epreuve CAO]]=4,14,\nIF(Table3[[#This Row],[Class. Epreuve CAO]]<9,11,\nIF(Table3[[#This Row],[Class. Epreuve CAO]]<13,8,\nIF(Table3[[#This Row],[Class. Epreuve CAO]]<17,6,\nIF(Table3[[#This Row],[Class. Epreuve CAO]]<21,4,2)))))))),\"0\")","v":20},0,{"$f":"IF(Table3[[#This Row],[Temps de Réaction]]<>\"\",_xlfn.RANK.EQ(Table3[[#This Row],[Temps de Réaction]],Table3[Temps de Réaction],1),\"\")","v":1},{"$f":"IF(Table3[[#This Row],[Temps de Réaction]]<>\"\",IF(Table3[[#This Row],[Class. Temps de Réaction]]=1,20,IF(Table3[[#This Row],[Class. Temps de Réaction]]=2,18,IF(Table3[[#This Row],[Class. Temps de Réaction]]=3,16,IF(Table3[[#This Row],[Class. Temps de Réaction]]=4,14,IF(Table3[[#This Row],[Class. Temps de Réaction]]<9,11,IF(Table3[[#This Row],[Class. Temps de Réaction]]<13,8,IF(Table3[[#This Row],[Class. Temps de Réaction]]<17,6,IF(Table3[[#This Row],[Class. Temps de Réaction]]<21,4,2)))))))),\"0\")","v":20},10,{"$f":"IF(Table3[[#This Row],[Temps Course]]<>\"\",_xlfn.RANK.EQ(Table3[[#This Row],[Temps Course]],Table3[Temps Course],1),\"\")","v":22},{"$f":"IF(Table3[[#This Row],[Temps Course]]<>\"\",IF(Table3[[#This Row],[Class. Temps Course]]=1,20,\nIF(Table3[[#This Row],[Class. Temps Course]]=2,19,\nIF(Table3[[#This Row],[Class. Temps Course]]=3,18,\nIF(Table3[[#This Row],[Class. Temps Course]]=4,17,\nIF(Table3[[#This Row],[Class. Temps Course]]=5,16,\nIF(Table3[[#This Row],[Class. Temps Course]]=6,15,\nIF(Table3[[#This Row],[Class. Temps Course]]=7,14,\nIF(Table3[[#This Row],[Class. Temps Course]]=8,13,\nIF(Table3[[#This Row],[Class. Temps Course]]=9,12,\nIF(Table3[[#This Row],[Class. Temps Course]]=10,11,\nIF(Table3[[#This Row],[Class. Temps Course]]<16,10,\nIF(Table3[[#This Row],[Class. Temps Course]]<21,9,\nIF(Table3[[#This Row],[Class. Temps Course]]<26,8,7))))))))))))),\"0\")","v":8},20]
[24,"Serpent","A. Dreux Folschviller","C","Nancy-Metz","G",8,11,8,7,5,4,13,10,13,7,8,11,7,0,15,13,1,{"$f":"IF(Table3[[#This Row],[Class. Epreuve CAO]]<>\"\",IF(Table3[[#This Row],[Class. Epreuve CAO]]=1,20,\nIF(Table3[[#This Row],[Class. Epreuve CAO]]=2,18,\nIF(Table3[[#This Row],[Class. Epreuve CAO]]=3,16,\nIF(Table3[[#This Row],[Class. Epreuve CAO]]=4,14,\nIF(Table3[[#This Row],[Class. Epreuve CAO]]<9,11,\nIF(Table3[[#This Row],[Class. Epreuve CAO]]<13,8,\nIF(Table3[[#This Row],[Class. Epreuve CAO]]<17,6,\nIF(Table3[[#This Row],[Class. Epreuve CAO]]<21,4,2)))))))),\"0\")","v":20},0.21199999999999999,{"$f":"IF(Table3[[#This Row],[Temps de Réaction]]<>\"\",_xlfn.RANK.EQ(Table3[[#This Row],[Temps de Réaction]],Table3[Temps de Réaction],1),\"\")","v":10},{"$f":"IF(Table3[[#This Row],[Temps de Réaction]]<>\"\",IF(Table3[[#This Row],[Class. Temps de Réaction]]=1,20,IF(Table3[[#This Row],[Class. Temps de Réaction]]=2,18,IF(Table3[[#This Row],[Class. Temps de Réaction]]=3,16,IF(Table3[[#This Row],[Class. Temps de Réaction]]=4,14,IF(Table3[[#This Row],[Class. Temps de Réaction]]<9,11,IF(Table3[[#This Row],[Class. Temps de Réaction]]<13,8,IF(Table3[[#This Row],[Class. Temps de Réaction]]<17,6,IF(Table3[[#This Row],[Class. Temps de Réaction]]<21,4,2)))))))),\"0\")","v":8},4.1020000000000003,{"$f":"IF(Table3[[#This Row],[Temps Course]]<>\"\",_xlfn.RANK.EQ(Table3[[#This Row],[Temps Course]],Table3[Temps Course],1),\"\")","v":19},{"$f":"IF(Table3[[#This Row],[Temps Course]]<>\"\",IF(Table3[[#This Row],[Class. Temps Course]]=1,20,\nIF(Table3[[#This Row],[Class. Temps Course]]=2,19,\nIF(Table3[[#This Row],[Class. Temps Course]]=3,18,\nIF(Table3[[#This Row],[Class. Temps Course]]=4,17,\nIF(Table3[[#This Row],[Class. Temps Course]]=5,16,\nIF(Table3[[#This Row],[Class. Temps Course]]=6,15,\nIF(Table3[[#This Row],[Class. Temps Course]]=7,14,\nIF(Table3[[#This Row],[Class. Temps Course]]=8,13,\nIF(Table3[[#This Row],[Class. Temps Course]]=9,12,\nIF(Table3[[#This Row],[Class. Temps Course]]=10,11,\nIF(Table3[[#This Row],[Class. Temps Course]]<16,10,\nIF(Table3[[#This Row],[Class. Temps Course]]<21,9,\nIF(Table3[[#This Row],[Class. Temps Course]]<26,8,7))))))))))))),\"0\")","v":9},20]
[25,"The Peaky's","La Fontaine St Avold","C","Nancy-Metz","G",20,20,16,20,19,17,17,19,18,19,18,19,17,19,19,17,1,{"$f":"IF(Table3[[#This Row],[Class. Epreuve CAO]]<>\"\",IF(Table3[[#This Row],[Class. Epreuve CAO]]=1,20,\nIF(Table3[[#This Row],[Class. Epreuve CAO]]=2,18,\nIF(Table3[[#This Row],[Class. Epreuve CAO]]=3,16,\nIF(Table3[[#This Row],[Class. Epreuve CAO]]=4,14,\nIF(Table3[[#This Row],[Class. Epreuve CAO]]<9,11,\nIF(Table3[[#This Row],[Class. Epreuve CAO]]<13,8,\nIF(Table3[[#This Row],[Class. Epreuve CAO]]<17,6,\nIF(Table3[[#This Row],[Class. Epreuve CAO]]<21,4,2)))))))),\"0\")","v":20},0.19400000000000001,{"$f":"IF(Table3[[#This Row],[Temps de Réaction]]<>\"\",_xlfn.RANK.EQ(Table3[[#This Row],[Temps de Réaction]],Table3[Temps de Réaction],1),\"\")","v":7},{"$f":"IF(Table3[[#This Row],[Temps de Réaction]]<>\"\",IF(Table3[[#This Row],[Class. Temps de Réaction]]=1,20,IF(Table3[[#This Row],[Class. Temps de Réaction]]=2,18,IF(Table3[[#This Row],[Class. Temps de Réaction]]=3,16,IF(Table3[[#This Row],[Class. Temps de Réaction]]=4,14,IF(Table3[[#This Row],[Class. Temps de Réaction]]<9,11,IF(Table3[[#This Row],[Class. Temps de Réaction]]<13,8,IF(Table3[[#This Row],[Class. Temps de Réaction]]<17,6,IF(Table3[[#This Row],[Class. Temps de Réaction]]<21,4,2)))))))),\"0\")","v":11},3.1629999999999998,{"$f":"IF(Table3[[#This Row],[Temps Course]]<>\"\",_xlfn.RANK.EQ(Table3[[#This Row],[Temps Course]],Table3[Temps Course],1),\"\")","v":10},{"$f":"IF(Table3[[#This Row],[Temps Course]]<>\"\",IF(Table3[[#This Row],[Class. Temps Course]]=1,20,\nIF(Table3[[#This Row],[Class. Temps Course]]=2,19,\nIF(Table3[[#This Row],[Class. Temps Course]]=3,18,\nIF(Table3[[#This Row],[Class. Temps Course]]=4,17,\nIF(Table3[[#This Row],[Class. Temps Course]]=5,16,\nIF(Table3[[#This Row],[Class. Temps Course]]=6,15,\nIF(Table3[[#This Row],[Class. Temps Course]]=7,14,\nIF(Table3[[#This Row],[Class. Temps Course]]=8,13,\nIF(Table3[[#This Row],[Class. Temps Course]]=9,12,\nIF(Table3[[#This Row],[Class. Temps Course]]=10,11,\nIF(Table3[[#This Row],[Class. Temps Course]]<16,10,\nIF(Table3[[#This Row],[Class. Temps Course]]<21,9,\nIF(Table3[[#This Row],[Class. Temps Course]]<26,8,7))))))))))))),\"0\")","v":11},20]
[26,"Cosmos","La Fontaine St Avold","C","Nancy-Metz","G",15,14,7,13,15,8,18,19,19,16,18,18,10,0,20,18,1,{"$f":"IF(Table3[[#This Row],[Class. Epreuve CAO]]<>\"\",IF(Table3[[#This Row],[Class. Epreuve CAO]]=1,20,\nIF(Table3[[#This Row],[Class. Epreuve CAO]]=2,18,\nIF(Table3[[#This Row],[Class. Epreuve CAO]]=3,16,\nIF(Table3[[#This Row],[Class. Epreuve CAO]]=4,14,\nIF(Table3[[#This Row],[Class. Epreuve CAO]]<9,11,\nIF(Table3[[#This Row],[Class. Epreuve CAO]]<13,8,\nIF(Table3[[#This Row],[Class. Epreuve CAO]]<17,6,\nIF(Table3[[#This Row],[Class. Epreuve CAO]]<21,4,2)))))))),\"0\")","v":20},0.17,{"$f":"IF(Table3[[#This Row],[Temps de Réaction]]<>\"\",_xlfn.RANK.EQ(Table3[[#This Row],[Temps de Réaction]],Table3[Temps de Réaction],1),\"\")","v":2},{"$f":"IF(Table3[[#This Row],[Temps de Réaction]]<>\"\",IF(Table3[[#This Row],[Class. Temps de Réaction]]=1,20,IF(Table3[[#This Row],[Class. Temps de Réaction]]=2,18,IF(Table3[[#This Row],[Class. Temps de Réaction]]=3,16,IF(Table3[[#This Row],[Class. Temps de Réaction]]=4,14,IF(Table3[[#This Row],[Class. Temps de Réaction]]<9,11,IF(Table3[[#This Row],[Class. Temps de Réaction]]<13,8,IF(Table3[[#This Row],[Class. Temps de Réaction]]<17,6,IF(Table3[[#This Row],[Class. Temps de Réaction]]<21,4,2)))))))),\"0\")","v":18},3.0630000000000002,{"$f":"IF(Table3[[#This Row],[Temps Course]]<>\"\",_xlfn.RANK.EQ(Table3[[#This Row],[Temps Course]],Table3[Temps Course],1),\"\")","v":7},{"$f":"IF(Table3[[#This Row],[Temps Course]]<>\"\",IF(Table3[[#This Row],[Class. Temps Course]]=1,20,\nIF(Table3[[#This Row],[Class. Temps Course]]=2,19,\nIF(Table3[[#This Row],[Class. Temps Course]]=3,18,\nIF(Table3[[#This Row],[Class. Temps Course]]=4,17,\nIF(Table3[[#This Row],[Class. Temps Course]]=5,16,\nIF(Table3[[#This Row],[Class. Temps Course]]=6,15,\nIF(Table3[[#This Row],[Class. Temps Course]]=7,14,\nIF(Table3[[#This Row],[Class. Temps Course]]=8,13,\nIF(Table3[[#This Row],[Class. Temps Course]]=9,12,\nIF(Table3[[#This Row],[Class. Temps Course]]=10,11,\nIF(Table3[[#This Row],[Class. Temps Course]]<16,10,\nIF(Table3[[#This Row],[Class. Temps Course]]<21,9,\nIF(Table3[[#This Row],[Class. Temps Course]]<26,8,7))))))))))))),\"0\")","v":14},20]
[27,"Otaku","La Fontaine St Avold","C","Nancy-Metz","G",12,14,11,14,17,14,18,15,18,13,10,15,15,10,19,16,1,{"$f":"IF(Table3[[#This Row],[Class. Epreuve CAO]]<>\"\",IF(Table3[[#This Row],[Class. Epreuve CAO]]=1,20,\nIF(Table3[[#This Row],[Class. Epreuve CAO]]=2,18,\nIF(Table3[[#This Row],[Class. Epreuve CAO]]=3,16,\nIF(Table3[[#This Row],[Class. Epreuve CAO]]=4,14,\nIF(Table3[[#This Row],[Class. Epreuve CAO]]<9,11,\nIF(Table3[[#This Row],[Class. Epreuve CAO]]<13,8,\nIF(Table3[[#This Row],[Class. Epreuve CAO]]<17,6,\nIF(Table3[[#This Row],[Class. Epreuve CAO]]<21,4,2)))))))),\"0\")","v":20},0.17799999999999999,{"$f":"IF(Table3[[#This Row],[Temps de Réaction]]<>\"\",_xlfn.RANK.EQ(Table3[[#This Row],[Temps de Réaction]],Table3[Temps de Réaction],1),\"\")","v":4},{"$f":"IF(Table3[[#This Row],[Temps de Réaction]]<>\"\",IF(Table3[[#This Row],[Class. Temps de Réaction]]=1,20,IF(Table3[[#This Row],[Class. Temps de Réaction]]=2,18,IF(Table3[[#This Row],[Class. Temps de Réaction]]=3,16,IF(Table3[[#This Row],[Class. Temps de Réaction]]=4,14,IF(Table3[[#This Row],[Class. Temps de Réaction]]<9,11,IF(Table3[[#This Row],[Class. Temps de Réaction]]<13,8,IF(Table3[[#This Row],[Class. Temps de Réaction]]<17,6,IF(Table3[[#This Row],[Class. Temps de Réaction]]<21,4,2)))))))),\"0\")","v":14},3.6739999999999999,{"$f":"IF(Table3[[#This Row],[Temps Course]]<>\"\",_xlfn.RANK.EQ(Table3[[#This Row],[Temps Course]],Table3[Temps Course],1),\"\")","v":15},{"$f":"IF(Table3[[#This Row],[Temps Course]]<>\"\",IF(Table3[[#This Row],[Class. Temps Course]]=1,20,\nIF(Table3[[#This Row],[Class. Temps Course]]=2,19,\nIF(Table3[[#This Row],[Class. Temps Course]]=3,18,\nIF(Table3[[#This Row],[Class. Temps Course]]=4,17,\nIF(Table3[[#This Row],[Class. Temps Course]]=5,16,\nIF(Table3[[#This Row],[Class. Temps Course]]=6,15,\nIF(Table3[[#This Row],[Class. Temps Course]]=7,14,\nIF(Table3[[#This Row],[Class. Temps Course]]=8,13,\nIF(Table3[[#This Row],[Class. Temps Course]]=9,12,\nIF(Table3[[#This Row],[Class. Temps Course]]=10,11,\nIF(Table3[[#This Row],[Class. Temps Course]]<16,10,\nIF(Table3[[#This Row],[Class. Temps Course]]<21,9,\nIF(Table3[[#This Row],[Class. Temps Course]]<26,8,7))))))))))))),\"0\")","v":10},20]
[28,"Bal'eau","La Fontaine St Avold","C","Nancy-Metz","G",17,15,20,18,18,13,17,17,18,12,18,18,7,0,19,11,1,{"$f":"IF(Table3[[#This Row],[Class. Epreuve CAO]]<>\"\",IF(Table3[[#This Row],[Class. Epreuve CAO]]=1,20,\nIF(Table3[[#This Row],[Class. Epreuve CAO]]=2,18,\nIF(Table3[[#This Row],[Class. Epreuve CAO]]=3,16,\nIF(Table3[[#This Row],[Class. Epreuve CAO]]=4,14,\nIF(Table3[[#This Row],[Class. Epreuve CAO]]<9,11,\nIF(Table3[[#This Row],[Class. Epreuve CAO]]<13,8,\nIF(Table3[[#This Row],[Class. Epreuve CAO]]<17,6,\nIF(Table3[[#This Row],[Class. Epreuve CAO]]<21,4,2)))))))),\"0\")","v":20},0.245,{"$f":"IF(Table3[[#This Row],[Temps de Réaction]]<>\"\",_xlfn.RANK.EQ(Table3[[#This Row],[Temps de Réaction]],Table3[Temps de Réaction],1),\"\")","v":21},{"$f":"IF(Table3[[#This Row],[Temps de Réaction]]<>\"\",IF(Table3[[#This Row],[Class. Temps de Réaction]]=1,20,IF(Table3[[#This Row],[Class. Temps de Réaction]]=2,18,IF(Table3[[#This Row],[Class. Temps de Réaction]]=3,16,IF(Table3[[#This Row],[Class. Temps de Réaction]]=4,14,IF(Table3[[#This Row],[Class. Temps de Réaction]]<9,11,IF(Table3[[#This Row],[Class. Temps de Réaction]]<13,8,IF(Table3[[#This Row],[Class. Temps de Réaction]]<17,6,IF(Table3[[#This Row],[Class. Temps de Réaction]]<21,4,2)))))))),\"0\")","v":2},3.121,{"$f":"IF(Table3[[#This Row],[Temps Course]]<>\"\",_xlfn.RANK.EQ(Table3[[#This Row],[Temps Course]],Table3[Temps Course],1),\"\")","v":9},{"$f":"IF(Table3[[#This Row],[Temps Course]]<>\"\",IF(Table3[[#This Row],[Class. Temps Course]]=1,20,\nIF(Table3[[#This Row],[Class. Temps Course]]=2,19,\nIF(Table3[[#This Row],[Class. Temps Course]]=3,18,\nIF(Table3[[#This Row],[Class. Temps Course]]=4,17,\nIF(Table3[[#This Row],[Class. Temps Course]]=5,16,\nIF(Table3[[#This Row],[Class. Temps Course]]=6,15,\nIF(Table3[[#This Row],[Class. Temps Course]]=7,14,\nIF(Table3[[#This Row],[Class. Temps Course]]=8,13,\nIF(Table3[[#This Row],[Class. Temps Course]]=9,12,\nIF(Table3[[#This Row],[Class. Temps Course]]=10,11,\nIF(Table3[[#This Row],[Class. Temps Course]]<16,10,\nIF(Table3[[#This Row],[Class. Temps Course]]<21,9,\nIF(Table3[[#This Row],[Class. Temps Course]]<26,8,7))))))))))))),\"0\")","v":12},20]
[29,"Team Lambo","La Fontaine St Avold","C","Nancy-Metz","G",15,13,14,13,11,12,7,7,10,8,6,8,3,3,14,10,1,{"$f":"IF(Table3[[#This Row],[Class. Epreuve CAO]]<>\"\",IF(Table3[[#This Row],[Class. Epreuve CAO]]=1,20,\nIF(Table3[[#This Row],[Class. Epreuve CAO]]=2,18,\nIF(Table3[[#This Row],[Class. Epreuve CAO]]=3,16,\nIF(Table3[[#This Row],[Class. Epreuve CAO]]=4,14,\nIF(Table3[[#This Row],[Class. Epreuve CAO]]<9,11,\nIF(Table3[[#This Row],[Class. Epreuve CAO]]<13,8,\nIF(Table3[[#This Row],[Class. Epreuve CAO]]<17,6,\nIF(Table3[[#This Row],[Class. Epreuve CAO]]<21,4,2)))))))),\"0\")","v":20},0.23799999999999999,{"$f":"IF(Table3[[#This Row],[Temps de Réaction]]<>\"\",_xlfn.RANK.EQ(Table3[[#This Row],[Temps de Réaction]],Table3[Temps de Réaction],1),\"\")","v":20},{"$f":"IF(Table3[[#This Row],[Temps de Réaction]]<>\"\",IF(Table3[[#This Row],[Class. Temps de Réaction]]=1,20,IF(Table3[[#This Row],[Class. Temps de Réaction]]=2,18,IF(Table3[[#This Row],[Class. Temps de Réaction]]=3,16,IF(Table3[[#This Row],[Class. Temps de Réaction]]=4,14,IF(Table3[[#This Row],[Class. Temps de Réaction]]<9,11,IF(Table3[[#This Row],[Class. Temps de Réaction]]<13,8,IF(Table3[[#This Row],[Class. Temps de Réaction]]<17,6,IF(Table3[[#This Row],[Class. Temps de Réaction]]<21,4,2)))))))),\"0\")","v":4},10,{"$f":"IF(Table3[[#This Row],[Temps Course]]<>\"\",_xlfn.RANK.EQ(Table3[[#This Row],[Temps Course]],Table3[Temps Course],1),\"\")","v":22},{"$f":"IF(Table3[[#This Row],[Temps Course]]<>\"\",IF(Table3[[#This Row],[Class. Temps Course]]=1,20,\nIF(Table3[[#This Row],[Class. Temps Course]]=2,19,\nIF(Table3[[#This Row],[Class. Temps Course]]=3,18,\nIF(Table3[[#This Row],[Class. Temps Course]]=4,17,\nIF(Table3[[#This Row],[Class. Temps Course]]=5,16,\nIF(Table3[[#This Row],[Class. Temps Course]]=6,15,\nIF(Table3[[#This Row],[Class. Temps Course]]=7,14,\nIF(Table3[[#This Row],[Class. Temps Course]]=8,13,\nIF(Table3[[#This Row],[Class. Temps Course]]=9,12,\nIF(Table3[[#This Row],[Class. Temps Course]]=10,11,\nIF(Table3[[#This Row],[Class. Temps Course]]<16,10,\nIF(Table3[[#This Row],[Class. Temps Course]]<21,9,\nIF(Table3[[#This Row],[Class. Temps Course]]<26,8,7))))))))))))),\"0\")","v":8},20]
[30]
[]
[null,"Nombre d'équipes :",{"$f":"COUNTA(Table3[Nom équipe])","v":29}]

{"sheet":"Classement Général","index":2,"n_rows":36,"n_cols":29,"rows_kept":36,"cut":false,"hidden":false,"merged":[[1,6,1,17],[3,4,3,19]]}
[]
[null,null,null,null,null,null,"FINALE FRANCE / ACADEMIQUES COURSE EN COURS"]
[]
[null,null,null,null,"Attention: Ne rien saisir sur cette feuille elle est calculée automatiquement"]
[]
["N° équipe","Nom équipe","établissement","Type établissement","Académie","Parcours","Ingénierie et conception","Innovation mécanique","Développement Durable","Ingénierie de fabrication","Gestion de projet et collaborations","Présentation Orale","Identité Equipe","Design du Stand","Portfolio","Marketing et Sponsoring","Budget","Design du Véhicule","Innovation numérique","Programmation","Respect du règlement","Communication : vidéo","Epreuve CAO","Temps Réaction","Temps Course","Epreuve arrêt au stand","1","Total Parcours","Classement Général"]
[1,{"$f":"IF(Table3[[#This Row],[Nom équipe]]<>\"\",Table3[[#This Row],[Nom équipe]],\"\")","v":"Star Car"},{"$f":"IF(Table3[[#This Row],[Etablissement]]<>\"\",Table3[[#This Row],[Etablissement]],\"\")","v":"AVEC"},{"$f":"IF(Table3[[#This Row],[Type établissement]]<>\"\",Table3[[#This Row],[Type établissement]],\"\")","v":"C"},{"$f":"IF(Table3[[#This Row],[Académie]]<>\"\",Table3[[#This Row],[Académie]],\"\")","v":"Nancy-Metz"},{"$f":"IF(Table3[[#This Row],[Parcours choisi]]<>\"\",Table3[[#This Row],[Parcours choisi]],\"\")","v":"G"},{"$f":"IF(Table3[[#This Row],[Parcours choisi]]<>\"\",(VLOOKUP(Table35[[#Headers],[Ingénierie et conception]],'Def. Prix & Parcours'!$B$6:$E$28,IF($F7=\"G\",2,IF($F7=\"T\",3,IF($F7=\"N\",4,0))),FALSE)*Table3[[#This Row],[Points Ingénierie et conception]]),\"\")","v":84},{"$f":"IF(Table3[[#This Row],[Parcours choisi]]<>\"\",(VLOOKUP(Table35[[#Headers],[Innovation mécanique]],'Def. Prix & Parcours'!$B$6:$E$28,IF($F7=\"G\",2,IF($F7=\"T\",3,IF($F7=\"N\",4,0))),FALSE)*Table3[[#This Row],[Points Innovation mécanique]]),\"\")","v":96},{"$f":"IF(Table3[[#This Row],[Parcours choisi]]<>\"\",(VLOOKUP(Table35[[#Headers],[Développement Durable]],'Def. Prix & Parcours'!$B$6:$E$28,IF($F7=\"G\",2,IF($F7=\"T\",3,IF($F7=\"N\",4,0))),FALSE)*Table3[[#This Row],[Points Développement Durable]]),\"\")","v":16},{"$f":"IF(Table3[[#This Row],[Parcours choisi]]<>\"\",(VLOOKUP(Table35[[#Headers],[Ingénierie de fabrication]],'Def. Prix & Parcours'!$B$6:$E$28,IF($F7=\"G\",2,IF($F7=\"T\",3,IF($F7=\"N\",4,0))),FALSE)*Table3[[#This Row],[Points Ingénierie de fabrication]]),\"\")","v":42},{"$f":"IF(Table3[[#This Row],[Parcours choisi]]<>\"\",(VLOOKUP(Table35[[#Headers],[Gestion de projet et collaborations]],'Def. Prix & Parcours'!$B$6:$E$28,IF($F7=\"G\",2,IF($F7=\"T\",3,IF($F7=\"N\",4,0))),FALSE)*Table3[[#This Row],[Points Gestion de projet et \ncollaborations]]),\"\")","v":85},{"$f":"IF(Table3[[#This Row],[Parcours choisi]]<>\"\",(VLOOKUP(Table35[[#Headers],[Présentation Orale]],'Def. Prix & Parcours'!$B$6:$E$28,IF($F7=\"G\",2,IF($F7=\"T\",3,IF($F7=\"N\",4,0))),FALSE)*Table3[[#This Row],[Points Présentation Orale]]),\"\")","v":70},{"$f":"IF(Table3[[#This Row],[Parcours choisi]]<>\"\",(VLOOKUP(Table35[[#Headers],[Identité Equipe]],'Def. Prix & Parcours'!$B$6:$E$28,IF($F7=\"G\",2,IF($F7=\"T\",3,IF($F7=\"N\",4,0))),FALSE)*Table3[[#This Row],[Points Identité Equipe]]),\"\")","v":65},{"$f":"IF(Table3[[#This Row],[Parcours choisi]]<>\"\",(VLOOKUP(Table35[[#Headers],[Design du Stand]],'Def. Prix & Parcours'!$B$6:$E$28,IF($F7=\"G\",2,IF($F7=\"T\",3,IF($F7=\"N\",4,0))),FALSE)*Table3[[#This Row],[Points Design du Stand]]),\"\")","v":88},{"$f":"IF(Table3[[#This Row],[Parcours choisi]]<>\"\",(VLOOKUP(Table35[[#Headers],[Portfolio]],'Def. Prix & Parcours'!$B$6:$E$28,IF($F7=\"G\",2,IF($F7=\"T\",3,IF($F7=\"N\",4,0))),FALSE)*Table3[[#This Row],[Points Portfolio]]),\"\")","v":0},{"$f":"IF(Table3[[#This Row],[Parcours choisi]]<>\"\",(VLOOKUP(Table35[[#Headers],[Marketing et Sponsoring]],'Def. Prix & Parcours'!$B$6:$E$28,IF($F7=\"G\",2,IF($F7=\"T\",3,IF($F7=\"N\",4,0))),FALSE)*Table3[[#This Row],[Points Marketing et Sponsoring]]),\"\")","v":96},{"$f":"IF(Table3[[#This Row],[Parcours choisi]]<>\"\",(VLOOKUP(Table35[[#Headers],[Budget]],'Def. Prix & Parcours'!$B$6:$E$28,IF($F7=\"G\",2,IF($F7=\"T\",3,IF($F7=\"N\",4,0))),FALSE)*Table3[[#This Row],[Points Budget]]),\"\")","v":18},{"$f":"IF(Table3[[#This Row],[Parcours choisi]]<>\"\",(VLOOKUP(Table35[[#Headers],[Design du Véhicule]],'Def. Prix & Parcours'!$B$6:$E$28,IF($F7=\"G\",2,IF($F7=\"T\",3,IF($F7=\"N\",4,0))),FALSE)*Table3[[#This Row],[Points Design du Véhicule]]),\"\")","v":45},{"$f":"IF(Table3[[#This Row],[Parcours choisi]]<>\"\",(VLOOKUP(Table35[[#Headers],[Innovation numérique]],'Def. Prix & Parcours'!$B$6:$E$28,IF($F7=\"G\",2,IF($F7=\"T\",3,IF($F7=\"N\",4,0))),FALSE)*Table3[[#This Row],[Points Innovation numérique]]),\"\")","v":0},{"$f":"IF(Table3[[#This Row],[Parcours choisi]]<>\"\",(VLOOKUP(Table35[[#Headers],[Programmation]],'Def. Prix & Parcours'!$B$6:$E$28,IF($F7=\"G\",2,IF($F7=\"T\",3,IF($F7=\"N\",4,0))),FALSE)*Table3[[#This Row],[Points Programmation]]),\"\")","v":0},{"$f":"IF(Table3[[#This Row],[Parcours choisi]]<>\"\",(VLOOKUP(Table35[[#Headers],[Respect du règlement]],'Def. Prix & Parcours'!$B$6:$E$28,IF($F7=\"G\",2,IF($F7=\"T\",3,IF($F7=\"N\",4,0))),FALSE)*Table3[[#This Row],[Points Respect du règlement]]),\"\")","v":45},{"$f":"IF(Table3[[#This Row],[Parcours choisi]]<>\"\",(VLOOKUP(Table35[[#Headers],[Communication : vidéo]],'Def. Prix & Parcours'!$B$6:$E$28,IF($F7=\"G\",2,IF($F7=\"T\",3,IF($F7=\"N\",4,0))),FALSE)*Table3[[#This Row],[Points Communication : vidéo]]),\"\")","v":39},{"$f":"IF(Table3[[#This Row],[Parcours choisi]]<>\"\",(VLOOKUP(Table35[[#Headers],[Epreuve CAO]],'Def. Prix & Parcours'!$B$6:$E$28,IF($F7=\"G\",2,IF($F7=\"T\",3,IF($F7=\"N\",4,0))),FALSE)*Table3[[#This Row],[Points Epreuve CAO]]),\"\")","v":80},{"$f":"IF(Table3[[#This Row],[Parcours choisi]]<>\"\",(VLOOKUP(Table35[[#Headers],[Temps Réaction]],'Def. Prix & Parcours'!$B$6:$E$28,IF($F7=\"G\",2,IF($F7=\"T\",3,IF($F7=\"N\",4,0))),FALSE)*Table3[[#This Row],[Points Temps Réaction]]),\"\")","v":6},{"$f":"IF(Table3[[#This Row],[Parcours choisi]]<>\"\",(VLOOKUP(Table35[[#Headers],[Temps Course]],'Def. Prix & Parcours'!$B$6:$E$28,IF($F7=\"G\",2,IF($F7=\"T\",3,IF($F7=\"N\",4,0))),FALSE)*Table3[[#This Row],[Points Temps Course]]),\"\")","v":90},{"$f":"IF(Table3[[#This Row],[Parcours choisi]]<>\"\",(VLOOKUP(Table35[[#Headers],[Epreuve arrêt au stand]],'Def. Prix & Parcours'!$B$6:$E$28,IF($F7=\"G\",2,IF($F7=\"T\",3,IF($F7=\"N\",4,0))),FALSE)*Table3[[#This Row],[Points Epreuve arrêt au stand]]),\"\")","v":80},null,{"$f":"IF(Table3[[#This Row],[Parcours choisi]]<>\"\",SUM(Table35[[#This Row],[Ingénierie et conception]:[1]]),\"\")","v":1045},{"$f":"IF(Table3[[#This Row],[Parcours choisi]]<>\"\",_xlfn.RANK.EQ(Table35[[#This Row],[Total Parcours]],Table35[Total Parcours],0),\"\")","v":23}]
[2,{"$f":"IF(Table3[[#This Row],[Nom équipe]]<>\"\",Table3[[#This Row],[Nom équipe]],\"\")","v":"Les industriels"},{"$f":"IF(Table3[[#This Row],[Etablissement]]<>\"\",Table3[[#This Row],[Etablissement]],\"\")","v":"Loritz Nancy"},{"$f":"IF(Table3[[#This Row],[Type établissement]]<>\"\",Table3[[#This Row],[Type établissement]],\"\")","v":"L"},{"$f":"IF(Table3[[#This Row],[Académie]]<>\"\",Table3[[#This Row],[Académie]],\"\")","v":"Nancy-Metz"},{"$f":"IF(Table3[[#This Row],[Parcours choisi]]<>\"\",Table3[[#This Row],[Parcours choisi]],\"\")","v":"T"},{"$f":"IF(Table3[[#This Row],[Parcours choisi]]<>\"\",(VLOOKUP(Table35[[#Headers],[Ingénierie et conception]],'Def. Prix & Parcours'!$B$6:$E$28,IF($F8=\"G\",2,IF($F8=\"T\",3,IF($F8=\"N\",4,0))),FALSE)*Table3[[#This Row],[Points Ingénierie et conception]]),\"\")","v":0},{"$f":"IF(Table3[[#This Row],[Parcours choisi]]<>\"\",(VLOOKUP(Table35[[#Headers],[Innovation mécanique]],'Def. Prix & Parcours'!$B$6:$E$28,IF($F8=\"G\",2,IF($F8=\"T\",3,IF($F8=\"N\",4,0))),FALSE)*Table3[[#This Row],[Points Innovation mécanique]]),\"\")","v":0},{"$f":"IF(Table3[[#This Row],[Parcours choisi]]<>\"\",(VLOOKUP(Table35[[#Headers],[Développement Durable]],'Def. Prix & Parcours'!$B$6:$E$28,IF($F8=\"G\",2,IF($F8=\"T\",3,IF($F8=\"N\",4,0))),FALSE)*Table3[[#This Row],[Points Développement Durable]]),\"\")","v":0},{"$f":"IF(Table3[[#This Row],[Parcours choisi]]<>\"\",(VLOOKUP(Table35[[#Headers],[Ingénierie de fabrication]],'Def. Prix & Parcours'!$B$6:$E$28,IF($F8=\"G\",2,IF($F8=\"T\",3,IF($F8=\"N\",4,0))),FALSE)*Table3[[#This Row],[Points Ingénierie de fabrication]]),\"\")","v":0},{"$f":"IF(Table3[[#This Row],[Parcours choisi]]<>\"\",(VLOOKUP(Table35[[#Headers],[Gestion de projet et collaborations]],'Def. Prix & Parcours'!$B$6:$E$28,IF($F8=\"G\",2,IF($F8=\"T\",3,IF($F8=\"N\",4,0))),FALSE)*Table3[[#This Row],[Points Gestion de projet et \ncollaborations]]),\"\")","v":0},{"$f":"IF(Table3[[#This Row],[Parcours choisi]]<>\"\",(VLOOKUP(Table35[[#Headers],[Présentation Orale]],'Def. Prix & Parcours'!$B$6:$E$28,IF($F8=\"G\",2,IF($F8=\"T\",3,IF($F8=\"N\",4,0))),FALSE)*Table3[[#This Row],[Points Présentation Orale]]),\"\")","v":0},{"$f":"IF(Table3[[#This Row],[Parcours choisi]]<>\"\",(VLOOKUP(Table35[[#Headers],[Identité Equipe]],'Def. Prix & Parcours'!$B$6:$E$28,IF($F8=\"G\",2,IF($F8=\"T\",3,IF($F8=\"N\",4,0))),FALSE)*Table3[[#This Row],[Points Identité Equipe]]),\"\")","v":0},{"$f":"IF(Table3[[#This Row],[Parcours choisi]]<>\"\",(VLOOKUP(Table35[[#Headers],[Design du Stand]],'Def. Prix & Parcours'!$B$6:$E$28,IF($F8=\"G\",2,IF($F8=\"T\",3,IF($F8=\"N\",4,0))),FALSE)*Table3[[#This Row],[Points Design du Stand]]),\"\")","v":0},{"$f":"IF(Table3[[#This Row],[Parcours choisi]]<>\"\",(VLOOKUP(Table35[[#Headers],[Portfolio]],'Def. Prix & Parcours'!$B$6:$E$28,IF($F8=\"G\",2,IF($F8=\"T\",3,IF($F8=\"N\",4,0))),FALSE)*Table3[[#This Row],[Points Portfolio]]),\"\")","v":0},{"$f":"IF(Table3[[#This Row],[Parcours choisi]]<>\"\",(VLOOKUP(Table35[[#Headers],[Marketing et Sponsoring]],'Def. Prix & Parcours'!$B$6:$E$28,IF($F8=\"G\",2,IF($F8=\"T\",3,IF($F8=\"N\",4,0))),FALSE)*Table3[[#This Row],[Points Marketing et Sponsoring]]),\"\")","v":0},{"$f":"IF(Table3[[#This Row],[Parcours choisi]]<>\"\",(VLOOKUP(Table35[[#Headers],[Budget]],'Def. Prix & Parcours'!$B$6:$E$28,IF($F8=\"G\",2,IF($F8=\"T\",3,IF($F8=\"N\",4,0))),FALSE)*Table3[[#This Row],[Points Budget]]),\"\")","v":0},{"$f":"IF(Table3[[#This Row],[Parcours choisi]]<>\"\",(VLOOKUP(Table35[[#Headers],[Design du Véhicule]],'Def. Prix & Parcours'!$B$6:$E$28,IF($F8=\"G\",2,IF($F8=\"T\",3,IF($F8=\"N\",4,0))),FALSE)*Table3[[#This Row],[Points Design du Véhicule]]),\"\")","v":0},{"$f":"IF(Table3[[#This Row],[Parcours choisi]]<>\"\",(VLOOKUP(Table35[[#Headers],[Innovation numérique]],'Def. Prix & Parcours'!$B$6:$E$28,IF($F8=\"G\",2,IF($F8=\"T\",3,IF($F8=\"N\",4,0))),FALSE)*Table3[[#This Row],[Points Innovation numérique]]),\"\")","v":0},{"$f":"IF(Table3[[#This Row],[Parcours choisi]]<>\"\",(VLOOKUP(Table35[[#Headers],[Programmation]],'Def. Prix & Parcours'!$B$6:$E$28,IF($F8=\"G\",2,IF($F8=\"T\",3,IF($F8=\"N\",4,0))),FALSE)*Table3[[#This Row],[Points Programmation]]),\"\")","v":0},{"$f":"IF(Table3[[#This Row],[Parcours choisi]]<>\"\",(VLOOKUP(Table35[[#Headers],[Respect du règlement]],'Def. Prix & Parcours'!$B$6:$E$28,IF($F8=\"G\",2,IF($F8=\"T\",3,IF($F8=\"N\",4,0))),FALSE)*Table3[[#This Row],[Points Respect du règlement]]),\"\")","v":0},{"$f":"IF(Table3[[#This Row],[Parcours choisi]]<>\"\",(VLOOKUP(Table35[[#Headers],[Communication : vidéo]],'Def. Prix & Parcours'!$B$6:$E$28,IF($F8=\"G\",2,IF($F8=\"T\",3,IF($F8=\"N\",4,0))),FALSE)*Table3[[#This Row],[Points Communication : vidéo]]),\"\")","v":0},{"$f":"IF(Table3[[#This Row],[Parcours choisi]]<>\"\",(VLOOKUP(Table35[[#Headers],[Epreuve CAO]],'Def. Prix & Parcours'!$B$6:$E$28,IF($F8=\"G\",2,IF($F8=\"T\",3,IF($F8=\"N\",4,0))),FALSE)*Table3[[#This Row],[Points Epreuve CAO]]),\"\")","v":80},{"$f":"IF(Table3[[#This Row],[Parcours choisi]]<>\"\",(VLOOKUP(Table35[[#Headers],[Temps Réaction]],'Def. Prix & Parcours'!$B$6:$E$28,IF($F8=\"G\",2,IF($F8=\"T\",3,IF($F8=\"N\",4,0))),FALSE)*Table3[[#This Row],[Points Temps Réaction]]),\"\")","v":6},{"$f":"IF(Table3[[#This Row],[Parcours choisi]]<>\"\",(VLOOKUP(Table35[[#Headers],[Temps Course]],'Def. Prix & Parcours'!$B$6:$E$28,IF($F8=\"G\",2,IF($F8=\"T\",3,IF($F8=\"N\",4,0))),FALSE)*Table3[[#This Row],[Points Temps Course]]),\"\")","v":80},{"$f":"IF(Table3[[#This Row],[Parcours choisi]]<>\"\",(VLOOKUP(Table35[[#Headers],[Epreuve arrêt au stand]],'Def. Prix & Parcours'!$B$6:$E$28,IF($F8=\"G\",2,IF($F8=\"T\",3,IF($F8=\"N\",4,0))),FALSE)*Table3[[#This Row],[Points Epreuve arrêt au stand]]),\"\")","v":80},null,{"$f":"IF(Table3[[#This Row],[Parcours choisi]]<>\"\",SUM(Table35[[#This Row],[Ingénierie et conception]:[1]]),\"\")","v":246},{"$f":"IF(Table3[[#This Row],[Parcours choisi]]<>\"\",_xlfn.RANK.EQ(Table35[[#This Row],[Total Parcours]],Table35[Total Parcours],0),\"\")","v":26}]
[3,{"$f":"IF(Table3[[#This Row],[Nom équipe]]<>\"\",Table3[[#This Row],[Nom équipe]],\"\")","v":" S1 motor sport"},{"$f":"IF(Table3[[#This Row],[Etablissement]]<>\"\",Table3[[#This Row],[Etablissement]],\"\")","v":"Lotitz Nancy"},{"$f":"IF(Table3[[#This Row],[Type établissement]]<>\"\",Table3[[#This Row],[Type établissement]],\"\")","v":"L"},{"$f":"IF(Table3[[#This Row],[Académie]]<>\"\",Table3[[#This Row],[Académie]],\"\")","v":"Nancy-Metz"},{"$f":"IF(Table3[[#This Row],[Parcours choisi]]<>\"\",Table3[[#This Row],[Parcours choisi]],\"\")","v":"T"},{"$f":"IF(Table3[[#This Row],[Parcours choisi]]<>\"\",(VLOOKUP(Table35[[#Headers],[Ingénierie et conception]],'Def. Prix & Parcours'!$B$6:$E$28,IF($F9=\"G\",2,IF($F9=\"T\",3,IF($F9=\"N\",4,0))),FALSE)*Table3[[#This Row],[Points Ingénierie et conception]]),\"\")","v":0},{"$f":"IF(Table3[[#This Row],[Parcours choisi]]<>\"\",(VLOOKUP(Table35[[#Headers],[Innovation mécanique]],'Def. Prix & Parcours'!$B$6:$E$28,IF($F9=\"G\",2,IF($F9=\"T\",3,IF($F9=\"N\",4,0))),FALSE)*Table3[[#This Row],[Points Innovation mécanique]]),\"\")","v":0},{"$f":"IF(Table3[[#This Row],[Parcours choisi]]<>\"\",(VLOOKUP(Table35[[#Headers],[Développement Durable]],'Def. Prix & Parcours'!$B$6:$E$28,IF($F9=\"G\",2,IF($F9=\"T\",3,IF($F9=\"N\",4,0))),FALSE)*Table3[[#This Row],[Points Développement Durable]]),\"\")","v":0},{"$f":"IF(Table3[[#This Row],[Parcours choisi]]<>\"\",(VLOOKUP(Table35[[#Headers],[Ingénierie de fabrication]],'Def. Prix & Parcours'!$B$6:$E$28,IF($F9=\"G\",2,IF($F9=\"T\",3,IF($F9=\"N\",4,0))),FALSE)*Table3[[#This Row],[Points Ingénierie de fabrication]]),\"\")","v":0},{"$f":"IF(Table3[[#This Row],[Parcours choisi]]<>\"\",(VLOOKUP(Table35[[#Headers],[Gestion de projet et collaborations]],'Def. Prix & Parcours'!$B$6:$E$28,IF($F9=\"G\",2,IF($F9=\"T\",3,IF($F9=\"N\",4,0))),FALSE)*Table3[[#This Row],[Points Gestion de projet et \ncollaborations]]),\"\")","v":0},{"$f":"IF(Table3[[#This Row],[Parcours choisi]]<>\"\",(VLOOKUP(Table35[[#Headers],[Présentation Orale]],'Def. Prix & Parcours'!$B$6:$E$28,IF($F9=\"G\",2,IF($F9=\"T\",3,IF($F9=\"N\",4,0))),FALSE)*Table3[[#This Row],[Points Présentation Orale]]),\"\")","v":0},{"$f":"IF(Table3[[#This Row],[Parcours choisi]]<>\"\",(VLOOKUP(Table35[[#Headers],[Identité Equipe]],'Def. Prix & Parcours'!$B$6:$E$28,IF($F9=\"G\",2,IF($F9=\"T\",3,IF($F9=\"N\",4,0))),FALSE)*Table3[[#This Row],[Points Identité Equipe]]),\"\")","v":0},{"$f":"IF(Table3[[#This Row],[Parcours choisi]]<>\"\",(VLOOKUP(Table35[[#Headers],[Design du Stand]],'Def. Prix & Parcours'!$B$6:$E$28,IF($F9=\"G\",2,IF($F9=\"T\",3,IF($F9=\"N\",4,0))),FALSE)*Table3[[#This Row],[Points Design du Stand]]),\"\")","v":0},{"$f":"IF(Table3[[#This Row],[Parcours choisi]]<>\"\",(VLOOKUP(Table35[[#Headers],[Portfolio]],'Def. Prix & Parcours'!$B$6:$E$28,IF($F9=\"G\",2,IF($F9=\"T\",3,IF($F9=\"N\",4,0))),FALSE)*Table3[[#This Row],[Points Portfolio]]),\"\")","v":0},{"$f":"IF(Table3[[#This Row],[Parcours choisi]]<>\"\",(VLOOKUP(Table35[[#Headers],[Marketing et Sponsoring]],'Def. Prix & Parcours'!$B$6:$E$28,IF($F9=\"G\",2,IF($F9=\"T\",3,IF($F9=\"N\",4,0))),FALSE)*Table3[[#This Row],[Points Marketing et Sponsoring]]),\"\")","v":0},{"$f":"IF(Table3[[#This Row],[Parcours choisi]]<>\"\",(VLOOKUP(Table35[[#Headers],[Budget]],'Def. Prix & Parcours'!$B$6:$E$28,IF($F9=\"G\",2,IF($F9=\"T\",3,IF($F9=\"N\",4,0))),FALSE)*Table3[[#This Row],[Points Budget]]),\"\")","v":0},{"$f":"IF(Table3[[#This Row],[Parcours choisi]]<>\"\",(VLOOKUP(Table35[[#Headers],[Design du Véhicule]],'Def. Prix & Parcours'!$B$6:$E$28,IF($F9=\"G\",2,IF($F9=\"T\",3,IF($F9=\"N\",4,0))),FALSE)*Table3[[#This Row],[Points Design du Véhicule]]),\"\")","v":0},{"$f":"IF(Table3[[#This Row],[Parcours choisi]]<>\"\",(VLOOKUP(Table35[[#Headers],[Innovation numérique]],'Def. Prix & Parcours'!$B$6:$E$28,IF($F9=\"G\",2,IF($F9=\"T\",3,IF($F9=\"N\",4,0))),FALSE)*Table3[[#This Row],[Points Innovation numérique]]),\"\")","v":0},{"$f":"IF(Table3[[#This Row],[Parcours choisi]]<>\"\",(VLOOKUP(Table35[[#Headers],[Programmation]],'Def. Prix & Parcours'!$B$6:$E$28,IF($F9=\"G\",2,IF($F9=\"T\",3,IF($F9=\"N\",4,0))),FALSE)*Table3[[#This Row],[Points Programmation]]),\"\")","v":0},{"$f":"IF(Table3[[#This Row],[Parcours choisi]]<>\"\",(VLOOKUP(Table35[[#Headers],[Respect du règlement]],'Def. Prix & Parcours'!$B$6:$E$28,IF($F9=\"G\",2,IF($F9=\"T\",3,IF($F9=\"N\",4,0))),FALSE)*Table3[[#This Row],[Points Respect du règlement]]),\"\")","v":0},{"$f":"IF(Table3[[#This Row],[Parcours choisi]]<>\"\",(VLOOKUP(Table35[[#Headers],[Communication : vidéo]],'Def. Prix & Parcours'!$B$6:$E$28,IF($F9=\"G\",2,IF($F9=\"T\",3,IF($F9=\"N\",4,0))),FALSE)*Table3[[#This Row],[Points Communication : vidéo]]),\"\")","v":0},{"$f":"IF(Table3[[#This Row],[Parcours choisi]]<>\"\",(VLOOKUP(Table35[[#Headers],[Epreuve CAO]],'Def. Prix & Parcours'!$B$6:$E$28,IF($F9=\"G\",2,IF($F9=\"T\",3,IF($F9=\"N\",4,0))),FALSE)*Table3[[#This Row],[Points Epreuve CAO]]),\"\")","v":80},{"$f":"IF(Table3[[#This Row],[Parcours choisi]]<>\"\",(VLOOKUP(Table35[[#Headers],[Temps Réaction]],'Def. Prix & Parcours'!$B$6:$E$28,IF($F9=\"G\",2,IF($F9=\"T\",3,IF($F9=\"N\",4,0))),FALSE)*Table3[[#This Row],[Points Temps Réaction]]),\"\")","v":6},{"$f":"IF(Table3[[#This Row],[Parcours choisi]]<>\"\",(VLOOKUP(Table35[[#Headers],[Temps Course]],'Def. Prix & Parcours'!$B$6:$E$28,IF($F9=\"G\",2,IF($F9=\"T\",3,IF($F9=\"N\",4,0))),FALSE)*Table3[[#This Row],[Points Temps Course]]),\"\")","v":80},{"$f":"IF(Table3[[#This Row],[Parcours choisi]]<>\"\",(VLOOKUP(Table35[[#Headers],[Epreuve arrêt au stand]],'Def. Prix & Parcours'!$B$6:$E$28,IF($F9=\"G\",2,IF($F9=\"T\",3,IF($F9=\"N\",4,0))),FALSE)*Table3[[#This Row],[Points Epreuve arrêt au stand]]),\"\")","v":80},null,{"$f":"IF(Table3[[#This Row],[Parcours choisi]]<>\"\",SUM(Table35[[#This Row],[Ingénierie et conception]:[1]]),\"\")","v":246},{"$f":"IF(Table3[[#This Row],[Parcours choisi]]<>\"\",_xlfn.RANK.EQ(Table35[[#This Row],[Total Parcours]],Table35[Total Parcours],0),\"\")","v":26}]
[4,{"$f":"IF(Table3[[#This Row],[Nom équipe]]<>\"\",Table3[[#This Row],[Nom équipe]],\"\")","v":"Back to the past"},{"$f":"IF(Table3[[#This Row],[Etablissement]]<>\"\",Table3[[#This Row],[Etablissement]],\"\")","v":"Loritz Nancy"},{"$f":"IF(Table3[[#This Row],[Type établissement]]<>\"\",Table3[[#This Row],[Type établissement]],\"\")","v":"L"},{"$f":"IF(Table3[[#This Row],[Académie]]<>\"\",Table3[[#This Row],[Académie]],\"\")","v":"Nancy-Metz"},{"$f":"IF(Table3[[#This Row],[Parcours choisi]]<>\"\",Table3[[#This Row],[Parcours choisi]],\"\")","v":"T"},{"$f":"IF(Table3[[#This Row],[Parcours choisi]]<>\"\",(VLOOKUP(Table35[[#Headers],[Ingénierie et conception]],'Def. Prix & Parcours'!$B$6:$E$28,IF($F10=\"G\",2,IF($F10=\"T\",3,IF($F10=\"N\",4,0))),FALSE)*Table3[[#This Row],[Points Ingénierie et conception]]),\"\")","v":102},{"$f":"IF(Table3[[#This Row],[Parcours choisi]]<>\"\",(VLOOKUP(Table35[[#Headers],[Innovation mécanique]],'Def. Prix & Parcours'!$B$6:$E$28,IF($F10=\"G\",2,IF($F10=\"T\",3,IF($F10=\"N\",4,0))),FALSE)*Table3[[#This Row],[Points Innovation mécanique]]),\"\")","v":168},{"$f":"IF(Table3[[#This Row],[Parcours choisi]]<>\"\",(VLOOKUP(Table35[[#Headers],[Développement Durable]],'Def. Prix & Parcours'!$B$6:$E$28,IF($F10=\"G\",2,IF($F10=\"T\",3,IF($F10=\"N\",4,0))),FALSE)*Table3[[#This Row],[Points Développement Durable]]),\"\")","v":90},{"$f":"IF(Table3[[#This Row],[Parcours choisi]]<>\"\",(VLOOKUP(Table35[[#Headers],[Ingénierie de fabrication]],'Def. Prix & Parcours'!$B$6:$E$28,IF($F10=\"G\",2,IF($F10=\"T\",3,IF($F10=\"N\",4,0))),FALSE)*Table3[[#This Row],[Points Ingénierie de fabrication]]),\"\")","v":144},{"$f":"IF(Table3[[#This Row],[Parcours choisi]]<>\"\",(VLOOKUP(Table35[[#Headers],[Gestion de projet et collaborations]],'Def. Prix & Parcours'!$B$6:$E$28,IF($F10=\"G\",2,IF($F10=\"T\",3,IF($F10=\"N\",4,0))),FALSE)*Table3[[#This Row],[Points Gestion de projet et \ncollaborations]]),\"\")","v":70},{"$f":"IF(Table3[[#This Row],[Parcours choisi]]<>\"\",(VLOOKUP(Table35[[#Headers],[Présentation Orale]],'Def. Prix & Parcours'!$B$6:$E$28,IF($F10=\"G\",2,IF($F10=\"T\",3,IF($F10=\"N\",4,0))),FALSE)*Table3[[#This Row],[Points Présentation Orale]]),\"\")","v":70},{"$f":"IF(Table3[[#This Row],[Parcours choisi]]<>\"\",(VLOOKUP(Table35[[#Headers],[Identité Equipe]],'Def. Prix & Parcours'!$B$6:$E$28,IF($F10=\"G\",2,IF($F10=\"T\",3,IF($F10=\"N\",4,0))),FALSE)*Table3[[#This Row],[Points Identité Equipe]]),\"\")","v":80},{"$f":"IF(Table3[[#This Row],[Parcours choisi]]<>\"\",(VLOOKUP(Table35[[#Headers],[Design du Stand]],'Def. Prix & Parcours'!$B$6:$E$28,IF($F10=\"G\",2,IF($F10=\"T\",3,IF($F10=\"N\",4,0))),FALSE)*Table3[[#This Row],[Points Design du Stand]]),\"\")","v":32},{"$f":"IF(Table3[[#This Row],[Parcours choisi]]<>\"\",(VLOOKUP(Table35[[#Headers],[Portfolio]],'Def. Prix & Parcours'!$B$6:$E$28,IF($F10=\"G\",2,IF($F10=\"T\",3,IF($F10=\"N\",4,0))),FALSE)*Table3[[#This Row],[Points Portfolio]]),\"\")","v":60},{"$f":"IF(Table3[[#This Row],[Parcours choisi]]<>\"\",(VLOOKUP(Table35[[#Headers],[Marketing et Sponsoring]],'Def. Prix & Parcours'!$B$6:$E$28,IF($F10=\"G\",2,IF($F10=\"T\",3,IF($F10=\"N\",4,0))),FALSE)*Table3[[#This Row],[Points Marketing et Sponsoring]]),\"\")","v":28},{"$f":"IF(Table3[[#This Row],[Parcours choisi]]<>\"\",(VLOOKUP(Table35[[#Headers],[Budget]],'Def. Prix & Parcours'!$B$6:$E$28,IF($F10=\"G\",2,IF($F10=\"T\",3,IF($F10=\"N\",4,0))),FALSE)*Table3[[#This Row],[Points Budget]]),\"\")","v":28},{"$f":"IF(Table3[[#This Row],[Parcours choisi]]<>\"\",(VLOOKUP(Table35[[#Headers],[Design du Véhicule]],'Def. Prix & Parcours'!$B$6:$E$28,IF($F10=\"G\",2,IF($F10=\"T\",3,IF($F10=\"N\",4,0))),FALSE)*Table3[[#This Row],[Points Design du Véhicule]]),\"\")","v":90},{"$f":"IF(Table3[[#This Row],[Parcours choisi]]<>\"\",(VLOOKUP(Table35[[#Headers],[Innovation numérique]],'Def. Prix & Parcours'!$B$6:$E$28,IF($F10=\"G\",2,IF($F10=\"T\",3,IF($F10=\"N\",4,0))),FALSE)*Table3[[#This Row],[Points Innovation numérique]]),\"\")","v":12},{"$f":"IF(Table3[[#This Row],[Parcours choisi]]<>\"\",(VLOOKUP(Table35[[#Headers],[Programmation]],'Def. Prix & Parcours'!$B$6:$E$28,IF($F10=\"G\",2,IF($F10=\"T\",3,IF($F10=\"N\",4,0))),FALSE)*Table3[[#This Row],[Points Programmation]]),\"\")","v":8},{"$f":"IF(Table3[[#This Row],[Parcours choisi]]<>\"\",(VLOOKUP(Table35[[#Headers],[Respect du règlement]],'Def. Prix & Parcours'!$B$6:$E$28,IF($F10=\"G\",2,IF($F10=\"T\",3,IF($F10=\"N\",4,0))),FALSE)*Table3[[#This Row],[Points Respect du règlement]]),\"\")","v":90},{"$f":"IF(Table3[[#This Row],[Parcours choisi]]<>\"\",(VLOOKUP(Table35[[#Headers],[Communication : vidéo]],'Def. Prix & Parcours'!$B$6:$E$28,IF($F10=\"G\",2,IF($F10=\"T\",3,IF($F10=\"N\",4,0))),FALSE)*Table3[[#This Row],[Points Communication : vidéo]]),\"\")","v":51},{"$f":"IF(Table3[[#This Row],[Parcours choisi]]<>\"\",(VLOOKUP(Table35[[#Headers],[Epreuve CAO]],'Def. Prix & Parcours'!$B$6:$E$28,IF($F10=\"G\",2,IF($F10=\"T\",3,IF($F10=\"N\",4,0))),FALSE)*Table3[[#This Row],[Points Epreuve CAO]]),\"\")","v":80},{"$f":"IF(Table3[[#This Row],[Parcours choisi]]<>\"\",(VLOOKUP(Table35[[#Headers],[Temps Réaction]],'Def. Prix & Parcours'!$B$6:$E$28,IF($F10=\"G\",2,IF($F10=\"T\",3,IF($F10=\"N\",4,0))),FALSE)*Table3[[#This Row],[Points Temps Réaction]]),\"\")","v":6},{"$f":"IF(Table3[[#This Row],[Parcours choisi]]<>\"\",(VLOOKUP(Table35[[#Headers],[Temps Course]],'Def. Prix & Parcours'!$B$6:$E$28,IF($F10=\"G\",2,IF($F10=\"T\",3,IF($F10=\"N\",4,0))),FALSE)*Table3[[#This Row],[Points Temps Course]]),\"\")","v":100},{"$f":"IF(Table3[[#This Row],[Parcours choisi]]<>\"\",(VLOOKUP(Table35[[#Headers],[Epreuve arrêt au stand]],'Def. Prix & Parcours'!$B$6:$E$28,IF($F10=\"G\",2,IF($F10=\"T\",3,IF($F10=\"N\",4,0))),FALSE)*Table3[[#This Row],[Points Epreuve arrêt au stand]]),\"\")","v":80},null,{"$f":"IF(Table3[[#This Row],[Parcours choisi]]<>\"\",SUM(Table35[[#This Row],[Ingénierie et conception]:[1]]),\"\")","v":1389},{"$f":"IF(Table3[[#This Row],[Parcours choisi]]<>\"\",_xlfn.RANK.EQ(Table35[[#This Row],[Total Parcours]],Table35[Total Parcours],0),\"\")","v":13}]
[5,{"$f":"IF(Table3[[#This Row],[Nom équipe]]<>\"\",Table3[[#This Row],[Nom équipe]],\"\")","v":"Ionix"},{"$f":"IF(Table3[[#This Row],[Etablissement]]<>\"\",Table3[[#This Row],[Etablissement]],\"\")","v":"Loritz Nancy"},{"$f":"IF(Table3[[#This Row],[Type établissement]]<>\"\",Table3[[#This Row],[Type établissement]],\"\")","v":"L"},{"$f":"IF(Table3[[#This Row],[Académie]]<>\"\",Table3[[#This Row],[Académie]],\"\")","v":"Nancy-Metz"},{"$f":"IF(Table3[[#This Row],[Parcours choisi]]<>\"\",Table3[[#This Row],[Parcours choisi]],\"\")","v":"T"},{"$f":"IF(Table3[[#This Row],[Parcours choisi]]<>\"\",(VLOOKUP(Table35[[#Headers],[Ingénierie et conception]],'Def. Prix & Parcours'!$B$6:$E$28,IF($F11=\"G\",2,IF($F11=\"T\",3,IF($F11=\"N\",4,0))),FALSE)*Table3[[#This Row],[Points Ingénierie et conception]]),\"\")","v":84},{"$f":"IF(Table3[[#This Row],[Parcours choisi]]<>\"\",(VLOOKUP(Table35[[#Headers],[Innovation mécanique]],'Def. Prix & Parcours'!$B$6:$E$28,IF($F11=\"G\",2,IF($F11=\"T\",3,IF($F11=\"N\",4,0))),FALSE)*Table3[[#This Row],[Points Innovation mécanique]]),\"\")","v":156},{"$f":"IF(Table3[[#This Row],[Parcours choisi]]<>\"\",(VLOOKUP(Table35[[#Headers],[Développement Durable]],'Def. Prix & Parcours'!$B$6:$E$28,IF($F11=\"G\",2,IF($F11=\"T\",3,IF($F11=\"N\",4,0))),FALSE)*Table3[[#This Row],[Points Développement Durable]]),\"\")","v":108},{"$f":"IF(Table3[[#This Row],[Parcours choisi]]<>\"\",(VLOOKUP(Table35[[#Headers],[Ingénierie de fabrication]],'Def. Prix & Parcours'!$B$6:$E$28,IF($F11=\"G\",2,IF($F11=\"T\",3,IF($F11=\"N\",4,0))),FALSE)*Table3[[#This Row],[Points Ingénierie de fabrication]]),\"\")","v":128},{"$f":"IF(Table3[[#This Row],[Parcours choisi]]<>\"\",(VLOOKUP(Table35[[#Headers],[Gestion de projet et collaborations]],'Def. Prix & Parcours'!$B$6:$E$28,IF($F11=\"G\",2,IF($F11=\"T\",3,IF($F11=\"N\",4,0))),FALSE)*Table3[[#This Row],[Points Gestion de projet et \ncollaborations]]),\"\")","v":80},{"$f":"IF(Table3[[#This Row],[Parcours choisi]]<>\"\",(VLOOKUP(Table35[[#Headers],[Présentation Orale]],'Def. Prix & Parcours'!$B$6:$E$28,IF($F11=\"G\",2,IF($F11=\"T\",3,IF($F11=\"N\",4,0))),FALSE)*Table3[[#This Row],[Points Présentation Orale]]),\"\")","v":65},{"$f":"IF(Table3[[#This Row],[Parcours choisi]]<>\"\",(VLOOKUP(Table35[[#Headers],[Identité Equipe]],'Def. Prix & Parcours'!$B$6:$E$28,IF($F11=\"G\",2,IF($F11=\"T\",3,IF($F11=\"N\",4,0))),FALSE)*Table3[[#This Row],[Points Identité Equipe]]),\"\")","v":55},{"$f":"IF(Table3[[#This Row],[Parcours choisi]]<>\"\",(VLOOKUP(Table35[[#Headers],[Design du Stand]],'Def. Prix & Parcours'!$B$6:$E$28,IF($F11=\"G\",2,IF($F11=\"T\",3,IF($F11=\"N\",4,0))),FALSE)*Table3[[#This Row],[Points Design du Stand]]),\"\")","v":24},{"$f":"IF(Table3[[#This Row],[Parcours choisi]]<>\"\",(VLOOKUP(Table35[[#Headers],[Portfolio]],'Def. Prix & Parcours'!$B$6:$E$28,IF($F11=\"G\",2,IF($F11=\"T\",3,IF($F11=\"N\",4,0))),FALSE)*Table3[[#This Row],[Points Portfolio]]),\"\")","v":40},{"$f":"IF(Table3[[#This Row],[Parcours choisi]]<>\"\",(VLOOKUP(Table35[[#Headers],[Marketing et Sponsoring]],'Def. Prix & Parcours'!$B$6:$E$28,IF($F11=\"G\",2,IF($F11=\"T\",3,IF($F11=\"N\",4,0))),FALSE)*Table3[[#This Row],[Points Marketing et Sponsoring]]),\"\")","v":28},{"$f":"IF(Table3[[#This Row],[Parcours choisi]]<>\"\",(VLOOKUP(Table35[[#Headers],[Budget]],'Def. Prix & Parcours'!$B$6:$E$28,IF($F11=\"G\",2,IF($F11=\"T\",3,IF($F11=\"N\",4,0))),FALSE)*Table3[[#This Row],[Points Budget]]),\"\")","v":22},{"$f":"IF(Table3[[#This Row],[Parcours choisi]]<>\"\",(VLOOKUP(Table35[[#Headers],[Design du Véhicule]],'Def. Prix & Parcours'!$B$6:$E$28,IF($F11=\"G\",2,IF($F11=\"T\",3,IF($F11=\"N\",4,0))),FALSE)*Table3[[#This Row],[Points Design du Véhicule]]),\"\")","v":84},{"$f":"IF(Table3[[#This Row],[Parcours choisi]]<>\"\",(VLOOKUP(Table35[[#Headers],[Innovation numérique]],'Def. Prix & Parcours'!$B$6:$E$28,IF($F11=\"G\",2,IF($F11=\"T\",3,IF($F11=\"N\",4,0))),FALSE)*Table3[[#This Row],[Points Innovation numérique]]),\"\")","v":32},{"$f":"IF(Table3[[#This Row],[Parcours choisi]]<>\"\",(VLOOKUP(Table35[[#Headers],[Programmation]],'Def. Prix & Parcours'!$B$6:$E$28,IF($F11=\"G\",2,IF($F11=\"T\",3,IF($F11=\"N\",4,0))),FALSE)*Table3[[#This Row],[Points Programmation]]),\"\")","v":0},{"$f":"IF(Table3[[#This Row],[Parcours choisi]]<>\"\",(VLOOKUP(Table35[[#Headers],[Respect du règlement]],'Def. Prix & Parcours'!$B$6:$E$28,IF($F11=\"G\",2,IF($F11=\"T\",3,IF($F11=\"N\",4,0))),FALSE)*Table3[[#This Row],[Points Respect du règlement]]),\"\")","v":100},{"$f":"IF(Table3[[#This Row],[Parcours choisi]]<>\"\",(VLOOKUP(Table35[[#Headers],[Communication : vidéo]],'Def. Prix & Parcours'!$B$6:$E$28,IF($F11=\"G\",2,IF($F11=\"T\",3,IF($F11=\"N\",4,0))),FALSE)*Table3[[#This Row],[Points Communication : vidéo]]),\"\")","v":48},{"$f":"IF(Table3[[#This Row],[Parcours choisi]]<>\"\",(VLOOKUP(Table35[[#Headers],[Epreuve CAO]],'Def. Prix & Parcours'!$B$6:$E$28,IF($F11=\"G\",2,IF($F11=\"T\",3,IF($F11=\"N\",4,0))),FALSE)*Table3[[#This Row],[Points Epreuve CAO]]),\"\")","v":80},{"$f":"IF(Table3[[#This Row],[Parcours choisi]]<>\"\",(VLOOKUP(Table35[[#Headers],[Temps Réaction]],'Def. Prix & Parcours'!$B$6:$E$28,IF($F11=\"G\",2,IF($F11=\"T\",3,IF($F11=\"N\",4,0))),FALSE)*Table3[[#This Row],[Points Temps Réaction]]),\"\")","v":18},{"$f":"IF(Table3[[#This Row],[Parcours choisi]]<>\"\",(VLOOKUP(Table35[[#Headers],[Temps Course]],'Def. Prix & Parcours'!$B$6:$E$28,IF($F11=\"G\",2,IF($F11=\"T\",3,IF($F11=\"N\",4,0))),FALSE)*Table3[[#This Row],[Points Temps Course]]),\"\")","v":90},{"$f":"IF(Table3[[#This Row],[Parcours choisi]]<>\"\",(VLOOKUP(Table35[[#Headers],[Epreuve arrêt au stand]],'Def. Prix & Parcours'!$B$6:$E$28,IF($F11=\"G\",2,IF($F11=\"T\",3,IF($F11=\"N\",4,0))),FALSE)*Table3[[#This Row],[Points Epreuve arrêt au stand]]),\"\")","v":80},null,{"$f":"IF(Table3[[#This Row],[Parcours choisi]]<>\"\",SUM(Table35[[#This Row],[Ingénierie et conception]:[1]]),\"\")","v":1322},{"$f":"IF(Table3[[#This Row],[Parcours choisi]]<>\"\",_xlfn.RANK.EQ(Table35[[#This Row],[Total Parcours]],Table35[Total Parcours],0),\"\")","v":17}]
[6,{"$f":"IF(Table3[[#This Row],[Nom équipe]]<>\"\",Table3[[#This Row],[Nom équipe]],\"\")","v":"Pavisado"},{"$f":"IF(Table3[[#This Row],[Etablissement]]<>\"\",Table3[[#This Row],[Etablissement]],\"\")","v":"Loritz Nancy"},{"$f":"IF(Table3[[#This Row],[Type établissement]]<>\"\",Table3[[#This Row],[Type établissement]],\"\")","v":"L"},{"$f":"IF(Table3[[#This Row],[Académie]]<>\"\",Table3[[#This Row],[Académie]],\"\")","v":"Nancy-Metz"},{"$f":"IF(Table3[[#This Row],[Parcours choisi]]<>\"\",Table3[[#This Row],[Parcours choisi]],\"\")","v":"T"},{"$f":"IF(Table3[[#This Row],[Parcours choisi]]<>\"\",(VLOOKUP(Table35[[#Headers],[Ingénierie et conception]],'Def. Prix & Parcours'!$B$6:$E$28,IF($F12=\"G\",2,IF($F12=\"T\",3,IF($F12=\"N\",4,0))),FALSE)*Table3[[#This Row],[Points Ingénierie et conception]]),\"\")","v":0},{"$f":"IF(Table3[[#This Row],[Parcours choisi]]<>\"\",(VLOOKUP(Table35[[#Headers],[Innovation mécanique]],'Def. Prix & Parcours'!$B$6:$E$28,IF($F12=\"G\",2,IF($F12=\"T\",3,IF($F12=\"N\",4,0))),FALSE)*Table3[[#This Row],[Points Innovation mécanique]]),\"\")","v":0},{"$f":"IF(Table3[[#This Row],[Parcours choisi]]<>\"\",(VLOOKUP(Table35[[#Headers],[Développement Durable]],'Def. Prix & Parcours'!$B$6:$E$28,IF($F12=\"G\",2,IF($F12=\"T\",3,IF($F12=\"N\",4,0))),FALSE)*Table3[[#This Row],[Points Développement Durable]]),\"\")","v":0},{"$f":"IF(Table3[[#This Row],[Parcours choisi]]<>\"\",(VLOOKUP(Table35[[#Headers],[Ingénierie de fabrication]],'Def. Prix & Parcours'!$B$6:$E$28,IF($F12=\"G\",2,IF($F12=\"T\",3,IF($F12=\"N\",4,0))),FALSE)*Table3[[#This Row],[Points Ingénierie de fabrication]]),\"\")","v":0},{"$f":"IF(Table3[[#This Row],[Parcours choisi]]<>\"\",(VLOOKUP(Table35[[#Headers],[Gestion de projet et collaborations]],'Def. Prix & Parcours'!$B$6:$E$28,IF($F12=\"G\",2,IF($F12=\"T\",3,IF($F12=\"N\",4,0))),FALSE)*Table3[[#This Row],[Points Gestion de projet et \ncollaborations]]),\"\")","v":0},{"$f":"IF(Table3[[#This Row],[Parcours choisi]]<>\"\",(VLOOKUP(Table35[[#Headers],[Présentation Orale]],'Def. Prix & Parcours'!$B$6:$E$28,IF($F12=\"G\",2,IF($F12=\"T\",3,IF($F12=\"N\",4,0))),FALSE)*Table3[[#This Row],[Points Présentation Orale]]),\"\")","v":0},{"$f":"IF(Table3[[#This Row],[Parcours choisi]]<>\"\",(VLOOKUP(Table35[[#Headers],[Identité Equipe]],'Def. Prix & Parcours'!$B$6:$E$28,IF($F12=\"G\",2,IF($F12=\"T\",3,IF($F12=\"N\",4,0))),FALSE)*Table3[[#This Row],[Points Identité Equipe]]),\"\")","v":0},{"$f":"IF(Table3[[#This Row],[Parcours choisi]]<>\"\",(VLOOKUP(Table35[[#Headers],[Design du Stand]],'Def. Prix & Parcours'!$B$6:$E$28,IF($F12=\"G\",2,IF($F12=\"T\",3,IF($F12=\"N\",4,0))),FALSE)*Table3[[#This Row],[Points Design du Stand]]),\"\")","v":0},{"$f":"IF(Table3[[#This Row],[Parcours choisi]]<>\"\",(VLOOKUP(Table35[[#Headers],[Portfolio]],'Def. Prix & Parcours'!$B$6:$E$28,IF($F12=\"G\",2,IF($F12=\"T\",3,IF($F12=\"N\",4,0))),FALSE)*Table3[[#This Row],[Points Portfolio]]),\"\")","v":0},{"$f":"IF(Table3[[#This Row],[Parcours choisi]]<>\"\",(VLOOKUP(Table35[[#Headers],[Marketing et Sponsoring]],'Def. Prix & Parcours'!$B$6:$E$28,IF($F12=\"G\",2,IF($F12=\"T\",3,IF($F12=\"N\",4,0))),FALSE)*Table3[[#This Row],[Points Marketing et Sponsoring]]),\"\")","v":0},{"$f":"IF(Table3[[#This Row],[Parcours choisi]]<>\"\",(VLOOKUP(Table35[[#Headers],[Budget]],'Def. Prix & Parcours'!$B$6:$E$28,IF($F12=\"G\",2,IF($F12=\"T\",3,IF($F12=\"N\",4,0))),FALSE)*Table3[[#This Row],[Points Budget]]),\"\")","v":0},{"$f":"IF(Table3[[#This Row],[Parcours choisi]]<>\"\",(VLOOKUP(Table35[[#Headers],[Design du Véhicule]],'Def. Prix & Parcours'!$B$6:$E$28,IF($F12=\"G\",2,IF($F12=\"T\",3,IF($F12=\"N\",4,0))),FALSE)*Table3[[#This Row],[Points Design du Véhicule]]),\"\")","v":0},{"$f":"IF(Table3[[#This Row],[Parcours choisi]]<>\"\",(VLOOKUP(Table35[[#Headers],[Innovation numérique]],'Def. Prix & Parcours'!$B$6:$E$28,IF($F12=\"G\",2,IF($F12=\"T\",3,IF($F12=\"N\",4,0))),FALSE)*Table3[[#This Row],[Points Innovation numérique]]),\"\")","v":0},{"$f":"IF(Table3[[#This Row],[Parcours choisi]]<>\"\",(VLOOKUP(Table35[[#Headers],[Programmation]],'Def. Prix & Parcours'!$B$6:$E$28,IF($F12=\"G\",2,IF($F12=\"T\",3,IF($F12=\"N\",4,0))),FALSE)*Table3[[#This Row],[Points Programmation]]),\"\")","v":0},{"$f":"IF(Table3[[#This Row],[Parcours choisi]]<>\"\",(VLOOKUP(Table35[[#Headers],[Respect du règlement]],'Def. Prix & Parcours'!$B$6:$E$28,IF($F12=\"G\",2,IF($F12=\"T\",3,IF($F12=\"N\",4,0))),FALSE)*Table3[[#This Row],[Points Respect du règlement]]),\"\")","v":0},{"$f":"IF(Table3[[#This Row],[Parcours choisi]]<>\"\",(VLOOKUP(Table35[[#Headers],[Communication : vidéo]],'Def. Prix & Parcours'!$B$6:$E$28,IF($F12=\"G\",2,IF($F12=\"T\",3,IF($F12=\"N\",4,0))),FALSE)*Table3[[#This Row],[Points Communication : vidéo]]),\"\")","v":0},{"$f":"IF(Table3[[#This Row],[Parcours choisi]]<>\"\",(VLOOKUP(Table35[[#Headers],[Epreuve CAO]],'Def. Prix & Parcours'!$B$6:$E$28,IF($F12=\"G\",2,IF($F12=\"T\",3,IF($F12=\"N\",4,0))),FALSE)*Table3[[#This Row],[Points Epreuve CAO]]),\"\")","v":80},{"$f":"IF(Table3[[#This Row],[Parcours choisi]]<>\"\",(VLOOKUP(Table35[[#Headers],[Temps Réaction]],'Def. Prix & Parcours'!$B$6:$E$28,IF($F12=\"G\",2,IF($F12=\"T\",3,IF($F12=\"N\",4,0))),FALSE)*Table3[[#This Row],[Points Temps Réaction]]),\"\")","v":6},{"$f":"IF(Table3[[#This Row],[Parcours choisi]]<>\"\",(VLOOKUP(Table35[[#Headers],[Temps Course]],'Def. Prix & Parcours'!$B$6:$E$28,IF($F12=\"G\",2,IF($F12=\"T\",3,IF($F12=\"N\",4,0))),FALSE)*Table3[[#This Row],[Points Temps Course]]),\"\")","v":80},{"$f":"IF(Table3[[#This Row],[Parcours choisi]]<>\"\",(VLOOKUP(Table35[[#Headers],[Epreuve arrêt au stand]],'Def. Prix & Parcours'!$B$6:$E$28,IF($F12=\"G\",2,IF($F12=\"T\",3,IF($F12=\"N\",4,0))),FALSE)*Table3[[#This Row],[Points Epreuve arrêt au stand]]),\"\")","v":80},null,{"$f":"IF(Table3[[#This Row],[Parcours choisi]]<>\"\",SUM(Table35[[#This Row],[Ingénierie et conception]:[1]]),\"\")","v":246},{"$f":"IF(Table3[[#This Row],[Parcours choisi]]<>\"\",_xlfn.RANK.EQ(Table35[[#This Row],[Total Parcours]],Table35[Total Parcours],0),\"\")","v":26}]
[7,{"$f":"IF(Table3[[#This Row],[Nom équipe]]<>\"\",Table3[[#This Row],[Nom équipe]],\"\")","v":"Les Toucaninos"},{"$f":"IF(Table3[[#This Row],[Etablissement]]<>\"\",Table3[[#This Row],[Etablissement]],\"\")","v":"Jean Lamour Nancy"},{"$f":"IF(Table3[[#This Row],[Type établissement]]<>\"\",Table3[[#This Row],[Type établissement]],\"\")","v":"C"},{"$f":"IF(Table3[[#This Row],[Académie]]<>\"\",Table3[[#This Row],[Académie]],\"\")","v":"Nancy-Metz"},{"$f":"IF(Table3[[#This Row],[Parcours choisi]]<>\"\",Table3[[#This Row],[Parcours choisi]],\"\")","v":"G"},{"$f":"IF(Table3[[#This Row],[Parcours choisi]]<>\"\",(VLOOKUP(Table35[[#Headers],[Ingénierie et conception]],'Def. Prix & Parcours'!$B$6:$E$28,IF($F13=\"G\",2,IF($F13=\"T\",3,IF($F13=\"N\",4,0))),FALSE)*Table3[[#This Row],[Points Ingénierie et conception]]),\"\")","v":108},{"$f":"IF(Table3[[#This Row],[Parcours choisi]]<>\"\",(VLOOKUP(Table35[[#Headers],[Innovation mécanique]],'Def. Prix & Parcours'!$B$6:$E$28,IF($F13=\"G\",2,IF($F13=\"T\",3,IF($F13=\"N\",4,0))),FALSE)*Table3[[#This Row],[Points Innovation mécanique]]),\"\")","v":102},{"$f":"IF(Table3[[#This Row],[Parcours choisi]]<>\"\",(VLOOKUP(Table35[[#Headers],[Développement Durable]],'Def. Prix & Parcours'!$B$6:$E$28,IF($F13=\"G\",2,IF($F13=\"T\",3,IF($F13=\"N\",4,0))),FALSE)*Table3[[#This Row],[Points Développement Durable]]),\"\")","v":76},{"$f":"IF(Table3[[#This Row],[Parcours choisi]]<>\"\",(VLOOKUP(Table35[[#Headers],[Ingénierie de fabrication]],'Def. Prix & Parcours'!$B$6:$E$28,IF($F13=\"G\",2,IF($F13=\"T\",3,IF($F13=\"N\",4,0))),FALSE)*Table3[[#This Row],[Points Ingénierie de fabrication]]),\"\")","v":54},{"$f":"IF(Table3[[#This Row],[Parcours choisi]]<>\"\",(VLOOKUP(Table35[[#Headers],[Gestion de projet et collaborations]],'Def. Prix & Parcours'!$B$6:$E$28,IF($F13=\"G\",2,IF($F13=\"T\",3,IF($F13=\"N\",4,0))),FALSE)*Table3[[#This Row],[Points Gestion de projet et \ncollaborations]]),\"\")","v":95},{"$f":"IF(Table3[[#This Row],[Parcours choisi]]<>\"\",(VLOOKUP(Table35[[#Headers],[Présentation Orale]],'Def. Prix & Parcours'!$B$6:$E$28,IF($F13=\"G\",2,IF($F13=\"T\",3,IF($F13=\"N\",4,0))),FALSE)*Table3[[#This Row],[Points Présentation Orale]]),\"\")","v":95},{"$f":"IF(Table3[[#This Row],[Parcours choisi]]<>\"\",(VLOOKUP(Table35[[#Headers],[Identité Equipe]],'Def. Prix & Parcours'!$B$6:$E$28,IF($F13=\"G\",2,IF($F13=\"T\",3,IF($F13=\"N\",4,0))),FALSE)*Table3[[#This Row],[Points Identité Equipe]]),\"\")","v":75},{"$f":"IF(Table3[[#This Row],[Parcours choisi]]<>\"\",(VLOOKUP(Table35[[#Headers],[Design du Stand]],'Def. Prix & Parcours'!$B$6:$E$28,IF($F13=\"G\",2,IF($F13=\"T\",3,IF($F13=\"N\",4,0))),FALSE)*Table3[[#This Row],[Points Design du Stand]]),\"\")","v":120},{"$f":"IF(Table3[[#This Row],[Parcours choisi]]<>\"\",(VLOOKUP(Table35[[#Headers],[Portfolio]],'Def. Prix & Parcours'!$B$6:$E$28,IF($F13=\"G\",2,IF($F13=\"T\",3,IF($F13=\"N\",4,0))),FALSE)*Table3[[#This Row],[Points Portfolio]]),\"\")","v":64},{"$f":"IF(Table3[[#This Row],[Parcours choisi]]<>\"\",(VLOOKUP(Table35[[#Headers],[Marketing et Sponsoring]],'Def. Prix & Parcours'!$B$6:$E$28,IF($F13=\"G\",2,IF($F13=\"T\",3,IF($F13=\"N\",4,0))),FALSE)*Table3[[#This Row],[Points Marketing et Sponsoring]]),\"\")","v":104},{"$f":"IF(Table3[[#This Row],[Parcours choisi]]<>\"\",(VLOOKUP(Table35[[#Headers],[Budget]],'Def. Prix & Parcours'!$B$6:$E$28,IF($F13=\"G\",2,IF($F13=\"T\",3,IF($F13=\"N\",4,0))),FALSE)*Table3[[#This Row],[Points Budget]]),\"\")","v":32},{"$f":"IF(Table3[[#This Row],[Parcours choisi]]<>\"\",(VLOOKUP(Table35[[#Headers],[Design du Véhicule]],'Def. Prix & Parcours'!$B$6:$E$28,IF($F13=\"G\",2,IF($F13=\"T\",3,IF($F13=\"N\",4,0))),FALSE)*Table3[[#This Row],[Points Design du Véhicule]]),\"\")","v":48},{"$f":"IF(Table3[[#This Row],[Parcours choisi]]<>\"\",(VLOOKUP(Table35[[#Headers],[Innovation numérique]],'Def. Prix & Parcours'!$B$6:$E$28,IF($F13=\"G\",2,IF($F13=\"T\",3,IF($F13=\"N\",4,0))),FALSE)*Table3[[#This Row],[Points Innovation numérique]]),\"\")","v":28},{"$f":"IF(Table3[[#This Row],[Parcours choisi]]<>\"\",(VLOOKUP(Table35[[#Headers],[Programmation]],'Def. Prix & Parcours'!$B$6:$E$28,IF($F13=\"G\",2,IF($F13=\"T\",3,IF($F13=\"N\",4,0))),FALSE)*Table3[[#This Row],[Points Programmation]]),\"\")","v":32},{"$f":"IF(Table3[[#This Row],[Parcours choisi]]<>\"\",(VLOOKUP(Table35[[#Headers],[Respect du règlement]],'Def. Prix & Parcours'!$B$6:$E$28,IF($F13=\"G\",2,IF($F13=\"T\",3,IF($F13=\"N\",4,0))),FALSE)*Table3[[#This Row],[Points Respect du règlement]]),\"\")","v":70},{"$f":"IF(Table3[[#This Row],[Parcours choisi]]<>\"\",(VLOOKUP(Table35[[#Headers],[Communication : vidéo]],'Def. Prix & Parcours'!$B$6:$E$28,IF($F13=\"G\",2,IF($F13=\"T\",3,IF($F13=\"N\",4,0))),FALSE)*Table3[[#This Row],[Points Communication : vidéo]]),\"\")","v":42},{"$f":"IF(Table3[[#This Row],[Parcours choisi]]<>\"\",(VLOOKUP(Table35[[#Headers],[Epreuve CAO]],'Def. Prix & Parcours'!$B$6:$E$28,IF($F13=\"G\",2,IF($F13=\"T\",3,IF($F13=\"N\",4,0))),FALSE)*Table3[[#This Row],[Points Epreuve CAO]]),\"\")","v":80},{"$f":"IF(Table3[[#This Row],[Parcours choisi]]<>\"\",(VLOOKUP(Table35[[#Headers],[Temps Réaction]],'Def. Prix & Parcours'!$B$6:$E$28,IF($F13=\"G\",2,IF($F13=\"T\",3,IF($F13=\"N\",4,0))),FALSE)*Table3[[#This Row],[Points Temps Réaction]]),\"\")","v":6},{"$f":"IF(Table3[[#This Row],[Parcours choisi]]<>\"\",(VLOOKUP(Table35[[#Headers],[Temps Course]],'Def. Prix & Parcours'!$B$6:$E$28,IF($F13=\"G\",2,IF($F13=\"T\",3,IF($F13=\"N\",4,0))),FALSE)*Table3[[#This Row],[Points Temps Course]]),\"\")","v":100},{"$f":"IF(Table3[[#This Row],[Parcours choisi]]<>\"\",(VLOOKUP(Table35[[#Headers],[Epreuve arrêt au stand]],'Def. Prix & Parcours'!$B$6:$E$28,IF($F13=\"G\",2,IF($F13=\"T\",3,IF($F13=\"N\",4,0))),FALSE)*Table3[[#This Row],[Points Epreuve arrêt au stand]]),\"\")","v":80},null,{"$f":"IF(Table3[[#This Row],[Parcours choisi]]<>\"\",SUM(Table35[[#This Row],[Ingénierie et conception]:[1]]),\"\")","v":1411},{"$f":"IF(Table3[[#This Row],[Parcours choisi]]<>\"\",_xlfn.RANK.EQ(Table35[[#This Row],[Total Parcours]],Table35[Total Parcours],0),\"\")","v":11}]
[8,{"$f":"IF(Table3[[#This Row],[Nom équipe]]<>\"\",Table3[[#This Row],[Nom équipe]],\"\")","v":"Les Daltram"},{"$f":"IF(Table3[[#This Row],[Etablissement]]<>\"\",Table3[[#This Row],[Etablissement]],\"\")","v":"Jean Lamour Nancy"},{"$f":"IF(Table3[[#This Row],[Type établissement]]<>\"\",Table3[[#This Row],[Type établissement]],\"\")","v":"C"},{"$f":"IF(Table3[[#This Row],[Académie]]<>\"\",Table3[[#This Row],[Académie]],\"\")","v":"Nancy-Metz"},{"$f":"IF(Table3[[#This Row],[Parcours choisi]]<>\"\",Table3[[#This Row],[Parcours choisi]],\"\")","v":"G"},{"$f":"IF(Table3[[#This Row],[Parcours choisi]]<>\"\",(VLOOKUP(Table35[[#Headers],[Ingénierie et conception]],'Def. Prix & Parcours'!$B$6:$E$28,IF($F14=\"G\",2,IF($F14=\"T\",3,IF($F14=\"N\",4,0))),FALSE)*Table3[[#This Row],[Points Ingénierie et conception]]),\"\")","v":90},{"$f":"IF(Table3[[#This Row],[Parcours choisi]]<>\"\",(VLOOKUP(Table35[[#Headers],[Innovation mécanique]],'Def. Prix & Parcours'!$B$6:$E$28,IF($F14=\"G\",2,IF($F14=\"T\",3,IF($F14=\"N\",4,0))),FALSE)*Table3[[#This Row],[Points Innovation mécanique]]),\"\")","v":78},{"$f":"IF(Table3[[#This Row],[Parcours choisi]]<>\"\",(VLOOKUP(Table35[[#Headers],[Développement Durable]],'Def. Prix & Parcours'!$B$6:$E$28,IF($F14=\"G\",2,IF($F14=\"T\",3,IF($F14=\"N\",4,0))),FALSE)*Table3[[#This Row],[Points Développement Durable]]),\"\")","v":48},{"$f":"IF(Table3[[#This Row],[Parcours choisi]]<>\"\",(VLOOKUP(Table35[[#Headers],[Ingénierie de fabrication]],'Def. Prix & Parcours'!$B$6:$E$28,IF($F14=\"G\",2,IF($F14=\"T\",3,IF($F14=\"N\",4,0))),FALSE)*Table3[[#This Row],[Points Ingénierie de fabrication]]),\"\")","v":42},{"$f":"IF(Table3[[#This Row],[Parcours choisi]]<>\"\",(VLOOKUP(Table35[[#Headers],[Gestion de projet et collaborations]],'Def. Prix & Parcours'!$B$6:$E$28,IF($F14=\"G\",2,IF($F14=\"T\",3,IF($F14=\"N\",4,0))),FALSE)*Table3[[#This Row],[Points Gestion de projet et \ncollaborations]]),\"\")","v":70},{"$f":"IF(Table3[[#This Row],[Parcours choisi]]<>\"\",(VLOOKUP(Table35[[#Headers],[Présentation Orale]],'Def. Prix & Parcours'!$B$6:$E$28,IF($F14=\"G\",2,IF($F14=\"T\",3,IF($F14=\"N\",4,0))),FALSE)*Table3[[#This Row],[Points Présentation Orale]]),\"\")","v":85},{"$f":"IF(Table3[[#This Row],[Parcours choisi]]<>\"\",(VLOOKUP(Table35[[#Headers],[Identité Equipe]],'Def. Prix & Parcours'!$B$6:$E$28,IF($F14=\"G\",2,IF($F14=\"T\",3,IF($F14=\"N\",4,0))),FALSE)*Table3[[#This Row],[Points Identité Equipe]]),\"\")","v":90},{"$f":"IF(Table3[[#This Row],[Parcours choisi]]<>\"\",(VLOOKUP(Table35[[#Headers],[Design du Stand]],'Def. Prix & Parcours'!$B$6:$E$28,IF($F14=\"G\",2,IF($F14=\"T\",3,IF($F14=\"N\",4,0))),FALSE)*Table3[[#This Row],[Points Design du Stand]]),\"\")","v":120},{"$f":"IF(Table3[[#This Row],[Parcours choisi]]<>\"\",(VLOOKUP(Table35[[#Headers],[Portfolio]],'Def. Prix & Parcours'!$B$6:$E$28,IF($F14=\"G\",2,IF($F14=\"T\",3,IF($F14=\"N\",4,0))),FALSE)*Table3[[#This Row],[Points Portfolio]]),\"\")","v":112},{"$f":"IF(Table3[[#This Row],[Parcours choisi]]<>\"\",(VLOOKUP(Table35[[#Headers],[Marketing et Sponsoring]],'Def. Prix & Parcours'!$B$6:$E$28,IF($F14=\"G\",2,IF($F14=\"T\",3,IF($F14=\"N\",4,0))),FALSE)*Table3[[#This Row],[Points Marketing et Sponsoring]]),\"\")","v":104},{"$f":"IF(Table3[[#This Row],[Parcours choisi]]<>\"\",(VLOOKUP(Table35[[#Headers],[Budget]],'Def. Prix & Parcours'!$B$6:$E$28,IF($F14=\"G\",2,IF($F14=\"T\",3,IF($F14=\"N\",4,0))),FALSE)*Table3[[#This Row],[Points Budget]]),\"\")","v":32},{"$f":"IF(Table3[[#This Row],[Parcours choisi]]<>\"\",(VLOOKUP(Table35[[#Headers],[Design du Véhicule]],'Def. Prix & Parcours'!$B$6:$E$28,IF($F14=\"G\",2,IF($F14=\"T\",3,IF($F14=\"N\",4,0))),FALSE)*Table3[[#This Row],[Points Design du Véhicule]]),\"\")","v":51},{"$f":"IF(Table3[[#This Row],[Parcours choisi]]<>\"\",(VLOOKUP(Table35[[#Headers],[Innovation numérique]],'Def. Prix & Parcours'!$B$6:$E$28,IF($F14=\"G\",2,IF($F14=\"T\",3,IF($F14=\"N\",4,0))),FALSE)*Table3[[#This Row],[Points Innovation numérique]]),\"\")","v":60},{"$f":"IF(Table3[[#This Row],[Parcours choisi]]<>\"\",(VLOOKUP(Table35[[#Headers],[Programmation]],'Def. Prix & Parcours'!$B$6:$E$28,IF($F14=\"G\",2,IF($F14=\"T\",3,IF($F14=\"N\",4,0))),FALSE)*Table3[[#This Row],[Points Programmation]]),\"\")","v":68},{"$f":"IF(Table3[[#This Row],[Parcours choisi]]<>\"\",(VLOOKUP(Table35[[#Headers],[Respect du règlement]],'Def. Prix & Parcours'!$B$6:$E$28,IF($F14=\"G\",2,IF($F14=\"T\",3,IF($F14=\"N\",4,0))),FALSE)*Table3[[#This Row],[Points Respect du règlement]]),\"\")","v":100},{"$f":"IF(Table3[[#This Row],[Parcours choisi]]<>\"\",(VLOOKUP(Table35[[#Headers],[Communication : vidéo]],'Def. Prix & Parcours'!$B$6:$E$28,IF($F14=\"G\",2,IF($F14=\"T\",3,IF($F14=\"N\",4,0))),FALSE)*Table3[[#This Row],[Points Communication : vidéo]]),\"\")","v":51},{"$f":"IF(Table3[[#This Row],[Parcours choisi]]<>\"\",(VLOOKUP(Table35[[#Headers],[Epreuve CAO]],'Def. Prix & Parcours'!$B$6:$E$28,IF($F14=\"G\",2,IF($F14=\"T\",3,IF($F14=\"N\",4,0))),FALSE)*Table3[[#This Row],[Points Epreuve CAO]]),\"\")","v":80},{"$f":"IF(Table3[[#This Row],[Parcours choisi]]<>\"\",(VLOOKUP(Table35[[#Headers],[Temps Réaction]],'Def. Prix & Parcours'!$B$6:$E$28,IF($F14=\"G\",2,IF($F14=\"T\",3,IF($F14=\"N\",4,0))),FALSE)*Table3[[#This Row],[Points Temps Réaction]]),\"\")","v":18},{"$f":"IF(Table3[[#This Row],[Parcours choisi]]<>\"\",(VLOOKUP(Table35[[#Headers],[Temps Course]],'Def. Prix & Parcours'!$B$6:$E$28,IF($F14=\"G\",2,IF($F14=\"T\",3,IF($F14=\"N\",4,0))),FALSE)*Table3[[#This Row],[Points Temps Course]]),\"\")","v":200},{"$f":"IF(Table3[[#This Row],[Parcours choisi]]<>\"\",(VLOOKUP(Table35[[#Headers],[Epreuve arrêt au stand]],'Def. Prix & Parcours'!$B$6:$E$28,IF($F14=\"G\",2,IF($F14=\"T\",3,IF($F14=\"N\",4,0))),FALSE)*Table3[[#This Row],[Points Epreuve arrêt au stand]]),\"\")","v":80},null,{"$f":"IF(Table3[[#This Row],[Parcours choisi]]<>\"\",SUM(Table35[[#This Row],[Ingénierie et conception]:[1]]),\"\")","v":1579},{"$f":"IF(Table3[[#This Row],[Parcours choisi]]<>\"\",_xlfn.RANK.EQ(Table35[[#This Row],[Total Parcours]],Table35[Total Parcours],0),\"\")","v":4}]
[9,{"$f":"IF(Table3[[#This Row],[Nom équipe]]<>\"\",Table3[[#This Row],[Nom équipe]],\"\")","v":"Droit devant"},{"$f":"IF(Table3[[#This Row],[Etablissement]]<>\"\",Table3[[#This Row],[Etablissement]],\"\")","v":"Boutet Lunéville"},{"$f":"IF(Table3[[#This Row],[Type établissement]]<>\"\",Table3[[#This Row],[Type établissement]],\"\")","v":"L"},{"$f":"IF(Table3[[#This Row],[Académie]]<>\"\",Table3[[#This Row],[Académie]],\"\")","v":"Nancy-Metz"},{"$f":"IF(Table3[[#This Row],[Parcours choisi]]<>\"\",Table3[[#This Row],[Parcours choisi]],\"\")","v":"T"},{"$f":"IF(Table3[[#This Row],[Parcours choisi]]<>\"\",(VLOOKUP(Table35[[#Headers],[Ingénierie et conception]],'Def. Prix & Parcours'!$B$6:$E$28,IF($F15=\"G\",2,IF($F15=\"T\",3,IF($F15=\"N\",4,0))),FALSE)*Table3[[#This Row],[Points Ingénierie et conception]]),\"\")","v":0},{"$f":"IF(Table3[[#This Row],[Parcours choisi]]<>\"\",(VLOOKUP(Table35[[#Headers],[Innovation mécanique]],'Def. Prix & Parcours'!$B$6:$E$28,IF($F15=\"G\",2,IF($F15=\"T\",3,IF($F15=\"N\",4,0))),FALSE)*Table3[[#This Row],[Points Innovation mécanique]]),\"\")","v":0},{"$f":"IF(Table3[[#This Row],[Parcours choisi]]<>\"\",(VLOOKUP(Table35[[#Headers],[Développement Durable]],'Def. Prix & Parcours'!$B$6:$E$28,IF($F15=\"G\",2,IF($F15=\"T\",3,IF($F15=\"N\",4,0))),FALSE)*Table3[[#This Row],[Points Développement Durable]]),\"\")","v":0},{"$f":"IF(Table3[[#This Row],[Parcours choisi]]<>\"\",(VLOOKUP(Table35[[#Headers],[Ingénierie de fabrication]],'Def. Prix & Parcours'!$B$6:$E$28,IF($F15=\"G\",2,IF($F15=\"T\",3,IF($F15=\"N\",4,0))),FALSE)*Table3[[#This Row],[Points Ingénierie de fabrication]]),\"\")","v":0},{"$f":"IF(Table3[[#This Row],[Parcours choisi]]<>\"\",(VLOOKUP(Table35[[#Headers],[Gestion de projet et collaborations]],'Def. Prix & Parcours'!$B$6:$E$28,IF($F15=\"G\",2,IF($F15=\"T\",3,IF($F15=\"N\",4,0))),FALSE)*Table3[[#This Row],[Points Gestion de projet et \ncollaborations]]),\"\")","v":0},{"$f":"IF(Table3[[#This Row],[Parcours choisi]]<>\"\",(VLOOKUP(Table35[[#Headers],[Présentation Orale]],'Def. Prix & Parcours'!$B$6:$E$28,IF($F15=\"G\",2,IF($F15=\"T\",3,IF($F15=\"N\",4,0))),FALSE)*Table3[[#This Row],[Points Présentation Orale]]),\"\")","v":0},{"$f":"IF(Table3[[#This Row],[Parcours choisi]]<>\"\",(VLOOKUP(Table35[[#Headers],[Identité Equipe]],'Def. Prix & Parcours'!$B$6:$E$28,IF($F15=\"G\",2,IF($F15=\"T\",3,IF($F15=\"N\",4,0))),FALSE)*Table3[[#This Row],[Points Identité Equipe]]),\"\")","v":0},{"$f":"IF(Table3[[#This Row],[Parcours choisi]]<>\"\",(VLOOKUP(Table35[[#Headers],[Design du Stand]],'Def. Prix & Parcours'!$B$6:$E$28,IF($F15=\"G\",2,IF($F15=\"T\",3,IF($F15=\"N\",4,0))),FALSE)*Table3[[#This Row],[Points Design du Stand]]),\"\")","v":0},{"$f":"IF(Table3[[#This Row],[Parcours choisi]]<>\"\",(VLOOKUP(Table35[[#Headers],[Portfolio]],'Def. Prix & Parcours'!$B$6:$E$28,IF($F15=\"G\",2,IF($F15=\"T\",3,IF($F15=\"N\",4,0))),FALSE)*Table3[[#This Row],[Points Portfolio]]),\"\")","v":0},{"$f":"IF(Table3[[#This Row],[Parcours choisi]]<>\"\",(VLOOKUP(Table35[[#Headers],[Marketing et Sponsoring]],'Def. Prix & Parcours'!$B$6:$E$28,IF($F15=\"G\",2,IF($F15=\"T\",3,IF($F15=\"N\",4,0))),FALSE)*Table3[[#This Row],[Points Marketing et Sponsoring]]),\"\")","v":0},{"$f":"IF(Table3[[#This Row],[Parcours choisi]]<>\"\",(VLOOKUP(Table35[[#Headers],[Budget]],'Def. Prix & Parcours'!$B$6:$E$28,IF($F15=\"G\",2,IF($F15=\"T\",3,IF($F15=\"N\",4,0))),FALSE)*Table3[[#This Row],[Points Budget]]),\"\")","v":0},{"$f":"IF(Table3[[#This Row],[Parcours choisi]]<>\"\",(VLOOKUP(Table35[[#Headers],[Design du Véhicule]],'Def. Prix & Parcours'!$B$6:$E$28,IF($F15=\"G\",2,IF($F15=\"T\",3,IF($F15=\"N\",4,0))),FALSE)*Table3[[#This Row],[Points Design du Véhicule]]),\"\")","v":0},{"$f":"IF(Table3[[#This Row],[Parcours choisi]]<>\"\",(VLOOKUP(Table35[[#Headers],[Innovation numérique]],'Def. Prix & Parcours'!$B$6:$E$28,IF($F15=\"G\",2,IF($F15=\"T\",3,IF($F15=\"N\",4,0))),FALSE)*Table3[[#This Row],[Points Innovation numérique]]),\"\")","v":0},{"$f":"IF(Table3[[#This Row],[Parcours choisi]]<>\"\",(VLOOKUP(Table35[[#Headers],[Programmation]],'Def. Prix & Parcours'!$B$6:$E$28,IF($F15=\"G\",2,IF($F15=\"T\",3,IF($F15=\"N\",4,0))),FALSE)*Table3[[#This Row],[Points Programmation]]),\"\")","v":0},{"$f":"IF(Table3[[#This Row],[Parcours choisi]]<>\"\",(VLOOKUP(Table35[[#Headers],[Respect du règlement]],'Def. Prix & Parcours'!$B$6:$E$28,IF($F15=\"G\",2,IF($F15=\"T\",3,IF($F15=\"N\",4,0))),FALSE)*Table3[[#This Row],[Points Respect du règlement]]),\"\")","v":0},{"$f":"IF(Table3[[#This Row],[Parcours choisi]]<>\"\",(VLOOKUP(Table35[[#Headers],[Communication : vidéo]],'Def. Prix & Parcours'!$B$6:$E$28,IF($F15=\"G\",2,IF($F15=\"T\",3,IF($F15=\"N\",4,0))),FALSE)*Table3[[#This Row],[Points Communication : vidéo]]),\"\")","v":0},{"$f":"IF(Table3[[#This Row],[Parcours choisi]]<>\"\",(VLOOKUP(Table35[[#Headers],[Epreuve CAO]],'Def. Prix & Parcours'!$B$6:$E$28,IF($F15=\"G\",2,IF($F15=\"T\",3,IF($F15=\"N\",4,0))),FALSE)*Table3[[#This Row],[Points Epreuve CAO]]),\"\")","v":80},{"$f":"IF(Table3[[#This Row],[Parcours choisi]]<>\"\",(VLOOKUP(Table35[[#Headers],[Temps Réaction]],'Def. Prix & Parcours'!$B$6:$E$28,IF($F15=\"G\",2,IF($F15=\"T\",3,IF($F15=\"N\",4,0))),FALSE)*Table3[[#This Row],[Points Temps Réaction]]),\"\")","v":6},{"$f":"IF(Table3[[#This Row],[Parcours choisi]]<>\"\",(VLOOKUP(Table35[[#Headers],[Temps Course]],'Def. Prix & Parcours'!$B$6:$E$28,IF($F15=\"G\",2,IF($F15=\"T\",3,IF($F15=\"N\",4,0))),FALSE)*Table3[[#This Row],[Points Temps Course]]),\"\")","v":80},{"$f":"IF(Table3[[#This Row],[Parcours choisi]]<>\"\",(VLOOKUP(Table35[[#Headers],[Epreuve arrêt au stand]],'Def. Prix & Parcours'!$B$6:$E$28,IF($F15=\"G\",2,IF($F15=\"T\",3,IF($F15=\"N\",4,0))),FALSE)*Table3[[#This Row],[Points Epreuve arrêt au stand]]),\"\")","v":80},null,{"$f":"IF(Table3[[#This Row],[Parcours choisi]]<>\"\",SUM(Table35[[#This Row],[Ingénierie et conception]:[1]]),\"\")","v":246},{"$f":"IF(Table3[[#This Row],[Parcours choisi]]<>\"\",_xlfn.RANK.EQ(Table35[[#This Row],[Total Parcours]],Table35[Total Parcours],0),\"\")","v":26}]
[10,{"$f":"IF(Table3[[#This Row],[Nom équipe]]<>\"\",Table3[[#This Row],[Nom équipe]],\"\")","v":"Space-hat"},{"$f":"IF(Table3[[#This Row],[Etablissement]]<>\"\",Table3[[#This Row],[Etablissement]],\"\")","v":"Boutet Lunéville"},{"$f":"IF(Table3[[#This Row],[Type établissement]]<>\"\",Table3[[#This Row],[Type établissement]],\"\")","v":"L"},{"$f":"IF(Table3[[#This Row],[Académie]]<>\"\",Table3[[#This Row],[Académie]],\"\")","v":"Nancy-Metz"},{"$f":"IF(Table3[[#This Row],[Parcours choisi]]<>\"\",Table3[[#This Row],[Parcours choisi]],\"\")","v":"T"},{"$f":"IF(Table3[[#This Row],[Parcours choisi]]<>\"\",(VLOOKUP(Table35[[#Headers],[Ingénierie et conception]],'Def. Prix & Parcours'!$B$6:$E$28,IF($F16=\"G\",2,IF($F16=\"T\",3,IF($F16=\"N\",4,0))),FALSE)*Table3[[#This Row],[Points Ingénierie et conception]]),\"\")","v":78},{"$f":"IF(Table3[[#This Row],[Parcours choisi]]<>\"\",(VLOOKUP(Table35[[#Headers],[Innovation mécanique]],'Def. Prix & Parcours'!$B$6:$E$28,IF($F16=\"G\",2,IF($F16=\"T\",3,IF($F16=\"N\",4,0))),FALSE)*Table3[[#This Row],[Points Innovation mécanique]]),\"\")","v":168},{"$f":"IF(Table3[[#This Row],[Parcours choisi]]<>\"\",(VLOOKUP(Table35[[#Headers],[Développement Durable]],'Def. Prix & Parcours'!$B$6:$E$28,IF($F16=\"G\",2,IF($F16=\"T\",3,IF($F16=\"N\",4,0))),FALSE)*Table3[[#This Row],[Points Développement Durable]]),\"\")","v":96},{"$f":"IF(Table3[[#This Row],[Parcours choisi]]<>\"\",(VLOOKUP(Table35[[#Headers],[Ingénierie de fabrication]],'Def. Prix & Parcours'!$B$6:$E$28,IF($F16=\"G\",2,IF($F16=\"T\",3,IF($F16=\"N\",4,0))),FALSE)*Table3[[#This Row],[Points Ingénierie de fabrication]]),\"\")","v":128},{"$f":"IF(Table3[[#This Row],[Parcours choisi]]<>\"\",(VLOOKUP(Table35[[#Headers],[Gestion de projet et collaborations]],'Def. Prix & Parcours'!$B$6:$E$28,IF($F16=\"G\",2,IF($F16=\"T\",3,IF($F16=\"N\",4,0))),FALSE)*Table3[[#This Row],[Points Gestion de projet et \ncollaborations]]),\"\")","v":60},{"$f":"IF(Table3[[#This Row],[Parcours choisi]]<>\"\",(VLOOKUP(Table35[[#Headers],[Présentation Orale]],'Def. Prix & Parcours'!$B$6:$E$28,IF($F16=\"G\",2,IF($F16=\"T\",3,IF($F16=\"N\",4,0))),FALSE)*Table3[[#This Row],[Points Présentation Orale]]),\"\")","v":60},{"$f":"IF(Table3[[#This Row],[Parcours choisi]]<>\"\",(VLOOKUP(Table35[[#Headers],[Identité Equipe]],'Def. Prix & Parcours'!$B$6:$E$28,IF($F16=\"G\",2,IF($F16=\"T\",3,IF($F16=\"N\",4,0))),FALSE)*Table3[[#This Row],[Points Identité Equipe]]),\"\")","v":85},{"$f":"IF(Table3[[#This Row],[Parcours choisi]]<>\"\",(VLOOKUP(Table35[[#Headers],[Design du Stand]],'Def. Prix & Parcours'!$B$6:$E$28,IF($F16=\"G\",2,IF($F16=\"T\",3,IF($F16=\"N\",4,0))),FALSE)*Table3[[#This Row],[Points Design du Stand]]),\"\")","v":32},{"$f":"IF(Table3[[#This Row],[Parcours choisi]]<>\"\",(VLOOKUP(Table35[[#Headers],[Portfolio]],'Def. Prix & Parcours'!$B$6:$E$28,IF($F16=\"G\",2,IF($F16=\"T\",3,IF($F16=\"N\",4,0))),FALSE)*Table3[[#This Row],[Points Portfolio]]),\"\")","v":52},{"$f":"IF(Table3[[#This Row],[Parcours choisi]]<>\"\",(VLOOKUP(Table35[[#Headers],[Marketing et Sponsoring]],'Def. Prix & Parcours'!$B$6:$E$28,IF($F16=\"G\",2,IF($F16=\"T\",3,IF($F16=\"N\",4,0))),FALSE)*Table3[[#This Row],[Points Marketing et Sponsoring]]),\"\")","v":24},{"$f":"IF(Table3[[#This Row],[Parcours choisi]]<>\"\",(VLOOKUP(Table35[[#Headers],[Budget]],'Def. Prix & Parcours'!$B$6:$E$28,IF($F16=\"G\",2,IF($F16=\"T\",3,IF($F16=\"N\",4,0))),FALSE)*Table3[[#This Row],[Points Budget]]),\"\")","v":24},{"$f":"IF(Table3[[#This Row],[Parcours choisi]]<>\"\",(VLOOKUP(Table35[[#Headers],[Design du Véhicule]],'Def. Prix & Parcours'!$B$6:$E$28,IF($F16=\"G\",2,IF($F16=\"T\",3,IF($F16=\"N\",4,0))),FALSE)*Table3[[#This Row],[Points Design du Véhicule]]),\"\")","v":90},{"$f":"IF(Table3[[#This Row],[Parcours choisi]]<>\"\",(VLOOKUP(Table35[[#Headers],[Innovation numérique]],'Def. Prix & Parcours'!$B$6:$E$28,IF($F16=\"G\",2,IF($F16=\"T\",3,IF($F16=\"N\",4,0))),FALSE)*Table3[[#This Row],[Points Innovation numérique]]),\"\")","v":0},{"$f":"IF(Table3[[#This Row],[Parcours choisi]]<>\"\",(VLOOKUP(Table35[[#Headers],[Programmation]],'Def. Prix & Parcours'!$B$6:$E$28,IF($F16=\"G\",2,IF($F16=\"T\",3,IF($F16=\"N\",4,0))),FALSE)*Table3[[#This Row],[Points Programmation]]),\"\")","v":0},{"$f":"IF(Table3[[#This Row],[Parcours choisi]]<>\"\",(VLOOKUP(Table35[[#Headers],[Respect du règlement]],'Def. Prix & Parcours'!$B$6:$E$28,IF($F16=\"G\",2,IF($F16=\"T\",3,IF($F16=\"N\",4,0))),FALSE)*Table3[[#This Row],[Points Respect du règlement]]),\"\")","v":95},{"$f":"IF(Table3[[#This Row],[Parcours choisi]]<>\"\",(VLOOKUP(Table35[[#Headers],[Communication : vidéo]],'Def. Prix & Parcours'!$B$6:$E$28,IF($F16=\"G\",2,IF($F16=\"T\",3,IF($F16=\"N\",4,0))),FALSE)*Table3[[#This Row],[Points Communication : vidéo]]),\"\")","v":45},{"$f":"IF(Table3[[#This Row],[Parcours choisi]]<>\"\",(VLOOKUP(Table35[[#Headers],[Epreuve CAO]],'Def. Prix & Parcours'!$B$6:$E$28,IF($F16=\"G\",2,IF($F16=\"T\",3,IF($F16=\"N\",4,0))),FALSE)*Table3[[#This Row],[Points Epreuve CAO]]),\"\")","v":80},{"$f":"IF(Table3[[#This Row],[Parcours choisi]]<>\"\",(VLOOKUP(Table35[[#Headers],[Temps Réaction]],'Def. Prix & Parcours'!$B$6:$E$28,IF($F16=\"G\",2,IF($F16=\"T\",3,IF($F16=\"N\",4,0))),FALSE)*Table3[[#This Row],[Points Temps Réaction]]),\"\")","v":24},{"$f":"IF(Table3[[#This Row],[Parcours choisi]]<>\"\",(VLOOKUP(Table35[[#Headers],[Temps Course]],'Def. Prix & Parcours'!$B$6:$E$28,IF($F16=\"G\",2,IF($F16=\"T\",3,IF($F16=\"N\",4,0))),FALSE)*Table3[[#This Row],[Points Temps Course]]),\"\")","v":180},{"$f":"IF(Table3[[#This Row],[Parcours choisi]]<>\"\",(VLOOKUP(Table35[[#Headers],[Epreuve arrêt au stand]],'Def. Prix & Parcours'!$B$6:$E$28,IF($F16=\"G\",2,IF($F16=\"T\",3,IF($F16=\"N\",4,0))),FALSE)*Table3[[#This Row],[Points Epreuve arrêt au stand]]),\"\")","v":80},null,{"$f":"IF(Table3[[#This Row],[Parcours choisi]]<>\"\",SUM(Table35[[#This Row],[Ingénierie et conception]:[1]]),\"\")","v":1401},{"$f":"IF(Table3[[#This Row],[Parcours choisi]]<>\"\",_xlfn.RANK.EQ(Table35[[#This Row],[Total Parcours]],Table35[Total Parcours],0),\"\")","v":12}]
[11,{"$f":"IF(Table3[[#This Row],[Nom équipe]]<>\"\",Table3[[#This Row],[Nom équipe]],\"\")","v":"Molécuisto"},{"$f":"IF(Table3[[#This Row],[Etablissement]]<>\"\",Table3[[#This Row],[Etablissement]],\"\")","v":"Bichat Lunéville"},{"$f":"IF(Table3[[#This Row],[Type établissement]]<>\"\",Table3[[#This Row],[Type établissement]],\"\")","v":"C"},{"$f":"IF(Table3[[#This Row],[Académie]]<>\"\",Table3[[#This Row],[Académie]],\"\")","v":"Nancy-Metz"},{"$f":"IF(Table3[[#This Row],[Parcours choisi]]<>\"\",Table3[[#This Row],[Parcours choisi]],\"\")","v":"G"},{"$f":"IF(Table3[[#This Row],[Parcours choisi]]<>\"\",(VLOOKUP(Table35[[#Headers],[Ingénierie et conception]],'Def. Prix & Parcours'!$B$6:$E$28,IF($F17=\"G\",2,IF($F17=\"T\",3,IF($F17=\"N\",4,0))),FALSE)*Table3[[#This Row],[Points Ingénierie et conception]]),\"\")","v":78},{"$f":"IF(Table3[[#This Row],[Parcours choisi]]<>\"\",(VLOOKUP(Table35[[#Headers],[Innovation mécanique]],'Def. Prix & Parcours'!$B$6:$E$28,IF($F17=\"G\",2,IF($F17=\"T\",3,IF($F17=\"N\",4,0))),FALSE)*Table3[[#This Row],[Points Innovation mécanique]]),\"\")","v":84},{"$f":"IF(Table3[[#This Row],[Parcours choisi]]<>\"\",(VLOOKUP(Table35[[#Headers],[Développement Durable]],'Def. Prix & Parcours'!$B$6:$E$28,IF($F17=\"G\",2,IF($F17=\"T\",3,IF($F17=\"N\",4,0))),FALSE)*Table3[[#This Row],[Points Développement Durable]]),\"\")","v":44},{"$f":"IF(Table3[[#This Row],[Parcours choisi]]<>\"\",(VLOOKUP(Table35[[#Headers],[Ingénierie de fabrication]],'Def. Prix & Parcours'!$B$6:$E$28,IF($F17=\"G\",2,IF($F17=\"T\",3,IF($F17=\"N\",4,0))),FALSE)*Table3[[#This Row],[Points Ingénierie de fabrication]]),\"\")","v":45},{"$f":"IF(Table3[[#This Row],[Parcours choisi]]<>\"\",(VLOOKUP(Table35[[#Headers],[Gestion de projet et collaborations]],'Def. Prix & Parcours'!$B$6:$E$28,IF($F17=\"G\",2,IF($F17=\"T\",3,IF($F17=\"N\",4,0))),FALSE)*Table3[[#This Row],[Points Gestion de projet et \ncollaborations]]),\"\")","v":65},{"$f":"IF(Table3[[#This Row],[Parcours choisi]]<>\"\",(VLOOKUP(Table35[[#Headers],[Présentation Orale]],'Def. Prix & Parcours'!$B$6:$E$28,IF($F17=\"G\",2,IF($F17=\"T\",3,IF($F17=\"N\",4,0))),FALSE)*Table3[[#This Row],[Points Présentation Orale]]),\"\")","v":65},{"$f":"IF(Table3[[#This Row],[Parcours choisi]]<>\"\",(VLOOKUP(Table35[[#Headers],[Identité Equipe]],'Def. Prix & Parcours'!$B$6:$E$28,IF($F17=\"G\",2,IF($F17=\"T\",3,IF($F17=\"N\",4,0))),FALSE)*Table3[[#This Row],[Points Identité Equipe]]),\"\")","v":80},{"$f":"IF(Table3[[#This Row],[Parcours choisi]]<>\"\",(VLOOKUP(Table35[[#Headers],[Design du Stand]],'Def. Prix & Parcours'!$B$6:$E$28,IF($F17=\"G\",2,IF($F17=\"T\",3,IF($F17=\"N\",4,0))),FALSE)*Table3[[#This Row],[Points Design du Stand]]),\"\")","v":136},{"$f":"IF(Table3[[#This Row],[Parcours choisi]]<>\"\",(VLOOKUP(Table35[[#Headers],[Portfolio]],'Def. Prix & Parcours'!$B$6:$E$28,IF($F17=\"G\",2,IF($F17=\"T\",3,IF($F17=\"N\",4,0))),FALSE)*Table3[[#This Row],[Points Portfolio]]),\"\")","v":80},{"$f":"IF(Table3[[#This Row],[Parcours choisi]]<>\"\",(VLOOKUP(Table35[[#Headers],[Marketing et Sponsoring]],'Def. Prix & Parcours'!$B$6:$E$28,IF($F17=\"G\",2,IF($F17=\"T\",3,IF($F17=\"N\",4,0))),FALSE)*Table3[[#This Row],[Points Marketing et Sponsoring]]),\"\")","v":128},{"$f":"IF(Table3[[#This Row],[Parcours choisi]]<>\"\",(VLOOKUP(Table35[[#Headers],[Budget]],'Def. Prix & Parcours'!$B$6:$E$28,IF($F17=\"G\",2,IF($F17=\"T\",3,IF($F17=\"N\",4,0))),FALSE)*Table3[[#This Row],[Points Budget]]),\"\")","v":22},{"$f":"IF(Table3[[#This Row],[Parcours choisi]]<>\"\",(VLOOKUP(Table35[[#Headers],[Design du Véhicule]],'Def. Prix & Parcours'!$B$6:$E$28,IF($F17=\"G\",2,IF($F17=\"T\",3,IF($F17=\"N\",4,0))),FALSE)*Table3[[#This Row],[Points Design du Véhicule]]),\"\")","v":33},{"$f":"IF(Table3[[#This Row],[Parcours choisi]]<>\"\",(VLOOKUP(Table35[[#Headers],[Innovation numérique]],'Def. Prix & Parcours'!$B$6:$E$28,IF($F17=\"G\",2,IF($F17=\"T\",3,IF($F17=\"N\",4,0))),FALSE)*Table3[[#This Row],[Points Innovation numérique]]),\"\")","v":68},{"$f":"IF(Table3[[#This Row],[Parcours choisi]]<>\"\",(VLOOKUP(Table35[[#Headers],[Programmation]],'Def. Prix & Parcours'!$B$6:$E$28,IF($F17=\"G\",2,IF($F17=\"T\",3,IF($F17=\"N\",4,0))),FALSE)*Table3[[#This Row],[Points Programmation]]),\"\")","v":76},{"$f":"IF(Table3[[#This Row],[Parcours choisi]]<>\"\",(VLOOKUP(Table35[[#Headers],[Respect du règlement]],'Def. Prix & Parcours'!$B$6:$E$28,IF($F17=\"G\",2,IF($F17=\"T\",3,IF($F17=\"N\",4,0))),FALSE)*Table3[[#This Row],[Points Respect du règlement]]),\"\")","v":100},{"$f":"IF(Table3[[#This Row],[Parcours choisi]]<>\"\",(VLOOKUP(Table35[[#Headers],[Communication : vidéo]],'Def. Prix & Parcours'!$B$6:$E$28,IF($F17=\"G\",2,IF($F17=\"T\",3,IF($F17=\"N\",4,0))),FALSE)*Table3[[#This Row],[Points Communication : vidéo]]),\"\")","v":27},{"$f":"IF(Table3[[#This Row],[Parcours choisi]]<>\"\",(VLOOKUP(Table35[[#Headers],[Epreuve CAO]],'Def. Prix & Parcours'!$B$6:$E$28,IF($F17=\"G\",2,IF($F17=\"T\",3,IF($F17=\"N\",4,0))),FALSE)*Table3[[#This Row],[Points Epreuve CAO]]),\"\")","v":80},{"$f":"IF(Table3[[#This Row],[Parcours choisi]]<>\"\",(VLOOKUP(Table35[[#Headers],[Temps Réaction]],'Def. Prix & Parcours'!$B$6:$E$28,IF($F17=\"G\",2,IF($F17=\"T\",3,IF($F17=\"N\",4,0))),FALSE)*Table3[[#This Row],[Points Temps Réaction]]),\"\")","v":12},{"$f":"IF(Table3[[#This Row],[Parcours choisi]]<>\"\",(VLOOKUP(Table35[[#Headers],[Temps Course]],'Def. Prix & Parcours'!$B$6:$E$28,IF($F17=\"G\",2,IF($F17=\"T\",3,IF($F17=\"N\",4,0))),FALSE)*Table3[[#This Row],[Points Temps Course]]),\"\")","v":170},{"$f":"IF(Table3[[#This Row],[Parcours choisi]]<>\"\",(VLOOKUP(Table35[[#Headers],[Epreuve arrêt au stand]],'Def. Prix & Parcours'!$B$6:$E$28,IF($F17=\"G\",2,IF($F17=\"T\",3,IF($F17=\"N\",4,0))),FALSE)*Table3[[#This Row],[Points Epreuve arrêt au stand]]),\"\")","v":80},null,{"$f":"IF(Table3[[#This Row],[Parcours choisi]]<>\"\",SUM(Table35[[#This Row],[Ingénierie et conception]:[1]]),\"\")","v":1473},{"$f":"IF(Table3[[#This Row],[Parcours choisi]]<>\"\",_xlfn.RANK.EQ(Table35[[#This Row],[Total Parcours]],Table35[Total Parcours],0),\"\")","v":8}]
[12,{"$f":"IF(Table3[[#This Row],[Nom équipe]]<>\"\",Table3[[#This Row],[Nom équipe]],\"\")","v":"Six divergents"},{"$f":"IF(Table3[[#This Row],[Etablissement]]<>\"\",Table3[[#This Row],[Etablissement]],\"\")","v":"Bichat Lunéville"},{"$f":"IF(Table3[[#This Row],[Type établissement]]<>\"\",Table3[[#This Row],[Type établissement]],\"\")","v":"C"},{"$f":"IF(Table3[[#This Row],[Académie]]<>\"\",Table3[[#This Row],[Académie]],\"\")","v":"Nancy-Metz"},{"$f":"IF(Table3[[#This Row],[Parcours choisi]]<>\"\",Table3[[#This Row],[Parcours choisi]],\"\")","v":"G"},{"$f":"IF(Table3[[#This Row],[Parcours choisi]]<>\"\",(VLOOKUP(Table35[[#Headers],[Ingénierie et conception]],'Def. Prix & Parcours'!$B$6:$E$28,IF($F18=\"G\",2,IF($F18=\"T\",3,IF($F18=\"N\",4,0))),FALSE)*Table3[[#This Row],[Points Ingénierie et conception]]),\"\")","v":96},{"$f":"IF(Table3[[#This Row],[Parcours choisi]]<>\"\",(VLOOKUP(Table35[[#Headers],[Innovation mécanique]],'Def. Prix & Parcours'!$B$6:$E$28,IF($F18=\"G\",2,IF($F18=\"T\",3,IF($F18=\"N\",4,0))),FALSE)*Table3[[#This Row],[Points Innovation mécanique]]),\"\")","v":96},{"$f":"IF(Table3[[#This Row],[Parcours choisi]]<>\"\",(VLOOKUP(Table35[[#Headers],[Développement Durable]],'Def. Prix & Parcours'!$B$6:$E$28,IF($F18=\"G\",2,IF($F18=\"T\",3,IF($F18=\"N\",4,0))),FALSE)*Table3[[#This Row],[Points Développement Durable]]),\"\")","v":48},{"$f":"IF(Table3[[#This Row],[Parcours choisi]]<>\"\",(VLOOKUP(Table35[[#Headers],[Ingénierie de fabrication]],'Def. Prix & Parcours'!$B$6:$E$28,IF($F18=\"G\",2,IF($F18=\"T\",3,IF($F18=\"N\",4,0))),FALSE)*Table3[[#This Row],[Points Ingénierie de fabrication]]),\"\")","v":45},{"$f":"IF(Table3[[#This Row],[Parcours choisi]]<>\"\",(VLOOKUP(Table35[[#Headers],[Gestion de projet et collaborations]],'Def. Prix & Parcours'!$B$6:$E$28,IF($F18=\"G\",2,IF($F18=\"T\",3,IF($F18=\"N\",4,0))),FALSE)*Table3[[#This Row],[Points Gestion de projet et \ncollaborations]]),\"\")","v":90},{"$f":"IF(Table3[[#This Row],[Parcours choisi]]<>\"\",(VLOOKUP(Table35[[#Headers],[Présentation Orale]],'Def. Prix & Parcours'!$B$6:$E$28,IF($F18=\"G\",2,IF($F18=\"T\",3,IF($F18=\"N\",4,0))),FALSE)*Table3[[#This Row],[Points Présentation Orale]]),\"\")","v":70},{"$f":"IF(Table3[[#This Row],[Parcours choisi]]<>\"\",(VLOOKUP(Table35[[#Headers],[Identité Equipe]],'Def. Prix & Parcours'!$B$6:$E$28,IF($F18=\"G\",2,IF($F18=\"T\",3,IF($F18=\"N\",4,0))),FALSE)*Table3[[#This Row],[Points Identité Equipe]]),\"\")","v":80},{"$f":"IF(Table3[[#This Row],[Parcours choisi]]<>\"\",(VLOOKUP(Table35[[#Headers],[Design du Stand]],'Def. Prix & Parcours'!$B$6:$E$28,IF($F18=\"G\",2,IF($F18=\"T\",3,IF($F18=\"N\",4,0))),FALSE)*Table3[[#This Row],[Points Design du Stand]]),\"\")","v":120},{"$f":"IF(Table3[[#This Row],[Parcours choisi]]<>\"\",(VLOOKUP(Table35[[#Headers],[Portfolio]],'Def. Prix & Parcours'!$B$6:$E$28,IF($F18=\"G\",2,IF($F18=\"T\",3,IF($F18=\"N\",4,0))),FALSE)*Table3[[#This Row],[Points Portfolio]]),\"\")","v":136},{"$f":"IF(Table3[[#This Row],[Parcours choisi]]<>\"\",(VLOOKUP(Table35[[#Headers],[Marketing et Sponsoring]],'Def. Prix & Parcours'!$B$6:$E$28,IF($F18=\"G\",2,IF($F18=\"T\",3,IF($F18=\"N\",4,0))),FALSE)*Table3[[#This Row],[Points Marketing et Sponsoring]]),\"\")","v":136},{"$f":"IF(Table3[[#This Row],[Parcours choisi]]<>\"\",(VLOOKUP(Table35[[#Headers],[Budget]],'Def. Prix & Parcours'!$B$6:$E$28,IF($F18=\"G\",2,IF($F18=\"T\",3,IF($F18=\"N\",4,0))),FALSE)*Table3[[#This Row],[Points Budget]]),\"\")","v":34},{"$f":"IF(Table3[[#This Row],[Parcours choisi]]<>\"\",(VLOOKUP(Table35[[#Headers],[Design du Véhicule]],'Def. Prix & Parcours'!$B$6:$E$28,IF($F18=\"G\",2,IF($F18=\"T\",3,IF($F18=\"N\",4,0))),FALSE)*Table3[[#This Row],[Points Design du Véhicule]]),\"\")","v":54},{"$f":"IF(Table3[[#This Row],[Parcours choisi]]<>\"\",(VLOOKUP(Table35[[#Headers],[Innovation numérique]],'Def. Prix & Parcours'!$B$6:$E$28,IF($F18=\"G\",2,IF($F18=\"T\",3,IF($F18=\"N\",4,0))),FALSE)*Table3[[#This Row],[Points Innovation numérique]]),\"\")","v":36},{"$f":"IF(Table3[[#This Row],[Parcours choisi]]<>\"\",(VLOOKUP(Table35[[#Headers],[Programmation]],'Def. Prix & Parcours'!$B$6:$E$28,IF($F18=\"G\",2,IF($F18=\"T\",3,IF($F18=\"N\",4,0))),FALSE)*Table3[[#This Row],[Points Programmation]]),\"\")","v":60},{"$f":"IF(Table3[[#This Row],[Parcours choisi]]<>\"\",(VLOOKUP(Table35[[#Headers],[Respect du règlement]],'Def. Prix & Parcours'!$B$6:$E$28,IF($F18=\"G\",2,IF($F18=\"T\",3,IF($F18=\"N\",4,0))),FALSE)*Table3[[#This Row],[Points Respect du règlement]]),\"\")","v":100},{"$f":"IF(Table3[[#This Row],[Parcours choisi]]<>\"\",(VLOOKUP(Table35[[#Headers],[Communication : vidéo]],'Def. Prix & Parcours'!$B$6:$E$28,IF($F18=\"G\",2,IF($F18=\"T\",3,IF($F18=\"N\",4,0))),FALSE)*Table3[[#This Row],[Points Communication : vidéo]]),\"\")","v":48},{"$f":"IF(Table3[[#This Row],[Parcours choisi]]<>\"\",(VLOOKUP(Table35[[#Headers],[Epreuve CAO]],'Def. Prix & Parcours'!$B$6:$E$28,IF($F18=\"G\",2,IF($F18=\"T\",3,IF($F18=\"N\",4,0))),FALSE)*Table3[[#This Row],[Points Epreuve CAO]]),\"\")","v":80},{"$f":"IF(Table3[[#This Row],[Parcours choisi]]<>\"\",(VLOOKUP(Table35[[#Headers],[Temps Réaction]],'Def. Prix & Parcours'!$B$6:$E$28,IF($F18=\"G\",2,IF($F18=\"T\",3,IF($F18=\"N\",4,0))),FALSE)*Table3[[#This Row],[Points Temps Réaction]]),\"\")","v":12},{"$f":"IF(Table3[[#This Row],[Parcours choisi]]<>\"\",(VLOOKUP(Table35[[#Headers],[Temps Course]],'Def. Prix & Parcours'!$B$6:$E$28,IF($F18=\"G\",2,IF($F18=\"T\",3,IF($F18=\"N\",4,0))),FALSE)*Table3[[#This Row],[Points Temps Course]]),\"\")","v":160},{"$f":"IF(Table3[[#This Row],[Parcours choisi]]<>\"\",(VLOOKUP(Table35[[#Headers],[Epreuve arrêt au stand]],'Def. Prix & Parcours'!$B$6:$E$28,IF($F18=\"G\",2,IF($F18=\"T\",3,IF($F18=\"N\",4,0))),FALSE)*Table3[[#This Row],[Points Epreuve arrêt au stand]]),\"\")","v":80},null,{"$f":"IF(Table3[[#This Row],[Parcours choisi]]<>\"\",SUM(Table35[[#This Row],[Ingénierie et conception]:[1]]),\"\")","v":1581},{"$f":"IF(Table3[[#This Row],[Parcours choisi]]<>\"\",_xlfn.RANK.EQ(Table35[[#This Row],[Total Parcours]],Table35[Total Parcours],0),\"\")","v":3}]
[13,{"$f":"IF(Table3[[#This Row],[Nom équipe]]<>\"\",Table3[[#This Row],[Nom équipe]],\"\")","v":"Andromeda"},{"$f":"IF(Table3[[#This Row],[Etablissement]]<>\"\",Table3[[#This Row],[Etablissement]],\"\")","v":"Duvivier Einville"},{"$f":"IF(Table3[[#This Row],[Type établissement]]<>\"\",Table3[[#This Row],[Type établissement]],\"\")","v":"C"},{"$f":"IF(Table3[[#This Row],[Académie]]<>\"\",Table3[[#This Row],[Académie]],\"\")","v":"Nancy-Metz"},{"$f":"IF(Table3[[#This Row],[Parcours choisi]]<>\"\",Table3[[#This Row],[Parcours choisi]],\"\")","v":"G"},{"$f":"IF(Table3[[#This Row],[Parcours choisi]]<>\"\",(VLOOKUP(Table35[[#Headers],[Ingénierie et conception]],'Def. Prix & Parcours'!$B$6:$E$28,IF($F19=\"G\",2,IF($F19=\"T\",3,IF($F19=\"N\",4,0))),FALSE)*Table3[[#This Row],[Points Ingénierie et conception]]),\"\")","v":102},{"$f":"IF(Table3[[#This Row],[Parcours choisi]]<>\"\",(VLOOKUP(Table35[[#Headers],[Innovation mécanique]],'Def. Prix & Parcours'!$B$6:$E$28,IF($F19=\"G\",2,IF($F19=\"T\",3,IF($F19=\"N\",4,0))),FALSE)*Table3[[#This Row],[Points Innovation mécanique]]),\"\")","v":90},{"$f":"IF(Table3[[#This Row],[Parcours choisi]]<>\"\",(VLOOKUP(Table35[[#Headers],[Développement Durable]],'Def. Prix & Parcours'!$B$6:$E$28,IF($F19=\"G\",2,IF($F19=\"T\",3,IF($F19=\"N\",4,0))),FALSE)*Table3[[#This Row],[Points Développement Durable]]),\"\")","v":60},{"$f":"IF(Table3[[#This Row],[Parcours choisi]]<>\"\",(VLOOKUP(Table35[[#Headers],[Ingénierie de fabrication]],'Def. Prix & Parcours'!$B$6:$E$28,IF($F19=\"G\",2,IF($F19=\"T\",3,IF($F19=\"N\",4,0))),FALSE)*Table3[[#This Row],[Points Ingénierie de fabrication]]),\"\")","v":42},{"$f":"IF(Table3[[#This Row],[Parcours choisi]]<>\"\",(VLOOKUP(Table35[[#Headers],[Gestion de projet et collaborations]],'Def. Prix & Parcours'!$B$6:$E$28,IF($F19=\"G\",2,IF($F19=\"T\",3,IF($F19=\"N\",4,0))),FALSE)*Table3[[#This Row],[Points Gestion de projet et \ncollaborations]]),\"\")","v":85},{"$f":"IF(Table3[[#This Row],[Parcours choisi]]<>\"\",(VLOOKUP(Table35[[#Headers],[Présentation Orale]],'Def. Prix & Parcours'!$B$6:$E$28,IF($F19=\"G\",2,IF($F19=\"T\",3,IF($F19=\"N\",4,0))),FALSE)*Table3[[#This Row],[Points Présentation Orale]]),\"\")","v":85},{"$f":"IF(Table3[[#This Row],[Parcours choisi]]<>\"\",(VLOOKUP(Table35[[#Headers],[Identité Equipe]],'Def. Prix & Parcours'!$B$6:$E$28,IF($F19=\"G\",2,IF($F19=\"T\",3,IF($F19=\"N\",4,0))),FALSE)*Table3[[#This Row],[Points Identité Equipe]]),\"\")","v":85},{"$f":"IF(Table3[[#This Row],[Parcours choisi]]<>\"\",(VLOOKUP(Table35[[#Headers],[Design du Stand]],'Def. Prix & Parcours'!$B$6:$E$28,IF($F19=\"G\",2,IF($F19=\"T\",3,IF($F19=\"N\",4,0))),FALSE)*Table3[[#This Row],[Points Design du Stand]]),\"\")","v":112},{"$f":"IF(Table3[[#This Row],[Parcours choisi]]<>\"\",(VLOOKUP(Table35[[#Headers],[Portfolio]],'Def. Prix & Parcours'!$B$6:$E$28,IF($F19=\"G\",2,IF($F19=\"T\",3,IF($F19=\"N\",4,0))),FALSE)*Table3[[#This Row],[Points Portfolio]]),\"\")","v":144},{"$f":"IF(Table3[[#This Row],[Parcours choisi]]<>\"\",(VLOOKUP(Table35[[#Headers],[Marketing et Sponsoring]],'Def. Prix & Parcours'!$B$6:$E$28,IF($F19=\"G\",2,IF($F19=\"T\",3,IF($F19=\"N\",4,0))),FALSE)*Table3[[#This Row],[Points Marketing et Sponsoring]]),\"\")","v":144},{"$f":"IF(Table3[[#This Row],[Parcours choisi]]<>\"\",(VLOOKUP(Table35[[#Headers],[Budget]],'Def. Prix & Parcours'!$B$6:$E$28,IF($F19=\"G\",2,IF($F19=\"T\",3,IF($F19=\"N\",4,0))),FALSE)*Table3[[#This Row],[Points Budget]]),\"\")","v":38},{"$f":"IF(Table3[[#This Row],[Parcours choisi]]<>\"\",(VLOOKUP(Table35[[#Headers],[Design du Véhicule]],'Def. Prix & Parcours'!$B$6:$E$28,IF($F19=\"G\",2,IF($F19=\"T\",3,IF($F19=\"N\",4,0))),FALSE)*Table3[[#This Row],[Points Design du Véhicule]]),\"\")","v":39},{"$f":"IF(Table3[[#This Row],[Parcours choisi]]<>\"\",(VLOOKUP(Table35[[#Headers],[Innovation numérique]],'Def. Prix & Parcours'!$B$6:$E$28,IF($F19=\"G\",2,IF($F19=\"T\",3,IF($F19=\"N\",4,0))),FALSE)*Table3[[#This Row],[Points Innovation numérique]]),\"\")","v":72},{"$f":"IF(Table3[[#This Row],[Parcours choisi]]<>\"\",(VLOOKUP(Table35[[#Headers],[Programmation]],'Def. Prix & Parcours'!$B$6:$E$28,IF($F19=\"G\",2,IF($F19=\"T\",3,IF($F19=\"N\",4,0))),FALSE)*Table3[[#This Row],[Points Programmation]]),\"\")","v":60},{"$f":"IF(Table3[[#This Row],[Parcours choisi]]<>\"\",(VLOOKUP(Table35[[#Headers],[Respect du règlement]],'Def. Prix & Parcours'!$B$6:$E$28,IF($F19=\"G\",2,IF($F19=\"T\",3,IF($F19=\"N\",4,0))),FALSE)*Table3[[#This Row],[Points Respect du règlement]]),\"\")","v":100},{"$f":"IF(Table3[[#This Row],[Parcours choisi]]<>\"\",(VLOOKUP(Table35[[#Headers],[Communication : vidéo]],'Def. Prix & Parcours'!$B$6:$E$28,IF($F19=\"G\",2,IF($F19=\"T\",3,IF($F19=\"N\",4,0))),FALSE)*Table3[[#This Row],[Points Communication : vidéo]]),\"\")","v":36},{"$f":"IF(Table3[[#This Row],[Parcours choisi]]<>\"\",(VLOOKUP(Table35[[#Headers],[Epreuve CAO]],'Def. Prix & Parcours'!$B$6:$E$28,IF($F19=\"G\",2,IF($F19=\"T\",3,IF($F19=\"N\",4,0))),FALSE)*Table3[[#This Row],[Points Epreuve CAO]]),\"\")","v":80},{"$f":"IF(Table3[[#This Row],[Parcours choisi]]<>\"\",(VLOOKUP(Table35[[#Headers],[Temps Réaction]],'Def. Prix & Parcours'!$B$6:$E$28,IF($F19=\"G\",2,IF($F19=\"T\",3,IF($F19=\"N\",4,0))),FALSE)*Table3[[#This Row],[Points Temps Réaction]]),\"\")","v":18},{"$f":"IF(Table3[[#This Row],[Parcours choisi]]<>\"\",(VLOOKUP(Table35[[#Headers],[Temps Course]],'Def. Prix & Parcours'!$B$6:$E$28,IF($F19=\"G\",2,IF($F19=\"T\",3,IF($F19=\"N\",4,0))),FALSE)*Table3[[#This Row],[Points Temps Course]]),\"\")","v":100},{"$f":"IF(Table3[[#This Row],[Parcours choisi]]<>\"\",(VLOOKUP(Table35[[#Headers],[Epreuve arrêt au stand]],'Def. Prix & Parcours'!$B$6:$E$28,IF($F19=\"G\",2,IF($F19=\"T\",3,IF($F19=\"N\",4,0))),FALSE)*Table3[[#This Row],[Points Epreuve arrêt au stand]]),\"\")","v":80},null,{"$f":"IF(Table3[[#This Row],[Parcours choisi]]<>\"\",SUM(Table35[[#This Row],[Ingénierie et conception]:[1]]),\"\")","v":1572},{"$f":"IF(Table3[[#This Row],[Parcours choisi]]<>\"\",_xlfn.RANK.EQ(Table35[[#This Row],[Total Parcours]],Table35[Total Parcours],0),\"\")","v":5}]
[14,{"$f":"IF(Table3[[#This Row],[Nom équipe]]<>\"\",Table3[[#This Row],[Nom équipe]],\"\")","v":"Fifties"},{"$f":"IF(Table3[[#This Row],[Etablissement]]<>\"\",Table3[[#This Row],[Etablissement]],\"\")","v":"Duvivier Einville"},{"$f":"IF(Table3[[#This Row],[Type établissement]]<>\"\",Table3[[#This Row],[Type établissement]],\"\")","v":"C"},{"$f":"IF(Table3[[#This Row],[Académie]]<>\"\",Table3[[#This Row],[Académie]],\"\")","v":"Nancy-Metz"},{"$f":"IF(Table3[[#This Row],[Parcours choisi]]<>\"\",Table3[[#This Row],[Parcours choisi]],\"\")","v":"G"},{"$f":"IF(Table3[[#This Row],[Parcours choisi]]<>\"\",(VLOOKUP(Table35[[#Headers],[Ingénierie et conception]],'Def. Prix & Parcours'!$B$6:$E$28,IF($F20=\"G\",2,IF($F20=\"T\",3,IF($F20=\"N\",4,0))),FALSE)*Table3[[#This Row],[Points Ingénierie et conception]]),\"\")","v":96},{"$f":"IF(Table3[[#This Row],[Parcours choisi]]<>\"\",(VLOOKUP(Table35[[#Headers],[Innovation mécanique]],'Def. Prix & Parcours'!$B$6:$E$28,IF($F20=\"G\",2,IF($F20=\"T\",3,IF($F20=\"N\",4,0))),FALSE)*Table3[[#This Row],[Points Innovation mécanique]]),\"\")","v":96},{"$f":"IF(Table3[[#This Row],[Parcours choisi]]<>\"\",(VLOOKUP(Table35[[#Headers],[Développement Durable]],'Def. Prix & Parcours'!$B$6:$E$28,IF($F20=\"G\",2,IF($F20=\"T\",3,IF($F20=\"N\",4,0))),FALSE)*Table3[[#This Row],[Points Développement Durable]]),\"\")","v":52},{"$f":"IF(Table3[[#This Row],[Parcours choisi]]<>\"\",(VLOOKUP(Table35[[#Headers],[Ingénierie de fabrication]],'Def. Prix & Parcours'!$B$6:$E$28,IF($F20=\"G\",2,IF($F20=\"T\",3,IF($F20=\"N\",4,0))),FALSE)*Table3[[#This Row],[Points Ingénierie de fabrication]]),\"\")","v":48},{"$f":"IF(Table3[[#This Row],[Parcours choisi]]<>\"\",(VLOOKUP(Table35[[#Headers],[Gestion de projet et collaborations]],'Def. Prix & Parcours'!$B$6:$E$28,IF($F20=\"G\",2,IF($F20=\"T\",3,IF($F20=\"N\",4,0))),FALSE)*Table3[[#This Row],[Points Gestion de projet et \ncollaborations]]),\"\")","v":90},{"$f":"IF(Table3[[#This Row],[Parcours choisi]]<>\"\",(VLOOKUP(Table35[[#Headers],[Présentation Orale]],'Def. Prix & Parcours'!$B$6:$E$28,IF($F20=\"G\",2,IF($F20=\"T\",3,IF($F20=\"N\",4,0))),FALSE)*Table3[[#This Row],[Points Présentation Orale]]),\"\")","v":80},{"$f":"IF(Table3[[#This Row],[Parcours choisi]]<>\"\",(VLOOKUP(Table35[[#Headers],[Identité Equipe]],'Def. Prix & Parcours'!$B$6:$E$28,IF($F20=\"G\",2,IF($F20=\"T\",3,IF($F20=\"N\",4,0))),FALSE)*Table3[[#This Row],[Points Identité Equipe]]),\"\")","v":100},{"$f":"IF(Table3[[#This Row],[Parcours choisi]]<>\"\",(VLOOKUP(Table35[[#Headers],[Design du Stand]],'Def. Prix & Parcours'!$B$6:$E$28,IF($F20=\"G\",2,IF($F20=\"T\",3,IF($F20=\"N\",4,0))),FALSE)*Table3[[#This Row],[Points Design du Stand]]),\"\")","v":160},{"$f":"IF(Table3[[#This Row],[Parcours choisi]]<>\"\",(VLOOKUP(Table35[[#Headers],[Portfolio]],'Def. Prix & Parcours'!$B$6:$E$28,IF($F20=\"G\",2,IF($F20=\"T\",3,IF($F20=\"N\",4,0))),FALSE)*Table3[[#This Row],[Points Portfolio]]),\"\")","v":160},{"$f":"IF(Table3[[#This Row],[Parcours choisi]]<>\"\",(VLOOKUP(Table35[[#Headers],[Marketing et Sponsoring]],'Def. Prix & Parcours'!$B$6:$E$28,IF($F20=\"G\",2,IF($F20=\"T\",3,IF($F20=\"N\",4,0))),FALSE)*Table3[[#This Row],[Points Marketing et Sponsoring]]),\"\")","v":160},{"$f":"IF(Table3[[#This Row],[Parcours choisi]]<>\"\",(VLOOKUP(Table35[[#Headers],[Budget]],'Def. Prix & Parcours'!$B$6:$E$28,IF($F20=\"G\",2,IF($F20=\"T\",3,IF($F20=\"N\",4,0))),FALSE)*Table3[[#This Row],[Points Budget]]),\"\")","v":40},{"$f":"IF(Table3[[#This Row],[Parcours choisi]]<>\"\",(VLOOKUP(Table35[[#Headers],[Design du Véhicule]],'Def. Prix & Parcours'!$B$6:$E$28,IF($F20=\"G\",2,IF($F20=\"T\",3,IF($F20=\"N\",4,0))),FALSE)*Table3[[#This Row],[Points Design du Véhicule]]),\"\")","v":57},{"$f":"IF(Table3[[#This Row],[Parcours choisi]]<>\"\",(VLOOKUP(Table35[[#Headers],[Innovation numérique]],'Def. Prix & Parcours'!$B$6:$E$28,IF($F20=\"G\",2,IF($F20=\"T\",3,IF($F20=\"N\",4,0))),FALSE)*Table3[[#This Row],[Points Innovation numérique]]),\"\")","v":60},{"$f":"IF(Table3[[#This Row],[Parcours choisi]]<>\"\",(VLOOKUP(Table35[[#Headers],[Programmation]],'Def. Prix & Parcours'!$B$6:$E$28,IF($F20=\"G\",2,IF($F20=\"T\",3,IF($F20=\"N\",4,0))),FALSE)*Table3[[#This Row],[Points Programmation]]),\"\")","v":76},{"$f":"IF(Table3[[#This Row],[Parcours choisi]]<>\"\",(VLOOKUP(Table35[[#Headers],[Respect du règlement]],'Def. Prix & Parcours'!$B$6:$E$28,IF($F20=\"G\",2,IF($F20=\"T\",3,IF($F20=\"N\",4,0))),FALSE)*Table3[[#This Row],[Points Respect du règlement]]),\"\")","v":100},{"$f":"IF(Table3[[#This Row],[Parcours choisi]]<>\"\",(VLOOKUP(Table35[[#Headers],[Communication : vidéo]],'Def. Prix & Parcours'!$B$6:$E$28,IF($F20=\"G\",2,IF($F20=\"T\",3,IF($F20=\"N\",4,0))),FALSE)*Table3[[#This Row],[Points Communication : vidéo]]),\"\")","v":48},{"$f":"IF(Table3[[#This Row],[Parcours choisi]]<>\"\",(VLOOKUP(Table35[[#Headers],[Epreuve CAO]],'Def. Prix & Parcours'!$B$6:$E$28,IF($F20=\"G\",2,IF($F20=\"T\",3,IF($F20=\"N\",4,0))),FALSE)*Table3[[#This Row],[Points Epreuve CAO]]),\"\")","v":80},{"$f":"IF(Table3[[#This Row],[Parcours choisi]]<>\"\",(VLOOKUP(Table35[[#Headers],[Temps Réaction]],'Def. Prix & Parcours'!$B$6:$E$28,IF($F20=\"G\",2,IF($F20=\"T\",3,IF($F20=\"N\",4,0))),FALSE)*Table3[[#This Row],[Points Temps Réaction]]),\"\")","v":24},{"$f":"IF(Table3[[#This Row],[Parcours choisi]]<>\"\",(VLOOKUP(Table35[[#Headers],[Temps Course]],'Def. Prix & Parcours'!$B$6:$E$28,IF($F20=\"G\",2,IF($F20=\"T\",3,IF($F20=\"N\",4,0))),FALSE)*Table3[[#This Row],[Points Temps Course]]),\"\")","v":90},{"$f":"IF(Table3[[#This Row],[Parcours choisi]]<>\"\",(VLOOKUP(Table35[[#Headers],[Epreuve arrêt au stand]],'Def. Prix & Parcours'!$B$6:$E$28,IF($F20=\"G\",2,IF($F20=\"T\",3,IF($F20=\"N\",4,0))),FALSE)*Table3[[#This Row],[Points Epreuve arrêt au stand]]),\"\")","v":80},null,{"$f":"IF(Table3[[#This Row],[Parcours choisi]]<>\"\",SUM(Table35[[#This Row],[Ingénierie et conception]:[1]]),\"\")","v":1697},{"$f":"IF(Table3[[#This Row],[Parcours choisi]]<>\"\",_xlfn.RANK.EQ(Table35[[#This Row],[Total Parcours]],Table35[Total Parcours],0),\"\")","v":2}]
[15,{"$f":"IF(Table3[[#This Row],[Nom équipe]]<>\"\",Table3[[#This Row],[Nom équipe]],\"\")","v":"SharkAttack"},{"$f":"IF(Table3[[#This Row],[Etablissement]]<>\"\",Table3[[#This Row],[Etablissement]],\"\")","v":"Vogt Commercy"},{"$f":"IF(Table3[[#This Row],[Type établissement]]<>\"\",Table3[[#This Row],[Type établissement]],\"\")","v":"L"},{"$f":"IF(Table3[[#This Row],[Académie]]<>\"\",Table3[[#This Row],[Académie]],\"\")","v":"Nancy-Metz"},{"$f":"IF(Table3[[#This Row],[Parcours choisi]]<>\"\",Table3[[#This Row],[Parcours choisi]],\"\")","v":"G"},{"$f":"IF(Table3[[#This Row],[Parcours choisi]]<>\"\",(VLOOKUP(Table35[[#Headers],[Ingénierie et conception]],'Def. Prix & Parcours'!$B$6:$E$28,IF($F21=\"G\",2,IF($F21=\"T\",3,IF($F21=\"N\",4,0))),FALSE)*Table3[[#This Row],[Points Ingénierie et conception]]),\"\")","v":102},{"$f":"IF(Table3[[#This Row],[Parcours choisi]]<>\"\",(VLOOKUP(Table35[[#Headers],[Innovation mécanique]],'Def. Prix & Parcours'!$B$6:$E$28,IF($F21=\"G\",2,IF($F21=\"T\",3,IF($F21=\"N\",4,0))),FALSE)*Table3[[#This Row],[Points Innovation mécanique]]),\"\")","v":84},{"$f":"IF(Table3[[#This Row],[Parcours choisi]]<>\"\",(VLOOKUP(Table35[[#Headers],[Développement Durable]],'Def. Prix & Parcours'!$B$6:$E$28,IF($F21=\"G\",2,IF($F21=\"T\",3,IF($F21=\"N\",4,0))),FALSE)*Table3[[#This Row],[Points Développement Durable]]),\"\")","v":28},{"$f":"IF(Table3[[#This Row],[Parcours choisi]]<>\"\",(VLOOKUP(Table35[[#Headers],[Ingénierie de fabrication]],'Def. Prix & Parcours'!$B$6:$E$28,IF($F21=\"G\",2,IF($F21=\"T\",3,IF($F21=\"N\",4,0))),FALSE)*Table3[[#This Row],[Points Ingénierie de fabrication]]),\"\")","v":42},{"$f":"IF(Table3[[#This Row],[Parcours choisi]]<>\"\",(VLOOKUP(Table35[[#Headers],[Gestion de projet et collaborations]],'Def. Prix & Parcours'!$B$6:$E$28,IF($F21=\"G\",2,IF($F21=\"T\",3,IF($F21=\"N\",4,0))),FALSE)*Table3[[#This Row],[Points Gestion de projet et \ncollaborations]]),\"\")","v":75},{"$f":"IF(Table3[[#This Row],[Parcours choisi]]<>\"\",(VLOOKUP(Table35[[#Headers],[Présentation Orale]],'Def. Prix & Parcours'!$B$6:$E$28,IF($F21=\"G\",2,IF($F21=\"T\",3,IF($F21=\"N\",4,0))),FALSE)*Table3[[#This Row],[Points Présentation Orale]]),\"\")","v":65},{"$f":"IF(Table3[[#This Row],[Parcours choisi]]<>\"\",(VLOOKUP(Table35[[#Headers],[Identité Equipe]],'Def. Prix & Parcours'!$B$6:$E$28,IF($F21=\"G\",2,IF($F21=\"T\",3,IF($F21=\"N\",4,0))),FALSE)*Table3[[#This Row],[Points Identité Equipe]]),\"\")","v":65},{"$f":"IF(Table3[[#This Row],[Parcours choisi]]<>\"\",(VLOOKUP(Table35[[#Headers],[Design du Stand]],'Def. Prix & Parcours'!$B$6:$E$28,IF($F21=\"G\",2,IF($F21=\"T\",3,IF($F21=\"N\",4,0))),FALSE)*Table3[[#This Row],[Points Design du Stand]]),\"\")","v":104},{"$f":"IF(Table3[[#This Row],[Parcours choisi]]<>\"\",(VLOOKUP(Table35[[#Headers],[Portfolio]],'Def. Prix & Parcours'!$B$6:$E$28,IF($F21=\"G\",2,IF($F21=\"T\",3,IF($F21=\"N\",4,0))),FALSE)*Table3[[#This Row],[Points Portfolio]]),\"\")","v":96},{"$f":"IF(Table3[[#This Row],[Parcours choisi]]<>\"\",(VLOOKUP(Table35[[#Headers],[Marketing et Sponsoring]],'Def. Prix & Parcours'!$B$6:$E$28,IF($F21=\"G\",2,IF($F21=\"T\",3,IF($F21=\"N\",4,0))),FALSE)*Table3[[#This Row],[Points Marketing et Sponsoring]]),\"\")","v":112},{"$f":"IF(Table3[[#This Row],[Parcours choisi]]<>\"\",(VLOOKUP(Table35[[#Headers],[Budget]],'Def. Prix & Parcours'!$B$6:$E$28,IF($F21=\"G\",2,IF($F21=\"T\",3,IF($F21=\"N\",4,0))),FALSE)*Table3[[#This Row],[Points Budget]]),\"\")","v":24},{"$f":"IF(Table3[[#This Row],[Parcours choisi]]<>\"\",(VLOOKUP(Table35[[#Headers],[Design du Véhicule]],'Def. Prix & Parcours'!$B$6:$E$28,IF($F21=\"G\",2,IF($F21=\"T\",3,IF($F21=\"N\",4,0))),FALSE)*Table3[[#This Row],[Points Design du Véhicule]]),\"\")","v":39},{"$f":"IF(Table3[[#This Row],[Parcours choisi]]<>\"\",(VLOOKUP(Table35[[#Headers],[Innovation numérique]],'Def. Prix & Parcours'!$B$6:$E$28,IF($F21=\"G\",2,IF($F21=\"T\",3,IF($F21=\"N\",4,0))),FALSE)*Table3[[#This Row],[Points Innovation numérique]]),\"\")","v":32},{"$f":"IF(Table3[[#This Row],[Parcours choisi]]<>\"\",(VLOOKUP(Table35[[#Headers],[Programmation]],'Def. Prix & Parcours'!$B$6:$E$28,IF($F21=\"G\",2,IF($F21=\"T\",3,IF($F21=\"N\",4,0))),FALSE)*Table3[[#This Row],[Points Programmation]]),\"\")","v":68},{"$f":"IF(Table3[[#This Row],[Parcours choisi]]<>\"\",(VLOOKUP(Table35[[#Headers],[Respect du règlement]],'Def. Prix & Parcours'!$B$6:$E$28,IF($F21=\"G\",2,IF($F21=\"T\",3,IF($F21=\"N\",4,0))),FALSE)*Table3[[#This Row],[Points Respect du règlement]]),\"\")","v":95},{"$f":"IF(Table3[[#This Row],[Parcours choisi]]<>\"\",(VLOOKUP(Table35[[#Headers],[Communication : vidéo]],'Def. Prix & Parcours'!$B$6:$E$28,IF($F21=\"G\",2,IF($F21=\"T\",3,IF($F21=\"N\",4,0))),FALSE)*Table3[[#This Row],[Points Communication : vidéo]]),\"\")","v":48},{"$f":"IF(Table3[[#This Row],[Parcours choisi]]<>\"\",(VLOOKUP(Table35[[#Headers],[Epreuve CAO]],'Def. Prix & Parcours'!$B$6:$E$28,IF($F21=\"G\",2,IF($F21=\"T\",3,IF($F21=\"N\",4,0))),FALSE)*Table3[[#This Row],[Points Epreuve CAO]]),\"\")","v":80},{"$f":"IF(Table3[[#This Row],[Parcours choisi]]<>\"\",(VLOOKUP(Table35[[#Headers],[Temps Réaction]],'Def. Prix & Parcours'!$B$6:$E$28,IF($F21=\"G\",2,IF($F21=\"T\",3,IF($F21=\"N\",4,0))),FALSE)*Table3[[#This Row],[Points Temps Réaction]]),\"\")","v":33},{"$f":"IF(Table3[[#This Row],[Parcours choisi]]<>\"\",(VLOOKUP(Table35[[#Headers],[Temps Course]],'Def. Prix & Parcours'!$B$6:$E$28,IF($F21=\"G\",2,IF($F21=\"T\",3,IF($F21=\"N\",4,0))),FALSE)*Table3[[#This Row],[Points Temps Course]]),\"\")","v":150},{"$f":"IF(Table3[[#This Row],[Parcours choisi]]<>\"\",(VLOOKUP(Table35[[#Headers],[Epreuve arrêt au stand]],'Def. Prix & Parcours'!$B$6:$E$28,IF($F21=\"G\",2,IF($F21=\"T\",3,IF($F21=\"N\",4,0))),FALSE)*Table3[[#This Row],[Points Epreuve arrêt au stand]]),\"\")","v":80},null,{"$f":"IF(Table3[[#This Row],[Parcours choisi]]<>\"\",SUM(Table35[[#This Row],[Ingénierie et conception]:[1]]),\"\")","v":1422},{"$f":"IF(Table3[[#This Row],[Parcours choisi]]<>\"\",_xlfn.RANK.EQ(Table35[[#This Row],[Total Parcours]],Table35[Total Parcours],0),\"\")","v":10}]
[16,{"$f":"IF(Table3[[#This Row],[Nom équipe]]<>\"\",Table3[[#This Row],[Nom équipe]],\"\")","v":"Green Tiger"},{"$f":"IF(Table3[[#This Row],[Etablissement]]<>\"\",Table3[[#This Row],[Etablissement]],\"\")","v":"Hauts de Blémont Metz"},{"$f":"IF(Table3[[#This Row],[Type établissement]]<>\"\",Table3[[#This Row],[Type établissement]],\"\")","v":"C"},{"$f":"IF(Table3[[#This Row],[Académie]]<>\"\",Table3[[#This Row],[Académie]],\"\")","v":"Nancy-Metz"},{"$f":"IF(Table3[[#This Row],[Parcours choisi]]<>\"\",Table3[[#This Row],[Parcours choisi]],\"\")","v":"G"},{"$f":"IF(Table3[[#This Row],[Parcours choisi]]<>\"\",(VLOOKUP(Table35[[#Headers],[Ingénierie et conception]],'Def. Prix & Parcours'!$B$6:$E$28,IF($F22=\"G\",2,IF($F22=\"T\",3,IF($F22=\"N\",4,0))),FALSE)*Table3[[#This Row],[Points Ingénierie et conception]]),\"\")","v":66},{"$f":"IF(Table3[[#This Row],[Parcours choisi]]<>\"\",(VLOOKUP(Table35[[#Headers],[Innovation mécanique]],'Def. Prix & Parcours'!$B$6:$E$28,IF($F22=\"G\",2,IF($F22=\"T\",3,IF($F22=\"N\",4,0))),FALSE)*Table3[[#This Row],[Points Innovation mécanique]]),\"\")","v":78},{"$f":"IF(Table3[[#This Row],[Parcours choisi]]<>\"\",(VLOOKUP(Table35[[#Headers],[Développement Durable]],'Def. Prix & Parcours'!$B$6:$E$28,IF($F22=\"G\",2,IF($F22=\"T\",3,IF($F22=\"N\",4,0))),FALSE)*Table3[[#This Row],[Points Développement Durable]]),\"\")","v":80},{"$f":"IF(Table3[[#This Row],[Parcours choisi]]<>\"\",(VLOOKUP(Table35[[#Headers],[Ingénierie de fabrication]],'Def. Prix & Parcours'!$B$6:$E$28,IF($F22=\"G\",2,IF($F22=\"T\",3,IF($F22=\"N\",4,0))),FALSE)*Table3[[#This Row],[Points Ingénierie de fabrication]]),\"\")","v":42},{"$f":"IF(Table3[[#This Row],[Parcours choisi]]<>\"\",(VLOOKUP(Table35[[#Headers],[Gestion de projet et collaborations]],'Def. Prix & Parcours'!$B$6:$E$28,IF($F22=\"G\",2,IF($F22=\"T\",3,IF($F22=\"N\",4,0))),FALSE)*Table3[[#This Row],[Points Gestion de projet et \ncollaborations]]),\"\")","v":85},{"$f":"IF(Table3[[#This Row],[Parcours choisi]]<>\"\",(VLOOKUP(Table35[[#Headers],[Présentation Orale]],'Def. Prix & Parcours'!$B$6:$E$28,IF($F22=\"G\",2,IF($F22=\"T\",3,IF($F22=\"N\",4,0))),FALSE)*Table3[[#This Row],[Points Présentation Orale]]),\"\")","v":50},{"$f":"IF(Table3[[#This Row],[Parcours choisi]]<>\"\",(VLOOKUP(Table35[[#Headers],[Identité Equipe]],'Def. Prix & Parcours'!$B$6:$E$28,IF($F22=\"G\",2,IF($F22=\"T\",3,IF($F22=\"N\",4,0))),FALSE)*Table3[[#This Row],[Points Identité Equipe]]),\"\")","v":60},{"$f":"IF(Table3[[#This Row],[Parcours choisi]]<>\"\",(VLOOKUP(Table35[[#Headers],[Design du Stand]],'Def. Prix & Parcours'!$B$6:$E$28,IF($F22=\"G\",2,IF($F22=\"T\",3,IF($F22=\"N\",4,0))),FALSE)*Table3[[#This Row],[Points Design du Stand]]),\"\")","v":104},{"$f":"IF(Table3[[#This Row],[Parcours choisi]]<>\"\",(VLOOKUP(Table35[[#Headers],[Portfolio]],'Def. Prix & Parcours'!$B$6:$E$28,IF($F22=\"G\",2,IF($F22=\"T\",3,IF($F22=\"N\",4,0))),FALSE)*Table3[[#This Row],[Points Portfolio]]),\"\")","v":96},{"$f":"IF(Table3[[#This Row],[Parcours choisi]]<>\"\",(VLOOKUP(Table35[[#Headers],[Marketing et Sponsoring]],'Def. Prix & Parcours'!$B$6:$E$28,IF($F22=\"G\",2,IF($F22=\"T\",3,IF($F22=\"N\",4,0))),FALSE)*Table3[[#This Row],[Points Marketing et Sponsoring]]),\"\")","v":88},{"$f":"IF(Table3[[#This Row],[Parcours choisi]]<>\"\",(VLOOKUP(Table35[[#Headers],[Budget]],'Def. Prix & Parcours'!$B$6:$E$28,IF($F22=\"G\",2,IF($F22=\"T\",3,IF($F22=\"N\",4,0))),FALSE)*Table3[[#This Row],[Points Budget]]),\"\")","v":22},{"$f":"IF(Table3[[#This Row],[Parcours choisi]]<>\"\",(VLOOKUP(Table35[[#Headers],[Design du Véhicule]],'Def. Prix & Parcours'!$B$6:$E$28,IF($F22=\"G\",2,IF($F22=\"T\",3,IF($F22=\"N\",4,0))),FALSE)*Table3[[#This Row],[Points Design du Véhicule]]),\"\")","v":36},{"$f":"IF(Table3[[#This Row],[Parcours choisi]]<>\"\",(VLOOKUP(Table35[[#Headers],[Innovation numérique]],'Def. Prix & Parcours'!$B$6:$E$28,IF($F22=\"G\",2,IF($F22=\"T\",3,IF($F22=\"N\",4,0))),FALSE)*Table3[[#This Row],[Points Innovation numérique]]),\"\")","v":0},{"$f":"IF(Table3[[#This Row],[Parcours choisi]]<>\"\",(VLOOKUP(Table35[[#Headers],[Programmation]],'Def. Prix & Parcours'!$B$6:$E$28,IF($F22=\"G\",2,IF($F22=\"T\",3,IF($F22=\"N\",4,0))),FALSE)*Table3[[#This Row],[Points Programmation]]),\"\")","v":0},{"$f":"IF(Table3[[#This Row],[Parcours choisi]]<>\"\",(VLOOKUP(Table35[[#Headers],[Respect du règlement]],'Def. Prix & Parcours'!$B$6:$E$28,IF($F22=\"G\",2,IF($F22=\"T\",3,IF($F22=\"N\",4,0))),FALSE)*Table3[[#This Row],[Points Respect du règlement]]),\"\")","v":90},{"$f":"IF(Table3[[#This Row],[Parcours choisi]]<>\"\",(VLOOKUP(Table35[[#Headers],[Communication : vidéo]],'Def. Prix & Parcours'!$B$6:$E$28,IF($F22=\"G\",2,IF($F22=\"T\",3,IF($F22=\"N\",4,0))),FALSE)*Table3[[#This Row],[Points Communication : vidéo]]),\"\")","v":60},{"$f":"IF(Table3[[#This Row],[Parcours choisi]]<>\"\",(VLOOKUP(Table35[[#Headers],[Epreuve CAO]],'Def. Prix & Parcours'!$B$6:$E$28,IF($F22=\"G\",2,IF($F22=\"T\",3,IF($F22=\"N\",4,0))),FALSE)*Table3[[#This Row],[Points Epreuve CAO]]),\"\")","v":80},{"$f":"IF(Table3[[#This Row],[Parcours choisi]]<>\"\",(VLOOKUP(Table35[[#Headers],[Temps Réaction]],'Def. Prix & Parcours'!$B$6:$E$28,IF($F22=\"G\",2,IF($F22=\"T\",3,IF($F22=\"N\",4,0))),FALSE)*Table3[[#This Row],[Points Temps Réaction]]),\"\")","v":33},{"$f":"IF(Table3[[#This Row],[Parcours choisi]]<>\"\",(VLOOKUP(Table35[[#Headers],[Temps Course]],'Def. Prix & Parcours'!$B$6:$E$28,IF($F22=\"G\",2,IF($F22=\"T\",3,IF($F22=\"N\",4,0))),FALSE)*Table3[[#This Row],[Points Temps Course]]),\"\")","v":190},{"$f":"IF(Table3[[#This Row],[Parcours choisi]]<>\"\",(VLOOKUP(Table35[[#Headers],[Epreuve arrêt au stand]],'Def. Prix & Parcours'!$B$6:$E$28,IF($F22=\"G\",2,IF($F22=\"T\",3,IF($F22=\"N\",4,0))),FALSE)*Table3[[#This Row],[Points Epreuve arrêt au stand]]),\"\")","v":80},null,{"$f":"IF(Table3[[#This Row],[Parcours choisi]]<>\"\",SUM(Table35[[#This Row],[Ingénierie et conception]:[1]]),\"\")","v":1340},{"$f":"IF(Table3[[#This Row],[Parcours choisi]]<>\"\",_xlfn.RANK.EQ(Table35[[#This Row],[Total Parcours]],Table35[Total Parcours],0),\"\")","v":15}]
[17,{"$f":"IF(Table3[[#This Row],[Nom équipe]]<>\"\",Table3[[#This Row],[Nom équipe]],\"\")","v":"Grey"},{"$f":"IF(Table3[[#This Row],[Etablissement]]<>\"\",Table3[[#This Row],[Etablissement]],\"\")","v":"Hauts de Blémont Metz"},{"$f":"IF(Table3[[#This Row],[Type établissement]]<>\"\",Table3[[#This Row],[Type établissement]],\"\")","v":"C"},{"$f":"IF(Table3[[#This Row],[Académie]]<>\"\",Table3[[#This Row],[Académie]],\"\")","v":"Nancy-Metz"},{"$f":"IF(Table3[[#This Row],[Parcours choisi]]<>\"\",Table3[[#This Row],[Parcours choisi]],\"\")","v":"G"},{"$f":"IF(Table3[[#This Row],[Parcours choisi]]<>\"\",(VLOOKUP(Table35[[#Headers],[Ingénierie et conception]],'Def. Prix & Parcours'!$B$6:$E$28,IF($F23=\"G\",2,IF($F23=\"T\",3,IF($F23=\"N\",4,0))),FALSE)*Table3[[#This Row],[Points Ingénierie et conception]]),\"\")","v":60},{"$f":"IF(Table3[[#This Row],[Parcours choisi]]<>\"\",(VLOOKUP(Table35[[#Headers],[Innovation mécanique]],'Def. Prix & Parcours'!$B$6:$E$28,IF($F23=\"G\",2,IF($F23=\"T\",3,IF($F23=\"N\",4,0))),FALSE)*Table3[[#This Row],[Points Innovation mécanique]]),\"\")","v":48},{"$f":"IF(Table3[[#This Row],[Parcours choisi]]<>\"\",(VLOOKUP(Table35[[#Headers],[Développement Durable]],'Def. Prix & Parcours'!$B$6:$E$28,IF($F23=\"G\",2,IF($F23=\"T\",3,IF($F23=\"N\",4,0))),FALSE)*Table3[[#This Row],[Points Développement Durable]]),\"\")","v":44},{"$f":"IF(Table3[[#This Row],[Parcours choisi]]<>\"\",(VLOOKUP(Table35[[#Headers],[Ingénierie de fabrication]],'Def. Prix & Parcours'!$B$6:$E$28,IF($F23=\"G\",2,IF($F23=\"T\",3,IF($F23=\"N\",4,0))),FALSE)*Table3[[#This Row],[Points Ingénierie de fabrication]]),\"\")","v":33},{"$f":"IF(Table3[[#This Row],[Parcours choisi]]<>\"\",(VLOOKUP(Table35[[#Headers],[Gestion de projet et collaborations]],'Def. Prix & Parcours'!$B$6:$E$28,IF($F23=\"G\",2,IF($F23=\"T\",3,IF($F23=\"N\",4,0))),FALSE)*Table3[[#This Row],[Points Gestion de projet et \ncollaborations]]),\"\")","v":75},{"$f":"IF(Table3[[#This Row],[Parcours choisi]]<>\"\",(VLOOKUP(Table35[[#Headers],[Présentation Orale]],'Def. Prix & Parcours'!$B$6:$E$28,IF($F23=\"G\",2,IF($F23=\"T\",3,IF($F23=\"N\",4,0))),FALSE)*Table3[[#This Row],[Points Présentation Orale]]),\"\")","v":55},{"$f":"IF(Table3[[#This Row],[Parcours choisi]]<>\"\",(VLOOKUP(Table35[[#Headers],[Identité Equipe]],'Def. Prix & Parcours'!$B$6:$E$28,IF($F23=\"G\",2,IF($F23=\"T\",3,IF($F23=\"N\",4,0))),FALSE)*Table3[[#This Row],[Points Identité Equipe]]),\"\")","v":80},{"$f":"IF(Table3[[#This Row],[Parcours choisi]]<>\"\",(VLOOKUP(Table35[[#Headers],[Design du Stand]],'Def. Prix & Parcours'!$B$6:$E$28,IF($F23=\"G\",2,IF($F23=\"T\",3,IF($F23=\"N\",4,0))),FALSE)*Table3[[#This Row],[Points Design du Stand]]),\"\")","v":128},{"$f":"IF(Table3[[#This Row],[Parcours choisi]]<>\"\",(VLOOKUP(Table35[[#Headers],[Portfolio]],'Def. Prix & Parcours'!$B$6:$E$28,IF($F23=\"G\",2,IF($F23=\"T\",3,IF($F23=\"N\",4,0))),FALSE)*Table3[[#This Row],[Points Portfolio]]),\"\")","v":104},{"$f":"IF(Table3[[#This Row],[Parcours choisi]]<>\"\",(VLOOKUP(Table35[[#Headers],[Marketing et Sponsoring]],'Def. Prix & Parcours'!$B$6:$E$28,IF($F23=\"G\",2,IF($F23=\"T\",3,IF($F23=\"N\",4,0))),FALSE)*Table3[[#This Row],[Points Marketing et Sponsoring]]),\"\")","v":104},{"$f":"IF(Table3[[#This Row],[Parcours choisi]]<>\"\",(VLOOKUP(Table35[[#Headers],[Budget]],'Def. Prix & Parcours'!$B$6:$E$28,IF($F23=\"G\",2,IF($F23=\"T\",3,IF($F23=\"N\",4,0))),FALSE)*Table3[[#This Row],[Points Budget]]),\"\")","v":22},{"$f":"IF(Table3[[#This Row],[Parcours choisi]]<>\"\",(VLOOKUP(Table35[[#Headers],[Design du Véhicule]],'Def. Prix & Parcours'!$B$6:$E$28,IF($F23=\"G\",2,IF($F23=\"T\",3,IF($F23=\"N\",4,0))),FALSE)*Table3[[#This Row],[Points Design du Véhicule]]),\"\")","v":39},{"$f":"IF(Table3[[#This Row],[Parcours choisi]]<>\"\",(VLOOKUP(Table35[[#Headers],[Innovation numérique]],'Def. Prix & Parcours'!$B$6:$E$28,IF($F23=\"G\",2,IF($F23=\"T\",3,IF($F23=\"N\",4,0))),FALSE)*Table3[[#This Row],[Points Innovation numérique]]),\"\")","v":0},{"$f":"IF(Table3[[#This Row],[Parcours choisi]]<>\"\",(VLOOKUP(Table35[[#Headers],[Programmation]],'Def. Prix & Parcours'!$B$6:$E$28,IF($F23=\"G\",2,IF($F23=\"T\",3,IF($F23=\"N\",4,0))),FALSE)*Table3[[#This Row],[Points Programmation]]),\"\")","v":0},{"$f":"IF(Table3[[#This Row],[Parcours choisi]]<>\"\",(VLOOKUP(Table35[[#Headers],[Respect du règlement]],'Def. Prix & Parcours'!$B$6:$E$28,IF($F23=\"G\",2,IF($F23=\"T\",3,IF($F23=\"N\",4,0))),FALSE)*Table3[[#This Row],[Points Respect du règlement]]),\"\")","v":80},{"$f":"IF(Table3[[#This Row],[Parcours choisi]]<>\"\",(VLOOKUP(Table35[[#Headers],[Communication : vidéo]],'Def. Prix & Parcours'!$B$6:$E$28,IF($F23=\"G\",2,IF($F23=\"T\",3,IF($F23=\"N\",4,0))),FALSE)*Table3[[#This Row],[Points Communication : vidéo]]),\"\")","v":42},{"$f":"IF(Table3[[#This Row],[Parcours choisi]]<>\"\",(VLOOKUP(Table35[[#Headers],[Epreuve CAO]],'Def. Prix & Parcours'!$B$6:$E$28,IF($F23=\"G\",2,IF($F23=\"T\",3,IF($F23=\"N\",4,0))),FALSE)*Table3[[#This Row],[Points Epreuve CAO]]),\"\")","v":80},{"$f":"IF(Table3[[#This Row],[Parcours choisi]]<>\"\",(VLOOKUP(Table35[[#Headers],[Temps Réaction]],'Def. Prix & Parcours'!$B$6:$E$28,IF($F23=\"G\",2,IF($F23=\"T\",3,IF($F23=\"N\",4,0))),FALSE)*Table3[[#This Row],[Points Temps Réaction]]),\"\")","v":48},{"$f":"IF(Table3[[#This Row],[Parcours choisi]]<>\"\",(VLOOKUP(Table35[[#Headers],[Temps Course]],'Def. Prix & Parcours'!$B$6:$E$28,IF($F23=\"G\",2,IF($F23=\"T\",3,IF($F23=\"N\",4,0))),FALSE)*Table3[[#This Row],[Points Temps Course]]),\"\")","v":130},{"$f":"IF(Table3[[#This Row],[Parcours choisi]]<>\"\",(VLOOKUP(Table35[[#Headers],[Epreuve arrêt au stand]],'Def. Prix & Parcours'!$B$6:$E$28,IF($F23=\"G\",2,IF($F23=\"T\",3,IF($F23=\"N\",4,0))),FALSE)*Table3[[#This Row],[Points Epreuve arrêt au stand]]),\"\")","v":80},null,{"$f":"IF(Table3[[#This Row],[Parcours choisi]]<>\"\",SUM(Table35[[#This Row],[Ingénierie et conception]:[1]]),\"\")","v":1252},{"$f":"IF(Table3[[#This Row],[Parcours choisi]]<>\"\",_xlfn.RANK.EQ(Table35[[#This Row],[Total Parcours]],Table35[Total Parcours],0),\"\")","v":19}]
[18,{"$f":"IF(Table3[[#This Row],[Nom équipe]]<>\"\",Table3[[#This Row],[Nom équipe]],\"\")","v":"Danger"},{"$f":"IF(Table3[[#This Row],[Etablissement]]<>\"\",Table3[[#This Row],[Etablissement]],\"\")","v":"Hauts de Blémont Metz"},{"$f":"IF(Table3[[#This Row],[Type établissement]]<>\"\",Table3[[#This Row],[Type établissement]],\"\")","v":"C"},{"$f":"IF(Table3[[#This Row],[Académie]]<>\"\",Table3[[#This Row],[Académie]],\"\")","v":"Nancy-Metz"},{"$f":"IF(Table3[[#This Row],[Parcours choisi]]<>\"\",Table3[[#This Row],[Parcours choisi]],\"\")","v":"G"},{"$f":"IF(Table3[[#This Row],[Parcours choisi]]<>\"\",(VLOOKUP(Table35[[#Headers],[Ingénierie et conception]],'Def. Prix & Parcours'!$B$6:$E$28,IF($F24=\"G\",2,IF($F24=\"T\",3,IF($F24=\"N\",4,0))),FALSE)*Table3[[#This Row],[Points Ingénierie et conception]]),\"\")","v":54},{"$f":"IF(Table3[[#This Row],[Parcours choisi]]<>\"\",(VLOOKUP(Table35[[#Headers],[Innovation mécanique]],'Def. Prix & Parcours'!$B$6:$E$28,IF($F24=\"G\",2,IF($F24=\"T\",3,IF($F24=\"N\",4,0))),FALSE)*Table3[[#This Row],[Points Innovation mécanique]]),\"\")","v":54},{"$f":"IF(Table3[[#This Row],[Parcours choisi]]<>\"\",(VLOOKUP(Table35[[#Headers],[Développement Durable]],'Def. Prix & Parcours'!$B$6:$E$28,IF($F24=\"G\",2,IF($F24=\"T\",3,IF($F24=\"N\",4,0))),FALSE)*Table3[[#This Row],[Points Développement Durable]]),\"\")","v":56},{"$f":"IF(Table3[[#This Row],[Parcours choisi]]<>\"\",(VLOOKUP(Table35[[#Headers],[Ingénierie de fabrication]],'Def. Prix & Parcours'!$B$6:$E$28,IF($F24=\"G\",2,IF($F24=\"T\",3,IF($F24=\"N\",4,0))),FALSE)*Table3[[#This Row],[Points Ingénierie de fabrication]]),\"\")","v":39},{"$f":"IF(Table3[[#This Row],[Parcours choisi]]<>\"\",(VLOOKUP(Table35[[#Headers],[Gestion de projet et collaborations]],'Def. Prix & Parcours'!$B$6:$E$28,IF($F24=\"G\",2,IF($F24=\"T\",3,IF($F24=\"N\",4,0))),FALSE)*Table3[[#This Row],[Points Gestion de projet et \ncollaborations]]),\"\")","v":35},{"$f":"IF(Table3[[#This Row],[Parcours choisi]]<>\"\",(VLOOKUP(Table35[[#Headers],[Présentation Orale]],'Def. Prix & Parcours'!$B$6:$E$28,IF($F24=\"G\",2,IF($F24=\"T\",3,IF($F24=\"N\",4,0))),FALSE)*Table3[[#This Row],[Points Présentation Orale]]),\"\")","v":70},{"$f":"IF(Table3[[#This Row],[Parcours choisi]]<>\"\",(VLOOKUP(Table35[[#Headers],[Identité Equipe]],'Def. Prix & Parcours'!$B$6:$E$28,IF($F24=\"G\",2,IF($F24=\"T\",3,IF($F24=\"N\",4,0))),FALSE)*Table3[[#This Row],[Points Identité Equipe]]),\"\")","v":85},{"$f":"IF(Table3[[#This Row],[Parcours choisi]]<>\"\",(VLOOKUP(Table35[[#Headers],[Design du Stand]],'Def. Prix & Parcours'!$B$6:$E$28,IF($F24=\"G\",2,IF($F24=\"T\",3,IF($F24=\"N\",4,0))),FALSE)*Table3[[#This Row],[Points Design du Stand]]),\"\")","v":136},{"$f":"IF(Table3[[#This Row],[Parcours choisi]]<>\"\",(VLOOKUP(Table35[[#Headers],[Portfolio]],'Def. Prix & Parcours'!$B$6:$E$28,IF($F24=\"G\",2,IF($F24=\"T\",3,IF($F24=\"N\",4,0))),FALSE)*Table3[[#This Row],[Points Portfolio]]),\"\")","v":112},{"$f":"IF(Table3[[#This Row],[Parcours choisi]]<>\"\",(VLOOKUP(Table35[[#Headers],[Marketing et Sponsoring]],'Def. Prix & Parcours'!$B$6:$E$28,IF($F24=\"G\",2,IF($F24=\"T\",3,IF($F24=\"N\",4,0))),FALSE)*Table3[[#This Row],[Points Marketing et Sponsoring]]),\"\")","v":80},{"$f":"IF(Table3[[#This Row],[Parcours choisi]]<>\"\",(VLOOKUP(Table35[[#Headers],[Budget]],'Def. Prix & Parcours'!$B$6:$E$28,IF($F24=\"G\",2,IF($F24=\"T\",3,IF($F24=\"N\",4,0))),FALSE)*Table3[[#This Row],[Points Budget]]),\"\")","v":26},{"$f":"IF(Table3[[#This Row],[Parcours choisi]]<>\"\",(VLOOKUP(Table35[[#Headers],[Design du Véhicule]],'Def. Prix & Parcours'!$B$6:$E$28,IF($F24=\"G\",2,IF($F24=\"T\",3,IF($F24=\"N\",4,0))),FALSE)*Table3[[#This Row],[Points Design du Véhicule]]),\"\")","v":42},{"$f":"IF(Table3[[#This Row],[Parcours choisi]]<>\"\",(VLOOKUP(Table35[[#Headers],[Innovation numérique]],'Def. Prix & Parcours'!$B$6:$E$28,IF($F24=\"G\",2,IF($F24=\"T\",3,IF($F24=\"N\",4,0))),FALSE)*Table3[[#This Row],[Points Innovation numérique]]),\"\")","v":28},{"$f":"IF(Table3[[#This Row],[Parcours choisi]]<>\"\",(VLOOKUP(Table35[[#Headers],[Programmation]],'Def. Prix & Parcours'!$B$6:$E$28,IF($F24=\"G\",2,IF($F24=\"T\",3,IF($F24=\"N\",4,0))),FALSE)*Table3[[#This Row],[Points Programmation]]),\"\")","v":16},{"$f":"IF(Table3[[#This Row],[Parcours choisi]]<>\"\",(VLOOKUP(Table35[[#Headers],[Respect du règlement]],'Def. Prix & Parcours'!$B$6:$E$28,IF($F24=\"G\",2,IF($F24=\"T\",3,IF($F24=\"N\",4,0))),FALSE)*Table3[[#This Row],[Points Respect du règlement]]),\"\")","v":80},{"$f":"IF(Table3[[#This Row],[Parcours choisi]]<>\"\",(VLOOKUP(Table35[[#Headers],[Communication : vidéo]],'Def. Prix & Parcours'!$B$6:$E$28,IF($F24=\"G\",2,IF($F24=\"T\",3,IF($F24=\"N\",4,0))),FALSE)*Table3[[#This Row],[Points Communication : vidéo]]),\"\")","v":39},{"$f":"IF(Table3[[#This Row],[Parcours choisi]]<>\"\",(VLOOKUP(Table35[[#Headers],[Epreuve CAO]],'Def. Prix & Parcours'!$B$6:$E$28,IF($F24=\"G\",2,IF($F24=\"T\",3,IF($F24=\"N\",4,0))),FALSE)*Table3[[#This Row],[Points Epreuve CAO]]),\"\")","v":80},{"$f":"IF(Table3[[#This Row],[Parcours choisi]]<>\"\",(VLOOKUP(Table35[[#Headers],[Temps Réaction]],'Def. Prix & Parcours'!$B$6:$E$28,IF($F24=\"G\",2,IF($F24=\"T\",3,IF($F24=\"N\",4,0))),FALSE)*Table3[[#This Row],[Points Temps Réaction]]),\"\")","v":33},{"$f":"IF(Table3[[#This Row],[Parcours choisi]]<>\"\",(VLOOKUP(Table35[[#Headers],[Temps Course]],'Def. Prix & Parcours'!$B$6:$E$28,IF($F24=\"G\",2,IF($F24=\"T\",3,IF($F24=\"N\",4,0))),FALSE)*Table3[[#This Row],[Points Temps Course]]),\"\")","v":80},{"$f":"IF(Table3[[#This Row],[Parcours choisi]]<>\"\",(VLOOKUP(Table35[[#Headers],[Epreuve arrêt au stand]],'Def. Prix & Parcours'!$B$6:$E$28,IF($F24=\"G\",2,IF($F24=\"T\",3,IF($F24=\"N\",4,0))),FALSE)*Table3[[#This Row],[Points Epreuve arrêt au stand]]),\"\")","v":80},null,{"$f":"IF(Table3[[#This Row],[Parcours choisi]]<>\"\",SUM(Table35[[#This Row],[Ingénierie et conception]:[1]]),\"\")","v":1225},{"$f":"IF(Table3[[#This Row],[Parcours choisi]]<>\"\",_xlfn.RANK.EQ(Table35[[#This Row],[Total Parcours]],Table35[Total Parcours],0),\"\")","v":21}]
[19,{"$f":"IF(Table3[[#This Row],[Nom équipe]]<>\"\",Table3[[#This Row],[Nom équipe]],\"\")","v":"Scott"},{"$f":"IF(Table3[[#This Row],[Etablissement]]<>\"\",Table3[[#This Row],[Etablissement]],\"\")","v":"Hauts de Blémont Metz"},{"$f":"IF(Table3[[#This Row],[Type établissement]]<>\"\",Table3[[#This Row],[Type établissement]],\"\")","v":"C"},{"$f":"IF(Table3[[#This Row],[Académie]]<>\"\",Table3[[#This Row],[Académie]],\"\")","v":"Nancy-Metz"},{"$f":"IF(Table3[[#This Row],[Parcours choisi]]<>\"\",Table3[[#This Row],[Parcours choisi]],\"\")","v":"G"},{"$f":"IF(Table3[[#This Row],[Parcours choisi]]<>\"\",(VLOOKUP(Table35[[#Headers],[Ingénierie et conception]],'Def. Prix & Parcours'!$B$6:$E$28,IF($F25=\"G\",2,IF($F25=\"T\",3,IF($F25=\"N\",4,0))),FALSE)*Table3[[#This Row],[Points Ingénierie et conception]]),\"\")","v":66},{"$f":"IF(Table3[[#This Row],[Parcours choisi]]<>\"\",(VLOOKUP(Table35[[#Headers],[Innovation mécanique]],'Def. Prix & Parcours'!$B$6:$E$28,IF($F25=\"G\",2,IF($F25=\"T\",3,IF($F25=\"N\",4,0))),FALSE)*Table3[[#This Row],[Points Innovation mécanique]]),\"\")","v":84},{"$f":"IF(Table3[[#This Row],[Parcours choisi]]<>\"\",(VLOOKUP(Table35[[#Headers],[Développement Durable]],'Def. Prix & Parcours'!$B$6:$E$28,IF($F25=\"G\",2,IF($F25=\"T\",3,IF($F25=\"N\",4,0))),FALSE)*Table3[[#This Row],[Points Développement Durable]]),\"\")","v":44},{"$f":"IF(Table3[[#This Row],[Parcours choisi]]<>\"\",(VLOOKUP(Table35[[#Headers],[Ingénierie de fabrication]],'Def. Prix & Parcours'!$B$6:$E$28,IF($F25=\"G\",2,IF($F25=\"T\",3,IF($F25=\"N\",4,0))),FALSE)*Table3[[#This Row],[Points Ingénierie de fabrication]]),\"\")","v":36},{"$f":"IF(Table3[[#This Row],[Parcours choisi]]<>\"\",(VLOOKUP(Table35[[#Headers],[Gestion de projet et collaborations]],'Def. Prix & Parcours'!$B$6:$E$28,IF($F25=\"G\",2,IF($F25=\"T\",3,IF($F25=\"N\",4,0))),FALSE)*Table3[[#This Row],[Points Gestion de projet et \ncollaborations]]),\"\")","v":75},{"$f":"IF(Table3[[#This Row],[Parcours choisi]]<>\"\",(VLOOKUP(Table35[[#Headers],[Présentation Orale]],'Def. Prix & Parcours'!$B$6:$E$28,IF($F25=\"G\",2,IF($F25=\"T\",3,IF($F25=\"N\",4,0))),FALSE)*Table3[[#This Row],[Points Présentation Orale]]),\"\")","v":45},{"$f":"IF(Table3[[#This Row],[Parcours choisi]]<>\"\",(VLOOKUP(Table35[[#Headers],[Identité Equipe]],'Def. Prix & Parcours'!$B$6:$E$28,IF($F25=\"G\",2,IF($F25=\"T\",3,IF($F25=\"N\",4,0))),FALSE)*Table3[[#This Row],[Points Identité Equipe]]),\"\")","v":90},{"$f":"IF(Table3[[#This Row],[Parcours choisi]]<>\"\",(VLOOKUP(Table35[[#Headers],[Design du Stand]],'Def. Prix & Parcours'!$B$6:$E$28,IF($F25=\"G\",2,IF($F25=\"T\",3,IF($F25=\"N\",4,0))),FALSE)*Table3[[#This Row],[Points Design du Stand]]),\"\")","v":128},{"$f":"IF(Table3[[#This Row],[Parcours choisi]]<>\"\",(VLOOKUP(Table35[[#Headers],[Portfolio]],'Def. Prix & Parcours'!$B$6:$E$28,IF($F25=\"G\",2,IF($F25=\"T\",3,IF($F25=\"N\",4,0))),FALSE)*Table3[[#This Row],[Points Portfolio]]),\"\")","v":144},{"$f":"IF(Table3[[#This Row],[Parcours choisi]]<>\"\",(VLOOKUP(Table35[[#Headers],[Marketing et Sponsoring]],'Def. Prix & Parcours'!$B$6:$E$28,IF($F25=\"G\",2,IF($F25=\"T\",3,IF($F25=\"N\",4,0))),FALSE)*Table3[[#This Row],[Points Marketing et Sponsoring]]),\"\")","v":144},{"$f":"IF(Table3[[#This Row],[Parcours choisi]]<>\"\",(VLOOKUP(Table35[[#Headers],[Budget]],'Def. Prix & Parcours'!$B$6:$E$28,IF($F25=\"G\",2,IF($F25=\"T\",3,IF($F25=\"N\",4,0))),FALSE)*Table3[[#This Row],[Points Budget]]),\"\")","v":36},{"$f":"IF(Table3[[#This Row],[Parcours choisi]]<>\"\",(VLOOKUP(Table35[[#Headers],[Design du Véhicule]],'Def. Prix & Parcours'!$B$6:$E$28,IF($F25=\"G\",2,IF($F25=\"T\",3,IF($F25=\"N\",4,0))),FALSE)*Table3[[#This Row],[Points Design du Véhicule]]),\"\")","v":54},{"$f":"IF(Table3[[#This Row],[Parcours choisi]]<>\"\",(VLOOKUP(Table35[[#Headers],[Innovation numérique]],'Def. Prix & Parcours'!$B$6:$E$28,IF($F25=\"G\",2,IF($F25=\"T\",3,IF($F25=\"N\",4,0))),FALSE)*Table3[[#This Row],[Points Innovation numérique]]),\"\")","v":0},{"$f":"IF(Table3[[#This Row],[Parcours choisi]]<>\"\",(VLOOKUP(Table35[[#Headers],[Programmation]],'Def. Prix & Parcours'!$B$6:$E$28,IF($F25=\"G\",2,IF($F25=\"T\",3,IF($F25=\"N\",4,0))),FALSE)*Table3[[#This Row],[Points Programmation]]),\"\")","v":0},{"$f":"IF(Table3[[#This Row],[Parcours choisi]]<>\"\",(VLOOKUP(Table35[[#Headers],[Respect du règlement]],'Def. Prix & Parcours'!$B$6:$E$28,IF($F25=\"G\",2,IF($F25=\"T\",3,IF($F25=\"N\",4,0))),FALSE)*Table3[[#This Row],[Points Respect du règlement]]),\"\")","v":80},{"$f":"IF(Table3[[#This Row],[Parcours choisi]]<>\"\",(VLOOKUP(Table35[[#Headers],[Communication : vidéo]],'Def. Prix & Parcours'!$B$6:$E$28,IF($F25=\"G\",2,IF($F25=\"T\",3,IF($F25=\"N\",4,0))),FALSE)*Table3[[#This Row],[Points Communication : vidéo]]),\"\")","v":54},{"$f":"IF(Table3[[#This Row],[Parcours choisi]]<>\"\",(VLOOKUP(Table35[[#Headers],[Epreuve CAO]],'Def. Prix & Parcours'!$B$6:$E$28,IF($F25=\"G\",2,IF($F25=\"T\",3,IF($F25=\"N\",4,0))),FALSE)*Table3[[#This Row],[Points Epreuve CAO]]),\"\")","v":80},{"$f":"IF(Table3[[#This Row],[Parcours choisi]]<>\"\",(VLOOKUP(Table35[[#Headers],[Temps Réaction]],'Def. Prix & Parcours'!$B$6:$E$28,IF($F25=\"G\",2,IF($F25=\"T\",3,IF($F25=\"N\",4,0))),FALSE)*Table3[[#This Row],[Points Temps Réaction]]),\"\")","v":12},{"$f":"IF(Table3[[#This Row],[Parcours choisi]]<>\"\",(VLOOKUP(Table35[[#Headers],[Temps Course]],'Def. Prix & Parcours'!$B$6:$E$28,IF($F25=\"G\",2,IF($F25=\"T\",3,IF($F25=\"N\",4,0))),FALSE)*Table3[[#This Row],[Points Temps Course]]),\"\")","v":90},{"$f":"IF(Table3[[#This Row],[Parcours choisi]]<>\"\",(VLOOKUP(Table35[[#Headers],[Epreuve arrêt au stand]],'Def. Prix & Parcours'!$B$6:$E$28,IF($F25=\"G\",2,IF($F25=\"T\",3,IF($F25=\"N\",4,0))),FALSE)*Table3[[#This Row],[Points Epreuve arrêt au stand]]),\"\")","v":80},null,{"$f":"IF(Table3[[#This Row],[Parcours choisi]]<>\"\",SUM(Table35[[#This Row],[Ingénierie et conception]:[1]]),\"\")","v":1342},{"$f":"IF(Table3[[#This Row],[Parcours choisi]]<>\"\",_xlfn.RANK.EQ(Table35[[#This Row],[Total Parcours]],Table35[Total Parcours],0),\"\")","v":14}]
[20,{"$f":"IF(Table3[[#This Row],[Nom équipe]]<>\"\",Table3[[#This Row],[Nom équipe]],\"\")","v":"Amercan's 70"},{"$f":"IF(Table3[[#This Row],[Etablissement]]<>\"\",Table3[[#This Row],[Etablissement]],\"\")","v":"A. Dreux Folschviller"},{"$f":"IF(Table3[[#This Row],[Type établissement]]<>\"\",Table3[[#This Row],[Type établissement]],\"\")","v":"C"},{"$f":"IF(Table3[[#This Row],[Académie]]<>\"\",Table3[[#This Row],[Académie]],\"\")","v":"Nancy-Metz"},{"$f":"IF(Table3[[#This Row],[Parcours choisi]]<>\"\",Table3[[#This Row],[Parcours choisi]],\"\")","v":"G"},{"$f":"IF(Table3[[#This Row],[Parcours choisi]]<>\"\",(VLOOKUP(Table35[[#Headers],[Ingénierie et conception]],'Def. Prix & Parcours'!$B$6:$E$28,IF($F26=\"G\",2,IF($F26=\"T\",3,IF($F26=\"N\",4,0))),FALSE)*Table3[[#This Row],[Points Ingénierie et conception]]),\"\")","v":78},{"$f":"IF(Table3[[#This Row],[Parcours choisi]]<>\"\",(VLOOKUP(Table35[[#Headers],[Innovation mécanique]],'Def. Prix & Parcours'!$B$6:$E$28,IF($F26=\"G\",2,IF($F26=\"T\",3,IF($F26=\"N\",4,0))),FALSE)*Table3[[#This Row],[Points Innovation mécanique]]),\"\")","v":78},{"$f":"IF(Table3[[#This Row],[Parcours choisi]]<>\"\",(VLOOKUP(Table35[[#Headers],[Développement Durable]],'Def. Prix & Parcours'!$B$6:$E$28,IF($F26=\"G\",2,IF($F26=\"T\",3,IF($F26=\"N\",4,0))),FALSE)*Table3[[#This Row],[Points Développement Durable]]),\"\")","v":64},{"$f":"IF(Table3[[#This Row],[Parcours choisi]]<>\"\",(VLOOKUP(Table35[[#Headers],[Ingénierie de fabrication]],'Def. Prix & Parcours'!$B$6:$E$28,IF($F26=\"G\",2,IF($F26=\"T\",3,IF($F26=\"N\",4,0))),FALSE)*Table3[[#This Row],[Points Ingénierie de fabrication]]),\"\")","v":48},{"$f":"IF(Table3[[#This Row],[Parcours choisi]]<>\"\",(VLOOKUP(Table35[[#Headers],[Gestion de projet et collaborations]],'Def. Prix & Parcours'!$B$6:$E$28,IF($F26=\"G\",2,IF($F26=\"T\",3,IF($F26=\"N\",4,0))),FALSE)*Table3[[#This Row],[Points Gestion de projet et \ncollaborations]]),\"\")","v":70},{"$f":"IF(Table3[[#This Row],[Parcours choisi]]<>\"\",(VLOOKUP(Table35[[#Headers],[Présentation Orale]],'Def. Prix & Parcours'!$B$6:$E$28,IF($F26=\"G\",2,IF($F26=\"T\",3,IF($F26=\"N\",4,0))),FALSE)*Table3[[#This Row],[Points Présentation Orale]]),\"\")","v":60},{"$f":"IF(Table3[[#This Row],[Parcours choisi]]<>\"\",(VLOOKUP(Table35[[#Headers],[Identité Equipe]],'Def. Prix & Parcours'!$B$6:$E$28,IF($F26=\"G\",2,IF($F26=\"T\",3,IF($F26=\"N\",4,0))),FALSE)*Table3[[#This Row],[Points Identité Equipe]]),\"\")","v":60},{"$f":"IF(Table3[[#This Row],[Parcours choisi]]<>\"\",(VLOOKUP(Table35[[#Headers],[Design du Stand]],'Def. Prix & Parcours'!$B$6:$E$28,IF($F26=\"G\",2,IF($F26=\"T\",3,IF($F26=\"N\",4,0))),FALSE)*Table3[[#This Row],[Points Design du Stand]]),\"\")","v":96},{"$f":"IF(Table3[[#This Row],[Parcours choisi]]<>\"\",(VLOOKUP(Table35[[#Headers],[Portfolio]],'Def. Prix & Parcours'!$B$6:$E$28,IF($F26=\"G\",2,IF($F26=\"T\",3,IF($F26=\"N\",4,0))),FALSE)*Table3[[#This Row],[Points Portfolio]]),\"\")","v":80},{"$f":"IF(Table3[[#This Row],[Parcours choisi]]<>\"\",(VLOOKUP(Table35[[#Headers],[Marketing et Sponsoring]],'Def. Prix & Parcours'!$B$6:$E$28,IF($F26=\"G\",2,IF($F26=\"T\",3,IF($F26=\"N\",4,0))),FALSE)*Table3[[#This Row],[Points Marketing et Sponsoring]]),\"\")","v":56},{"$f":"IF(Table3[[#This Row],[Parcours choisi]]<>\"\",(VLOOKUP(Table35[[#Headers],[Budget]],'Def. Prix & Parcours'!$B$6:$E$28,IF($F26=\"G\",2,IF($F26=\"T\",3,IF($F26=\"N\",4,0))),FALSE)*Table3[[#This Row],[Points Budget]]),\"\")","v":8},{"$f":"IF(Table3[[#This Row],[Parcours choisi]]<>\"\",(VLOOKUP(Table35[[#Headers],[Design du Véhicule]],'Def. Prix & Parcours'!$B$6:$E$28,IF($F26=\"G\",2,IF($F26=\"T\",3,IF($F26=\"N\",4,0))),FALSE)*Table3[[#This Row],[Points Design du Véhicule]]),\"\")","v":36},{"$f":"IF(Table3[[#This Row],[Parcours choisi]]<>\"\",(VLOOKUP(Table35[[#Headers],[Innovation numérique]],'Def. Prix & Parcours'!$B$6:$E$28,IF($F26=\"G\",2,IF($F26=\"T\",3,IF($F26=\"N\",4,0))),FALSE)*Table3[[#This Row],[Points Innovation numérique]]),\"\")","v":12},{"$f":"IF(Table3[[#This Row],[Parcours choisi]]<>\"\",(VLOOKUP(Table35[[#Headers],[Programmation]],'Def. Prix & Parcours'!$B$6:$E$28,IF($F26=\"G\",2,IF($F26=\"T\",3,IF($F26=\"N\",4,0))),FALSE)*Table3[[#This Row],[Points Programmation]]),\"\")","v":0},{"$f":"IF(Table3[[#This Row],[Parcours choisi]]<>\"\",(VLOOKUP(Table35[[#Headers],[Respect du règlement]],'Def. Prix & Parcours'!$B$6:$E$28,IF($F26=\"G\",2,IF($F26=\"T\",3,IF($F26=\"N\",4,0))),FALSE)*Table3[[#This Row],[Points Respect du règlement]]),\"\")","v":70},{"$f":"IF(Table3[[#This Row],[Parcours choisi]]<>\"\",(VLOOKUP(Table35[[#Headers],[Communication : vidéo]],'Def. Prix & Parcours'!$B$6:$E$28,IF($F26=\"G\",2,IF($F26=\"T\",3,IF($F26=\"N\",4,0))),FALSE)*Table3[[#This Row],[Points Communication : vidéo]]),\"\")","v":48},{"$f":"IF(Table3[[#This Row],[Parcours choisi]]<>\"\",(VLOOKUP(Table35[[#Headers],[Epreuve CAO]],'Def. Prix & Parcours'!$B$6:$E$28,IF($F26=\"G\",2,IF($F26=\"T\",3,IF($F26=\"N\",4,0))),FALSE)*Table3[[#This Row],[Points Epreuve CAO]]),\"\")","v":80},{"$f":"IF(Table3[[#This Row],[Parcours choisi]]<>\"\",(VLOOKUP(Table35[[#Headers],[Temps Réaction]],'Def. Prix & Parcours'!$B$6:$E$28,IF($F26=\"G\",2,IF($F26=\"T\",3,IF($F26=\"N\",4,0))),FALSE)*Table3[[#This Row],[Points Temps Réaction]]),\"\")","v":24},{"$f":"IF(Table3[[#This Row],[Parcours choisi]]<>\"\",(VLOOKUP(Table35[[#Headers],[Temps Course]],'Def. Prix & Parcours'!$B$6:$E$28,IF($F26=\"G\",2,IF($F26=\"T\",3,IF($F26=\"N\",4,0))),FALSE)*Table3[[#This Row],[Points Temps Course]]),\"\")","v":80},{"$f":"IF(Table3[[#This Row],[Parcours choisi]]<>\"\",(VLOOKUP(Table35[[#Headers],[Epreuve arrêt au stand]],'Def. Prix & Parcours'!$B$6:$E$28,IF($F26=\"G\",2,IF($F26=\"T\",3,IF($F26=\"N\",4,0))),FALSE)*Table3[[#This Row],[Points Epreuve arrêt au stand]]),\"\")","v":80},null,{"$f":"IF(Table3[[#This Row],[Parcours choisi]]<>\"\",SUM(Table35[[#This Row],[Ingénierie et conception]:[1]]),\"\")","v":1128},{"$f":"IF(Table3[[#This Row],[Parcours choisi]]<>\"\",_xlfn.RANK.EQ(Table35[[#This Row],[Total Parcours]],Table35[Total Parcours],0),\"\")","v":22}]
[21,{"$f":"IF(Table3[[#This Row],[Nom équipe]]<>\"\",Table3[[#This Row],[Nom équipe]],\"\")","v":"Les 80's"},{"$f":"IF(Table3[[#This Row],[Etablissement]]<>\"\",Table3[[#This Row],[Etablissement]],\"\")","v":"A. Dreux Folschviller"},{"$f":"IF(Table3[[#This Row],[Type établissement]]<>\"\",Table3[[#This Row],[Type établissement]],\"\")","v":"C"},{"$f":"IF(Table3[[#This Row],[Académie]]<>\"\",Table3[[#This Row],[Académie]],\"\")","v":"Nancy-Metz"},{"$f":"IF(Table3[[#This Row],[Parcours choisi]]<>\"\",Table3[[#This Row],[Parcours choisi]],\"\")","v":"G"},{"$f":"IF(Table3[[#This Row],[Parcours choisi]]<>\"\",(VLOOKUP(Table35[[#Headers],[Ingénierie et conception]],'Def. Prix & Parcours'!$B$6:$E$28,IF($F27=\"G\",2,IF($F27=\"T\",3,IF($F27=\"N\",4,0))),FALSE)*Table3[[#This Row],[Points Ingénierie et conception]]),\"\")","v":84},{"$f":"IF(Table3[[#This Row],[Parcours choisi]]<>\"\",(VLOOKUP(Table35[[#Headers],[Innovation mécanique]],'Def. Prix & Parcours'!$B$6:$E$28,IF($F27=\"G\",2,IF($F27=\"T\",3,IF($F27=\"N\",4,0))),FALSE)*Table3[[#This Row],[Points Innovation mécanique]]),\"\")","v":72},{"$f":"IF(Table3[[#This Row],[Parcours choisi]]<>\"\",(VLOOKUP(Table35[[#Headers],[Développement Durable]],'Def. Prix & Parcours'!$B$6:$E$28,IF($F27=\"G\",2,IF($F27=\"T\",3,IF($F27=\"N\",4,0))),FALSE)*Table3[[#This Row],[Points Développement Durable]]),\"\")","v":36},{"$f":"IF(Table3[[#This Row],[Parcours choisi]]<>\"\",(VLOOKUP(Table35[[#Headers],[Ingénierie de fabrication]],'Def. Prix & Parcours'!$B$6:$E$28,IF($F27=\"G\",2,IF($F27=\"T\",3,IF($F27=\"N\",4,0))),FALSE)*Table3[[#This Row],[Points Ingénierie de fabrication]]),\"\")","v":45},{"$f":"IF(Table3[[#This Row],[Parcours choisi]]<>\"\",(VLOOKUP(Table35[[#Headers],[Gestion de projet et collaborations]],'Def. Prix & Parcours'!$B$6:$E$28,IF($F27=\"G\",2,IF($F27=\"T\",3,IF($F27=\"N\",4,0))),FALSE)*Table3[[#This Row],[Points Gestion de projet et \ncollaborations]]),\"\")","v":50},{"$f":"IF(Table3[[#This Row],[Parcours choisi]]<>\"\",(VLOOKUP(Table35[[#Headers],[Présentation Orale]],'Def. Prix & Parcours'!$B$6:$E$28,IF($F27=\"G\",2,IF($F27=\"T\",3,IF($F27=\"N\",4,0))),FALSE)*Table3[[#This Row],[Points Présentation Orale]]),\"\")","v":70},{"$f":"IF(Table3[[#This Row],[Parcours choisi]]<>\"\",(VLOOKUP(Table35[[#Headers],[Identité Equipe]],'Def. Prix & Parcours'!$B$6:$E$28,IF($F27=\"G\",2,IF($F27=\"T\",3,IF($F27=\"N\",4,0))),FALSE)*Table3[[#This Row],[Points Identité Equipe]]),\"\")","v":75},{"$f":"IF(Table3[[#This Row],[Parcours choisi]]<>\"\",(VLOOKUP(Table35[[#Headers],[Design du Stand]],'Def. Prix & Parcours'!$B$6:$E$28,IF($F27=\"G\",2,IF($F27=\"T\",3,IF($F27=\"N\",4,0))),FALSE)*Table3[[#This Row],[Points Design du Stand]]),\"\")","v":120},{"$f":"IF(Table3[[#This Row],[Parcours choisi]]<>\"\",(VLOOKUP(Table35[[#Headers],[Portfolio]],'Def. Prix & Parcours'!$B$6:$E$28,IF($F27=\"G\",2,IF($F27=\"T\",3,IF($F27=\"N\",4,0))),FALSE)*Table3[[#This Row],[Points Portfolio]]),\"\")","v":112},{"$f":"IF(Table3[[#This Row],[Parcours choisi]]<>\"\",(VLOOKUP(Table35[[#Headers],[Marketing et Sponsoring]],'Def. Prix & Parcours'!$B$6:$E$28,IF($F27=\"G\",2,IF($F27=\"T\",3,IF($F27=\"N\",4,0))),FALSE)*Table3[[#This Row],[Points Marketing et Sponsoring]]),\"\")","v":104},{"$f":"IF(Table3[[#This Row],[Parcours choisi]]<>\"\",(VLOOKUP(Table35[[#Headers],[Budget]],'Def. Prix & Parcours'!$B$6:$E$28,IF($F27=\"G\",2,IF($F27=\"T\",3,IF($F27=\"N\",4,0))),FALSE)*Table3[[#This Row],[Points Budget]]),\"\")","v":18},{"$f":"IF(Table3[[#This Row],[Parcours choisi]]<>\"\",(VLOOKUP(Table35[[#Headers],[Design du Véhicule]],'Def. Prix & Parcours'!$B$6:$E$28,IF($F27=\"G\",2,IF($F27=\"T\",3,IF($F27=\"N\",4,0))),FALSE)*Table3[[#This Row],[Points Design du Véhicule]]),\"\")","v":45},{"$f":"IF(Table3[[#This Row],[Parcours choisi]]<>\"\",(VLOOKUP(Table35[[#Headers],[Innovation numérique]],'Def. Prix & Parcours'!$B$6:$E$28,IF($F27=\"G\",2,IF($F27=\"T\",3,IF($F27=\"N\",4,0))),FALSE)*Table3[[#This Row],[Points Innovation numérique]]),\"\")","v":12},{"$f":"IF(Table3[[#This Row],[Parcours choisi]]<>\"\",(VLOOKUP(Table35[[#Headers],[Programmation]],'Def. Prix & Parcours'!$B$6:$E$28,IF($F27=\"G\",2,IF($F27=\"T\",3,IF($F27=\"N\",4,0))),FALSE)*Table3[[#This Row],[Points Programmation]]),\"\")","v":12},{"$f":"IF(Table3[[#This Row],[Parcours choisi]]<>\"\",(VLOOKUP(Table35[[#Headers],[Respect du règlement]],'Def. Prix & Parcours'!$B$6:$E$28,IF($F27=\"G\",2,IF($F27=\"T\",3,IF($F27=\"N\",4,0))),FALSE)*Table3[[#This Row],[Points Respect du règlement]]),\"\")","v":75},{"$f":"IF(Table3[[#This Row],[Parcours choisi]]<>\"\",(VLOOKUP(Table35[[#Headers],[Communication : vidéo]],'Def. Prix & Parcours'!$B$6:$E$28,IF($F27=\"G\",2,IF($F27=\"T\",3,IF($F27=\"N\",4,0))),FALSE)*Table3[[#This Row],[Points Communication : vidéo]]),\"\")","v":33},{"$f":"IF(Table3[[#This Row],[Parcours choisi]]<>\"\",(VLOOKUP(Table35[[#Headers],[Epreuve CAO]],'Def. Prix & Parcours'!$B$6:$E$28,IF($F27=\"G\",2,IF($F27=\"T\",3,IF($F27=\"N\",4,0))),FALSE)*Table3[[#This Row],[Points Epreuve CAO]]),\"\")","v":80},{"$f":"IF(Table3[[#This Row],[Parcours choisi]]<>\"\",(VLOOKUP(Table35[[#Headers],[Temps Réaction]],'Def. Prix & Parcours'!$B$6:$E$28,IF($F27=\"G\",2,IF($F27=\"T\",3,IF($F27=\"N\",4,0))),FALSE)*Table3[[#This Row],[Points Temps Réaction]]),\"\")","v":33},{"$f":"IF(Table3[[#This Row],[Parcours choisi]]<>\"\",(VLOOKUP(Table35[[#Headers],[Temps Course]],'Def. Prix & Parcours'!$B$6:$E$28,IF($F27=\"G\",2,IF($F27=\"T\",3,IF($F27=\"N\",4,0))),FALSE)*Table3[[#This Row],[Points Temps Course]]),\"\")","v":80},{"$f":"IF(Table3[[#This Row],[Parcours choisi]]<>\"\",(VLOOKUP(Table35[[#Headers],[Epreuve arrêt au stand]],'Def. Prix & Parcours'!$B$6:$E$28,IF($F27=\"G\",2,IF($F27=\"T\",3,IF($F27=\"N\",4,0))),FALSE)*Table3[[#This Row],[Points Epreuve arrêt au stand]]),\"\")","v":80},null,{"$f":"IF(Table3[[#This Row],[Parcours choisi]]<>\"\",SUM(Table35[[#This Row],[Ingénierie et conception]:[1]]),\"\")","v":1236},{"$f":"IF(Table3[[#This Row],[Parcours choisi]]<>\"\",_xlfn.RANK.EQ(Table35[[#This Row],[Total Parcours]],Table35[Total Parcours],0),\"\")","v":20}]
[22,{"$f":"IF(Table3[[#This Row],[Nom équipe]]<>\"\",Table3[[#This Row],[Nom équipe]],\"\")","v":"E-magie-nation"},{"$f":"IF(Table3[[#This Row],[Etablissement]]<>\"\",Table3[[#This Row],[Etablissement]],\"\")","v":"A. Dreux Folschviller"},{"$f":"IF(Table3[[#This Row],[Type établissement]]<>\"\",Table3[[#This Row],[Type établissement]],\"\")","v":"C"},{"$f":"IF(Table3[[#This Row],[Académie]]<>\"\",Table3[[#This Row],[Académie]],\"\")","v":"Nancy-Metz"},{"$f":"IF(Table3[[#This Row],[Parcours choisi]]<>\"\",Table3[[#This Row],[Parcours choisi]],\"\")","v":"G"},{"$f":"IF(Table3[[#This Row],[Parcours choisi]]<>\"\",(VLOOKUP(Table35[[#Headers],[Ingénierie et conception]],'Def. Prix & Parcours'!$B$6:$E$28,IF($F28=\"G\",2,IF($F28=\"T\",3,IF($F28=\"N\",4,0))),FALSE)*Table3[[#This Row],[Points Ingénierie et conception]]),\"\")","v":78},{"$f":"IF(Table3[[#This Row],[Parcours choisi]]<>\"\",(VLOOKUP(Table35[[#Headers],[Innovation mécanique]],'Def. Prix & Parcours'!$B$6:$E$28,IF($F28=\"G\",2,IF($F28=\"T\",3,IF($F28=\"N\",4,0))),FALSE)*Table3[[#This Row],[Points Innovation mécanique]]),\"\")","v":84},{"$f":"IF(Table3[[#This Row],[Parcours choisi]]<>\"\",(VLOOKUP(Table35[[#Headers],[Développement Durable]],'Def. Prix & Parcours'!$B$6:$E$28,IF($F28=\"G\",2,IF($F28=\"T\",3,IF($F28=\"N\",4,0))),FALSE)*Table3[[#This Row],[Points Développement Durable]]),\"\")","v":48},{"$f":"IF(Table3[[#This Row],[Parcours choisi]]<>\"\",(VLOOKUP(Table35[[#Headers],[Ingénierie de fabrication]],'Def. Prix & Parcours'!$B$6:$E$28,IF($F28=\"G\",2,IF($F28=\"T\",3,IF($F28=\"N\",4,0))),FALSE)*Table3[[#This Row],[Points Ingénierie de fabrication]]),\"\")","v":42},{"$f":"IF(Table3[[#This Row],[Parcours choisi]]<>\"\",(VLOOKUP(Table35[[#Headers],[Gestion de projet et collaborations]],'Def. Prix & Parcours'!$B$6:$E$28,IF($F28=\"G\",2,IF($F28=\"T\",3,IF($F28=\"N\",4,0))),FALSE)*Table3[[#This Row],[Points Gestion de projet et \ncollaborations]]),\"\")","v":70},{"$f":"IF(Table3[[#This Row],[Parcours choisi]]<>\"\",(VLOOKUP(Table35[[#Headers],[Présentation Orale]],'Def. Prix & Parcours'!$B$6:$E$28,IF($F28=\"G\",2,IF($F28=\"T\",3,IF($F28=\"N\",4,0))),FALSE)*Table3[[#This Row],[Points Présentation Orale]]),\"\")","v":65},{"$f":"IF(Table3[[#This Row],[Parcours choisi]]<>\"\",(VLOOKUP(Table35[[#Headers],[Identité Equipe]],'Def. Prix & Parcours'!$B$6:$E$28,IF($F28=\"G\",2,IF($F28=\"T\",3,IF($F28=\"N\",4,0))),FALSE)*Table3[[#This Row],[Points Identité Equipe]]),\"\")","v":70},{"$f":"IF(Table3[[#This Row],[Parcours choisi]]<>\"\",(VLOOKUP(Table35[[#Headers],[Design du Stand]],'Def. Prix & Parcours'!$B$6:$E$28,IF($F28=\"G\",2,IF($F28=\"T\",3,IF($F28=\"N\",4,0))),FALSE)*Table3[[#This Row],[Points Design du Stand]]),\"\")","v":120},{"$f":"IF(Table3[[#This Row],[Parcours choisi]]<>\"\",(VLOOKUP(Table35[[#Headers],[Portfolio]],'Def. Prix & Parcours'!$B$6:$E$28,IF($F28=\"G\",2,IF($F28=\"T\",3,IF($F28=\"N\",4,0))),FALSE)*Table3[[#This Row],[Points Portfolio]]),\"\")","v":144},{"$f":"IF(Table3[[#This Row],[Parcours choisi]]<>\"\",(VLOOKUP(Table35[[#Headers],[Marketing et Sponsoring]],'Def. Prix & Parcours'!$B$6:$E$28,IF($F28=\"G\",2,IF($F28=\"T\",3,IF($F28=\"N\",4,0))),FALSE)*Table3[[#This Row],[Points Marketing et Sponsoring]]),\"\")","v":64},{"$f":"IF(Table3[[#This Row],[Parcours choisi]]<>\"\",(VLOOKUP(Table35[[#Headers],[Budget]],'Def. Prix & Parcours'!$B$6:$E$28,IF($F28=\"G\",2,IF($F28=\"T\",3,IF($F28=\"N\",4,0))),FALSE)*Table3[[#This Row],[Points Budget]]),\"\")","v":16},{"$f":"IF(Table3[[#This Row],[Parcours choisi]]<>\"\",(VLOOKUP(Table35[[#Headers],[Design du Véhicule]],'Def. Prix & Parcours'!$B$6:$E$28,IF($F28=\"G\",2,IF($F28=\"T\",3,IF($F28=\"N\",4,0))),FALSE)*Table3[[#This Row],[Points Design du Véhicule]]),\"\")","v":45},{"$f":"IF(Table3[[#This Row],[Parcours choisi]]<>\"\",(VLOOKUP(Table35[[#Headers],[Innovation numérique]],'Def. Prix & Parcours'!$B$6:$E$28,IF($F28=\"G\",2,IF($F28=\"T\",3,IF($F28=\"N\",4,0))),FALSE)*Table3[[#This Row],[Points Innovation numérique]]),\"\")","v":68},{"$f":"IF(Table3[[#This Row],[Parcours choisi]]<>\"\",(VLOOKUP(Table35[[#Headers],[Programmation]],'Def. Prix & Parcours'!$B$6:$E$28,IF($F28=\"G\",2,IF($F28=\"T\",3,IF($F28=\"N\",4,0))),FALSE)*Table3[[#This Row],[Points Programmation]]),\"\")","v":0},{"$f":"IF(Table3[[#This Row],[Parcours choisi]]<>\"\",(VLOOKUP(Table35[[#Headers],[Respect du règlement]],'Def. Prix & Parcours'!$B$6:$E$28,IF($F28=\"G\",2,IF($F28=\"T\",3,IF($F28=\"N\",4,0))),FALSE)*Table3[[#This Row],[Points Respect du règlement]]),\"\")","v":100},{"$f":"IF(Table3[[#This Row],[Parcours choisi]]<>\"\",(VLOOKUP(Table35[[#Headers],[Communication : vidéo]],'Def. Prix & Parcours'!$B$6:$E$28,IF($F28=\"G\",2,IF($F28=\"T\",3,IF($F28=\"N\",4,0))),FALSE)*Table3[[#This Row],[Points Communication : vidéo]]),\"\")","v":60},{"$f":"IF(Table3[[#This Row],[Parcours choisi]]<>\"\",(VLOOKUP(Table35[[#Headers],[Epreuve CAO]],'Def. Prix & Parcours'!$B$6:$E$28,IF($F28=\"G\",2,IF($F28=\"T\",3,IF($F28=\"N\",4,0))),FALSE)*Table3[[#This Row],[Points Epreuve CAO]]),\"\")","v":80},{"$f":"IF(Table3[[#This Row],[Parcours choisi]]<>\"\",(VLOOKUP(Table35[[#Headers],[Temps Réaction]],'Def. Prix & Parcours'!$B$6:$E$28,IF($F28=\"G\",2,IF($F28=\"T\",3,IF($F28=\"N\",4,0))),FALSE)*Table3[[#This Row],[Points Temps Réaction]]),\"\")","v":6},{"$f":"IF(Table3[[#This Row],[Parcours choisi]]<>\"\",(VLOOKUP(Table35[[#Headers],[Temps Course]],'Def. Prix & Parcours'!$B$6:$E$28,IF($F28=\"G\",2,IF($F28=\"T\",3,IF($F28=\"N\",4,0))),FALSE)*Table3[[#This Row],[Points Temps Course]]),\"\")","v":100},{"$f":"IF(Table3[[#This Row],[Parcours choisi]]<>\"\",(VLOOKUP(Table35[[#Headers],[Epreuve arrêt au stand]],'Def. Prix & Parcours'!$B$6:$E$28,IF($F28=\"G\",2,IF($F28=\"T\",3,IF($F28=\"N\",4,0))),FALSE)*Table3[[#This Row],[Points Epreuve arrêt au stand]]),\"\")","v":80},null,{"$f":"IF(Table3[[#This Row],[Parcours choisi]]<>\"\",SUM(Table35[[#This Row],[Ingénierie et conception]:[1]]),\"\")","v":1340},{"$f":"IF(Table3[[#This Row],[Parcours choisi]]<>\"\",_xlfn.RANK.EQ(Table35[[#This Row],[Total Parcours]],Table35[Total Parcours],0),\"\")","v":15}]
[23,{"$f":"IF(Table3[[#This Row],[Nom équipe]]<>\"\",Table3[[#This Row],[Nom équipe]],\"\")","v":"Gol'o Team"},{"$f":"IF(Table3[[#This Row],[Etablissement]]<>\"\",Table3[[#This Row],[Etablissement]],\"\")","v":"A. Dreux Folschviller"},{"$f":"IF(Table3[[#This Row],[Type établissement]]<>\"\",Table3[[#This Row],[Type établissement]],\"\")","v":"C"},{"$f":"IF(Table3[[#This Row],[Académie]]<>\"\",Table3[[#This Row],[Académie]],\"\")","v":"Nancy-Metz"},{"$f":"IF(Table3[[#This Row],[Parcours choisi]]<>\"\",Table3[[#This Row],[Parcours choisi]],\"\")","v":"G"},{"$f":"IF(Table3[[#This Row],[Parcours choisi]]<>\"\",(VLOOKUP(Table35[[#Headers],[Ingénierie et conception]],'Def. Prix & Parcours'!$B$6:$E$28,IF($F29=\"G\",2,IF($F29=\"T\",3,IF($F29=\"N\",4,0))),FALSE)*Table3[[#This Row],[Points Ingénierie et conception]]),\"\")","v":90},{"$f":"IF(Table3[[#This Row],[Parcours choisi]]<>\"\",(VLOOKUP(Table35[[#Headers],[Innovation mécanique]],'Def. Prix & Parcours'!$B$6:$E$28,IF($F29=\"G\",2,IF($F29=\"T\",3,IF($F29=\"N\",4,0))),FALSE)*Table3[[#This Row],[Points Innovation mécanique]]),\"\")","v":96},{"$f":"IF(Table3[[#This Row],[Parcours choisi]]<>\"\",(VLOOKUP(Table35[[#Headers],[Développement Durable]],'Def. Prix & Parcours'!$B$6:$E$28,IF($F29=\"G\",2,IF($F29=\"T\",3,IF($F29=\"N\",4,0))),FALSE)*Table3[[#This Row],[Points Développement Durable]]),\"\")","v":52},{"$f":"IF(Table3[[#This Row],[Parcours choisi]]<>\"\",(VLOOKUP(Table35[[#Headers],[Ingénierie de fabrication]],'Def. Prix & Parcours'!$B$6:$E$28,IF($F29=\"G\",2,IF($F29=\"T\",3,IF($F29=\"N\",4,0))),FALSE)*Table3[[#This Row],[Points Ingénierie de fabrication]]),\"\")","v":48},{"$f":"IF(Table3[[#This Row],[Parcours choisi]]<>\"\",(VLOOKUP(Table35[[#Headers],[Gestion de projet et collaborations]],'Def. Prix & Parcours'!$B$6:$E$28,IF($F29=\"G\",2,IF($F29=\"T\",3,IF($F29=\"N\",4,0))),FALSE)*Table3[[#This Row],[Points Gestion de projet et \ncollaborations]]),\"\")","v":85},{"$f":"IF(Table3[[#This Row],[Parcours choisi]]<>\"\",(VLOOKUP(Table35[[#Headers],[Présentation Orale]],'Def. Prix & Parcours'!$B$6:$E$28,IF($F29=\"G\",2,IF($F29=\"T\",3,IF($F29=\"N\",4,0))),FALSE)*Table3[[#This Row],[Points Présentation Orale]]),\"\")","v":90},{"$f":"IF(Table3[[#This Row],[Parcours choisi]]<>\"\",(VLOOKUP(Table35[[#Headers],[Identité Equipe]],'Def. Prix & Parcours'!$B$6:$E$28,IF($F29=\"G\",2,IF($F29=\"T\",3,IF($F29=\"N\",4,0))),FALSE)*Table3[[#This Row],[Points Identité Equipe]]),\"\")","v":80},{"$f":"IF(Table3[[#This Row],[Parcours choisi]]<>\"\",(VLOOKUP(Table35[[#Headers],[Design du Stand]],'Def. Prix & Parcours'!$B$6:$E$28,IF($F29=\"G\",2,IF($F29=\"T\",3,IF($F29=\"N\",4,0))),FALSE)*Table3[[#This Row],[Points Design du Stand]]),\"\")","v":104},{"$f":"IF(Table3[[#This Row],[Parcours choisi]]<>\"\",(VLOOKUP(Table35[[#Headers],[Portfolio]],'Def. Prix & Parcours'!$B$6:$E$28,IF($F29=\"G\",2,IF($F29=\"T\",3,IF($F29=\"N\",4,0))),FALSE)*Table3[[#This Row],[Points Portfolio]]),\"\")","v":88},{"$f":"IF(Table3[[#This Row],[Parcours choisi]]<>\"\",(VLOOKUP(Table35[[#Headers],[Marketing et Sponsoring]],'Def. Prix & Parcours'!$B$6:$E$28,IF($F29=\"G\",2,IF($F29=\"T\",3,IF($F29=\"N\",4,0))),FALSE)*Table3[[#This Row],[Points Marketing et Sponsoring]]),\"\")","v":88},{"$f":"IF(Table3[[#This Row],[Parcours choisi]]<>\"\",(VLOOKUP(Table35[[#Headers],[Budget]],'Def. Prix & Parcours'!$B$6:$E$28,IF($F29=\"G\",2,IF($F29=\"T\",3,IF($F29=\"N\",4,0))),FALSE)*Table3[[#This Row],[Points Budget]]),\"\")","v":22},{"$f":"IF(Table3[[#This Row],[Parcours choisi]]<>\"\",(VLOOKUP(Table35[[#Headers],[Design du Véhicule]],'Def. Prix & Parcours'!$B$6:$E$28,IF($F29=\"G\",2,IF($F29=\"T\",3,IF($F29=\"N\",4,0))),FALSE)*Table3[[#This Row],[Points Design du Véhicule]]),\"\")","v":45},{"$f":"IF(Table3[[#This Row],[Parcours choisi]]<>\"\",(VLOOKUP(Table35[[#Headers],[Innovation numérique]],'Def. Prix & Parcours'!$B$6:$E$28,IF($F29=\"G\",2,IF($F29=\"T\",3,IF($F29=\"N\",4,0))),FALSE)*Table3[[#This Row],[Points Innovation numérique]]),\"\")","v":0},{"$f":"IF(Table3[[#This Row],[Parcours choisi]]<>\"\",(VLOOKUP(Table35[[#Headers],[Programmation]],'Def. Prix & Parcours'!$B$6:$E$28,IF($F29=\"G\",2,IF($F29=\"T\",3,IF($F29=\"N\",4,0))),FALSE)*Table3[[#This Row],[Points Programmation]]),\"\")","v":0},{"$f":"IF(Table3[[#This Row],[Parcours choisi]]<>\"\",(VLOOKUP(Table35[[#Headers],[Respect du règlement]],'Def. Prix & Parcours'!$B$6:$E$28,IF($F29=\"G\",2,IF($F29=\"T\",3,IF($F29=\"N\",4,0))),FALSE)*Table3[[#This Row],[Points Respect du règlement]]),\"\")","v":75},{"$f":"IF(Table3[[#This Row],[Parcours choisi]]<>\"\",(VLOOKUP(Table35[[#Headers],[Communication : vidéo]],'Def. Prix & Parcours'!$B$6:$E$28,IF($F29=\"G\",2,IF($F29=\"T\",3,IF($F29=\"N\",4,0))),FALSE)*Table3[[#This Row],[Points Communication : vidéo]]),\"\")","v":21},{"$f":"IF(Table3[[#This Row],[Parcours choisi]]<>\"\",(VLOOKUP(Table35[[#Headers],[Epreuve CAO]],'Def. Prix & Parcours'!$B$6:$E$28,IF($F29=\"G\",2,IF($F29=\"T\",3,IF($F29=\"N\",4,0))),FALSE)*Table3[[#This Row],[Points Epreuve CAO]]),\"\")","v":80},{"$f":"IF(Table3[[#This Row],[Parcours choisi]]<>\"\",(VLOOKUP(Table35[[#Headers],[Temps Réaction]],'Def. Prix & Parcours'!$B$6:$E$28,IF($F29=\"G\",2,IF($F29=\"T\",3,IF($F29=\"N\",4,0))),FALSE)*Table3[[#This Row],[Points Temps Réaction]]),\"\")","v":60},{"$f":"IF(Table3[[#This Row],[Parcours choisi]]<>\"\",(VLOOKUP(Table35[[#Headers],[Temps Course]],'Def. Prix & Parcours'!$B$6:$E$28,IF($F29=\"G\",2,IF($F29=\"T\",3,IF($F29=\"N\",4,0))),FALSE)*Table3[[#This Row],[Points Temps Course]]),\"\")","v":80},{"$f":"IF(Table3[[#This Row],[Parcours choisi]]<>\"\",(VLOOKUP(Table35[[#Headers],[Epreuve arrêt au stand]],'Def. Prix & Parcours'!$B$6:$E$28,IF($F29=\"G\",2,IF($F29=\"T\",3,IF($F29=\"N\",4,0))),FALSE)*Table3[[#This Row],[Points Epreuve arrêt au stand]]),\"\")","v":80},null,{"$f":"IF(Table3[[#This Row],[Parcours choisi]]<>\"\",SUM(Table35[[#This Row],[Ingénierie et conception]:[1]]),\"\")","v":1284},{"$f":"IF(Table3[[#This Row],[Parcours choisi]]<>\"\",_xlfn.RANK.EQ(Table35[[#This Row],[Total Parcours]],Table35[Total Parcours],0),\"\")","v":18}]
[24,{"$f":"IF(Table3[[#This Row],[Nom équipe]]<>\"\",Table3[[#This Row],[Nom équipe]],\"\")","v":"Serpent"},{"$f":"IF(Table3[[#This Row],[Etablissement]]<>\"\",Table3[[#This Row],[Etablissement]],\"\")","v":"A. Dreux Folschviller"},{"$f":"IF(Table3[[#This Row],[Type établissement]]<>\"\",Table3[[#This Row],[Type établissement]],\"\")","v":"C"},{"$f":"IF(Table3[[#This Row],[Académie]]<>\"\",Table3[[#This Row],[Académie]],\"\")","v":"Nancy-Metz"},{"$f":"IF(Table3[[#This Row],[Parcours choisi]]<>\"\",Table3[[#This Row],[Parcours choisi]],\"\")","v":"G"},{"$f":"IF(Table3[[#This Row],[Parcours choisi]]<>\"\",(VLOOKUP(Table35[[#Headers],[Ingénierie et conception]],'Def. Prix & Parcours'!$B$6:$E$28,IF($F30=\"G\",2,IF($F30=\"T\",3,IF($F30=\"N\",4,0))),FALSE)*Table3[[#This Row],[Points Ingénierie et conception]]),\"\")","v":48},{"$f":"IF(Table3[[#This Row],[Parcours choisi]]<>\"\",(VLOOKUP(Table35[[#Headers],[Innovation mécanique]],'Def. Prix & Parcours'!$B$6:$E$28,IF($F30=\"G\",2,IF($F30=\"T\",3,IF($F30=\"N\",4,0))),FALSE)*Table3[[#This Row],[Points Innovation mécanique]]),\"\")","v":66},{"$f":"IF(Table3[[#This Row],[Parcours choisi]]<>\"\",(VLOOKUP(Table35[[#Headers],[Développement Durable]],'Def. Prix & Parcours'!$B$6:$E$28,IF($F30=\"G\",2,IF($F30=\"T\",3,IF($F30=\"N\",4,0))),FALSE)*Table3[[#This Row],[Points Développement Durable]]),\"\")","v":32},{"$f":"IF(Table3[[#This Row],[Parcours choisi]]<>\"\",(VLOOKUP(Table35[[#Headers],[Ingénierie de fabrication]],'Def. Prix & Parcours'!$B$6:$E$28,IF($F30=\"G\",2,IF($F30=\"T\",3,IF($F30=\"N\",4,0))),FALSE)*Table3[[#This Row],[Points Ingénierie de fabrication]]),\"\")","v":21},{"$f":"IF(Table3[[#This Row],[Parcours choisi]]<>\"\",(VLOOKUP(Table35[[#Headers],[Gestion de projet et collaborations]],'Def. Prix & Parcours'!$B$6:$E$28,IF($F30=\"G\",2,IF($F30=\"T\",3,IF($F30=\"N\",4,0))),FALSE)*Table3[[#This Row],[Points Gestion de projet et \ncollaborations]]),\"\")","v":25},{"$f":"IF(Table3[[#This Row],[Parcours choisi]]<>\"\",(VLOOKUP(Table35[[#Headers],[Présentation Orale]],'Def. Prix & Parcours'!$B$6:$E$28,IF($F30=\"G\",2,IF($F30=\"T\",3,IF($F30=\"N\",4,0))),FALSE)*Table3[[#This Row],[Points Présentation Orale]]),\"\")","v":20},{"$f":"IF(Table3[[#This Row],[Parcours choisi]]<>\"\",(VLOOKUP(Table35[[#Headers],[Identité Equipe]],'Def. Prix & Parcours'!$B$6:$E$28,IF($F30=\"G\",2,IF($F30=\"T\",3,IF($F30=\"N\",4,0))),FALSE)*Table3[[#This Row],[Points Identité Equipe]]),\"\")","v":65},{"$f":"IF(Table3[[#This Row],[Parcours choisi]]<>\"\",(VLOOKUP(Table35[[#Headers],[Design du Stand]],'Def. Prix & Parcours'!$B$6:$E$28,IF($F30=\"G\",2,IF($F30=\"T\",3,IF($F30=\"N\",4,0))),FALSE)*Table3[[#This Row],[Points Design du Stand]]),\"\")","v":80},{"$f":"IF(Table3[[#This Row],[Parcours choisi]]<>\"\",(VLOOKUP(Table35[[#Headers],[Portfolio]],'Def. Prix & Parcours'!$B$6:$E$28,IF($F30=\"G\",2,IF($F30=\"T\",3,IF($F30=\"N\",4,0))),FALSE)*Table3[[#This Row],[Points Portfolio]]),\"\")","v":104},{"$f":"IF(Table3[[#This Row],[Parcours choisi]]<>\"\",(VLOOKUP(Table35[[#Headers],[Marketing et Sponsoring]],'Def. Prix & Parcours'!$B$6:$E$28,IF($F30=\"G\",2,IF($F30=\"T\",3,IF($F30=\"N\",4,0))),FALSE)*Table3[[#This Row],[Points Marketing et Sponsoring]]),\"\")","v":56},{"$f":"IF(Table3[[#This Row],[Parcours choisi]]<>\"\",(VLOOKUP(Table35[[#Headers],[Budget]],'Def. Prix & Parcours'!$B$6:$E$28,IF($F30=\"G\",2,IF($F30=\"T\",3,IF($F30=\"N\",4,0))),FALSE)*Table3[[#This Row],[Points Budget]]),\"\")","v":16},{"$f":"IF(Table3[[#This Row],[Parcours choisi]]<>\"\",(VLOOKUP(Table35[[#Headers],[Design du Véhicule]],'Def. Prix & Parcours'!$B$6:$E$28,IF($F30=\"G\",2,IF($F30=\"T\",3,IF($F30=\"N\",4,0))),FALSE)*Table3[[#This Row],[Points Design du Véhicule]]),\"\")","v":33},{"$f":"IF(Table3[[#This Row],[Parcours choisi]]<>\"\",(VLOOKUP(Table35[[#Headers],[Innovation numérique]],'Def. Prix & Parcours'!$B$6:$E$28,IF($F30=\"G\",2,IF($F30=\"T\",3,IF($F30=\"N\",4,0))),FALSE)*Table3[[#This Row],[Points Innovation numérique]]),\"\")","v":28},{"$f":"IF(Table3[[#This Row],[Parcours choisi]]<>\"\",(VLOOKUP(Table35[[#Headers],[Programmation]],'Def. Prix & Parcours'!$B$6:$E$28,IF($F30=\"G\",2,IF($F30=\"T\",3,IF($F30=\"N\",4,0))),FALSE)*Table3[[#This Row],[Points Programmation]]),\"\")","v":0},{"$f":"IF(Table3[[#This Row],[Parcours choisi]]<>\"\",(VLOOKUP(Table35[[#Headers],[Respect du règlement]],'Def. Prix & Parcours'!$B$6:$E$28,IF($F30=\"G\",2,IF($F30=\"T\",3,IF($F30=\"N\",4,0))),FALSE)*Table3[[#This Row],[Points Respect du règlement]]),\"\")","v":75},{"$f":"IF(Table3[[#This Row],[Parcours choisi]]<>\"\",(VLOOKUP(Table35[[#Headers],[Communication : vidéo]],'Def. Prix & Parcours'!$B$6:$E$28,IF($F30=\"G\",2,IF($F30=\"T\",3,IF($F30=\"N\",4,0))),FALSE)*Table3[[#This Row],[Points Communication : vidéo]]),\"\")","v":39},{"$f":"IF(Table3[[#This Row],[Parcours choisi]]<>\"\",(VLOOKUP(Table35[[#Headers],[Epreuve CAO]],'Def. Prix & Parcours'!$B$6:$E$28,IF($F30=\"G\",2,IF($F30=\"T\",3,IF($F30=\"N\",4,0))),FALSE)*Table3[[#This Row],[Points Epreuve CAO]]),\"\")","v":80},{"$f":"IF(Table3[[#This Row],[Parcours choisi]]<>\"\",(VLOOKUP(Table35[[#Headers],[Temps Réaction]],'Def. Prix & Parcours'!$B$6:$E$28,IF($F30=\"G\",2,IF($F30=\"T\",3,IF($F30=\"N\",4,0))),FALSE)*Table3[[#This Row],[Points Temps Réaction]]),\"\")","v":24},{"$f":"IF(Table3[[#This Row],[Parcours choisi]]<>\"\",(VLOOKUP(Table35[[#Headers],[Temps Course]],'Def. Prix & Parcours'!$B$6:$E$28,IF($F30=\"G\",2,IF($F30=\"T\",3,IF($F30=\"N\",4,0))),FALSE)*Table3[[#This Row],[Points Temps Course]]),\"\")","v":90},{"$f":"IF(Table3[[#This Row],[Parcours choisi]]<>\"\",(VLOOKUP(Table35[[#Headers],[Epreuve arrêt au stand]],'Def. Prix & Parcours'!$B$6:$E$28,IF($F30=\"G\",2,IF($F30=\"T\",3,IF($F30=\"N\",4,0))),FALSE)*Table3[[#This Row],[Points Epreuve arrêt au stand]]),\"\")","v":80},null,{"$f":"IF(Table3[[#This Row],[Parcours choisi]]<>\"\",SUM(Table35[[#This Row],[Ingénierie et conception]:[1]]),\"\")","v":982},{"$f":"IF(Table3[[#This Row],[Parcours choisi]]<>\"\",_xlfn.RANK.EQ(Table35[[#This Row],[Total Parcours]],Table35[Total Parcours],0),\"\")","v":25}]
[25,{"$f":"IF(Table3[[#This Row],[Nom équipe]]<>\"\",Table3[[#This Row],[Nom équipe]],\"\")","v":"The Peaky's"},{"$f":"IF(Table3[[#This Row],[Etablissement]]<>\"\",Table3[[#This Row],[Etablissement]],\"\")","v":"La Fontaine St Avold"},{"$f":"IF(Table3[[#This Row],[Type établissement]]<>\"\",Table3[[#This Row],[Type établissement]],\"\")","v":"C"},{"$f":"IF(Table3[[#This Row],[Académie]]<>\"\",Table3[[#This Row],[Académie]],\"\")","v":"Nancy-Metz"},{"$f":"IF(Table3[[#This Row],[Parcours choisi]]<>\"\",Table3[[#This Row],[Parcours choisi]],\"\")","v":"G"},{"$f":"IF(Table3[[#This Row],[Parcours choisi]]<>\"\",(VLOOKUP(Table35[[#Headers],[Ingénierie et conception]],'Def. Prix & Parcours'!$B$6:$E$28,IF($F31=\"G\",2,IF($F31=\"T\",3,IF($F31=\"N\",4,0))),FALSE)*Table3[[#This Row],[Points Ingénierie et conception]]),\"\")","v":120},{"$f":"IF(Table3[[#This Row],[Parcours choisi]]<>\"\",(VLOOKUP(Table35[[#Headers],[Innovation mécanique]],'Def. Prix & Parcours'!$B$6:$E$28,IF($F31=\"G\",2,IF($F31=\"T\",3,IF($F31=\"N\",4,0))),FALSE)*Table3[[#This Row],[Points Innovation mécanique]]),\"\")","v":120},{"$f":"IF(Table3[[#This Row],[Parcours choisi]]<>\"\",(VLOOKUP(Table35[[#Headers],[Développement Durable]],'Def. Prix & Parcours'!$B$6:$E$28,IF($F31=\"G\",2,IF($F31=\"T\",3,IF($F31=\"N\",4,0))),FALSE)*Table3[[#This Row],[Points Développement Durable]]),\"\")","v":64},{"$f":"IF(Table3[[#This Row],[Parcours choisi]]<>\"\",(VLOOKUP(Table35[[#Headers],[Ingénierie de fabrication]],'Def. Prix & Parcours'!$B$6:$E$28,IF($F31=\"G\",2,IF($F31=\"T\",3,IF($F31=\"N\",4,0))),FALSE)*Table3[[#This Row],[Points Ingénierie de fabrication]]),\"\")","v":60},{"$f":"IF(Table3[[#This Row],[Parcours choisi]]<>\"\",(VLOOKUP(Table35[[#Headers],[Gestion de projet et collaborations]],'Def. Prix & Parcours'!$B$6:$E$28,IF($F31=\"G\",2,IF($F31=\"T\",3,IF($F31=\"N\",4,0))),FALSE)*Table3[[#This Row],[Points Gestion de projet et \ncollaborations]]),\"\")","v":95},{"$f":"IF(Table3[[#This Row],[Parcours choisi]]<>\"\",(VLOOKUP(Table35[[#Headers],[Présentation Orale]],'Def. Prix & Parcours'!$B$6:$E$28,IF($F31=\"G\",2,IF($F31=\"T\",3,IF($F31=\"N\",4,0))),FALSE)*Table3[[#This Row],[Points Présentation Orale]]),\"\")","v":85},{"$f":"IF(Table3[[#This Row],[Parcours choisi]]<>\"\",(VLOOKUP(Table35[[#Headers],[Identité Equipe]],'Def. Prix & Parcours'!$B$6:$E$28,IF($F31=\"G\",2,IF($F31=\"T\",3,IF($F31=\"N\",4,0))),FALSE)*Table3[[#This Row],[Points Identité Equipe]]),\"\")","v":85},{"$f":"IF(Table3[[#This Row],[Parcours choisi]]<>\"\",(VLOOKUP(Table35[[#Headers],[Design du Stand]],'Def. Prix & Parcours'!$B$6:$E$28,IF($F31=\"G\",2,IF($F31=\"T\",3,IF($F31=\"N\",4,0))),FALSE)*Table3[[#This Row],[Points Design du Stand]]),\"\")","v":152},{"$f":"IF(Table3[[#This Row],[Parcours choisi]]<>\"\",(VLOOKUP(Table35[[#Headers],[Portfolio]],'Def. Prix & Parcours'!$B$6:$E$28,IF($F31=\"G\",2,IF($F31=\"T\",3,IF($F31=\"N\",4,0))),FALSE)*Table3[[#This Row],[Points Portfolio]]),\"\")","v":144},{"$f":"IF(Table3[[#This Row],[Parcours choisi]]<>\"\",(VLOOKUP(Table35[[#Headers],[Marketing et Sponsoring]],'Def. Prix & Parcours'!$B$6:$E$28,IF($F31=\"G\",2,IF($F31=\"T\",3,IF($F31=\"N\",4,0))),FALSE)*Table3[[#This Row],[Points Marketing et Sponsoring]]),\"\")","v":152},{"$f":"IF(Table3[[#This Row],[Parcours choisi]]<>\"\",(VLOOKUP(Table35[[#Headers],[Budget]],'Def. Prix & Parcours'!$B$6:$E$28,IF($F31=\"G\",2,IF($F31=\"T\",3,IF($F31=\"N\",4,0))),FALSE)*Table3[[#This Row],[Points Budget]]),\"\")","v":36},{"$f":"IF(Table3[[#This Row],[Parcours choisi]]<>\"\",(VLOOKUP(Table35[[#Headers],[Design du Véhicule]],'Def. Prix & Parcours'!$B$6:$E$28,IF($F31=\"G\",2,IF($F31=\"T\",3,IF($F31=\"N\",4,0))),FALSE)*Table3[[#This Row],[Points Design du Véhicule]]),\"\")","v":57},{"$f":"IF(Table3[[#This Row],[Parcours choisi]]<>\"\",(VLOOKUP(Table35[[#Headers],[Innovation numérique]],'Def. Prix & Parcours'!$B$6:$E$28,IF($F31=\"G\",2,IF($F31=\"T\",3,IF($F31=\"N\",4,0))),FALSE)*Table3[[#This Row],[Points Innovation numérique]]),\"\")","v":68},{"$f":"IF(Table3[[#This Row],[Parcours choisi]]<>\"\",(VLOOKUP(Table35[[#Headers],[Programmation]],'Def. Prix & Parcours'!$B$6:$E$28,IF($F31=\"G\",2,IF($F31=\"T\",3,IF($F31=\"N\",4,0))),FALSE)*Table3[[#This Row],[Points Programmation]]),\"\")","v":76},{"$f":"IF(Table3[[#This Row],[Parcours choisi]]<>\"\",(VLOOKUP(Table35[[#Headers],[Respect du règlement]],'Def. Prix & Parcours'!$B$6:$E$28,IF($F31=\"G\",2,IF($F31=\"T\",3,IF($F31=\"N\",4,0))),FALSE)*Table3[[#This Row],[Points Respect du règlement]]),\"\")","v":95},{"$f":"IF(Table3[[#This Row],[Parcours choisi]]<>\"\",(VLOOKUP(Table35[[#Headers],[Communication : vidéo]],'Def. Prix & Parcours'!$B$6:$E$28,IF($F31=\"G\",2,IF($F31=\"T\",3,IF($F31=\"N\",4,0))),FALSE)*Table3[[#This Row],[Points Communication : vidéo]]),\"\")","v":51},{"$f":"IF(Table3[[#This Row],[Parcours choisi]]<>\"\",(VLOOKUP(Table35[[#Headers],[Epreuve CAO]],'Def. Prix & Parcours'!$B$6:$E$28,IF($F31=\"G\",2,IF($F31=\"T\",3,IF($F31=\"N\",4,0))),FALSE)*Table3[[#This Row],[Points Epreuve CAO]]),\"\")","v":80},{"$f":"IF(Table3[[#This Row],[Parcours choisi]]<>\"\",(VLOOKUP(Table35[[#Headers],[Temps Réaction]],'Def. Prix & Parcours'!$B$6:$E$28,IF($F31=\"G\",2,IF($F31=\"T\",3,IF($F31=\"N\",4,0))),FALSE)*Table3[[#This Row],[Points Temps Réaction]]),\"\")","v":33},{"$f":"IF(Table3[[#This Row],[Parcours choisi]]<>\"\",(VLOOKUP(Table35[[#Headers],[Temps Course]],'Def. Prix & Parcours'!$B$6:$E$28,IF($F31=\"G\",2,IF($F31=\"T\",3,IF($F31=\"N\",4,0))),FALSE)*Table3[[#This Row],[Points Temps Course]]),\"\")","v":110},{"$f":"IF(Table3[[#This Row],[Parcours choisi]]<>\"\",(VLOOKUP(Table35[[#Headers],[Epreuve arrêt au stand]],'Def. Prix & Parcours'!$B$6:$E$28,IF($F31=\"G\",2,IF($F31=\"T\",3,IF($F31=\"N\",4,0))),FALSE)*Table3[[#This Row],[Points Epreuve arrêt au stand]]),\"\")","v":80},null,{"$f":"IF(Table3[[#This Row],[Parcours choisi]]<>\"\",SUM(Table35[[#This Row],[Ingénierie et conception]:[1]]),\"\")","v":1763},{"$f":"IF(Table3[[#This Row],[Parcours choisi]]<>\"\",_xlfn.RANK.EQ(Table35[[#This Row],[Total Parcours]],Table35[Total Parcours],0),\"\")","v":1}]
[26,{"$f":"IF(Table3[[#This Row],[Nom équipe]]<>\"\",Table3[[#This Row],[Nom équipe]],\"\")","v":"Cosmos"},{"$f":"IF(Table3[[#This Row],[Etablissement]]<>\"\",Table3[[#This Row],[Etablissement]],\"\")","v":"La Fontaine St Avold"},{"$f":"IF(Table3[[#This Row],[Type établissement]]<>\"\",Table3[[#This Row],[Type établissement]],\"\")","v":"C"},{"$f":"IF(Table3[[#This Row],[Académie]]<>\"\",Table3[[#This Row],[Académie]],\"\")","v":"Nancy-Metz"},{"$f":"IF(Table3[[#This Row],[Parcours choisi]]<>\"\",Table3[[#This Row],[Parcours choisi]],\"\")","v":"G"},{"$f":"IF(Table3[[#This Row],[Parcours choisi]]<>\"\",(VLOOKUP(Table35[[#Headers],[Ingénierie et conception]],'Def. Prix & Parcours'!$B$6:$E$28,IF($F32=\"G\",2,IF($F32=\"T\",3,IF($F32=\"N\",4,0))),FALSE)*Table3[[#This Row],[Points Ingénierie et conception]]),\"\")","v":90},{"$f":"IF(Table3[[#This Row],[Parcours choisi]]<>\"\",(VLOOKUP(Table35[[#Headers],[Innovation mécanique]],'Def. Prix & Parcours'!$B$6:$E$28,IF($F32=\"G\",2,IF($F32=\"T\",3,IF($F32=\"N\",4,0))),FALSE)*Table3[[#This Row],[Points Innovation mécanique]]),\"\")","v":84},{"$f":"IF(Table3[[#This Row],[Parcours choisi]]<>\"\",(VLOOKUP(Table35[[#Headers],[Développement Durable]],'Def. Prix & Parcours'!$B$6:$E$28,IF($F32=\"G\",2,IF($F32=\"T\",3,IF($F32=\"N\",4,0))),FALSE)*Table3[[#This Row],[Points Développement Durable]]),\"\")","v":28},{"$f":"IF(Table3[[#This Row],[Parcours choisi]]<>\"\",(VLOOKUP(Table35[[#Headers],[Ingénierie de fabrication]],'Def. Prix & Parcours'!$B$6:$E$28,IF($F32=\"G\",2,IF($F32=\"T\",3,IF($F32=\"N\",4,0))),FALSE)*Table3[[#This Row],[Points Ingénierie de fabrication]]),\"\")","v":39},{"$f":"IF(Table3[[#This Row],[Parcours choisi]]<>\"\",(VLOOKUP(Table35[[#Headers],[Gestion de projet et collaborations]],'Def. Prix & Parcours'!$B$6:$E$28,IF($F32=\"G\",2,IF($F32=\"T\",3,IF($F32=\"N\",4,0))),FALSE)*Table3[[#This Row],[Points Gestion de projet et \ncollaborations]]),\"\")","v":75},{"$f":"IF(Table3[[#This Row],[Parcours choisi]]<>\"\",(VLOOKUP(Table35[[#Headers],[Présentation Orale]],'Def. Prix & Parcours'!$B$6:$E$28,IF($F32=\"G\",2,IF($F32=\"T\",3,IF($F32=\"N\",4,0))),FALSE)*Table3[[#This Row],[Points Présentation Orale]]),\"\")","v":40},{"$f":"IF(Table3[[#This Row],[Parcours choisi]]<>\"\",(VLOOKUP(Table35[[#Headers],[Identité Equipe]],'Def. Prix & Parcours'!$B$6:$E$28,IF($F32=\"G\",2,IF($F32=\"T\",3,IF($F32=\"N\",4,0))),FALSE)*Table3[[#This Row],[Points Identité Equipe]]),\"\")","v":90},{"$f":"IF(Table3[[#This Row],[Parcours choisi]]<>\"\",(VLOOKUP(Table35[[#Headers],[Design du Stand]],'Def. Prix & Parcours'!$B$6:$E$28,IF($F32=\"G\",2,IF($F32=\"T\",3,IF($F32=\"N\",4,0))),FALSE)*Table3[[#This Row],[Points Design du Stand]]),\"\")","v":152},{"$f":"IF(Table3[[#This Row],[Parcours choisi]]<>\"\",(VLOOKUP(Table35[[#Headers],[Portfolio]],'Def. Prix & Parcours'!$B$6:$E$28,IF($F32=\"G\",2,IF($F32=\"T\",3,IF($F32=\"N\",4,0))),FALSE)*Table3[[#This Row],[Points Portfolio]]),\"\")","v":152},{"$f":"IF(Table3[[#This Row],[Parcours choisi]]<>\"\",(VLOOKUP(Table35[[#Headers],[Marketing et Sponsoring]],'Def. Prix & Parcours'!$B$6:$E$28,IF($F32=\"G\",2,IF($F32=\"T\",3,IF($F32=\"N\",4,0))),FALSE)*Table3[[#This Row],[Points Marketing et Sponsoring]]),\"\")","v":128},{"$f":"IF(Table3[[#This Row],[Parcours choisi]]<>\"\",(VLOOKUP(Table35[[#Headers],[Budget]],'Def. Prix & Parcours'!$B$6:$E$28,IF($F32=\"G\",2,IF($F32=\"T\",3,IF($F32=\"N\",4,0))),FALSE)*Table3[[#This Row],[Points Budget]]),\"\")","v":36},{"$f":"IF(Table3[[#This Row],[Parcours choisi]]<>\"\",(VLOOKUP(Table35[[#Headers],[Design du Véhicule]],'Def. Prix & Parcours'!$B$6:$E$28,IF($F32=\"G\",2,IF($F32=\"T\",3,IF($F32=\"N\",4,0))),FALSE)*Table3[[#This Row],[Points Design du Véhicule]]),\"\")","v":54},{"$f":"IF(Table3[[#This Row],[Parcours choisi]]<>\"\",(VLOOKUP(Table35[[#Headers],[Innovation numérique]],'Def. Prix & Parcours'!$B$6:$E$28,IF($F32=\"G\",2,IF($F32=\"T\",3,IF($F32=\"N\",4,0))),FALSE)*Table3[[#This Row],[Points Innovation numérique]]),\"\")","v":40},{"$f":"IF(Table3[[#This Row],[Parcours choisi]]<>\"\",(VLOOKUP(Table35[[#Headers],[Programmation]],'Def. Prix & Parcours'!$B$6:$E$28,IF($F32=\"G\",2,IF($F32=\"T\",3,IF($F32=\"N\",4,0))),FALSE)*Table3[[#This Row],[Points Programmation]]),\"\")","v":0},{"$f":"IF(Table3[[#This Row],[Parcours choisi]]<>\"\",(VLOOKUP(Table35[[#Headers],[Respect du règlement]],'Def. Prix & Parcours'!$B$6:$E$28,IF($F32=\"G\",2,IF($F32=\"T\",3,IF($F32=\"N\",4,0))),FALSE)*Table3[[#This Row],[Points Respect du règlement]]),\"\")","v":100},{"$f":"IF(Table3[[#This Row],[Parcours choisi]]<>\"\",(VLOOKUP(Table35[[#Headers],[Communication : vidéo]],'Def. Prix & Parcours'!$B$6:$E$28,IF($F32=\"G\",2,IF($F32=\"T\",3,IF($F32=\"N\",4,0))),FALSE)*Table3[[#This Row],[Points Communication : vidéo]]),\"\")","v":54},{"$f":"IF(Table3[[#This Row],[Parcours choisi]]<>\"\",(VLOOKUP(Table35[[#Headers],[Epreuve CAO]],'Def. Prix & Parcours'!$B$6:$E$28,IF($F32=\"G\",2,IF($F32=\"T\",3,IF($F32=\"N\",4,0))),FALSE)*Table3[[#This Row],[Points Epreuve CAO]]),\"\")","v":80},{"$f":"IF(Table3[[#This Row],[Parcours choisi]]<>\"\",(VLOOKUP(Table35[[#Headers],[Temps Réaction]],'Def. Prix & Parcours'!$B$6:$E$28,IF($F32=\"G\",2,IF($F32=\"T\",3,IF($F32=\"N\",4,0))),FALSE)*Table3[[#This Row],[Points Temps Réaction]]),\"\")","v":54},{"$f":"IF(Table3[[#This Row],[Parcours choisi]]<>\"\",(VLOOKUP(Table35[[#Headers],[Temps Course]],'Def. Prix & Parcours'!$B$6:$E$28,IF($F32=\"G\",2,IF($F32=\"T\",3,IF($F32=\"N\",4,0))),FALSE)*Table3[[#This Row],[Points Temps Course]]),\"\")","v":140},{"$f":"IF(Table3[[#This Row],[Parcours choisi]]<>\"\",(VLOOKUP(Table35[[#Headers],[Epreuve arrêt au stand]],'Def. Prix & Parcours'!$B$6:$E$28,IF($F32=\"G\",2,IF($F32=\"T\",3,IF($F32=\"N\",4,0))),FALSE)*Table3[[#This Row],[Points Epreuve arrêt au stand]]),\"\")","v":80},null,{"$f":"IF(Table3[[#This Row],[Parcours choisi]]<>\"\",SUM(Table35[[#This Row],[Ingénierie et conception]:[1]]),\"\")","v":1516},{"$f":"IF(Table3[[#This Row],[Parcours choisi]]<>\"\",_xlfn.RANK.EQ(Table35[[#This Row],[Total Parcours]],Table35[Total Parcours],0),\"\")","v":6}]
[27,{"$f":"IF(Table3[[#This Row],[Nom équipe]]<>\"\",Table3[[#This Row],[Nom équipe]],\"\")","v":"Otaku"},{"$f":"IF(Table3[[#This Row],[Etablissement]]<>\"\",Table3[[#This Row],[Etablissement]],\"\")","v":"La Fontaine St Avold"},{"$f":"IF(Table3[[#This Row],[Type établissement]]<>\"\",Table3[[#This Row],[Type établissement]],\"\")","v":"C"},{"$f":"IF(Table3[[#This Row],[Académie]]<>\"\",Table3[[#This Row],[Académie]],\"\")","v":"Nancy-Metz"},{"$f":"IF(Table3[[#This Row],[Parcours choisi]]<>\"\",Table3[[#This Row],[Parcours choisi]],\"\")","v":"G"},{"$f":"IF(Table3[[#This Row],[Parcours choisi]]<>\"\",(VLOOKUP(Table35[[#Headers],[Ingénierie et conception]],'Def. Prix & Parcours'!$B$6:$E$28,IF($F33=\"G\",2,IF($F33=\"T\",3,IF($F33=\"N\",4,0))),FALSE)*Table3[[#This Row],[Points Ingénierie et conception]]),\"\")","v":72},{"$f":"IF(Table3[[#This Row],[Parcours choisi]]<>\"\",(VLOOKUP(Table35[[#Headers],[Innovation mécanique]],'Def. Prix & Parcours'!$B$6:$E$28,IF($F33=\"G\",2,IF($F33=\"T\",3,IF($F33=\"N\",4,0))),FALSE)*Table3[[#This Row],[Points Innovation mécanique]]),\"\")","v":84},{"$f":"IF(Table3[[#This Row],[Parcours choisi]]<>\"\",(VLOOKUP(Table35[[#Headers],[Développement Durable]],'Def. Prix & Parcours'!$B$6:$E$28,IF($F33=\"G\",2,IF($F33=\"T\",3,IF($F33=\"N\",4,0))),FALSE)*Table3[[#This Row],[Points Développement Durable]]),\"\")","v":44},{"$f":"IF(Table3[[#This Row],[Parcours choisi]]<>\"\",(VLOOKUP(Table35[[#Headers],[Ingénierie de fabrication]],'Def. Prix & Parcours'!$B$6:$E$28,IF($F33=\"G\",2,IF($F33=\"T\",3,IF($F33=\"N\",4,0))),FALSE)*Table3[[#This Row],[Points Ingénierie de fabrication]]),\"\")","v":42},{"$f":"IF(Table3[[#This Row],[Parcours choisi]]<>\"\",(VLOOKUP(Table35[[#Headers],[Gestion de projet et collaborations]],'Def. Prix & Parcours'!$B$6:$E$28,IF($F33=\"G\",2,IF($F33=\"T\",3,IF($F33=\"N\",4,0))),FALSE)*Table3[[#This Row],[Points Gestion de projet et \ncollaborations]]),\"\")","v":85},{"$f":"IF(Table3[[#This Row],[Parcours choisi]]<>\"\",(VLOOKUP(Table35[[#Headers],[Présentation Orale]],'Def. Prix & Parcours'!$B$6:$E$28,IF($F33=\"G\",2,IF($F33=\"T\",3,IF($F33=\"N\",4,0))),FALSE)*Table3[[#This Row],[Points Présentation Orale]]),\"\")","v":70},{"$f":"IF(Table3[[#This Row],[Parcours choisi]]<>\"\",(VLOOKUP(Table35[[#Headers],[Identité Equipe]],'Def. Prix & Parcours'!$B$6:$E$28,IF($F33=\"G\",2,IF($F33=\"T\",3,IF($F33=\"N\",4,0))),FALSE)*Table3[[#This Row],[Points Identité Equipe]]),\"\")","v":90},{"$f":"IF(Table3[[#This Row],[Parcours choisi]]<>\"\",(VLOOKUP(Table35[[#Headers],[Design du Stand]],'Def. Prix & Parcours'!$B$6:$E$28,IF($F33=\"G\",2,IF($F33=\"T\",3,IF($F33=\"N\",4,0))),FALSE)*Table3[[#This Row],[Points Design du Stand]]),\"\")","v":120},{"$f":"IF(Table3[[#This Row],[Parcours choisi]]<>\"\",(VLOOKUP(Table35[[#Headers],[Portfolio]],'Def. Prix & Parcours'!$B$6:$E$28,IF($F33=\"G\",2,IF($F33=\"T\",3,IF($F33=\"N\",4,0))),FALSE)*Table3[[#This Row],[Points Portfolio]]),\"\")","v":144},{"$f":"IF(Table3[[#This Row],[Parcours choisi]]<>\"\",(VLOOKUP(Table35[[#Headers],[Marketing et Sponsoring]],'Def. Prix & Parcours'!$B$6:$E$28,IF($F33=\"G\",2,IF($F33=\"T\",3,IF($F33=\"N\",4,0))),FALSE)*Table3[[#This Row],[Points Marketing et Sponsoring]]),\"\")","v":104},{"$f":"IF(Table3[[#This Row],[Parcours choisi]]<>\"\",(VLOOKUP(Table35[[#Headers],[Budget]],'Def. Prix & Parcours'!$B$6:$E$28,IF($F33=\"G\",2,IF($F33=\"T\",3,IF($F33=\"N\",4,0))),FALSE)*Table3[[#This Row],[Points Budget]]),\"\")","v":20},{"$f":"IF(Table3[[#This Row],[Parcours choisi]]<>\"\",(VLOOKUP(Table35[[#Headers],[Design du Véhicule]],'Def. Prix & Parcours'!$B$6:$E$28,IF($F33=\"G\",2,IF($F33=\"T\",3,IF($F33=\"N\",4,0))),FALSE)*Table3[[#This Row],[Points Design du Véhicule]]),\"\")","v":45},{"$f":"IF(Table3[[#This Row],[Parcours choisi]]<>\"\",(VLOOKUP(Table35[[#Headers],[Innovation numérique]],'Def. Prix & Parcours'!$B$6:$E$28,IF($F33=\"G\",2,IF($F33=\"T\",3,IF($F33=\"N\",4,0))),FALSE)*Table3[[#This Row],[Points Innovation numérique]]),\"\")","v":60},{"$f":"IF(Table3[[#This Row],[Parcours choisi]]<>\"\",(VLOOKUP(Table35[[#Headers],[Programmation]],'Def. Prix & Parcours'!$B$6:$E$28,IF($F33=\"G\",2,IF($F33=\"T\",3,IF($F33=\"N\",4,0))),FALSE)*Table3[[#This Row],[Points Programmation]]),\"\")","v":40},{"$f":"IF(Table3[[#This Row],[Parcours choisi]]<>\"\",(VLOOKUP(Table35[[#Headers],[Respect du règlement]],'Def. Prix & Parcours'!$B$6:$E$28,IF($F33=\"G\",2,IF($F33=\"T\",3,IF($F33=\"N\",4,0))),FALSE)*Table3[[#This Row],[Points Respect du règlement]]),\"\")","v":95},{"$f":"IF(Table3[[#This Row],[Parcours choisi]]<>\"\",(VLOOKUP(Table35[[#Headers],[Communication : vidéo]],'Def. Prix & Parcours'!$B$6:$E$28,IF($F33=\"G\",2,IF($F33=\"T\",3,IF($F33=\"N\",4,0))),FALSE)*Table3[[#This Row],[Points Communication : vidéo]]),\"\")","v":48},{"$f":"IF(Table3[[#This Row],[Parcours choisi]]<>\"\",(VLOOKUP(Table35[[#Headers],[Epreuve CAO]],'Def. Prix & Parcours'!$B$6:$E$28,IF($F33=\"G\",2,IF($F33=\"T\",3,IF($F33=\"N\",4,0))),FALSE)*Table3[[#This Row],[Points Epreuve CAO]]),\"\")","v":80},{"$f":"IF(Table3[[#This Row],[Parcours choisi]]<>\"\",(VLOOKUP(Table35[[#Headers],[Temps Réaction]],'Def. Prix & Parcours'!$B$6:$E$28,IF($F33=\"G\",2,IF($F33=\"T\",3,IF($F33=\"N\",4,0))),FALSE)*Table3[[#This Row],[Points Temps Réaction]]),\"\")","v":42},{"$f":"IF(Table3[[#This Row],[Parcours choisi]]<>\"\",(VLOOKUP(Table35[[#Headers],[Temps Course]],'Def. Prix & Parcours'!$B$6:$E$28,IF($F33=\"G\",2,IF($F33=\"T\",3,IF($F33=\"N\",4,0))),FALSE)*Table3[[#This Row],[Points Temps Course]]),\"\")","v":100},{"$f":"IF(Table3[[#This Row],[Parcours choisi]]<>\"\",(VLOOKUP(Table35[[#Headers],[Epreuve arrêt au stand]],'Def. Prix & Parcours'!$B$6:$E$28,IF($F33=\"G\",2,IF($F33=\"T\",3,IF($F33=\"N\",4,0))),FALSE)*Table3[[#This Row],[Points Epreuve arrêt au stand]]),\"\")","v":80},null,{"$f":"IF(Table3[[#This Row],[Parcours choisi]]<>\"\",SUM(Table35[[#This Row],[Ingénierie et conception]:[1]]),\"\")","v":1465},{"$f":"IF(Table3[[#This Row],[Parcours choisi]]<>\"\",_xlfn.RANK.EQ(Table35[[#This Row],[Total Parcours]],Table35[Total Parcours],0),\"\")","v":9}]
[28,{"$f":"IF(Table3[[#This Row],[Nom équipe]]<>\"\",Table3[[#This Row],[Nom équipe]],\"\")","v":"Bal'eau"},{"$f":"IF(Table3[[#This Row],[Etablissement]]<>\"\",Table3[[#This Row],[Etablissement]],\"\")","v":"La Fontaine St Avold"},{"$f":"IF(Table3[[#This Row],[Type établissement]]<>\"\",Table3[[#This Row],[Type établissement]],\"\")","v":"C"},{"$f":"IF(Table3[[#This Row],[Académie]]<>\"\",Table3[[#This Row],[Académie]],\"\")","v":"Nancy-Metz"},{"$f":"IF(Table3[[#This Row],[Parcours choisi]]<>\"\",Table3[[#This Row],[Parcours choisi]],\"\")","v":"G"},{"$f":"IF(Table3[[#This Row],[Parcours choisi]]<>\"\",(VLOOKUP(Table35[[#Headers],[Ingénierie et conception]],'Def. Prix & Parcours'!$B$6:$E$28,IF($F34=\"G\",2,IF($F34=\"T\",3,IF($F34=\"N\",4,0))),FALSE)*Table3[[#This Row],[Points Ingénierie et conception]]),\"\")","v":102},{"$f":"IF(Table3[[#This Row],[Parcours choisi]]<>\"\",(VLOOKUP(Table35[[#Headers],[Innovation mécanique]],'Def. Prix & Parcours'!$B$6:$E$28,IF($F34=\"G\",2,IF($F34=\"T\",3,IF($F34=\"N\",4,0))),FALSE)*Table3[[#This Row],[Points Innovation mécanique]]),\"\")","v":90},{"$f":"IF(Table3[[#This Row],[Parcours choisi]]<>\"\",(VLOOKUP(Table35[[#Headers],[Développement Durable]],'Def. Prix & Parcours'!$B$6:$E$28,IF($F34=\"G\",2,IF($F34=\"T\",3,IF($F34=\"N\",4,0))),FALSE)*Table3[[#This Row],[Points Développement Durable]]),\"\")","v":80},{"$f":"IF(Table3[[#This Row],[Parcours choisi]]<>\"\",(VLOOKUP(Table35[[#Headers],[Ingénierie de fabrication]],'Def. Prix & Parcours'!$B$6:$E$28,IF($F34=\"G\",2,IF($F34=\"T\",3,IF($F34=\"N\",4,0))),FALSE)*Table3[[#This Row],[Points Ingénierie de fabrication]]),\"\")","v":54},{"$f":"IF(Table3[[#This Row],[Parcours choisi]]<>\"\",(VLOOKUP(Table35[[#Headers],[Gestion de projet et collaborations]],'Def. Prix & Parcours'!$B$6:$E$28,IF($F34=\"G\",2,IF($F34=\"T\",3,IF($F34=\"N\",4,0))),FALSE)*Table3[[#This Row],[Points Gestion de projet et \ncollaborations]]),\"\")","v":90},{"$f":"IF(Table3[[#This Row],[Parcours choisi]]<>\"\",(VLOOKUP(Table35[[#Headers],[Présentation Orale]],'Def. Prix & Parcours'!$B$6:$E$28,IF($F34=\"G\",2,IF($F34=\"T\",3,IF($F34=\"N\",4,0))),FALSE)*Table3[[#This Row],[Points Présentation Orale]]),\"\")","v":65},{"$f":"IF(Table3[[#This Row],[Parcours choisi]]<>\"\",(VLOOKUP(Table35[[#Headers],[Identité Equipe]],'Def. Prix & Parcours'!$B$6:$E$28,IF($F34=\"G\",2,IF($F34=\"T\",3,IF($F34=\"N\",4,0))),FALSE)*Table3[[#This Row],[Points Identité Equipe]]),\"\")","v":85},{"$f":"IF(Table3[[#This Row],[Parcours choisi]]<>\"\",(VLOOKUP(Table35[[#Headers],[Design du Stand]],'Def. Prix & Parcours'!$B$6:$E$28,IF($F34=\"G\",2,IF($F34=\"T\",3,IF($F34=\"N\",4,0))),FALSE)*Table3[[#This Row],[Points Design du Stand]]),\"\")","v":136},{"$f":"IF(Table3[[#This Row],[Parcours choisi]]<>\"\",(VLOOKUP(Table35[[#Headers],[Portfolio]],'Def. Prix & Parcours'!$B$6:$E$28,IF($F34=\"G\",2,IF($F34=\"T\",3,IF($F34=\"N\",4,0))),FALSE)*Table3[[#This Row],[Points Portfolio]]),\"\")","v":144},{"$f":"IF(Table3[[#This Row],[Parcours choisi]]<>\"\",(VLOOKUP(Table35[[#Headers],[Marketing et Sponsoring]],'Def. Prix & Parcours'!$B$6:$E$28,IF($F34=\"G\",2,IF($F34=\"T\",3,IF($F34=\"N\",4,0))),FALSE)*Table3[[#This Row],[Points Marketing et Sponsoring]]),\"\")","v":96},{"$f":"IF(Table3[[#This Row],[Parcours choisi]]<>\"\",(VLOOKUP(Table35[[#Headers],[Budget]],'Def. Prix & Parcours'!$B$6:$E$28,IF($F34=\"G\",2,IF($F34=\"T\",3,IF($F34=\"N\",4,0))),FALSE)*Table3[[#This Row],[Points Budget]]),\"\")","v":36},{"$f":"IF(Table3[[#This Row],[Parcours choisi]]<>\"\",(VLOOKUP(Table35[[#Headers],[Design du Véhicule]],'Def. Prix & Parcours'!$B$6:$E$28,IF($F34=\"G\",2,IF($F34=\"T\",3,IF($F34=\"N\",4,0))),FALSE)*Table3[[#This Row],[Points Design du Véhicule]]),\"\")","v":54},{"$f":"IF(Table3[[#This Row],[Parcours choisi]]<>\"\",(VLOOKUP(Table35[[#Headers],[Innovation numérique]],'Def. Prix & Parcours'!$B$6:$E$28,IF($F34=\"G\",2,IF($F34=\"T\",3,IF($F34=\"N\",4,0))),FALSE)*Table3[[#This Row],[Points Innovation numérique]]),\"\")","v":28},{"$f":"IF(Table3[[#This Row],[Parcours choisi]]<>\"\",(VLOOKUP(Table35[[#Headers],[Programmation]],'Def. Prix & Parcours'!$B$6:$E$28,IF($F34=\"G\",2,IF($F34=\"T\",3,IF($F34=\"N\",4,0))),FALSE)*Table3[[#This Row],[Points Programmation]]),\"\")","v":0},{"$f":"IF(Table3[[#This Row],[Parcours choisi]]<>\"\",(VLOOKUP(Table35[[#Headers],[Respect du règlement]],'Def. Prix & Parcours'!$B$6:$E$28,IF($F34=\"G\",2,IF($F34=\"T\",3,IF($F34=\"N\",4,0))),FALSE)*Table3[[#This Row],[Points Respect du règlement]]),\"\")","v":95},{"$f":"IF(Table3[[#This Row],[Parcours choisi]]<>\"\",(VLOOKUP(Table35[[#Headers],[Communication : vidéo]],'Def. Prix & Parcours'!$B$6:$E$28,IF($F34=\"G\",2,IF($F34=\"T\",3,IF($F34=\"N\",4,0))),FALSE)*Table3[[#This Row],[Points Communication : vidéo]]),\"\")","v":33},{"$f":"IF(Table3[[#This Row],[Parcours choisi]]<>\"\",(VLOOKUP(Table35[[#Headers],[Epreuve CAO]],'Def. Prix & Parcours'!$B$6:$E$28,IF($F34=\"G\",2,IF($F34=\"T\",3,IF($F34=\"N\",4,0))),FALSE)*Table3[[#This Row],[Points Epreuve CAO]]),\"\")","v":80},{"$f":"IF(Table3[[#This Row],[Parcours choisi]]<>\"\",(VLOOKUP(Table35[[#Headers],[Temps Réaction]],'Def. Prix & Parcours'!$B$6:$E$28,IF($F34=\"G\",2,IF($F34=\"T\",3,IF($F34=\"N\",4,0))),FALSE)*Table3[[#This Row],[Points Temps Réaction]]),\"\")","v":6},{"$f":"IF(Table3[[#This Row],[Parcours choisi]]<>\"\",(VLOOKUP(Table35[[#Headers],[Temps Course]],'Def. Prix & Parcours'!$B$6:$E$28,IF($F34=\"G\",2,IF($F34=\"T\",3,IF($F34=\"N\",4,0))),FALSE)*Table3[[#This Row],[Points Temps Course]]),\"\")","v":120},{"$f":"IF(Table3[[#This Row],[Parcours choisi]]<>\"\",(VLOOKUP(Table35[[#Headers],[Epreuve arrêt au stand]],'Def. Prix & Parcours'!$B$6:$E$28,IF($F34=\"G\",2,IF($F34=\"T\",3,IF($F34=\"N\",4,0))),FALSE)*Table3[[#This Row],[Points Epreuve arrêt au stand]]),\"\")","v":80},null,{"$f":"IF(Table3[[#This Row],[Parcours choisi]]<>\"\",SUM(Table35[[#This Row],[Ingénierie et conception]:[1]]),\"\")","v":1474},{"$f":"IF(Table3[[#This Row],[Parcours choisi]]<>\"\",_xlfn.RANK.EQ(Table35[[#This Row],[Total Parcours]],Table35[Total Parcours],0),\"\")","v":7}]
[29,{"$f":"IF(Table3[[#This Row],[Nom équipe]]<>\"\",Table3[[#This Row],[Nom équipe]],\"\")","v":"Team Lambo"},{"$f":"IF(Table3[[#This Row],[Etablissement]]<>\"\",Table3[[#This Row],[Etablissement]],\"\")","v":"La Fontaine St Avold"},{"$f":"IF(Table3[[#This Row],[Type établissement]]<>\"\",Table3[[#This Row],[Type établissement]],\"\")","v":"C"},{"$f":"IF(Table3[[#This Row],[Académie]]<>\"\",Table3[[#This Row],[Académie]],\"\")","v":"Nancy-Metz"},{"$f":"IF(Table3[[#This Row],[Parcours choisi]]<>\"\",Table3[[#This Row],[Parcours choisi]],\"\")","v":"G"},{"$f":"IF(Table3[[#This Row],[Parcours choisi]]<>\"\",(VLOOKUP(Table35[[#Headers],[Ingénierie et conception]],'Def. Prix & Parcours'!$B$6:$E$28,IF($F35=\"G\",2,IF($F35=\"T\",3,IF($F35=\"N\",4,0))),FALSE)*Table3[[#This Row],[Points Ingénierie et conception]]),\"\")","v":90},{"$f":"IF(Table3[[#This Row],[Parcours choisi]]<>\"\",(VLOOKUP(Table35[[#Headers],[Innovation mécanique]],'Def. Prix & Parcours'!$B$6:$E$28,IF($F35=\"G\",2,IF($F35=\"T\",3,IF($F35=\"N\",4,0))),FALSE)*Table3[[#This Row],[Points Innovation mécanique]]),\"\")","v":78},{"$f":"IF(Table3[[#This Row],[Parcours choisi]]<>\"\",(VLOOKUP(Table35[[#Headers],[Développement Durable]],'Def. Prix & Parcours'!$B$6:$E$28,IF($F35=\"G\",2,IF($F35=\"T\",3,IF($F35=\"N\",4,0))),FALSE)*Table3[[#This Row],[Points Développement Durable]]),\"\")","v":56},{"$f":"IF(Table3[[#This Row],[Parcours choisi]]<>\"\",(VLOOKUP(Table35[[#Headers],[Ingénierie de fabrication]],'Def. Prix & Parcours'!$B$6:$E$28,IF($F35=\"G\",2,IF($F35=\"T\",3,IF($F35=\"N\",4,0))),FALSE)*Table3[[#This Row],[Points Ingénierie de fabrication]]),\"\")","v":39},{"$f":"IF(Table3[[#This Row],[Parcours choisi]]<>\"\",(VLOOKUP(Table35[[#Headers],[Gestion de projet et collaborations]],'Def. Prix & Parcours'!$B$6:$E$28,IF($F35=\"G\",2,IF($F35=\"T\",3,IF($F35=\"N\",4,0))),FALSE)*Table3[[#This Row],[Points Gestion de projet et \ncollaborations]]),\"\")","v":55},{"$f":"IF(Table3[[#This Row],[Parcours choisi]]<>\"\",(VLOOKUP(Table35[[#Headers],[Présentation Orale]],'Def. Prix & Parcours'!$B$6:$E$28,IF($F35=\"G\",2,IF($F35=\"T\",3,IF($F35=\"N\",4,0))),FALSE)*Table3[[#This Row],[Points Présentation Orale]]),\"\")","v":60},{"$f":"IF(Table3[[#This Row],[Parcours choisi]]<>\"\",(VLOOKUP(Table35[[#Headers],[Identité Equipe]],'Def. Prix & Parcours'!$B$6:$E$28,IF($F35=\"G\",2,IF($F35=\"T\",3,IF($F35=\"N\",4,0))),FALSE)*Table3[[#This Row],[Points Identité Equipe]]),\"\")","v":35},{"$f":"IF(Table3[[#This Row],[Parcours choisi]]<>\"\",(VLOOKUP(Table35[[#Headers],[Design du Stand]],'Def. Prix & Parcours'!$B$6:$E$28,IF($F35=\"G\",2,IF($F35=\"T\",3,IF($F35=\"N\",4,0))),FALSE)*Table3[[#This Row],[Points Design du Stand]]),\"\")","v":56},{"$f":"IF(Table3[[#This Row],[Parcours choisi]]<>\"\",(VLOOKUP(Table35[[#Headers],[Portfolio]],'Def. Prix & Parcours'!$B$6:$E$28,IF($F35=\"G\",2,IF($F35=\"T\",3,IF($F35=\"N\",4,0))),FALSE)*Table3[[#This Row],[Points Portfolio]]),\"\")","v":80},{"$f":"IF(Table3[[#This Row],[Parcours choisi]]<>\"\",(VLOOKUP(Table35[[#Headers],[Marketing et Sponsoring]],'Def. Prix & Parcours'!$B$6:$E$28,IF($F35=\"G\",2,IF($F35=\"T\",3,IF($F35=\"N\",4,0))),FALSE)*Table3[[#This Row],[Points Marketing et Sponsoring]]),\"\")","v":64},{"$f":"IF(Table3[[#This Row],[Parcours choisi]]<>\"\",(VLOOKUP(Table35[[#Headers],[Budget]],'Def. Prix & Parcours'!$B$6:$E$28,IF($F35=\"G\",2,IF($F35=\"T\",3,IF($F35=\"N\",4,0))),FALSE)*Table3[[#This Row],[Points Budget]]),\"\")","v":12},{"$f":"IF(Table3[[#This Row],[Parcours choisi]]<>\"\",(VLOOKUP(Table35[[#Headers],[Design du Véhicule]],'Def. Prix & Parcours'!$B$6:$E$28,IF($F35=\"G\",2,IF($F35=\"T\",3,IF($F35=\"N\",4,0))),FALSE)*Table3[[#This Row],[Points Design du Véhicule]]),\"\")","v":24},{"$f":"IF(Table3[[#This Row],[Parcours choisi]]<>\"\",(VLOOKUP(Table35[[#Headers],[Innovation numérique]],'Def. Prix & Parcours'!$B$6:$E$28,IF($F35=\"G\",2,IF($F35=\"T\",3,IF($F35=\"N\",4,0))),FALSE)*Table3[[#This Row],[Points Innovation numérique]]),\"\")","v":12},{"$f":"IF(Table3[[#This Row],[Parcours choisi]]<>\"\",(VLOOKUP(Table35[[#Headers],[Programmation]],'Def. Prix & Parcours'!$B$6:$E$28,IF($F35=\"G\",2,IF($F35=\"T\",3,IF($F35=\"N\",4,0))),FALSE)*Table3[[#This Row],[Points Programmation]]),\"\")","v":12},{"$f":"IF(Table3[[#This Row],[Parcours choisi]]<>\"\",(VLOOKUP(Table35[[#Headers],[Respect du règlement]],'Def. Prix & Parcours'!$B$6:$E$28,IF($F35=\"G\",2,IF($F35=\"T\",3,IF($F35=\"N\",4,0))),FALSE)*Table3[[#This Row],[Points Respect du règlement]]),\"\")","v":70},{"$f":"IF(Table3[[#This Row],[Parcours choisi]]<>\"\",(VLOOKUP(Table35[[#Headers],[Communication : vidéo]],'Def. Prix & Parcours'!$B$6:$E$28,IF($F35=\"G\",2,IF($F35=\"T\",3,IF($F35=\"N\",4,0))),FALSE)*Table3[[#This Row],[Points Communication : vidéo]]),\"\")","v":30},{"$f":"IF(Table3[[#This Row],[Parcours choisi]]<>\"\",(VLOOKUP(Table35[[#Headers],[Epreuve CAO]],'Def. Prix & Parcours'!$B$6:$E$28,IF($F35=\"G\",2,IF($F35=\"T\",3,IF($F35=\"N\",4,0))),FALSE)*Table3[[#This Row],[Points Epreuve CAO]]),\"\")","v":80},{"$f":"IF(Table3[[#This Row],[Parcours choisi]]<>\"\",(VLOOKUP(Table35[[#Headers],[Temps Réaction]],'Def. Prix & Parcours'!$B$6:$E$28,IF($F35=\"G\",2,IF($F35=\"T\",3,IF($F35=\"N\",4,0))),FALSE)*Table3[[#This Row],[Points Temps Réaction]]),\"\")","v":12},{"$f":"IF(Table3[[#This Row],[Parcours choisi]]<>\"\",(VLOOKUP(Table35[[#Headers],[Temps Course]],'Def. Prix & Parcours'!$B$6:$E$28,IF($F35=\"G\",2,IF($F35=\"T\",3,IF($F35=\"N\",4,0))),FALSE)*Table3[[#This Row],[Points Temps Course]]),\"\")","v":80},{"$f":"IF(Table3[[#This Row],[Parcours choisi]]<>\"\",(VLOOKUP(Table35[[#Headers],[Epreuve arrêt au stand]],'Def. Prix & Parcours'!$B$6:$E$28,IF($F35=\"G\",2,IF($F35=\"T\",3,IF($F35=\"N\",4,0))),FALSE)*Table3[[#This Row],[Points Epreuve arrêt au stand]]),\"\")","v":80},null,{"$f":"IF(Table3[[#This Row],[Parcours choisi]]<>\"\",SUM(Table35[[#This Row],[Ingénierie et conception]:[1]]),\"\")","v":1025},{"$f":"IF(Table3[[#This Row],[Parcours choisi]]<>\"\",_xlfn.RANK.EQ(Table35[[#This Row],[Total Parcours]],Table35[Total Parcours],0),\"\")","v":24}]
[30,{"$f":"IF(Table3[[#This Row],[Nom équipe]]<>\"\",Table3[[#This Row],[Nom équipe]],\"\")","v":""},{"$f":"IF(Table3[[#This Row],[Etablissement]]<>\"\",Table3[[#This Row],[Etablissement]],\"\")","v":""},{"$f":"IF(Table3[[#This Row],[Type établissement]]<>\"\",Table3[[#This Row],[Type établissement]],\"\")","v":""},{"$f":"IF(Table3[[#This Row],[Académie]]<>\"\",Table3[[#This Row],[Académie]],\"\")","v":""},{"$f":"IF(Table3[[#This Row],[Parcours choisi]]<>\"\",Table3[[#This Row],[Parcours choisi]],\"\")","v":""},{"$f":"IF(Table3[[#This Row],[Parcours choisi]]<>\"\",(VLOOKUP(Table35[[#Headers],[Ingénierie et conception]],'Def. Prix & Parcours'!$B$6:$E$28,IF($F36=\"G\",2,IF($F36=\"T\",3,IF($F36=\"N\",4,0))),FALSE)*Table3[[#This Row],[Points Ingénierie et conception]]),\"\")","v":""},{"$f":"IF(Table3[[#This Row],[Parcours choisi]]<>\"\",(VLOOKUP(Table35[[#Headers],[Innovation mécanique]],'Def. Prix & Parcours'!$B$6:$E$28,IF($F36=\"G\",2,IF($F36=\"T\",3,IF($F36=\"N\",4,0))),FALSE)*Table3[[#This Row],[Points Innovation mécanique]]),\"\")","v":""},{"$f":"IF(Table3[[#This Row],[Parcours choisi]]<>\"\",(VLOOKUP(Table35[[#Headers],[Développement Durable]],'Def. Prix & Parcours'!$B$6:$E$28,IF($F36=\"G\",2,IF($F36=\"T\",3,IF($F36=\"N\",4,0))),FALSE)*Table3[[#This Row],[Points Développement Durable]]),\"\")","v":""},{"$f":"IF(Table3[[#This Row],[Parcours choisi]]<>\"\",(VLOOKUP(Table35[[#Headers],[Ingénierie de fabrication]],'Def. Prix & Parcours'!$B$6:$E$28,IF($F36=\"G\",2,IF($F36=\"T\",3,IF($F36=\"N\",4,0))),FALSE)*Table3[[#This Row],[Points Ingénierie de fabrication]]),\"\")","v":""},{"$f":"IF(Table3[[#This Row],[Parcours choisi]]<>\"\",(VLOOKUP(Table35[[#Headers],[Gestion de projet et collaborations]],'Def. Prix & Parcours'!$B$6:$E$28,IF($F36=\"G\",2,IF($F36=\"T\",3,IF($F36=\"N\",4,0))),FALSE)*Table3[[#This Row],[Points Gestion de projet et \ncollaborations]]),\"\")","v":""},{"$f":"IF(Table3[[#This Row],[Parcours choisi]]<>\"\",(VLOOKUP(Table35[[#Headers],[Présentation Orale]],'Def. Prix & Parcours'!$B$6:$E$28,IF($F36=\"G\",2,IF($F36=\"T\",3,IF($F36=\"N\",4,0))),FALSE)*Table3[[#This Row],[Points Présentation Orale]]),\"\")","v":""},{"$f":"IF(Table3[[#This Row],[Parcours choisi]]<>\"\",(VLOOKUP(Table35[[#Headers],[Identité Equipe]],'Def. Prix & Parcours'!$B$6:$E$28,IF($F36=\"G\",2,IF($F36=\"T\",3,IF($F36=\"N\",4,0))),FALSE)*Table3[[#This Row],[Points Identité Equipe]]),\"\")","v":""},{"$f":"IF(Table3[[#This Row],[Parcours choisi]]<>\"\",(VLOOKUP(Table35[[#Headers],[Design du Stand]],'Def. Prix & Parcours'!$B$6:$E$28,IF($F36=\"G\",2,IF($F36=\"T\",3,IF($F36=\"N\",4,0))),FALSE)*Table3[[#This Row],[Points Design du Stand]]),\"\")","v":""},{"$f":"IF(Table3[[#This Row],[Parcours choisi]]<>\"\",(VLOOKUP(Table35[[#Headers],[Portfolio]],'Def. Prix & Parcours'!$B$6:$E$28,IF($F36=\"G\",2,IF($F36=\"T\",3,IF($F36=\"N\",4,0))),FALSE)*Table3[[#This Row],[Points Portfolio]]),\"\")","v":""},{"$f":"IF(Table3[[#This Row],[Parcours choisi]]<>\"\",(VLOOKUP(Table35[[#Headers],[Marketing et Sponsoring]],'Def. Prix & Parcours'!$B$6:$E$28,IF($F36=\"G\",2,IF($F36=\"T\",3,IF($F36=\"N\",4,0))),FALSE)*Table3[[#This Row],[Points Marketing et Sponsoring]]),\"\")","v":""},{"$f":"IF(Table3[[#This Row],[Parcours choisi]]<>\"\",(VLOOKUP(Table35[[#Headers],[Budget]],'Def. Prix & Parcours'!$B$6:$E$28,IF($F36=\"G\",2,IF($F36=\"T\",3,IF($F36=\"N\",4,0))),FALSE)*Table3[[#This Row],[Points Budget]]),\"\")","v":""},{"$f":"IF(Table3[[#This Row],[Parcours choisi]]<>\"\",(VLOOKUP(Table35[[#Headers],[Design du Véhicule]],'Def. Prix & Parcours'!$B$6:$E$28,IF($F36=\"G\",2,IF($F36=\"T\",3,IF($F36=\"N\",4,0))),FALSE)*Table3[[#This Row],[Points Design du Véhicule]]),\"\")","v":""},{"$f":"IF(Table3[[#This Row],[Parcours choisi]]<>\"\",(VLOOKUP(Table35[[#Headers],[Innovation numérique]],'Def. Prix & Parcours'!$B$6:$E$28,IF($F36=\"G\",2,IF($F36=\"T\",3,IF($F36=\"N\",4,0))),FALSE)*Table3[[#This Row],[Points Innovation numérique]]),\"\")","v":""},{"$f":"IF(Table3[[#This Row],[Parcours choisi]]<>\"\",(VLOOKUP(Table35[[#Headers],[Programmation]],'Def. Prix & Parcours'!$B$6:$E$28,IF($F36=\"G\",2,IF($F36=\"T\",3,IF($F36=\"N\",4,0))),FALSE)*Table3[[#This Row],[Points Programmation]]),\"\")","v":""},{"$f":"IF(Table3[[#This Row],[Parcours choisi]]<>\"\",(VLOOKUP(Table35[[#Headers],[Respect du règlement]],'Def. Prix & Parcours'!$B$6:$E$28,IF($F36=\"G\",2,IF($F36=\"T\",3,IF($F36=\"N\",4,0))),FALSE)*Table3[[#This Row],[Points Respect du règlement]]),\"\")","v":""},{"$f":"IF(Table3[[#This Row],[Parcours choisi]]<>\"\",(VLOOKUP(Table35[[#Headers],[Communication : vidéo]],'Def. Prix & Parcours'!$B$6:$E$28,IF($F36=\"G\",2,IF($F36=\"T\",3,IF($F36=\"N\",4,0))),FALSE)*Table3[[#This Row],[Points Communication : vidéo]]),\"\")","v":""},{"$f":"IF(Table3[[#This Row],[Parcours choisi]]<>\"\",(VLOOKUP(Table35[[#Headers],[Epreuve CAO]],'Def. Prix & Parcours'!$B$6:$E$28,IF($F36=\"G\",2,IF($F36=\"T\",3,IF($F36=\"N\",4,0))),FALSE)*Table3[[#This Row],[Points Epreuve CAO]]),\"\")","v":""},{"$f":"IF(Table3[[#This Row],[Parcours choisi]]<>\"\",(VLOOKUP(Table35[[#Headers],[Temps Réaction]],'Def. Prix & Parcours'!$B$6:$E$28,IF($F36=\"G\",2,IF($F36=\"T\",3,IF($F36=\"N\",4,0))),FALSE)*Table3[[#This Row],[Points Temps Réaction]]),\"\")","v":""},{"$f":"IF(Table3[[#This Row],[Parcours choisi]]<>\"\",(VLOOKUP(Table35[[#Headers],[Temps Course]],'Def. Prix & Parcours'!$B$6:$E$28,IF($F36=\"G\",2,IF($F36=\"T\",3,IF($F36=\"N\",4,0))),FALSE)*Table3[[#This Row],[Points Temps Course]]),\"\")","v":""},{"$f":"IF(Table3[[#This Row],[Parcours choisi]]<>\"\",(VLOOKUP(Table35[[#Headers],[Epreuve arrêt au stand]],'Def. Prix & Parcours'!$B$6:$E$28,IF($F36=\"G\",2,IF($F36=\"T\",3,IF($F36=\"N\",4,0))),FALSE)*Table3[[#This Row],[Points Epreuve arrêt au stand]]),\"\")","v":""},null,{"$f":"IF(Table3[[#This Row],[Parcours choisi]]<>\"\",SUM(Table35[[#This Row],[Ingénierie et conception]:[1]]),\"\")","v":""},{"$f":"IF(Table3[[#This Row],[Parcours choisi]]<>\"\",_xlfn.RANK.EQ(Table35[[#This Row],[Total Parcours]],Table35[Total Parcours],0),\"\")","v":""}]

{"sheet":"Prix Sciences & Techniques","index":3,"n_rows":36,"n_cols":29,"rows_kept":36,"cut":false,"hidden":false,"merged":[[3,4,3,19],[1,10,1,23]]}
[]
[null,null,"FINALE FRANCE / ACADEMIQUES COURSE EN COURS",null,null,null,null,null,null,null,"Résultats du Prix Sciences et Techniques Collèges/Lycées"]
[]
[null,null,null,null,"Attention: Ne rien saisir sur cette feuille est calculée automatiquement"]
[]
["N° équipe","Nom équipe","établissement","Type établissement","Académie","Parcours","Ingénierie et conception","Innovation mécanique","Développement Durable","Ingénierie de fabrication","Gestion de projet et collaborations","Présentation Orale","Identité Equipe","Design du Stand","Portfolio","Marketing et Sponsoring","Budget","Design du Véhicule","Innovation numérique","Programmation","Respect du règlement","Communication : vidéo","Epreuve CAO","Temps Réaction","Temps Course","Epreuve arrêt au stand","1","Total Sciences et Techniques","Classement Sciences et Techniques"]
[1,{"$f":"IF(Table3[[#This Row],[Nom équipe]]<>\"\",Table3[[#This Row],[Nom équipe]],\"\")","v":"Star Car"},{"$f":"IF(Table3[[#This Row],[Etablissement]]<>\"\",Table3[[#This Row],[Etablissement]],\"\")","v":"AVEC"},{"$f":"IF(Table3[[#This Row],[Type établissement]]<>\"\",Table3[[#This Row],[Type établissement]],\"\")","v":"C"},{"$f":"IF(Table3[[#This Row],[Académie]]<>\"\",Table3[[#This Row],[Académie]],\"\")","v":"Nancy-Metz"},{"$f":"IF(Table3[[#This Row],[Parcours choisi]]<>\"\",Table3[[#This Row],[Parcours choisi]],\"\")","v":"G"},{"$f":"IF(Table3[[#This Row],[Parcours choisi]]<>\"\",(VLOOKUP(Table356[[#Headers],[Ingénierie et conception]],'Def. Prix & Parcours'!$I$6:$M$28,3,FALSE)*Table3[[#This Row],[Points Ingénierie et conception]]),\"\")","v":84},{"$f":"IF(Table3[[#This Row],[Parcours choisi]]<>\"\",(VLOOKUP(Table356[[#Headers],[Innovation mécanique]],'Def. Prix & Parcours'!$I$6:$M$28,3,FALSE)*Table3[[#This Row],[Points Innovation mécanique]]),\"\")","v":192},{"$f":"IF(Table3[[#This Row],[Parcours choisi]]<>\"\",(VLOOKUP(Table356[[#Headers],[Développement Durable]],'Def. Prix & Parcours'!$I$6:$M$28,3,FALSE)*Table3[[#This Row],[Points Développement Durable]]),\"\")","v":24},{"$f":"IF(Table3[[#This Row],[Parcours choisi]]<>\"\",(VLOOKUP(Table356[[#Headers],[Ingénierie de fabrication]],'Def. Prix & Parcours'!$I$6:$M$28,3,FALSE)*Table3[[#This Row],[Points Ingénierie de fabrication]]),\"\")","v":112},{"$f":"IF(Table3[[#This Row],[Parcours choisi]]<>\"\",(VLOOKUP(Table356[[#Headers],[Gestion de projet et collaborations]],'Def. Prix & Parcours'!$I$6:$M$28,3,FALSE)*Table3[[#This Row],[Points Gestion de projet et \ncollaborations]]),\"\")","v":85},{"$f":"IF(Table3[[#This Row],[Parcours choisi]]<>\"\",(VLOOKUP(Table356[[#Headers],[Présentation Orale]],'Def. Prix & Parcours'!$I$6:$M$28,3,FALSE)*Table3[[#This Row],[Points Présentation Orale]]),\"\")","v":56},{"$f":"IF(Table3[[#This Row],[Parcours choisi]]<>\"\",(VLOOKUP(Table356[[#Headers],[Identité Equipe]],'Def. Prix & Parcours'!$I$6:$M$28,3,FALSE)*Table3[[#This Row],[Points Identité Equipe]]),\"\")","v":52},{"$f":"IF(Table3[[#This Row],[Parcours choisi]]<>\"\",(VLOOKUP(Table356[[#Headers],[Design du Stand]],'Def. Prix & Parcours'!$I$6:$M$28,3,FALSE)*Table3[[#This Row],[Points Design du Stand]]),\"\")","v":0},{"$f":"IF(Table3[[#This Row],[Parcours choisi]]<>\"\",(VLOOKUP(Table356[[#Headers],[Portfolio]],'Def. Prix & Parcours'!$I$6:$M$28,3,FALSE)*Table3[[#This Row],[Points Portfolio]]),\"\")","v":0},{"$f":"IF(Table3[[#This Row],[Parcours choisi]]<>\"\",(VLOOKUP(Table356[[#Headers],[Marketing et Sponsoring]],'Def. Prix & Parcours'!$I$6:$M$28,3,FALSE)*Table3[[#This Row],[Points Marketing et Sponsoring]]),\"\")","v":0},{"$f":"IF(Table3[[#This Row],[Parcours choisi]]<>\"\",(VLOOKUP(Table356[[#Headers],[Budget]],'Def. Prix & Parcours'!$I$6:$M$28,3,FALSE)*Table3[[#This Row],[Points Budget]]),\"\")","v":0},{"$f":"IF(Table3[[#This Row],[Parcours choisi]]<>\"\",(VLOOKUP(Table356[[#Headers],[Design du Véhicule]],'Def. Prix & Parcours'!$I$6:$M$28,3,FALSE)*Table3[[#This Row],[Points Design du Véhicule]]),\"\")","v":90},{"$f":"IF(Table3[[#This Row],[Parcours choisi]]<>\"\",(VLOOKUP(Table356[[#Headers],[Innovation numérique]],'Def. Prix & Parcours'!$I$6:$M$28,3,FALSE)*Table3[[#This Row],[Points Innovation numérique]]),\"\")","v":0},{"$f":"IF(Table3[[#This Row],[Parcours choisi]]<>\"\",(VLOOKUP(Table356[[#Headers],[Programmation]],'Def. Prix & Parcours'!$I$6:$M$28,3,FALSE)*Table3[[#This Row],[Points Programmation]]),\"\")","v":0},{"$f":"IF(Table3[[#This Row],[Parcours choisi]]<>\"\",(VLOOKUP(Table356[[#Headers],[Respect du règlement]],'Def. Prix & Parcours'!$I$6:$M$28,3,FALSE)*Table3[[#This Row],[Points Respect du règlement]]),\"\")","v":45},{"$f":"IF(Table3[[#This Row],[Parcours choisi]]<>\"\",(VLOOKUP(Table356[[#Headers],[Communication : vidéo]],'Def. Prix & Parcours'!$I$6:$M$28,3,FALSE)*Table3[[#This Row],[Points Communication : vidéo]]),\"\")","v":0},{"$f":"IF(Table3[[#This Row],[Parcours choisi]]<>\"\",(VLOOKUP(Table356[[#Headers],[Epreuve CAO]],'Def. Prix & Parcours'!$I$6:$M$28,3,FALSE)*Table3[[#This Row],[Points Epreuve CAO]]),\"\")","v":0},{"$f":"IF(Table3[[#This Row],[Parcours choisi]]<>\"\",(VLOOKUP(Table356[[#Headers],[Temps Réaction]],'Def. Prix & Parcours'!$I$6:$M$28,3,FALSE)*Table3[[#This Row],[Points Temps Réaction]]),\"\")","v":0},{"$f":"IF(Table3[[#This Row],[Parcours choisi]]<>\"\",(VLOOKUP(Table356[[#Headers],[Temps Course]],'Def. Prix & Parcours'!$I$6:$M$28,3,FALSE)*Table3[[#This Row],[Points Temps Course]]),\"\")","v":90},{"$f":"IF(Table3[[#This Row],[Parcours choisi]]<>\"\",(VLOOKUP(Table356[[#Headers],[Epreuve arrêt au stand]],'Def. Prix & Parcours'!$I$6:$M$28,3,FALSE)*Table3[[#This Row],[Points Epreuve arrêt au stand]]),\"\")","v":0},null,{"$f":"IF(Table3[[#This Row],[Parcours choisi]]<>\"\",SUM(Table35678[[#This Row],[Ingénierie et conception]:[1]]),\"\")","v":830},{"$f":"IF(Table3[[#This Row],[Parcours choisi]]<>\"\",_xlfn.RANK.EQ(Table35678[[#This Row],[Total Sciences et Techniques]],Table35678[Total Sciences et Techniques],0),\"\")","v":22}]
[2,{"$f":"IF(Table3[[#This Row],[Nom équipe]]<>\"\",Table3[[#This Row],[Nom équipe]],\"\")","v":"Les industriels"},{"$f":"IF(Table3[[#This Row],[Etablissement]]<>\"\",Table3[[#This Row],[Etablissement]],\"\")","v":"Loritz Nancy"},{"$f":"IF(Table3[[#This Row],[Type établissement]]<>\"\",Table3[[#This Row],[Type établissement]],\"\")","v":"L"},{"$f":"IF(Table3[[#This Row],[Académie]]<>\"\",Table3[[#This Row],[Académie]],\"\")","v":"Nancy-Metz"},{"$f":"IF(Table3[[#This Row],[Parcours choisi]]<>\"\",Table3[[#This Row],[Parcours choisi]],\"\")","v":"T"},{"$f":"IF(Table3[[#This Row],[Parcours choisi]]<>\"\",(VLOOKUP(Table356[[#Headers],[Ingénierie et conception]],'Def. Prix & Parcours'!$I$6:$M$28,3,FALSE)*Table3[[#This Row],[Points Ingénierie et conception]]),\"\")","v":0},{"$f":"IF(Table3[[#This Row],[Parcours choisi]]<>\"\",(VLOOKUP(Table356[[#Headers],[Innovation mécanique]],'Def. Prix & Parcours'!$I$6:$M$28,3,FALSE)*Table3[[#This Row],[Points Innovation mécanique]]),\"\")","v":0},{"$f":"IF(Table3[[#This Row],[Parcours choisi]]<>\"\",(VLOOKUP(Table356[[#Headers],[Développement Durable]],'Def. Prix & Parcours'!$I$6:$M$28,3,FALSE)*Table3[[#This Row],[Points Développement Durable]]),\"\")","v":0},{"$f":"IF(Table3[[#This Row],[Parcours choisi]]<>\"\",(VLOOKUP(Table356[[#Headers],[Ingénierie de fabrication]],'Def. Prix & Parcours'!$I$6:$M$28,3,FALSE)*Table3[[#This Row],[Points Ingénierie de fabrication]]),\"\")","v":0},{"$f":"IF(Table3[[#This Row],[Parcours choisi]]<>\"\",(VLOOKUP(Table356[[#Headers],[Gestion de projet et collaborations]],'Def. Prix & Parcours'!$I$6:$M$28,3,FALSE)*Table3[[#This Row],[Points Gestion de projet et \ncollaborations]]),\"\")","v":0},{"$f":"IF(Table3[[#This Row],[Parcours choisi]]<>\"\",(VLOOKUP(Table356[[#Headers],[Présentation Orale]],'Def. Prix & Parcours'!$I$6:$M$28,3,FALSE)*Table3[[#This Row],[Points Présentation Orale]]),\"\")","v":0},{"$f":"IF(Table3[[#This Row],[Parcours choisi]]<>\"\",(VLOOKUP(Table356[[#Headers],[Identité Equipe]],'Def. Prix & Parcours'!$I$6:$M$28,3,FALSE)*Table3[[#This Row],[Points Identité Equipe]]),\"\")","v":0},{"$f":"IF(Table3[[#This Row],[Parcours choisi]]<>\"\",(VLOOKUP(Table356[[#Headers],[Design du Stand]],'Def. Prix & Parcours'!$I$6:$M$28,3,FALSE)*Table3[[#This Row],[Points Design du Stand]]),\"\")","v":0},{"$f":"IF(Table3[[#This Row],[Parcours choisi]]<>\"\",(VLOOKUP(Table356[[#Headers],[Portfolio]],'Def. Prix & Parcours'!$I$6:$M$28,3,FALSE)*Table3[[#This Row],[Points Portfolio]]),\"\")","v":0},{"$f":"IF(Table3[[#This Row],[Parcours choisi]]<>\"\",(VLOOKUP(Table356[[#Headers],[Marketing et Sponsoring]],'Def. Prix & Parcours'!$I$6:$M$28,3,FALSE)*Table3[[#This Row],[Points Marketing et Sponsoring]]),\"\")","v":0},{"$f":"IF(Table3[[#This Row],[Parcours choisi]]<>\"\",(VLOOKUP(Table356[[#Headers],[Budget]],'Def. Prix & Parcours'!$I$6:$M$28,3,FALSE)*Table3[[#This Row],[Points Budget]]),\"\")","v":0},{"$f":"IF(Table3[[#This Row],[Parcours choisi]]<>\"\",(VLOOKUP(Table356[[#Headers],[Design du Véhicule]],'Def. Prix & Parcours'!$I$6:$M$28,3,FALSE)*Table3[[#This Row],[Points Design du Véhicule]]),\"\")","v":0},{"$f":"IF(Table3[[#This Row],[Parcours choisi]]<>\"\",(VLOOKUP(Table356[[#Headers],[Innovation numérique]],'Def. Prix & Parcours'!$I$6:$M$28,3,FALSE)*Table3[[#This Row],[Points Innovation numérique]]),\"\")","v":0},{"$f":"IF(Table3[[#This Row],[Parcours choisi]]<>\"\",(VLOOKUP(Table356[[#Headers],[Programmation]],'Def. Prix & Parcours'!$I$6:$M$28,3,FALSE)*Table3[[#This Row],[Points Programmation]]),\"\")","v":0},{"$f":"IF(Table3[[#This Row],[Parcours choisi]]<>\"\",(VLOOKUP(Table356[[#Headers],[Respect du règlement]],'Def. Prix & Parcours'!$I$6:$M$28,3,FALSE)*Table3[[#This Row],[Points Respect du règlement]]),\"\")","v":0},{"$f":"IF(Table3[[#This Row],[Parcours choisi]]<>\"\",(VLOOKUP(Table356[[#Headers],[Communication : vidéo]],'Def. Prix & Parcours'!$I$6:$M$28,3,FALSE)*Table3[[#This Row],[Points Communication : vidéo]]),\"\")","v":0},{"$f":"IF(Table3[[#This Row],[Parcours choisi]]<>\"\",(VLOOKUP(Table356[[#Headers],[Epreuve CAO]],'Def. Prix & Parcours'!$I$6:$M$28,3,FALSE)*Table3[[#This Row],[Points Epreuve CAO]]),\"\")","v":0},{"$f":"IF(Table3[[#This Row],[Parcours choisi]]<>\"\",(VLOOKUP(Table356[[#Headers],[Temps Réaction]],'Def. Prix & Parcours'!$I$6:$M$28,3,FALSE)*Table3[[#This Row],[Points Temps Réaction]]),\"\")","v":0},{"$f":"IF(Table3[[#This Row],[Parcours choisi]]<>\"\",(VLOOKUP(Table356[[#Headers],[Temps Course]],'Def. Prix & Parcours'!$I$6:$M$28,3,FALSE)*Table3[[#This Row],[Points Temps Course]]),\"\")","v":80},{"$f":"IF(Table3[[#This Row],[Parcours choisi]]<>\"\",(VLOOKUP(Table356[[#Headers],[Epreuve arrêt au stand]],'Def. Prix & Parcours'!$I$6:$M$28,3,FALSE)*Table3[[#This Row],[Points Epreuve arrêt au stand]]),\"\")","v":0},null,{"$f":"IF(Table3[[#This Row],[Parcours choisi]]<>\"\",SUM(Table35678[[#This Row],[Ingénierie et conception]:[1]]),\"\")","v":80},{"$f":"IF(Table3[[#This Row],[Parcours choisi]]<>\"\",_xlfn.RANK.EQ(Table35678[[#This Row],[Total Sciences et Techniques]],Table35678[Total Sciences et Techniques],0),\"\")","v":26}]
[3,{"$f":"IF(Table3[[#This Row],[Nom équipe]]<>\"\",Table3[[#This Row],[Nom équipe]],\"\")","v":" S1 motor sport"},{"$f":"IF(Table3[[#This Row],[Etablissement]]<>\"\",Table3[[#This Row],[Etablissement]],\"\")","v":"Lotitz Nancy"},{"$f":"IF(Table3[[#This Row],[Type établissement]]<>\"\",Table3[[#This Row],[Type établissement]],\"\")","v":"L"},{"$f":"IF(Table3[[#This Row],[Académie]]<>\"\",Table3[[#This Row],[Académie]],\"\")","v":"Nancy-Metz"},{"$f":"IF(Table3[[#This Row],[Parcours choisi]]<>\"\",Table3[[#This Row],[Parcours choisi]],\"\")","v":"T"},{"$f":"IF(Table3[[#This Row],[Parcours choisi]]<>\"\",(VLOOKUP(Table356[[#Headers],[Ingénierie et conception]],'Def. Prix & Parcours'!$I$6:$M$28,3,FALSE)*Table3[[#This Row],[Points Ingénierie et conception]]),\"\")","v":0},{"$f":"IF(Table3[[#This Row],[Parcours choisi]]<>\"\",(VLOOKUP(Table356[[#Headers],[Innovation mécanique]],'Def. Prix & Parcours'!$I$6:$M$28,3,FALSE)*Table3[[#This Row],[Points Innovation mécanique]]),\"\")","v":0},{"$f":"IF(Table3[[#This Row],[Parcours choisi]]<>\"\",(VLOOKUP(Table356[[#Headers],[Développement Durable]],'Def. Prix & Parcours'!$I$6:$M$28,3,FALSE)*Table3[[#This Row],[Points Développement Durable]]),\"\")","v":0},{"$f":"IF(Table3[[#This Row],[Parcours choisi]]<>\"\",(VLOOKUP(Table356[[#Headers],[Ingénierie de fabrication]],'Def. Prix & Parcours'!$I$6:$M$28,3,FALSE)*Table3[[#This Row],[Points Ingénierie de fabrication]]),\"\")","v":0},{"$f":"IF(Table3[[#This Row],[Parcours choisi]]<>\"\",(VLOOKUP(Table356[[#Headers],[Gestion de projet et collaborations]],'Def. Prix & Parcours'!$I$6:$M$28,3,FALSE)*Table3[[#This Row],[Points Gestion de projet et \ncollaborations]]),\"\")","v":0},{"$f":"IF(Table3[[#This Row],[Parcours choisi]]<>\"\",(VLOOKUP(Table356[[#Headers],[Présentation Orale]],'Def. Prix & Parcours'!$I$6:$M$28,3,FALSE)*Table3[[#This Row],[Points Présentation Orale]]),\"\")","v":0},{"$f":"IF(Table3[[#This Row],[Parcours choisi]]<>\"\",(VLOOKUP(Table356[[#Headers],[Identité Equipe]],'Def. Prix & Parcours'!$I$6:$M$28,3,FALSE)*Table3[[#This Row],[Points Identité Equipe]]),\"\")","v":0},{"$f":"IF(Table3[[#This Row],[Parcours choisi]]<>\"\",(VLOOKUP(Table356[[#Headers],[Design du Stand]],'Def. Prix & Parcours'!$I$6:$M$28,3,FALSE)*Table3[[#This Row],[Points Design du Stand]]),\"\")","v":0},{"$f":"IF(Table3[[#This Row],[Parcours choisi]]<>\"\",(VLOOKUP(Table356[[#Headers],[Portfolio]],'Def. Prix & Parcours'!$I$6:$M$28,3,FALSE)*Table3[[#This Row],[Points Portfolio]]),\"\")","v":0},{"$f":"IF(Table3[[#This Row],[Parcours choisi]]<>\"\",(VLOOKUP(Table356[[#Headers],[Marketing et Sponsoring]],'Def. Prix & Parcours'!$I$6:$M$28,3,FALSE)*Table3[[#This Row],[Points Marketing et Sponsoring]]),\"\")","v":0},{"$f":"IF(Table3[[#This Row],[Parcours choisi]]<>\"\",(VLOOKUP(Table356[[#Headers],[Budget]],'Def. Prix & Parcours'!$I$6:$M$28,3,FALSE)*Table3[[#This Row],[Points Budget]]),\"\")","v":0},{"$f":"IF(Table3[[#This Row],[Parcours choisi]]<>\"\",(VLOOKUP(Table356[[#Headers],[Design du Véhicule]],'Def. Prix & Parcours'!$I$6:$M$28,3,FALSE)*Table3[[#This Row],[Points Design du Véhicule]]),\"\")","v":0},{"$f":"IF(Table3[[#This Row],[Parcours choisi]]<>\"\",(VLOOKUP(Table356[[#Headers],[Innovation numérique]],'Def. Prix & Parcours'!$I$6:$M$28,3,FALSE)*Table3[[#This Row],[Points Innovation numérique]]),\"\")","v":0},{"$f":"IF(Table3[[#This Row],[Parcours choisi]]<>\"\",(VLOOKUP(Table356[[#Headers],[Programmation]],'Def. Prix & Parcours'!$I$6:$M$28,3,FALSE)*Table3[[#This Row],[Points Programmation]]),\"\")","v":0},{"$f":"IF(Table3[[#This Row],[Parcours choisi]]<>\"\",(VLOOKUP(Table356[[#Headers],[Respect du règlement]],'Def. Prix & Parcours'!$I$6:$M$28,3,FALSE)*Table3[[#This Row],[Points Respect du règlement]]),\"\")","v":0},{"$f":"IF(Table3[[#This Row],[Parcours choisi]]<>\"\",(VLOOKUP(Table356[[#Headers],[Communication : vidéo]],'Def. Prix & Parcours'!$I$6:$M$28,3,FALSE)*Table3[[#This Row],[Points Communication : vidéo]]),\"\")","v":0},{"$f":"IF(Table3[[#This Row],[Parcours choisi]]<>\"\",(VLOOKUP(Table356[[#Headers],[Epreuve CAO]],'Def. Prix & Parcours'!$I$6:$M$28,3,FALSE)*Table3[[#This Row],[Points Epreuve CAO]]),\"\")","v":0},{"$f":"IF(Table3[[#This Row],[Parcours choisi]]<>\"\",(VLOOKUP(Table356[[#Headers],[Temps Réaction]],'Def. Prix & Parcours'!$I$6:$M$28,3,FALSE)*Table3[[#This Row],[Points Temps Réaction]]),\"\")","v":0},{"$f":"IF(Table3[[#This Row],[Parcours choisi]]<>\"\",(VLOOKUP(Table356[[#Headers],[Temps Course]],'Def. Prix & Parcours'!$I$6:$M$28,3,FALSE)*Table3[[#This Row],[Points Temps Course]]),\"\")","v":80},{"$f":"IF(Table3[[#This Row],[Parcours choisi]]<>\"\",(VLOOKUP(Table356[[#Headers],[Epreuve arrêt au stand]],'Def. Prix & Parcours'!$I$6:$M$28,3,FALSE)*Table3[[#This Row],[Points Epreuve arrêt au stand]]),\"\")","v":0},null,{"$f":"IF(Table3[[#This Row],[Parcours choisi]]<>\"\",SUM(Table35678[[#This Row],[Ingénierie et conception]:[1]]),\"\")","v":80},{"$f":"IF(Table3[[#This Row],[Parcours choisi]]<>\"\",_xlfn.RANK.EQ(Table35678[[#This Row],[Total Sciences et Techniques]],Table35678[Total Sciences et Techniques],0),\"\")","v":26}]
[4,{"$f":"IF(Table3[[#This Row],[Nom équipe]]<>\"\",Table3[[#This Row],[Nom équipe]],\"\")","v":"Back to the past"},{"$f":"IF(Table3[[#This Row],[Etablissement]]<>\"\",Table3[[#This Row],[Etablissement]],\"\")","v":"Loritz Nancy"},{"$f":"IF(Table3[[#This Row],[Type établissement]]<>\"\",Table3[[#This Row],[Type établissement]],\"\")","v":"L"},{"$f":"IF(Table3[[#This Row],[Académie]]<>\"\",Table3[[#This Row],[Académie]],\"\")","v":"Nancy-Metz"},{"$f":"IF(Table3[[#This Row],[Parcours choisi]]<>\"\",Table3[[#This Row],[Parcours choisi]],\"\")","v":"T"},{"$f":"IF(Table3[[#This Row],[Parcours choisi]]<>\"\",(VLOOKUP(Table356[[#Headers],[Ingénierie et conception]],'Def. Prix & Parcours'!$I$6:$M$28,3,FALSE)*Table3[[#This Row],[Points Ingénierie et conception]]),\"\")","v":102},{"$f":"IF(Table3[[#This Row],[Parcours choisi]]<>\"\",(VLOOKUP(Table356[[#Headers],[Innovation mécanique]],'Def. Prix & Parcours'!$I$6:$M$28,3,FALSE)*Table3[[#This Row],[Points Innovation mécanique]]),\"\")","v":168},{"$f":"IF(Table3[[#This Row],[Parcours choisi]]<>\"\",(VLOOKUP(Table356[[#Headers],[Développement Durable]],'Def. Prix & Parcours'!$I$6:$M$28,3,FALSE)*Table3[[#This Row],[Points Développement Durable]]),\"\")","v":90},{"$f":"IF(Table3[[#This Row],[Parcours choisi]]<>\"\",(VLOOKUP(Table356[[#Headers],[Ingénierie de fabrication]],'Def. Prix & Parcours'!$I$6:$M$28,3,FALSE)*Table3[[#This Row],[Points Ingénierie de fabrication]]),\"\")","v":144},{"$f":"IF(Table3[[#This Row],[Parcours choisi]]<>\"\",(VLOOKUP(Table356[[#Headers],[Gestion de projet et collaborations]],'Def. Prix & Parcours'!$I$6:$M$28,3,FALSE)*Table3[[#This Row],[Points Gestion de projet et \ncollaborations]]),\"\")","v":70},{"$f":"IF(Table3[[#This Row],[Parcours choisi]]<>\"\",(VLOOKUP(Table356[[#Headers],[Présentation Orale]],'Def. Prix & Parcours'!$I$6:$M$28,3,FALSE)*Table3[[#This Row],[Points Présentation Orale]]),\"\")","v":56},{"$f":"IF(Table3[[#This Row],[Parcours choisi]]<>\"\",(VLOOKUP(Table356[[#Headers],[Identité Equipe]],'Def. Prix & Parcours'!$I$6:$M$28,3,FALSE)*Table3[[#This Row],[Points Identité Equipe]]),\"\")","v":64},{"$f":"IF(Table3[[#This Row],[Parcours choisi]]<>\"\",(VLOOKUP(Table356[[#Headers],[Design du Stand]],'Def. Prix & Parcours'!$I$6:$M$28,3,FALSE)*Table3[[#This Row],[Points Design du Stand]]),\"\")","v":0},{"$f":"IF(Table3[[#This Row],[Parcours choisi]]<>\"\",(VLOOKUP(Table356[[#Headers],[Portfolio]],'Def. Prix & Parcours'!$I$6:$M$28,3,FALSE)*Table3[[#This Row],[Points Portfolio]]),\"\")","v":60},{"$f":"IF(Table3[[#This Row],[Parcours choisi]]<>\"\",(VLOOKUP(Table356[[#Headers],[Marketing et Sponsoring]],'Def. Prix & Parcours'!$I$6:$M$28,3,FALSE)*Table3[[#This Row],[Points Marketing et Sponsoring]]),\"\")","v":0},{"$f":"IF(Table3[[#This Row],[Parcours choisi]]<>\"\",(VLOOKUP(Table356[[#Headers],[Budget]],'Def. Prix & Parcours'!$I$6:$M$28,3,FALSE)*Table3[[#This Row],[Points Budget]]),\"\")","v":0},{"$f":"IF(Table3[[#This Row],[Parcours choisi]]<>\"\",(VLOOKUP(Table356[[#Headers],[Design du Véhicule]],'Def. Prix & Parcours'!$I$6:$M$28,3,FALSE)*Table3[[#This Row],[Points Design du Véhicule]]),\"\")","v":90},{"$f":"IF(Table3[[#This Row],[Parcours choisi]]<>\"\",(VLOOKUP(Table356[[#Headers],[Innovation numérique]],'Def. Prix & Parcours'!$I$6:$M$28,3,FALSE)*Table3[[#This Row],[Points Innovation numérique]]),\"\")","v":0},{"$f":"IF(Table3[[#This Row],[Parcours choisi]]<>\"\",(VLOOKUP(Table356[[#Headers],[Programmation]],'Def. Prix & Parcours'!$I$6:$M$28,3,FALSE)*Table3[[#This Row],[Points Programmation]]),\"\")","v":0},{"$f":"IF(Table3[[#This Row],[Parcours choisi]]<>\"\",(VLOOKUP(Table356[[#Headers],[Respect du règlement]],'Def. Prix & Parcours'!$I$6:$M$28,3,FALSE)*Table3[[#This Row],[Points Respect du règlement]]),\"\")","v":90},{"$f":"IF(Table3[[#This Row],[Parcours choisi]]<>\"\",(VLOOKUP(Table356[[#Headers],[Communication : vidéo]],'Def. Prix & Parcours'!$I$6:$M$28,3,FALSE)*Table3[[#This Row],[Points Communication : vidéo]]),\"\")","v":0},{"$f":"IF(Table3[[#This Row],[Parcours choisi]]<>\"\",(VLOOKUP(Table356[[#Headers],[Epreuve CAO]],'Def. Prix & Parcours'!$I$6:$M$28,3,FALSE)*Table3[[#This Row],[Points Epreuve CAO]]),\"\")","v":0},{"$f":"IF(Table3[[#This Row],[Parcours choisi]]<>\"\",(VLOOKUP(Table356[[#Headers],[Temps Réaction]],'Def. Prix & Parcours'!$I$6:$M$28,3,FALSE)*Table3[[#This Row],[Points Temps Réaction]]),\"\")","v":0},{"$f":"IF(Table3[[#This Row],[Parcours choisi]]<>\"\",(VLOOKUP(Table356[[#Headers],[Temps Course]],'Def. Prix & Parcours'!$I$6:$M$28,3,FALSE)*Table3[[#This Row],[Points Temps Course]]),\"\")","v":100},{"$f":"IF(Table3[[#This Row],[Parcours choisi]]<>\"\",(VLOOKUP(Table356[[#Headers],[Epreuve arrêt au stand]],'Def. Prix & Parcours'!$I$6:$M$28,3,FALSE)*Table3[[#This Row],[Points Epreuve arrêt au stand]]),\"\")","v":0},null,{"$f":"IF(Table3[[#This Row],[Parcours choisi]]<>\"\",SUM(Table35678[[#This Row],[Ingénierie et conception]:[1]]),\"\")","v":1034},{"$f":"IF(Table3[[#This Row],[Parcours choisi]]<>\"\",_xlfn.RANK.EQ(Table35678[[#This Row],[Total Sciences et Techniques]],Table35678[Total Sciences et Techniques],0),\"\")","v":9}]
[5,{"$f":"IF(Table3[[#This Row],[Nom équipe]]<>\"\",Table3[[#This Row],[Nom équipe]],\"\")","v":"Ionix"},{"$f":"IF(Table3[[#This Row],[Etablissement]]<>\"\",Table3[[#This Row],[Etablissement]],\"\")","v":"Loritz Nancy"},{"$f":"IF(Table3[[#This Row],[Type établissement]]<>\"\",Table3[[#This Row],[Type établissement]],\"\")","v":"L"},{"$f":"IF(Table3[[#This Row],[Académie]]<>\"\",Table3[[#This Row],[Académie]],\"\")","v":"Nancy-Metz"},{"$f":"IF(Table3[[#This Row],[Parcours choisi]]<>\"\",Table3[[#This Row],[Parcours choisi]],\"\")","v":"T"},{"$f":"IF(Table3[[#This Row],[Parcours choisi]]<>\"\",(VLOOKUP(Table356[[#Headers],[Ingénierie et conception]],'Def. Prix & Parcours'!$I$6:$M$28,3,FALSE)*Table3[[#This Row],[Points Ingénierie et conception]]),\"\")","v":84},{"$f":"IF(Table3[[#This Row],[Parcours choisi]]<>\"\",(VLOOKUP(Table356[[#Headers],[Innovation mécanique]],'Def. Prix & Parcours'!$I$6:$M$28,3,FALSE)*Table3[[#This Row],[Points Innovation mécanique]]),\"\")","v":156},{"$f":"IF(Table3[[#This Row],[Parcours choisi]]<>\"\",(VLOOKUP(Table356[[#Headers],[Développement Durable]],'Def. Prix & Parcours'!$I$6:$M$28,3,FALSE)*Table3[[#This Row],[Points Développement Durable]]),\"\")","v":108},{"$f":"IF(Table3[[#This Row],[Parcours choisi]]<>\"\",(VLOOKUP(Table356[[#Headers],[Ingénierie de fabrication]],'Def. Prix & Parcours'!$I$6:$M$28,3,FALSE)*Table3[[#This Row],[Points Ingénierie de fabrication]]),\"\")","v":128},{"$f":"IF(Table3[[#This Row],[Parcours choisi]]<>\"\",(VLOOKUP(Table356[[#Headers],[Gestion de projet et collaborations]],'Def. Prix & Parcours'!$I$6:$M$28,3,FALSE)*Table3[[#This Row],[Points Gestion de projet et \ncollaborations]]),\"\")","v":80},{"$f":"IF(Table3[[#This Row],[Parcours choisi]]<>\"\",(VLOOKUP(Table356[[#Headers],[Présentation Orale]],'Def. Prix & Parcours'!$I$6:$M$28,3,FALSE)*Table3[[#This Row],[Points Présentation Orale]]),\"\")","v":52},{"$f":"IF(Table3[[#This Row],[Parcours choisi]]<>\"\",(VLOOKUP(Table356[[#Headers],[Identité Equipe]],'Def. Prix & Parcours'!$I$6:$M$28,3,FALSE)*Table3[[#This Row],[Points Identité Equipe]]),\"\")","v":44},{"$f":"IF(Table3[[#This Row],[Parcours choisi]]<>\"\",(VLOOKUP(Table356[[#Headers],[Design du Stand]],'Def. Prix & Parcours'!$I$6:$M$28,3,FALSE)*Table3[[#This Row],[Points Design du Stand]]),\"\")","v":0},{"$f":"IF(Table3[[#This Row],[Parcours choisi]]<>\"\",(VLOOKUP(Table356[[#Headers],[Portfolio]],'Def. Prix & Parcours'!$I$6:$M$28,3,FALSE)*Table3[[#This Row],[Points Portfolio]]),\"\")","v":40},{"$f":"IF(Table3[[#This Row],[Parcours choisi]]<>\"\",(VLOOKUP(Table356[[#Headers],[Marketing et Sponsoring]],'Def. Prix & Parcours'!$I$6:$M$28,3,FALSE)*Table3[[#This Row],[Points Marketing et Sponsoring]]),\"\")","v":0},{"$f":"IF(Table3[[#This Row],[Parcours choisi]]<>\"\",(VLOOKUP(Table356[[#Headers],[Budget]],'Def. Prix & Parcours'!$I$6:$M$28,3,FALSE)*Table3[[#This Row],[Points Budget]]),\"\")","v":0},{"$f":"IF(Table3[[#This Row],[Parcours choisi]]<>\"\",(VLOOKUP(Table356[[#Headers],[Design du Véhicule]],'Def. Prix & Parcours'!$I$6:$M$28,3,FALSE)*Table3[[#This Row],[Points Design du Véhicule]]),\"\")","v":84},{"$f":"IF(Table3[[#This Row],[Parcours choisi]]<>\"\",(VLOOKUP(Table356[[#Headers],[Innovation numérique]],'Def. Prix & Parcours'!$I$6:$M$28,3,FALSE)*Table3[[#This Row],[Points Innovation numérique]]),\"\")","v":0},{"$f":"IF(Table3[[#This Row],[Parcours choisi]]<>\"\",(VLOOKUP(Table356[[#Headers],[Programmation]],'Def. Prix & Parcours'!$I$6:$M$28,3,FALSE)*Table3[[#This Row],[Points Programmation]]),\"\")","v":0},{"$f":"IF(Table3[[#This Row],[Parcours choisi]]<>\"\",(VLOOKUP(Table356[[#Headers],[Respect du règlement]],'Def. Prix & Parcours'!$I$6:$M$28,3,FALSE)*Table3[[#This Row],[Points Respect du règlement]]),\"\")","v":100},{"$f":"IF(Table3[[#This Row],[Parcours choisi]]<>\"\",(VLOOKUP(Table356[[#Headers],[Communication : vidéo]],'Def. Prix & Parcours'!$I$6:$M$28,3,FALSE)*Table3[[#This Row],[Points Communication : vidéo]]),\"\")","v":0},{"$f":"IF(Table3[[#This Row],[Parcours choisi]]<>\"\",(VLOOKUP(Table356[[#Headers],[Epreuve CAO]],'Def. Prix & Parcours'!$I$6:$M$28,3,FALSE)*Table3[[#This Row],[Points Epreuve CAO]]),\"\")","v":0},{"$f":"IF(Table3[[#This Row],[Parcours choisi]]<>\"\",(VLOOKUP(Table356[[#Headers],[Temps Réaction]],'Def. Prix & Parcours'!$I$6:$M$28,3,FALSE)*Table3[[#This Row],[Points Temps Réaction]]),\"\")","v":0},{"$f":"IF(Table3[[#This Row],[Parcours choisi]]<>\"\",(VLOOKUP(Table356[[#Headers],[Temps Course]],'Def. Prix & Parcours'!$I$6:$M$28,3,FALSE)*Table3[[#This Row],[Points Temps Course]]),\"\")","v":90},{"$f":"IF(Table3[[#This Row],[Parcours choisi]]<>\"\",(VLOOKUP(Table356[[#Headers],[Epreuve arrêt au stand]],'Def. Prix & Parcours'!$I$6:$M$28,3,FALSE)*Table3[[#This Row],[Points Epreuve arrêt au stand]]),\"\")","v":0},null,{"$f":"IF(Table3[[#This Row],[Parcours choisi]]<>\"\",SUM(Table35678[[#This Row],[Ingénierie et conception]:[1]]),\"\")","v":966},{"$f":"IF(Table3[[#This Row],[Parcours choisi]]<>\"\",_xlfn.RANK.EQ(Table35678[[#This Row],[Total Sciences et Techniques]],Table35678[Total Sciences et Techniques],0),\"\")","v":17}]
[6,{"$f":"IF(Table3[[#This Row],[Nom équipe]]<>\"\",Table3[[#This Row],[Nom équipe]],\"\")","v":"Pavisado"},{"$f":"IF(Table3[[#This Row],[Etablissement]]<>\"\",Table3[[#This Row],[Etablissement]],\"\")","v":"Loritz Nancy"},{"$f":"IF(Table3[[#This Row],[Type établissement]]<>\"\",Table3[[#This Row],[Type établissement]],\"\")","v":"L"},{"$f":"IF(Table3[[#This Row],[Académie]]<>\"\",Table3[[#This Row],[Académie]],\"\")","v":"Nancy-Metz"},{"$f":"IF(Table3[[#This Row],[Parcours choisi]]<>\"\",Table3[[#This Row],[Parcours choisi]],\"\")","v":"T"},{"$f":"IF(Table3[[#This Row],[Parcours choisi]]<>\"\",(VLOOKUP(Table356[[#Headers],[Ingénierie et conception]],'Def. Prix & Parcours'!$I$6:$M$28,3,FALSE)*Table3[[#This Row],[Points Ingénierie et conception]]),\"\")","v":0},{"$f":"IF(Table3[[#This Row],[Parcours choisi]]<>\"\",(VLOOKUP(Table356[[#Headers],[Innovation mécanique]],'Def. Prix & Parcours'!$I$6:$M$28,3,FALSE)*Table3[[#This Row],[Points Innovation mécanique]]),\"\")","v":0},{"$f":"IF(Table3[[#This Row],[Parcours choisi]]<>\"\",(VLOOKUP(Table356[[#Headers],[Développement Durable]],'Def. Prix & Parcours'!$I$6:$M$28,3,FALSE)*Table3[[#This Row],[Points Développement Durable]]),\"\")","v":0},{"$f":"IF(Table3[[#This Row],[Parcours choisi]]<>\"\",(VLOOKUP(Table356[[#Headers],[Ingénierie de fabrication]],'Def. Prix & Parcours'!$I$6:$M$28,3,FALSE)*Table3[[#This Row],[Points Ingénierie de fabrication]]),\"\")","v":0},{"$f":"IF(Table3[[#This Row],[Parcours choisi]]<>\"\",(VLOOKUP(Table356[[#Headers],[Gestion de projet et collaborations]],'Def. Prix & Parcours'!$I$6:$M$28,3,FALSE)*Table3[[#This Row],[Points Gestion de projet et \ncollaborations]]),\"\")","v":0},{"$f":"IF(Table3[[#This Row],[Parcours choisi]]<>\"\",(VLOOKUP(Table356[[#Headers],[Présentation Orale]],'Def. Prix & Parcours'!$I$6:$M$28,3,FALSE)*Table3[[#This Row],[Points Présentation Orale]]),\"\")","v":0},{"$f":"IF(Table3[[#This Row],[Parcours choisi]]<>\"\",(VLOOKUP(Table356[[#Headers],[Identité Equipe]],'Def. Prix & Parcours'!$I$6:$M$28,3,FALSE)*Table3[[#This Row],[Points Identité Equipe]]),\"\")","v":0},{"$f":"IF(Table3[[#This Row],[Parcours choisi]]<>\"\",(VLOOKUP(Table356[[#Headers],[Design du Stand]],'Def. Prix & Parcours'!$I$6:$M$28,3,FALSE)*Table3[[#This Row],[Points Design du Stand]]),\"\")","v":0},{"$f":"IF(Table3[[#This Row],[Parcours choisi]]<>\"\",(VLOOKUP(Table356[[#Headers],[Portfolio]],'Def. Prix & Parcours'!$I$6:$M$28,3,FALSE)*Table3[[#This Row],[Points Portfolio]]),\"\")","v":0},{"$f":"IF(Table3[[#This Row],[Parcours choisi]]<>\"\",(VLOOKUP(Table356[[#Headers],[Marketing et Sponsoring]],'Def. Prix & Parcours'!$I$6:$M$28,3,FALSE)*Table3[[#This Row],[Points Marketing et Sponsoring]]),\"\")","v":0},{"$f":"IF(Table3[[#This Row],[Parcours choisi]]<>\"\",(VLOOKUP(Table356[[#Headers],[Budget]],'Def. Prix & Parcours'!$I$6:$M$28,3,FALSE)*Table3[[#This Row],[Points Budget]]),\"\")","v":0},{"$f":"IF(Table3[[#This Row],[Parcours choisi]]<>\"\",(VLOOKUP(Table356[[#Headers],[Design du Véhicule]],'Def. Prix & Parcours'!$I$6:$M$28,3,FALSE)*Table3[[#This Row],[Points Design du Véhicule]]),\"\")","v":0},{"$f":"IF(Table3[[#This Row],[Parcours choisi]]<>\"\",(VLOOKUP(Table356[[#Headers],[Innovation numérique]],'Def. Prix & Parcours'!$I$6:$M$28,3,FALSE)*Table3[[#This Row],[Points Innovation numérique]]),\"\")","v":0},{"$f":"IF(Table3[[#This Row],[Parcours choisi]]<>\"\",(VLOOKUP(Table356[[#Headers],[Programmation]],'Def. Prix & Parcours'!$I$6:$M$28,3,FALSE)*Table3[[#This Row],[Points Programmation]]),\"\")","v":0},{"$f":"IF(Table3[[#This Row],[Parcours choisi]]<>\"\",(VLOOKUP(Table356[[#Headers],[Respect du règlement]],'Def. Prix & Parcours'!$I$6:$M$28,3,FALSE)*Table3[[#This Row],[Points Respect du règlement]]),\"\")","v":0},{"$f":"IF(Table3[[#This Row],[Parcours choisi]]<>\"\",(VLOOKUP(Table356[[#Headers],[Communication : vidéo]],'Def. Prix & Parcours'!$I$6:$M$28,3,FALSE)*Table3[[#This Row],[Points Communication : vidéo]]),\"\")","v":0},{"$f":"IF(Table3[[#This Row],[Parcours choisi]]<>\"\",(VLOOKUP(Table356[[#Headers],[Epreuve CAO]],'Def. Prix & Parcours'!$I$6:$M$28,3,FALSE)*Table3[[#This Row],[Points Epreuve CAO]]),\"\")","v":0},{"$f":"IF(Table3[[#This Row],[Parcours choisi]]<>\"\",(VLOOKUP(Table356[[#Headers],[Temps Réaction]],'Def. Prix & Parcours'!$I$6:$M$28,3,FALSE)*Table3[[#This Row],[Points Temps Réaction]]),\"\")","v":0},{"$f":"IF(Table3[[#This Row],[Parcours choisi]]<>\"\",(VLOOKUP(Table356[[#Headers],[Temps Course]],'Def. Prix & Parcours'!$I$6:$M$28,3,FALSE)*Table3[[#This Row],[Points Temps Course]]),\"\")","v":80},{"$f":"IF(Table3[[#This Row],[Parcours choisi]]<>\"\",(VLOOKUP(Table356[[#Headers],[Epreuve arrêt au stand]],'Def. Prix & Parcours'!$I$6:$M$28,3,FALSE)*Table3[[#This Row],[Points Epreuve arrêt au stand]]),\"\")","v":0},null,{"$f":"IF(Table3[[#This Row],[Parcours choisi]]<>\"\",SUM(Table35678[[#This Row],[Ingénierie et conception]:[1]]),\"\")","v":80},{"$f":"IF(Table3[[#This Row],[Parcours choisi]]<>\"\",_xlfn.RANK.EQ(Table35678[[#This Row],[Total Sciences et Techniques]],Table35678[Total Sciences et Techniques],0),\"\")","v":26}]
[7,{"$f":"IF(Table3[[#This Row],[Nom équipe]]<>\"\",Table3[[#This Row],[Nom équipe]],\"\")","v":"Les Toucaninos"},{"$f":"IF(Table3[[#This Row],[Etablissement]]<>\"\",Table3[[#This Row],[Etablissement]],\"\")","v":"Jean Lamour Nancy"},{"$f":"IF(Table3[[#This Row],[Type établissement]]<>\"\",Table3[[#This Row],[Type établissement]],\"\")","v":"C"},{"$f":"IF(Table3[[#This Row],[Académie]]<>\"\",Table3[[#This Row],[Académie]],\"\")","v":"Nancy-Metz"},{"$f":"IF(Table3[[#This Row],[Parcours choisi]]<>\"\",Table3[[#This Row],[Parcours choisi]],\"\")","v":"G"},{"$f":"IF(Table3[[#This Row],[Parcours choisi]]<>\"\",(VLOOKUP(Table356[[#Headers],[Ingénierie et conception]],'Def. Prix & Parcours'!$I$6:$M$28,3,FALSE)*Table3[[#This Row],[Points Ingénierie et conception]]),\"\")","v":108},{"$f":"IF(Table3[[#This Row],[Parcours choisi]]<>\"\",(VLOOKUP(Table356[[#Headers],[Innovation mécanique]],'Def. Prix & Parcours'!$I$6:$M$28,3,FALSE)*Table3[[#This Row],[Points Innovation mécanique]]),\"\")","v":204},{"$f":"IF(Table3[[#This Row],[Parcours choisi]]<>\"\",(VLOOKUP(Table356[[#Headers],[Développement Durable]],'Def. Prix & Parcours'!$I$6:$M$28,3,FALSE)*Table3[[#This Row],[Points Développement Durable]]),\"\")","v":114},{"$f":"IF(Table3[[#This Row],[Parcours choisi]]<>\"\",(VLOOKUP(Table356[[#Headers],[Ingénierie de fabrication]],'Def. Prix & Parcours'!$I$6:$M$28,3,FALSE)*Table3[[#This Row],[Points Ingénierie de fabrication]]),\"\")","v":144},{"$f":"IF(Table3[[#This Row],[Parcours choisi]]<>\"\",(VLOOKUP(Table356[[#Headers],[Gestion de projet et collaborations]],'Def. Prix & Parcours'!$I$6:$M$28,3,FALSE)*Table3[[#This Row],[Points Gestion de projet et \ncollaborations]]),\"\")","v":95},{"$f":"IF(Table3[[#This Row],[Parcours choisi]]<>\"\",(VLOOKUP(Table356[[#Headers],[Présentation Orale]],'Def. Prix & Parcours'!$I$6:$M$28,3,FALSE)*Table3[[#This Row],[Points Présentation Orale]]),\"\")","v":76},{"$f":"IF(Table3[[#This Row],[Parcours choisi]]<>\"\",(VLOOKUP(Table356[[#Headers],[Identité Equipe]],'Def. Prix & Parcours'!$I$6:$M$28,3,FALSE)*Table3[[#This Row],[Points Identité Equipe]]),\"\")","v":60},{"$f":"IF(Table3[[#This Row],[Parcours choisi]]<>\"\",(VLOOKUP(Table356[[#Headers],[Design du Stand]],'Def. Prix & Parcours'!$I$6:$M$28,3,FALSE)*Table3[[#This Row],[Points Design du Stand]]),\"\")","v":0},{"$f":"IF(Table3[[#This Row],[Parcours choisi]]<>\"\",(VLOOKUP(Table356[[#Headers],[Portfolio]],'Def. Prix & Parcours'!$I$6:$M$28,3,FALSE)*Table3[[#This Row],[Points Portfolio]]),\"\")","v":32},{"$f":"IF(Table3[[#This Row],[Parcours choisi]]<>\"\",(VLOOKUP(Table356[[#Headers],[Marketing et Sponsoring]],'Def. Prix & Parcours'!$I$6:$M$28,3,FALSE)*Table3[[#This Row],[Points Marketing et Sponsoring]]),\"\")","v":0},{"$f":"IF(Table3[[#This Row],[Parcours choisi]]<>\"\",(VLOOKUP(Table356[[#Headers],[Budget]],'Def. Prix & Parcours'!$I$6:$M$28,3,FALSE)*Table3[[#This Row],[Points Budget]]),\"\")","v":0},{"$f":"IF(Table3[[#This Row],[Parcours choisi]]<>\"\",(VLOOKUP(Table356[[#Headers],[Design du Véhicule]],'Def. Prix & Parcours'!$I$6:$M$28,3,FALSE)*Table3[[#This Row],[Points Design du Véhicule]]),\"\")","v":96},{"$f":"IF(Table3[[#This Row],[Parcours choisi]]<>\"\",(VLOOKUP(Table356[[#Headers],[Innovation numérique]],'Def. Prix & Parcours'!$I$6:$M$28,3,FALSE)*Table3[[#This Row],[Points Innovation numérique]]),\"\")","v":0},{"$f":"IF(Table3[[#This Row],[Parcours choisi]]<>\"\",(VLOOKUP(Table356[[#Headers],[Programmation]],'Def. Prix & Parcours'!$I$6:$M$28,3,FALSE)*Table3[[#This Row],[Points Programmation]]),\"\")","v":0},{"$f":"IF(Table3[[#This Row],[Parcours choisi]]<>\"\",(VLOOKUP(Table356[[#Headers],[Respect du règlement]],'Def. Prix & Parcours'!$I$6:$M$28,3,FALSE)*Table3[[#This Row],[Points Respect du règlement]]),\"\")","v":70},{"$f":"IF(Table3[[#This Row],[Parcours choisi]]<>\"\",(VLOOKUP(Table356[[#Headers],[Communication : vidéo]],'Def. Prix & Parcours'!$I$6:$M$28,3,FALSE)*Table3[[#This Row],[Points Communication : vidéo]]),\"\")","v":0},{"$f":"IF(Table3[[#This Row],[Parcours choisi]]<>\"\",(VLOOKUP(Table356[[#Headers],[Epreuve CAO]],'Def. Prix & Parcours'!$I$6:$M$28,3,FALSE)*Table3[[#This Row],[Points Epreuve CAO]]),\"\")","v":0},{"$f":"IF(Table3[[#This Row],[Parcours choisi]]<>\"\",(VLOOKUP(Table356[[#Headers],[Temps Réaction]],'Def. Prix & Parcours'!$I$6:$M$28,3,FALSE)*Table3[[#This Row],[Points Temps Réaction]]),\"\")","v":0},{"$f":"IF(Table3[[#This Row],[Parcours choisi]]<>\"\",(VLOOKUP(Table356[[#Headers],[Temps Course]],'Def. Prix & Parcours'!$I$6:$M$28,3,FALSE)*Table3[[#This Row],[Points Temps Course]]),\"\")","v":100},{"$f":"IF(Table3[[#This Row],[Parcours choisi]]<>\"\",(VLOOKUP(Table356[[#Headers],[Epreuve arrêt au stand]],'Def. Prix & Parcours'!$I$6:$M$28,3,FALSE)*Table3[[#This Row],[Points Epreuve arrêt au stand]]),\"\")","v":0},null,{"$f":"IF(Table3[[#This Row],[Parcours choisi]]<>\"\",SUM(Table35678[[#This Row],[Ingénierie et conception]:[1]]),\"\")","v":1099},{"$f":"IF(Table3[[#This Row],[Parcours choisi]]<>\"\",_xlfn.RANK.EQ(Table35678[[#This Row],[Total Sciences et Techniques]],Table35678[Total Sciences et Techniques],0),\"\")","v":5}]
[8,{"$f":"IF(Table3[[#This Row],[Nom équipe]]<>\"\",Table3[[#This Row],[Nom équipe]],\"\")","v":"Les Daltram"},{"$f":"IF(Table3[[#This Row],[Etablissement]]<>\"\",Table3[[#This Row],[Etablissement]],\"\")","v":"Jean Lamour Nancy"},{"$f":"IF(Table3[[#This Row],[Type établissement]]<>\"\",Table3[[#This Row],[Type établissement]],\"\")","v":"C"},{"$f":"IF(Table3[[#This Row],[Académie]]<>\"\",Table3[[#This Row],[Académie]],\"\")","v":"Nancy-Metz"},{"$f":"IF(Table3[[#This Row],[Parcours choisi]]<>\"\",Table3[[#This Row],[Parcours choisi]],\"\")","v":"G"},{"$f":"IF(Table3[[#This Row],[Parcours choisi]]<>\"\",(VLOOKUP(Table356[[#Headers],[Ingénierie et conception]],'Def. Prix & Parcours'!$I$6:$M$28,3,FALSE)*Table3[[#This Row],[Points Ingénierie et conception]]),\"\")","v":90},{"$f":"IF(Table3[[#This Row],[Parcours choisi]]<>\"\",(VLOOKUP(Table356[[#Headers],[Innovation mécanique]],'Def. Prix & Parcours'!$I$6:$M$28,3,FALSE)*Table3[[#This Row],[Points Innovation mécanique]]),\"\")","v":156},{"$f":"IF(Table3[[#This Row],[Parcours choisi]]<>\"\",(VLOOKUP(Table356[[#Headers],[Développement Durable]],'Def. Prix & Parcours'!$I$6:$M$28,3,FALSE)*Table3[[#This Row],[Points Développement Durable]]),\"\")","v":72},{"$f":"IF(Table3[[#This Row],[Parcours choisi]]<>\"\",(VLOOKUP(Table356[[#Headers],[Ingénierie de fabrication]],'Def. Prix & Parcours'!$I$6:$M$28,3,FALSE)*Table3[[#This Row],[Points Ingénierie de fabrication]]),\"\")","v":112},{"$f":"IF(Table3[[#This Row],[Parcours choisi]]<>\"\",(VLOOKUP(Table356[[#Headers],[Gestion de projet et collaborations]],'Def. Prix & Parcours'!$I$6:$M$28,3,FALSE)*Table3[[#This Row],[Points Gestion de projet et \ncollaborations]]),\"\")","v":70},{"$f":"IF(Table3[[#This Row],[Parcours choisi]]<>\"\",(VLOOKUP(Table356[[#Headers],[Présentation Orale]],'Def. Prix & Parcours'!$I$6:$M$28,3,FALSE)*Table3[[#This Row],[Points Présentation Orale]]),\"\")","v":68},{"$f":"IF(Table3[[#This Row],[Parcours choisi]]<>\"\",(VLOOKUP(Table356[[#Headers],[Identité Equipe]],'Def. Prix & Parcours'!$I$6:$M$28,3,FALSE)*Table3[[#This Row],[Points Identité Equipe]]),\"\")","v":72},{"$f":"IF(Table3[[#This Row],[Parcours choisi]]<>\"\",(VLOOKUP(Table356[[#Headers],[Design du Stand]],'Def. Prix & Parcours'!$I$6:$M$28,3,FALSE)*Table3[[#This Row],[Points Design du Stand]]),\"\")","v":0},{"$f":"IF(Table3[[#This Row],[Parcours choisi]]<>\"\",(VLOOKUP(Table356[[#Headers],[Portfolio]],'Def. Prix & Parcours'!$I$6:$M$28,3,FALSE)*Table3[[#This Row],[Points Portfolio]]),\"\")","v":56},{"$f":"IF(Table3[[#This Row],[Parcours choisi]]<>\"\",(VLOOKUP(Table356[[#Headers],[Marketing et Sponsoring]],'Def. Prix & Parcours'!$I$6:$M$28,3,FALSE)*Table3[[#This Row],[Points Marketing et Sponsoring]]),\"\")","v":0},{"$f":"IF(Table3[[#This Row],[Parcours choisi]]<>\"\",(VLOOKUP(Table356[[#Headers],[Budget]],'Def. Prix & Parcours'!$I$6:$M$28,3,FALSE)*Table3[[#This Row],[Points Budget]]),\"\")","v":0},{"$f":"IF(Table3[[#This Row],[Parcours choisi]]<>\"\",(VLOOKUP(Table356[[#Headers],[Design du Véhicule]],'Def. Prix & Parcours'!$I$6:$M$28,3,FALSE)*Table3[[#This Row],[Points Design du Véhicule]]),\"\")","v":102},{"$f":"IF(Table3[[#This Row],[Parcours choisi]]<>\"\",(VLOOKUP(Table356[[#Headers],[Innovation numérique]],'Def. Prix & Parcours'!$I$6:$M$28,3,FALSE)*Table3[[#This Row],[Points Innovation numérique]]),\"\")","v":0},{"$f":"IF(Table3[[#This Row],[Parcours choisi]]<>\"\",(VLOOKUP(Table356[[#Headers],[Programmation]],'Def. Prix & Parcours'!$I$6:$M$28,3,FALSE)*Table3[[#This Row],[Points Programmation]]),\"\")","v":0},{"$f":"IF(Table3[[#This Row],[Parcours choisi]]<>\"\",(VLOOKUP(Table356[[#Headers],[Respect du règlement]],'Def. Prix & Parcours'!$I$6:$M$28,3,FALSE)*Table3[[#This Row],[Points Respect du règlement]]),\"\")","v":100},{"$f":"IF(Table3[[#This Row],[Parcours choisi]]<>\"\",(VLOOKUP(Table356[[#Headers],[Communication : vidéo]],'Def. Prix & Parcours'!$I$6:$M$28,3,FALSE)*Table3[[#This Row],[Points Communication : vidéo]]),\"\")","v":0},{"$f":"IF(Table3[[#This Row],[Parcours choisi]]<>\"\",(VLOOKUP(Table356[[#Headers],[Epreuve CAO]],'Def. Prix & Parcours'!$I$6:$M$28,3,FALSE)*Table3[[#This Row],[Points Epreuve CAO]]),\"\")","v":0},{"$f":"IF(Table3[[#This Row],[Parcours choisi]]<>\"\",(VLOOKUP(Table356[[#Headers],[Temps Réaction]],'Def. Prix & Parcours'!$I$6:$M$28,3,FALSE)*Table3[[#This Row],[Points Temps Réaction]]),\"\")","v":0},{"$f":"IF(Table3[[#This Row],[Parcours choisi]]<>\"\",(VLOOKUP(Table356[[#Headers],[Temps Course]],'Def. Prix & Parcours'!$I$6:$M$28,3,FALSE)*Table3[[#This Row],[Points Temps Course]]),\"\")","v":200},{"$f":"IF(Table3[[#This Row],[Parcours choisi]]<>\"\",(VLOOKUP(Table356[[#Headers],[Epreuve arrêt au stand]],'Def. Prix & Parcours'!$I$6:$M$28,3,FALSE)*Table3[[#This Row],[Points Epreuve arrêt au stand]]),\"\")","v":0},null,{"$f":"IF(Table3[[#This Row],[Parcours choisi]]<>\"\",SUM(Table35678[[#This Row],[Ingénierie et conception]:[1]]),\"\")","v":1098},{"$f":"IF(Table3[[#This Row],[Parcours choisi]]<>\"\",_xlfn.RANK.EQ(Table35678[[#This Row],[Total Sciences et Techniques]],Table35678[Total Sciences et Techniques],0),\"\")","v":6}]
[9,{"$f":"IF(Table3[[#This Row],[Nom équipe]]<>\"\",Table3[[#This Row],[Nom équipe]],\"\")","v":"Droit devant"},{"$f":"IF(Table3[[#This Row],[Etablissement]]<>\"\",Table3[[#This Row],[Etablissement]],\"\")","v":"Boutet Lunéville"},{"$f":"IF(Table3[[#This Row],[Type établissement]]<>\"\",Table3[[#This Row],[Type établissement]],\"\")","v":"L"},{"$f":"IF(Table3[[#This Row],[Académie]]<>\"\",Table3[[#This Row],[Académie]],\"\")","v":"Nancy-Metz"},{"$f":"IF(Table3[[#This Row],[Parcours choisi]]<>\"\",Table3[[#This Row],[Parcours choisi]],\"\")","v":"T"},{"$f":"IF(Table3[[#This Row],[Parcours choisi]]<>\"\",(VLOOKUP(Table356[[#Headers],[Ingénierie et conception]],'Def. Prix & Parcours'!$I$6:$M$28,3,FALSE)*Table3[[#This Row],[Points Ingénierie et conception]]),\"\")","v":0},{"$f":"IF(Table3[[#This Row],[Parcours choisi]]<>\"\",(VLOOKUP(Table356[[#Headers],[Innovation mécanique]],'Def. Prix & Parcours'!$I$6:$M$28,3,FALSE)*Table3[[#This Row],[Points Innovation mécanique]]),\"\")","v":0},{"$f":"IF(Table3[[#This Row],[Parcours choisi]]<>\"\",(VLOOKUP(Table356[[#Headers],[Développement Durable]],'Def. Prix & Parcours'!$I$6:$M$28,3,FALSE)*Table3[[#This Row],[Points Développement Durable]]),\"\")","v":0},{"$f":"IF(Table3[[#This Row],[Parcours choisi]]<>\"\",(VLOOKUP(Table356[[#Headers],[Ingénierie de fabrication]],'Def. Prix & Parcours'!$I$6:$M$28,3,FALSE)*Table3[[#This Row],[Points Ingénierie de fabrication]]),\"\")","v":0},{"$f":"IF(Table3[[#This Row],[Parcours choisi]]<>\"\",(VLOOKUP(Table356[[#Headers],[Gestion de projet et collaborations]],'Def. Prix & Parcours'!$I$6:$M$28,3,FALSE)*Table3[[#This Row],[Points Gestion de projet et \ncollaborations]]),\"\")","v":0},{"$f":"IF(Table3[[#This Row],[Parcours choisi]]<>\"\",(VLOOKUP(Table356[[#Headers],[Présentation Orale]],'Def. Prix & Parcours'!$I$6:$M$28,3,FALSE)*Table3[[#This Row],[Points Présentation Orale]]),\"\")","v":0},{"$f":"IF(Table3[[#This Row],[Parcours choisi]]<>\"\",(VLOOKUP(Table356[[#Headers],[Identité Equipe]],'Def. Prix & Parcours'!$I$6:$M$28,3,FALSE)*Table3[[#This Row],[Points Identité Equipe]]),\"\")","v":0},{"$f":"IF(Table3[[#This Row],[Parcours choisi]]<>\"\",(VLOOKUP(Table356[[#Headers],[Design du Stand]],'Def. Prix & Parcours'!$I$6:$M$28,3,FALSE)*Table3[[#This Row],[Points Design du Stand]]),\"\")","v":0},{"$f":"IF(Table3[[#This Row],[Parcours choisi]]<>\"\",(VLOOKUP(Table356[[#Headers],[Portfolio]],'Def. Prix & Parcours'!$I$6:$M$28,3,FALSE)*Table3[[#This Row],[Points Portfolio]]),\"\")","v":0},{"$f":"IF(Table3[[#This Row],[Parcours choisi]]<>\"\",(VLOOKUP(Table356[[#Headers],[Marketing et Sponsoring]],'Def. Prix & Parcours'!$I$6:$M$28,3,FALSE)*Table3[[#This Row],[Points Marketing et Sponsoring]]),\"\")","v":0},{"$f":"IF(Table3[[#This Row],[Parcours choisi]]<>\"\",(VLOOKUP(Table356[[#Headers],[Budget]],'Def. Prix & Parcours'!$I$6:$M$28,3,FALSE)*Table3[[#This Row],[Points Budget]]),\"\")","v":0},{"$f":"IF(Table3[[#This Row],[Parcours choisi]]<>\"\",(VLOOKUP(Table356[[#Headers],[Design du Véhicule]],'Def. Prix & Parcours'!$I$6:$M$28,3,FALSE)*Table3[[#This Row],[Points Design du Véhicule]]),\"\")","v":0},{"$f":"IF(Table3[[#This Row],[Parcours choisi]]<>\"\",(VLOOKUP(Table356[[#Headers],[Innovation numérique]],'Def. Prix & Parcours'!$I$6:$M$28,3,FALSE)*Table3[[#This Row],[Points Innovation numérique]]),\"\")","v":0},{"$f":"IF(Table3[[#This Row],[Parcours choisi]]<>\"\",(VLOOKUP(Table356[[#Headers],[Programmation]],'Def. Prix & Parcours'!$I$6:$M$28,3,FALSE)*Table3[[#This Row],[Points Programmation]]),\"\")","v":0},{"$f":"IF(Table3[[#This Row],[Parcours choisi]]<>\"\",(VLOOKUP(Table356[[#Headers],[Respect du règlement]],'Def. Prix & Parcours'!$I$6:$M$28,3,FALSE)*Table3[[#This Row],[Points Respect du règlement]]),\"\")","v":0},{"$f":"IF(Table3[[#This Row],[Parcours choisi]]<>\"\",(VLOOKUP(Table356[[#Headers],[Communication : vidéo]],'Def. Prix & Parcours'!$I$6:$M$28,3,FALSE)*Table3[[#This Row],[Points Communication : vidéo]]),\"\")","v":0},{"$f":"IF(Table3[[#This Row],[Parcours choisi]]<>\"\",(VLOOKUP(Table356[[#Headers],[Epreuve CAO]],'Def. Prix & Parcours'!$I$6:$M$28,3,FALSE)*Table3[[#This Row],[Points Epreuve CAO]]),\"\")","v":0},{"$f":"IF(Table3[[#This Row],[Parcours choisi]]<>\"\",(VLOOKUP(Table356[[#Headers],[Temps Réaction]],'Def. Prix & Parcours'!$I$6:$M$28,3,FALSE)*Table3[[#This Row],[Points Temps Réaction]]),\"\")","v":0},{"$f":"IF(Table3[[#This Row],[Parcours choisi]]<>\"\",(VLOOKUP(Table356[[#Headers],[Temps Course]],'Def. Prix & Parcours'!$I$6:$M$28,3,FALSE)*Table3[[#This Row],[Points Temps Course]]),\"\")","v":80},{"$f":"IF(Table3[[#This Row],[Parcours choisi]]<>\"\",(VLOOKUP(Table356[[#Headers],[Epreuve arrêt au stand]],'Def. Prix & Parcours'!$I$6:$M$28,3,FALSE)*Table3[[#This Row],[Points Epreuve arrêt au stand]]),\"\")","v":0},null,{"$f":"IF(Table3[[#This Row],[Parcours choisi]]<>\"\",SUM(Table35678[[#This Row],[Ingénierie et conception]:[1]]),\"\")","v":80},{"$f":"IF(Table3[[#This Row],[Parcours choisi]]<>\"\",_xlfn.RANK.EQ(Table35678[[#This Row],[Total Sciences et Techniques]],Table35678[Total Sciences et Techniques],0),\"\")","v":26}]
[10,{"$f":"IF(Table3[[#This Row],[Nom équipe]]<>\"\",Table3[[#This Row],[Nom équipe]],\"\")","v":"Space-hat"},{"$f":"IF(Table3[[#This Row],[Etablissement]]<>\"\",Table3[[#This Row],[Etablissement]],\"\")","v":"Boutet Lunéville"},{"$f":"IF(Table3[[#This Row],[Type établissement]]<>\"\",Table3[[#This Row],[Type établissement]],\"\")","v":"L"},{"$f":"IF(Table3[[#This Row],[Académie]]<>\"\",Table3[[#This Row],[Académie]],\"\")","v":"Nancy-Metz"},{"$f":"IF(Table3[[#This Row],[Parcours choisi]]<>\"\",Table3[[#This Row],[Parcours choisi]],\"\")","v":"T"},{"$f":"IF(Table3[[#This Row],[Parcours choisi]]<>\"\",(VLOOKUP(Table356[[#Headers],[Ingénierie et conception]],'Def. Prix & Parcours'!$I$6:$M$28,3,FALSE)*Table3[[#This Row],[Points Ingénierie et conception]]),\"\")","v":78},{"$f":"IF(Table3[[#This Row],[Parcours choisi]]<>\"\",(VLOOKUP(Table356[[#Headers],[Innovation mécanique]],'Def. Prix & Parcours'!$I$6:$M$28,3,FALSE)*Table3[[#This Row],[Points Innovation mécanique]]),\"\")","v":168},{"$f":"IF(Table3[[#This Row],[Parcours choisi]]<>\"\",(VLOOKUP(Table356[[#Headers],[Développement Durable]],'Def. Prix & Parcours'!$I$6:$M$28,3,FALSE)*Table3[[#This Row],[Points Développement Durable]]),\"\")","v":96},{"$f":"IF(Table3[[#This Row],[Parcours choisi]]<>\"\",(VLOOKUP(Table356[[#Headers],[Ingénierie de fabrication]],'Def. Prix & Parcours'!$I$6:$M$28,3,FALSE)*Table3[[#This Row],[Points Ingénierie de fabrication]]),\"\")","v":128},{"$f":"IF(Table3[[#This Row],[Parcours choisi]]<>\"\",(VLOOKUP(Table356[[#Headers],[Gestion de projet et collaborations]],'Def. Prix & Parcours'!$I$6:$M$28,3,FALSE)*Table3[[#This Row],[Points Gestion de projet et \ncollaborations]]),\"\")","v":60},{"$f":"IF(Table3[[#This Row],[Parcours choisi]]<>\"\",(VLOOKUP(Table356[[#Headers],[Présentation Orale]],'Def. Prix & Parcours'!$I$6:$M$28,3,FALSE)*Table3[[#This Row],[Points Présentation Orale]]),\"\")","v":48},{"$f":"IF(Table3[[#This Row],[Parcours choisi]]<>\"\",(VLOOKUP(Table356[[#Headers],[Identité Equipe]],'Def. Prix & Parcours'!$I$6:$M$28,3,FALSE)*Table3[[#This Row],[Points Identité Equipe]]),\"\")","v":68},{"$f":"IF(Table3[[#This Row],[Parcours choisi]]<>\"\",(VLOOKUP(Table356[[#Headers],[Design du Stand]],'Def. Prix & Parcours'!$I$6:$M$28,3,FALSE)*Table3[[#This Row],[Points Design du Stand]]),\"\")","v":0},{"$f":"IF(Table3[[#This Row],[Parcours choisi]]<>\"\",(VLOOKUP(Table356[[#Headers],[Portfolio]],'Def. Prix & Parcours'!$I$6:$M$28,3,FALSE)*Table3[[#This Row],[Points Portfolio]]),\"\")","v":52},{"$f":"IF(Table3[[#This Row],[Parcours choisi]]<>\"\",(VLOOKUP(Table356[[#Headers],[Marketing et Sponsoring]],'Def. Prix & Parcours'!$I$6:$M$28,3,FALSE)*Table3[[#This Row],[Points Marketing et Sponsoring]]),\"\")","v":0},{"$f":"IF(Table3[[#This Row],[Parcours choisi]]<>\"\",(VLOOKUP(Table356[[#Headers],[Budget]],'Def. Prix & Parcours'!$I$6:$M$28,3,FALSE)*Table3[[#This Row],[Points Budget]]),\"\")","v":0},{"$f":"IF(Table3[[#This Row],[Parcours choisi]]<>\"\",(VLOOKUP(Table356[[#Headers],[Design du Véhicule]],'Def. Prix & Parcours'!$I$6:$M$28,3,FALSE)*Table3[[#This Row],[Points Design du Véhicule]]),\"\")","v":90},{"$f":"IF(Table3[[#This Row],[Parcours choisi]]<>\"\",(VLOOKUP(Table356[[#Headers],[Innovation numérique]],'Def. Prix & Parcours'!$I$6:$M$28,3,FALSE)*Table3[[#This Row],[Points Innovation numérique]]),\"\")","v":0},{"$f":"IF(Table3[[#This Row],[Parcours choisi]]<>\"\",(VLOOKUP(Table356[[#Headers],[Programmation]],'Def. Prix & Parcours'!$I$6:$M$28,3,FALSE)*Table3[[#This Row],[Points Programmation]]),\"\")","v":0},{"$f":"IF(Table3[[#This Row],[Parcours choisi]]<>\"\",(VLOOKUP(Table356[[#Headers],[Respect du règlement]],'Def. Prix & Parcours'!$I$6:$M$28,3,FALSE)*Table3[[#This Row],[Points Respect du règlement]]),\"\")","v":95},{"$f":"IF(Table3[[#This Row],[Parcours choisi]]<>\"\",(VLOOKUP(Table356[[#Headers],[Communication : vidéo]],'Def. Prix & Parcours'!$I$6:$M$28,3,FALSE)*Table3[[#This Row],[Points Communication : vidéo]]),\"\")","v":0},{"$f":"IF(Table3[[#This Row],[Parcours choisi]]<>\"\",(VLOOKUP(Table356[[#Headers],[Epreuve CAO]],'Def. Prix & Parcours'!$I$6:$M$28,3,FALSE)*Table3[[#This Row],[Points Epreuve CAO]]),\"\")","v":0},{"$f":"IF(Table3[[#This Row],[Parcours choisi]]<>\"\",(VLOOKUP(Table356[[#Headers],[Temps Réaction]],'Def. Prix & Parcours'!$I$6:$M$28,3,FALSE)*Table3[[#This Row],[Points Temps Réaction]]),\"\")","v":0},{"$f":"IF(Table3[[#This Row],[Parcours choisi]]<>\"\",(VLOOKUP(Table356[[#Headers],[Temps Course]],'Def. Prix & Parcours'!$I$6:$M$28,3,FALSE)*Table3[[#This Row],[Points Temps Course]]),\"\")","v":180},{"$f":"IF(Table3[[#This Row],[Parcours choisi]]<>\"\",(VLOOKUP(Table356[[#Headers],[Epreuve arrêt au stand]],'Def. Prix & Parcours'!$I$6:$M$28,3,FALSE)*Table3[[#This Row],[Points Epreuve arrêt au stand]]),\"\")","v":0},null,{"$f":"IF(Table3[[#This Row],[Parcours choisi]]<>\"\",SUM(Table35678[[#This Row],[Ingénierie et conception]:[1]]),\"\")","v":1063},{"$f":"IF(Table3[[#This Row],[Parcours choisi]]<>\"\",_xlfn.RANK.EQ(Table35678[[#This Row],[Total Sciences et Techniques]],Table35678[Total Sciences et Techniques],0),\"\")","v":7}]
[11,{"$f":"IF(Table3[[#This Row],[Nom équipe]]<>\"\",Table3[[#This Row],[Nom équipe]],\"\")","v":"Molécuisto"},{"$f":"IF(Table3[[#This Row],[Etablissement]]<>\"\",Table3[[#This Row],[Etablissement]],\"\")","v":"Bichat Lunéville"},{"$f":"IF(Table3[[#This Row],[Type établissement]]<>\"\",Table3[[#This Row],[Type établissement]],\"\")","v":"C"},{"$f":"IF(Table3[[#This Row],[Académie]]<>\"\",Table3[[#This Row],[Académie]],\"\")","v":"Nancy-Metz"},{"$f":"IF(Table3[[#This Row],[Parcours choisi]]<>\"\",Table3[[#This Row],[Parcours choisi]],\"\")","v":"G"},{"$f":"IF(Table3[[#This Row],[Parcours choisi]]<>\"\",(VLOOKUP(Table356[[#Headers],[Ingénierie et conception]],'Def. Prix & Parcours'!$I$6:$M$28,3,FALSE)*Table3[[#This Row],[Points Ingénierie et conception]]),\"\")","v":78},{"$f":"IF(Table3[[#This Row],[Parcours choisi]]<>\"\",(VLOOKUP(Table356[[#Headers],[Innovation mécanique]],'Def. Prix & Parcours'!$I$6:$M$28,3,FALSE)*Table3[[#This Row],[Points Innovation mécanique]]),\"\")","v":168},{"$f":"IF(Table3[[#This Row],[Parcours choisi]]<>\"\",(VLOOKUP(Table356[[#Headers],[Développement Durable]],'Def. Prix & Parcours'!$I$6:$M$28,3,FALSE)*Table3[[#This Row],[Points Développement Durable]]),\"\")","v":66},{"$f":"IF(Table3[[#This Row],[Parcours choisi]]<>\"\",(VLOOKUP(Table356[[#Headers],[Ingénierie de fabrication]],'Def. Prix & Parcours'!$I$6:$M$28,3,FALSE)*Table3[[#This Row],[Points Ingénierie de fabrication]]),\"\")","v":120},{"$f":"IF(Table3[[#This Row],[Parcours choisi]]<>\"\",(VLOOKUP(Table356[[#Headers],[Gestion de projet et collaborations]],'Def. Prix & Parcours'!$I$6:$M$28,3,FALSE)*Table3[[#This Row],[Points Gestion de projet et \ncollaborations]]),\"\")","v":65},{"$f":"IF(Table3[[#This Row],[Parcours choisi]]<>\"\",(VLOOKUP(Table356[[#Headers],[Présentation Orale]],'Def. Prix & Parcours'!$I$6:$M$28,3,FALSE)*Table3[[#This Row],[Points Présentation Orale]]),\"\")","v":52},{"$f":"IF(Table3[[#This Row],[Parcours choisi]]<>\"\",(VLOOKUP(Table356[[#Headers],[Identité Equipe]],'Def. Prix & Parcours'!$I$6:$M$28,3,FALSE)*Table3[[#This Row],[Points Identité Equipe]]),\"\")","v":64},{"$f":"IF(Table3[[#This Row],[Parcours choisi]]<>\"\",(VLOOKUP(Table356[[#Headers],[Design du Stand]],'Def. Prix & Parcours'!$I$6:$M$28,3,FALSE)*Table3[[#This Row],[Points Design du Stand]]),\"\")","v":0},{"$f":"IF(Table3[[#This Row],[Parcours choisi]]<>\"\",(VLOOKUP(Table356[[#Headers],[Portfolio]],'Def. Prix & Parcours'!$I$6:$M$28,3,FALSE)*Table3[[#This Row],[Points Portfolio]]),\"\")","v":40},{"$f":"IF(Table3[[#This Row],[Parcours choisi]]<>\"\",(VLOOKUP(Table356[[#Headers],[Marketing et Sponsoring]],'Def. Prix & Parcours'!$I$6:$M$28,3,FALSE)*Table3[[#This Row],[Points Marketing et Sponsoring]]),\"\")","v":0},{"$f":"IF(Table3[[#This Row],[Parcours choisi]]<>\"\",(VLOOKUP(Table356[[#Headers],[Budget]],'Def. Prix & Parcours'!$I$6:$M$28,3,FALSE)*Table3[[#This Row],[Points Budget]]),\"\")","v":0},{"$f":"IF(Table3[[#This Row],[Parcours choisi]]<>\"\",(VLOOKUP(Table356[[#Headers],[Design du Véhicule]],'Def. Prix & Parcours'!$I$6:$M$28,3,FALSE)*Table3[[#This Row],[Points Design du Véhicule]]),\"\")","v":66},{"$f":"IF(Table3[[#This Row],[Parcours choisi]]<>\"\",(VLOOKUP(Table356[[#Headers],[Innovation numérique]],'Def. Prix & Parcours'!$I$6:$M$28,3,FALSE)*Table3[[#This Row],[Points Innovation numérique]]),\"\")","v":0},{"$f":"IF(Table3[[#This Row],[Parcours choisi]]<>\"\",(VLOOKUP(Table356[[#Headers],[Programmation]],'Def. Prix & Parcours'!$I$6:$M$28,3,FALSE)*Table3[[#This Row],[Points Programmation]]),\"\")","v":0},{"$f":"IF(Table3[[#This Row],[Parcours choisi]]<>\"\",(VLOOKUP(Table356[[#Headers],[Respect du règlement]],'Def. Prix & Parcours'!$I$6:$M$28,3,FALSE)*Table3[[#This Row],[Points Respect du règlement]]),\"\")","v":100},{"$f":"IF(Table3[[#This Row],[Parcours choisi]]<>\"\",(VLOOKUP(Table356[[#Headers],[Communication : vidéo]],'Def. Prix & Parcours'!$I$6:$M$28,3,FALSE)*Table3[[#This Row],[Points Communication : vidéo]]),\"\")","v":0},{"$f":"IF(Table3[[#This Row],[Parcours choisi]]<>\"\",(VLOOKUP(Table356[[#Headers],[Epreuve CAO]],'Def. Prix & Parcours'!$I$6:$M$28,3,FALSE)*Table3[[#This Row],[Points Epreuve CAO]]),\"\")","v":0},{"$f":"IF(Table3[[#This Row],[Parcours choisi]]<>\"\",(VLOOKUP(Table356[[#Headers],[Temps Réaction]],'Def. Prix & Parcours'!$I$6:$M$28,3,FALSE)*Table3[[#This Row],[Points Temps Réaction]]),\"\")","v":0},{"$f":"IF(Table3[[#This Row],[Parcours choisi]]<>\"\",(VLOOKUP(Table356[[#Headers],[Temps Course]],'Def. Prix & Parcours'!$I$6:$M$28,3,FALSE)*Table3[[#This Row],[Points Temps Course]]),\"\")","v":170},{"$f":"IF(Table3[[#This Row],[Parcours choisi]]<>\"\",(VLOOKUP(Table356[[#Headers],[Epreuve arrêt au stand]],'Def. Prix & Parcours'!$I$6:$M$28,3,FALSE)*Table3[[#This Row],[Points Epreuve arrêt au stand]]),\"\")","v":0},null,{"$f":"IF(Table3[[#This Row],[Parcours choisi]]<>\"\",SUM(Table35678[[#This Row],[Ingénierie et conception]:[1]]),\"\")","v":989},{"$f":"IF(Table3[[#This Row],[Parcours choisi]]<>\"\",_xlfn.RANK.EQ(Table35678[[#This Row],[Total Sciences et Techniques]],Table35678[Total Sciences et Techniques],0),\"\")","v":13}]
[12,{"$f":"IF(Table3[[#This Row],[Nom équipe]]<>\"\",Table3[[#This Row],[Nom équipe]],\"\")","v":"Six divergents"},{"$f":"IF(Table3[[#This Row],[Etablissement]]<>\"\",Table3[[#This Row],[Etablissement]],\"\")","v":"Bichat Lunéville"},{"$f":"IF(Table3[[#This Row],[Type établissement]]<>\"\",Table3[[#This Row],[Type établissement]],\"\")","v":"C"},{"$f":"IF(Table3[[#This Row],[Académie]]<>\"\",Table3[[#This Row],[Académie]],\"\")","v":"Nancy-Metz"},{"$f":"IF(Table3[[#This Row],[Parcours choisi]]<>\"\",Table3[[#This Row],[Parcours choisi]],\"\")","v":"G"},{"$f":"IF(Table3[[#This Row],[Parcours choisi]]<>\"\",(VLOOKUP(Table356[[#Headers],[Ingénierie et conception]],'Def. Prix & Parcours'!$I$6:$M$28,3,FALSE)*Table3[[#This Row],[Points Ingénierie et conception]]),\"\")","v":96},{"$f":"IF(Table3[[#This Row],[Parcours choisi]]<>\"\",(VLOOKUP(Table356[[#Headers],[Innovation mécanique]],'Def. Prix & Parcours'!$I$6:$M$28,3,FALSE)*Table3[[#This Row],[Points Innovation mécanique]]),\"\")","v":192},{"$f":"IF(Table3[[#This Row],[Parcours choisi]]<>\"\",(VLOOKUP(Table356[[#Headers],[Développement Durable]],'Def. Prix & Parcours'!$I$6:$M$28,3,FALSE)*Table3[[#This Row],[Points Développement Durable]]),\"\")","v":72},{"$f":"IF(Table3[[#This Row],[Parcours choisi]]<>\"\",(VLOOKUP(Table356[[#Headers],[Ingénierie de fabrication]],'Def. Prix & Parcours'!$I$6:$M$28,3,FALSE)*Table3[[#This Row],[Points Ingénierie de fabrication]]),\"\")","v":120},{"$f":"IF(Table3[[#This Row],[Parcours choisi]]<>\"\",(VLOOKUP(Table356[[#Headers],[Gestion de projet et collaborations]],'Def. Prix & Parcours'!$I$6:$M$28,3,FALSE)*Table3[[#This Row],[Points Gestion de projet et \ncollaborations]]),\"\")","v":90},{"$f":"IF(Table3[[#This Row],[Parcours choisi]]<>\"\",(VLOOKUP(Table356[[#Headers],[Présentation Orale]],'Def. Prix & Parcours'!$I$6:$M$28,3,FALSE)*Table3[[#This Row],[Points Présentation Orale]]),\"\")","v":56},{"$f":"IF(Table3[[#This Row],[Parcours choisi]]<>\"\",(VLOOKUP(Table356[[#Headers],[Identité Equipe]],'Def. Prix & Parcours'!$I$6:$M$28,3,FALSE)*Table3[[#This Row],[Points Identité Equipe]]),\"\")","v":64},{"$f":"IF(Table3[[#This Row],[Parcours choisi]]<>\"\",(VLOOKUP(Table356[[#Headers],[Design du Stand]],'Def. Prix & Parcours'!$I$6:$M$28,3,FALSE)*Table3[[#This Row],[Points Design du Stand]]),\"\")","v":0},{"$f":"IF(Table3[[#This Row],[Parcours choisi]]<>\"\",(VLOOKUP(Table356[[#Headers],[Portfolio]],'Def. Prix & Parcours'!$I$6:$M$28,3,FALSE)*Table3[[#This Row],[Points Portfolio]]),\"\")","v":68},{"$f":"IF(Table3[[#This Row],[Parcours choisi]]<>\"\",(VLOOKUP(Table356[[#Headers],[Marketing et Sponsoring]],'Def. Prix & Parcours'!$I$6:$M$28,3,FALSE)*Table3[[#This Row],[Points Marketing et Sponsoring]]),\"\")","v":0},{"$f":"IF(Table3[[#This Row],[Parcours choisi]]<>\"\",(VLOOKUP(Table356[[#Headers],[Budget]],'Def. Prix & Parcours'!$I$6:$M$28,3,FALSE)*Table3[[#This Row],[Points Budget]]),\"\")","v":0},{"$f":"IF(Table3[[#This Row],[Parcours choisi]]<>\"\",(VLOOKUP(Table356[[#Headers],[Design du Véhicule]],'Def. Prix & Parcours'!$I$6:$M$28,3,FALSE)*Table3[[#This Row],[Points Design du Véhicule]]),\"\")","v":108},{"$f":"IF(Table3[[#This Row],[Parcours choisi]]<>\"\",(VLOOKUP(Table356[[#Headers],[Innovation numérique]],'Def. Prix & Parcours'!$I$6:$M$28,3,FALSE)*Table3[[#This Row],[Points Innovation numérique]]),\"\")","v":0},{"$f":"IF(Table3[[#This Row],[Parcours choisi]]<>\"\",(VLOOKUP(Table356[[#Headers],[Programmation]],'Def. Prix & Parcours'!$I$6:$M$28,3,FALSE)*Table3[[#This Row],[Points Programmation]]),\"\")","v":0},{"$f":"IF(Table3[[#This Row],[Parcours choisi]]<>\"\",(VLOOKUP(Table356[[#Headers],[Respect du règlement]],'Def. Prix & Parcours'!$I$6:$M$28,3,FALSE)*Table3[[#This Row],[Points Respect du règlement]]),\"\")","v":100},{"$f":"IF(Table3[[#This Row],[Parcours choisi]]<>\"\",(VLOOKUP(Table356[[#Headers],[Communication : vidéo]],'Def. Prix & Parcours'!$I$6:$M$28,3,FALSE)*Table3[[#This Row],[Points Communication : vidéo]]),\"\")","v":0},{"$f":"IF(Table3[[#This Row],[Parcours choisi]]<>\"\",(VLOOKUP(Table356[[#Headers],[Epreuve CAO]],'Def. Prix & Parcours'!$I$6:$M$28,3,FALSE)*Table3[[#This Row],[Points Epreuve CAO]]),\"\")","v":0},{"$f":"IF(Table3[[#This Row],[Parcours choisi]]<>\"\",(VLOOKUP(Table356[[#Headers],[Temps Réaction]],'Def. Prix & Parcours'!$I$6:$M$28,3,FALSE)*Table3[[#This Row],[Points Temps Réaction]]),\"\")","v":0},{"$f":"IF(Table3[[#This Row],[Parcours choisi]]<>\"\",(VLOOKUP(Table356[[#Headers],[Temps Course]],'Def. Prix & Parcours'!$I$6:$M$28,3,FALSE)*Table3[[#This Row],[Points Temps Course]]),\"\")","v":160},{"$f":"IF(Table3[[#This Row],[Parcours choisi]]<>\"\",(VLOOKUP(Table356[[#Headers],[Epreuve arrêt au stand]],'Def. Prix & Parcours'!$I$6:$M$28,3,FALSE)*Table3[[#This Row],[Points Epreuve arrêt au stand]]),\"\")","v":0},null,{"$f":"IF(Table3[[#This Row],[Parcours choisi]]<>\"\",SUM(Table35678[[#This Row],[Ingénierie et conception]:[1]]),\"\")","v":1126},{"$f":"IF(Table3[[#This Row],[Parcours choisi]]<>\"\",_xlfn.RANK.EQ(Table35678[[#This Row],[Total Sciences et Techniques]],Table35678[Total Sciences et Techniques],0),\"\")","v":3}]
[13,{"$f":"IF(Table3[[#This Row],[Nom équipe]]<>\"\",Table3[[#This Row],[Nom équipe]],\"\")","v":"Andromeda"},{"$f":"IF(Table3[[#This Row],[Etablissement]]<>\"\",Table3[[#This Row],[Etablissement]],\"\")","v":"Duvivier Einville"},{"$f":"IF(Table3[[#This Row],[Type établissement]]<>\"\",Table3[[#This Row],[Type établissement]],\"\")","v":"C"},{"$f":"IF(Table3[[#This Row],[Académie]]<>\"\",Table3[[#This Row],[Académie]],\"\")","v":"Nancy-Metz"},{"$f":"IF(Table3[[#This Row],[Parcours choisi]]<>\"\",Table3[[#This Row],[Parcours choisi]],\"\")","v":"G"},{"$f":"IF(Table3[[#This Row],[Parcours choisi]]<>\"\",(VLOOKUP(Table356[[#Headers],[Ingénierie et conception]],'Def. Prix & Parcours'!$I$6:$M$28,3,FALSE)*Table3[[#This Row],[Points Ingénierie et conception]]),\"\")","v":102},{"$f":"IF(Table3[[#This Row],[Parcours choisi]]<>\"\",(VLOOKUP(Table356[[#Headers],[Innovation mécanique]],'Def. Prix & Parcours'!$I$6:$M$28,3,FALSE)*Table3[[#This Row],[Points Innovation mécanique]]),\"\")","v":180},{"$f":"IF(Table3[[#This Row],[Parcours choisi]]<>\"\",(VLOOKUP(Table356[[#Headers],[Développement Durable]],'Def. Prix & Parcours'!$I$6:$M$28,3,FALSE)*Table3[[#This Row],[Points Développement Durable]]),\"\")","v":90},{"$f":"IF(Table3[[#This Row],[Parcours choisi]]<>\"\",(VLOOKUP(Table356[[#Headers],[Ingénierie de fabrication]],'Def. Prix & Parcours'!$I$6:$M$28,3,FALSE)*Table3[[#This Row],[Points Ingénierie de fabrication]]),\"\")","v":112},{"$f":"IF(Table3[[#This Row],[Parcours choisi]]<>\"\",(VLOOKUP(Table356[[#Headers],[Gestion de projet et collaborations]],'Def. Prix & Parcours'!$I$6:$M$28,3,FALSE)*Table3[[#This Row],[Points Gestion de projet et \ncollaborations]]),\"\")","v":85},{"$f":"IF(Table3[[#This Row],[Parcours choisi]]<>\"\",(VLOOKUP(Table356[[#Headers],[Présentation Orale]],'Def. Prix & Parcours'!$I$6:$M$28,3,FALSE)*Table3[[#This Row],[Points Présentation Orale]]),\"\")","v":68},{"$f":"IF(Table3[[#This Row],[Parcours choisi]]<>\"\",(VLOOKUP(Table356[[#Headers],[Identité Equipe]],'Def. Prix & Parcours'!$I$6:$M$28,3,FALSE)*Table3[[#This Row],[Points Identité Equipe]]),\"\")","v":68},{"$f":"IF(Table3[[#This Row],[Parcours choisi]]<>\"\",(VLOOKUP(Table356[[#Headers],[Design du Stand]],'Def. Prix & Parcours'!$I$6:$M$28,3,FALSE)*Table3[[#This Row],[Points Design du Stand]]),\"\")","v":0},{"$f":"IF(Table3[[#This Row],[Parcours choisi]]<>\"\",(VLOOKUP(Table356[[#Headers],[Portfolio]],'Def. Prix & Parcours'!$I$6:$M$28,3,FALSE)*Table3[[#This Row],[Points Portfolio]]),\"\")","v":72},{"$f":"IF(Table3[[#This Row],[Parcours choisi]]<>\"\",(VLOOKUP(Table356[[#Headers],[Marketing et Sponsoring]],'Def. Prix & Parcours'!$I$6:$M$28,3,FALSE)*Table3[[#This Row],[Points Marketing et Sponsoring]]),\"\")","v":0},{"$f":"IF(Table3[[#This Row],[Parcours choisi]]<>\"\",(VLOOKUP(Table356[[#Headers],[Budget]],'Def. Prix & Parcours'!$I$6:$M$28,3,FALSE)*Table3[[#This Row],[Points Budget]]),\"\")","v":0},{"$f":"IF(Table3[[#This Row],[Parcours choisi]]<>\"\",(VLOOKUP(Table356[[#Headers],[Design du Véhicule]],'Def. Prix & Parcours'!$I$6:$M$28,3,FALSE)*Table3[[#This Row],[Points Design du Véhicule]]),\"\")","v":78},{"$f":"IF(Table3[[#This Row],[Parcours choisi]]<>\"\",(VLOOKUP(Table356[[#Headers],[Innovation numérique]],'Def. Prix & Parcours'!$I$6:$M$28,3,FALSE)*Table3[[#This Row],[Points Innovation numérique]]),\"\")","v":0},{"$f":"IF(Table3[[#This Row],[Parcours choisi]]<>\"\",(VLOOKUP(Table356[[#Headers],[Programmation]],'Def. Prix & Parcours'!$I$6:$M$28,3,FALSE)*Table3[[#This Row],[Points Programmation]]),\"\")","v":0},{"$f":"IF(Table3[[#This Row],[Parcours choisi]]<>\"\",(VLOOKUP(Table356[[#Headers],[Respect du règlement]],'Def. Prix & Parcours'!$I$6:$M$28,3,FALSE)*Table3[[#This Row],[Points Respect du règlement]]),\"\")","v":100},{"$f":"IF(Table3[[#This Row],[Parcours choisi]]<>\"\",(VLOOKUP(Table356[[#Headers],[Communication : vidéo]],'Def. Prix & Parcours'!$I$6:$M$28,3,FALSE)*Table3[[#This Row],[Points Communication : vidéo]]),\"\")","v":0},{"$f":"IF(Table3[[#This Row],[Parcours choisi]]<>\"\",(VLOOKUP(Table356[[#Headers],[Epreuve CAO]],'Def. Prix & Parcours'!$I$6:$M$28,3,FALSE)*Table3[[#This Row],[Points Epreuve CAO]]),\"\")","v":0},{"$f":"IF(Table3[[#This Row],[Parcours choisi]]<>\"\",(VLOOKUP(Table356[[#Headers],[Temps Réaction]],'Def. Prix & Parcours'!$I$6:$M$28,3,FALSE)*Table3[[#This Row],[Points Temps Réaction]]),\"\")","v":0},{"$f":"IF(Table3[[#This Row],[Parcours choisi]]<>\"\",(VLOOKUP(Table356[[#Headers],[Temps Course]],'Def. Prix & Parcours'!$I$6:$M$28,3,FALSE)*Table3[[#This Row],[Points Temps Course]]),\"\")","v":100},{"$f":"IF(Table3[[#This Row],[Parcours choisi]]<>\"\",(VLOOKUP(Table356[[#Headers],[Epreuve arrêt au stand]],'Def. Prix & Parcours'!$I$6:$M$28,3,FALSE)*Table3[[#This Row],[Points Epreuve arrêt au stand]]),\"\")","v":0},null,{"$f":"IF(Table3[[#This Row],[Parcours choisi]]<>\"\",SUM(Table35678[[#This Row],[Ingénierie et conception]:[1]]),\"\")","v":1055},{"$f":"IF(Table3[[#This Row],[Parcours choisi]]<>\"\",_xlfn.RANK.EQ(Table35678[[#This Row],[Total Sciences et Techniques]],Table35678[Total Sciences et Techniques],0),\"\")","v":8}]
[14,{"$f":"IF(Table3[[#This Row],[Nom équipe]]<>\"\",Table3[[#This Row],[Nom équipe]],\"\")","v":"Fifties"},{"$f":"IF(Table3[[#This Row],[Etablissement]]<>\"\",Table3[[#This Row],[Etablissement]],\"\")","v":"Duvivier Einville"},{"$f":"IF(Table3[[#This Row],[Type établissement]]<>\"\",Table3[[#This Row],[Type établissement]],\"\")","v":"C"},{"$f":"IF(Table3[[#This Row],[Académie]]<>\"\",Table3[[#This Row],[Académie]],\"\")","v":"Nancy-Metz"},{"$f":"IF(Table3[[#This Row],[Parcours choisi]]<>\"\",Table3[[#This Row],[Parcours choisi]],\"\")","v":"G"},{"$f":"IF(Table3[[#This Row],[Parcours choisi]]<>\"\",(VLOOKUP(Table356[[#Headers],[Ingénierie et conception]],'Def. Prix & Parcours'!$I$6:$M$28,3,FALSE)*Table3[[#This Row],[Points Ingénierie et conception]]),\"\")","v":96},{"$f":"IF(Table3[[#This Row],[Parcours choisi]]<>\"\",(VLOOKUP(Table356[[#Headers],[Innovation mécanique]],'Def. Prix & Parcours'!$I$6:$M$28,3,FALSE)*Table3[[#This Row],[Points Innovation mécanique]]),\"\")","v":192},{"$f":"IF(Table3[[#This Row],[Parcours choisi]]<>\"\",(VLOOKUP(Table356[[#Headers],[Développement Durable]],'Def. Prix & Parcours'!$I$6:$M$28,3,FALSE)*Table3[[#This Row],[Points Développement Durable]]),\"\")","v":78},{"$f":"IF(Table3[[#This Row],[Parcours choisi]]<>\"\",(VLOOKUP(Table356[[#Headers],[Ingénierie de fabrication]],'Def. Prix & Parcours'!$I$6:$M$28,3,FALSE)*Table3[[#This Row],[Points Ingénierie de fabrication]]),\"\")","v":128},{"$f":"IF(Table3[[#This Row],[Parcours choisi]]<>\"\",(VLOOKUP(Table356[[#Headers],[Gestion de projet et collaborations]],'Def. Prix & Parcours'!$I$6:$M$28,3,FALSE)*Table3[[#This Row],[Points Gestion de projet et \ncollaborations]]),\"\")","v":90},{"$f":"IF(Table3[[#This Row],[Parcours choisi]]<>\"\",(VLOOKUP(Table356[[#Headers],[Présentation Orale]],'Def. Prix & Parcours'!$I$6:$M$28,3,FALSE)*Table3[[#This Row],[Points Présentation Orale]]),\"\")","v":64},{"$f":"IF(Table3[[#This Row],[Parcours choisi]]<>\"\",(VLOOKUP(Table356[[#Headers],[Identité Equipe]],'Def. Prix & Parcours'!$I$6:$M$28,3,FALSE)*Table3[[#This Row],[Points Identité Equipe]]),\"\")","v":80},{"$f":"IF(Table3[[#This Row],[Parcours choisi]]<>\"\",(VLOOKUP(Table356[[#Headers],[Design du Stand]],'Def. Prix & Parcours'!$I$6:$M$28,3,FALSE)*Table3[[#This Row],[Points Design du Stand]]),\"\")","v":0},{"$f":"IF(Table3[[#This Row],[Parcours choisi]]<>\"\",(VLOOKUP(Table356[[#Headers],[Portfolio]],'Def. Prix & Parcours'!$I$6:$M$28,3,FALSE)*Table3[[#This Row],[Points Portfolio]]),\"\")","v":80},{"$f":"IF(Table3[[#This Row],[Parcours choisi]]<>\"\",(VLOOKUP(Table356[[#Headers],[Marketing et Sponsoring]],'Def. Prix & Parcours'!$I$6:$M$28,3,FALSE)*Table3[[#This Row],[Points Marketing et Sponsoring]]),\"\")","v":0},{"$f":"IF(Table3[[#This Row],[Parcours choisi]]<>\"\",(VLOOKUP(Table356[[#Headers],[Budget]],'Def. Prix & Parcours'!$I$6:$M$28,3,FALSE)*Table3[[#This Row],[Points Budget]]),\"\")","v":0},{"$f":"IF(Table3[[#This Row],[Parcours choisi]]<>\"\",(VLOOKUP(Table356[[#Headers],[Design du Véhicule]],'Def. Prix & Parcours'!$I$6:$M$28,3,FALSE)*Table3[[#This Row],[Points Design du Véhicule]]),\"\")","v":114},{"$f":"IF(Table3[[#This Row],[Parcours choisi]]<>\"\",(VLOOKUP(Table356[[#Headers],[Innovation numérique]],'Def. Prix & Parcours'!$I$6:$M$28,3,FALSE)*Table3[[#This Row],[Points Innovation numérique]]),\"\")","v":0},{"$f":"IF(Table3[[#This Row],[Parcours choisi]]<>\"\",(VLOOKUP(Table356[[#Headers],[Programmation]],'Def. Prix & Parcours'!$I$6:$M$28,3,FALSE)*Table3[[#This Row],[Points Programmation]]),\"\")","v":0},{"$f":"IF(Table3[[#This Row],[Parcours choisi]]<>\"\",(VLOOKUP(Table356[[#Headers],[Respect du règlement]],'Def. Prix & Parcours'!$I$6:$M$28,3,FALSE)*Table3[[#This Row],[Points Respect du règlement]]),\"\")","v":100},{"$f":"IF(Table3[[#This Row],[Parcours choisi]]<>\"\",(VLOOKUP(Table356[[#Headers],[Communication : vidéo]],'Def. Prix & Parcours'!$I$6:$M$28,3,FALSE)*Table3[[#This Row],[Points Communication : vidéo]]),\"\")","v":0},{"$f":"IF(Table3[[#This Row],[Parcours choisi]]<>\"\",(VLOOKUP(Table356[[#Headers],[Epreuve CAO]],'Def. Prix & Parcours'!$I$6:$M$28,3,FALSE)*Table3[[#This Row],[Points Epreuve CAO]]),\"\")","v":0},{"$f":"IF(Table3[[#This Row],[Parcours choisi]]<>\"\",(VLOOKUP(Table356[[#Headers],[Temps Réaction]],'Def. Prix & Parcours'!$I$6:$M$28,3,FALSE)*Table3[[#This Row],[Points Temps Réaction]]),\"\")","v":0},{"$f":"IF(Table3[[#This Row],[Parcours choisi]]<>\"\",(VLOOKUP(Table356[[#Headers],[Temps Course]],'Def. Prix & Parcours'!$I$6:$M$28,3,FALSE)*Table3[[#This Row],[Points Temps Course]]),\"\")","v":90},{"$f":"IF(Table3[[#This Row],[Parcours choisi]]<>\"\",(VLOOKUP(Table356[[#Headers],[Epreuve arrêt au stand]],'Def. Prix & Parcours'!$I$6:$M$28,3,FALSE)*Table3[[#This Row],[Points Epreuve arrêt au stand]]),\"\")","v":0},null,{"$f":"IF(Table3[[#This Row],[Parcours choisi]]<>\"\",SUM(Table35678[[#This Row],[Ingénierie et conception]:[1]]),\"\")","v":1112},{"$f":"IF(Table3[[#This Row],[Parcours choisi]]<>\"\",_xlfn.RANK.EQ(Table35678[[#This Row],[Total Sciences et Techniques]],Table35678[Total Sciences et Techniques],0),\"\")","v":4}]
[15,{"$f":"IF(Table3[[#This Row],[Nom équipe]]<>\"\",Table3[[#This Row],[Nom équipe]],\"\")","v":"SharkAttack"},{"$f":"IF(Table3[[#This Row],[Etablissement]]<>\"\",Table3[[#This Row],[Etablissement]],\"\")","v":"Vogt Commercy"},{"$f":"IF(Table3[[#This Row],[Type établissement]]<>\"\",Table3[[#This Row],[Type établissement]],\"\")","v":"L"},{"$f":"IF(Table3[[#This Row],[Académie]]<>\"\",Table3[[#This Row],[Académie]],\"\")","v":"Nancy-Metz"},{"$f":"IF(Table3[[#This Row],[Parcours choisi]]<>\"\",Table3[[#This Row],[Parcours choisi]],\"\")","v":"G"},{"$f":"IF(Table3[[#This Row],[Parcours choisi]]<>\"\",(VLOOKUP(Table356[[#Headers],[Ingénierie et conception]],'Def. Prix & Parcours'!$I$6:$M$28,3,FALSE)*Table3[[#This Row],[Points Ingénierie et conception]]),\"\")","v":102},{"$f":"IF(Table3[[#This Row],[Parcours choisi]]<>\"\",(VLOOKUP(Table356[[#Headers],[Innovation mécanique]],'Def. Prix & Parcours'!$I$6:$M$28,3,FALSE)*Table3[[#This Row],[Points Innovation mécanique]]),\"\")","v":168},{"$f":"IF(Table3[[#This Row],[Parcours choisi]]<>\"\",(VLOOKUP(Table356[[#Headers],[Développement Durable]],'Def. Prix & Parcours'!$I$6:$M$28,3,FALSE)*Table3[[#This Row],[Points Développement Durable]]),\"\")","v":42},{"$f":"IF(Table3[[#This Row],[Parcours choisi]]<>\"\",(VLOOKUP(Table356[[#Headers],[Ingénierie de fabrication]],'Def. Prix & Parcours'!$I$6:$M$28,3,FALSE)*Table3[[#This Row],[Points Ingénierie de fabrication]]),\"\")","v":112},{"$f":"IF(Table3[[#This Row],[Parcours choisi]]<>\"\",(VLOOKUP(Table356[[#Headers],[Gestion de projet et collaborations]],'Def. Prix & Parcours'!$I$6:$M$28,3,FALSE)*Table3[[#This Row],[Points Gestion de projet et \ncollaborations]]),\"\")","v":75},{"$f":"IF(Table3[[#This Row],[Parcours choisi]]<>\"\",(VLOOKUP(Table356[[#Headers],[Présentation Orale]],'Def. Prix & Parcours'!$I$6:$M$28,3,FALSE)*Table3[[#This Row],[Points Présentation Orale]]),\"\")","v":52},{"$f":"IF(Table3[[#This Row],[Parcours choisi]]<>\"\",(VLOOKUP(Table356[[#Headers],[Identité Equipe]],'Def. Prix & Parcours'!$I$6:$M$28,3,FALSE)*Table3[[#This Row],[Points Identité Equipe]]),\"\")","v":52},{"$f":"IF(Table3[[#This Row],[Parcours choisi]]<>\"\",(VLOOKUP(Table356[[#Headers],[Design du Stand]],'Def. Prix & Parcours'!$I$6:$M$28,3,FALSE)*Table3[[#This Row],[Points Design du Stand]]),\"\")","v":0},{"$f":"IF(Table3[[#This Row],[Parcours choisi]]<>\"\",(VLOOKUP(Table356[[#Headers],[Portfolio]],'Def. Prix & Parcours'!$I$6:$M$28,3,FALSE)*Table3[[#This Row],[Points Portfolio]]),\"\")","v":48},{"$f":"IF(Table3[[#This Row],[Parcours choisi]]<>\"\",(VLOOKUP(Table356[[#Headers],[Marketing et Sponsoring]],'Def. Prix & Parcours'!$I$6:$M$28,3,FALSE)*Table3[[#This Row],[Points Marketing et Sponsoring]]),\"\")","v":0},{"$f":"IF(Table3[[#This Row],[Parcours choisi]]<>\"\",(VLOOKUP(Table356[[#Headers],[Budget]],'Def. Prix & Parcours'!$I$6:$M$28,3,FALSE)*Table3[[#This Row],[Points Budget]]),\"\")","v":0},{"$f":"IF(Table3[[#This Row],[Parcours choisi]]<>\"\",(VLOOKUP(Table356[[#Headers],[Design du Véhicule]],'Def. Prix & Parcours'!$I$6:$M$28,3,FALSE)*Table3[[#This Row],[Points Design du Véhicule]]),\"\")","v":78},{"$f":"IF(Table3[[#This Row],[Parcours choisi]]<>\"\",(VLOOKUP(Table356[[#Headers],[Innovation numérique]],'Def. Prix & Parcours'!$I$6:$M$28,3,FALSE)*Table3[[#This Row],[Points Innovation numérique]]),\"\")","v":0},{"$f":"IF(Table3[[#This Row],[Parcours choisi]]<>\"\",(VLOOKUP(Table356[[#Headers],[Programmation]],'Def. Prix & Parcours'!$I$6:$M$28,3,FALSE)*Table3[[#This Row],[Points Programmation]]),\"\")","v":0},{"$f":"IF(Table3[[#This Row],[Parcours choisi]]<>\"\",(VLOOKUP(Table356[[#Headers],[Respect du règlement]],'Def. Prix & Parcours'!$I$6:$M$28,3,FALSE)*Table3[[#This Row],[Points Respect du règlement]]),\"\")","v":95},{"$f":"IF(Table3[[#This Row],[Parcours choisi]]<>\"\",(VLOOKUP(Table356[[#Headers],[Communication : vidéo]],'Def. Prix & Parcours'!$I$6:$M$28,3,FALSE)*Table3[[#This Row],[Points Communication : vidéo]]),\"\")","v":0},{"$f":"IF(Table3[[#This Row],[Parcours choisi]]<>\"\",(VLOOKUP(Table356[[#Headers],[Epreuve CAO]],'Def. Prix & Parcours'!$I$6:$M$28,3,FALSE)*Table3[[#This Row],[Points Epreuve CAO]]),\"\")","v":0},{"$f":"IF(Table3[[#This Row],[Parcours choisi]]<>\"\",(VLOOKUP(Table356[[#Headers],[Temps Réaction]],'Def. Prix & Parcours'!$I$6:$M$28,3,FALSE)*Table3[[#This Row],[Points Temps Réaction]]),\"\")","v":0},{"$f":"IF(Table3[[#This Row],[Parcours choisi]]<>\"\",(VLOOKUP(Table356[[#Headers],[Temps Course]],'Def. Prix & Parcours'!$I$6:$M$28,3,FALSE)*Table3[[#This Row],[Points Temps Course]]),\"\")","v":150},{"$f":"IF(Table3[[#This Row],[Parcours choisi]]<>\"\",(VLOOKUP(Table356[[#Headers],[Epreuve arrêt au stand]],'Def. Prix & Parcours'!$I$6:$M$28,3,FALSE)*Table3[[#This Row],[Points Epreuve arrêt au stand]]),\"\")","v":0},null,{"$f":"IF(Table3[[#This Row],[Parcours choisi]]<>\"\",SUM(Table35678[[#This Row],[Ingénierie et conception]:[1]]),\"\")","v":974},{"$f":"IF(Table3[[#This Row],[Parcours choisi]]<>\"\",_xlfn.RANK.EQ(Table35678[[#This Row],[Total Sciences et Techniques]],Table35678[Total Sciences et Techniques],0),\"\")","v":15}]
[16,{"$f":"IF(Table3[[#This Row],[Nom équipe]]<>\"\",Table3[[#This Row],[Nom équipe]],\"\")","v":"Green Tiger"},{"$f":"IF(Table3[[#This Row],[Etablissement]]<>\"\",Table3[[#This Row],[Etablissement]],\"\")","v":"Hauts de Blémont Metz"},{"$f":"IF(Table3[[#This Row],[Type établissement]]<>\"\",Table3[[#This Row],[Type établissement]],\"\")","v":"C"},{"$f":"IF(Table3[[#This Row],[Académie]]<>\"\",Table3[[#This Row],[Académie]],\"\")","v":"Nancy-Metz"},{"$f":"IF(Table3[[#This Row],[Parcours choisi]]<>\"\",Table3[[#This Row],[Parcours choisi]],\"\")","v":"G"},{"$f":"IF(Table3[[#This Row],[Parcours choisi]]<>\"\",(VLOOKUP(Table356[[#Headers],[Ingénierie et conception]],'Def. Prix & Parcours'!$I$6:$M$28,3,FALSE)*Table3[[#This Row],[Points Ingénierie et conception]]),\"\")","v":66},{"$f":"IF(Table3[[#This Row],[Parcours choisi]]<>\"\",(VLOOKUP(Table356[[#Headers],[Innovation mécanique]],'Def. Prix & Parcours'!$I$6:$M$28,3,FALSE)*Table3[[#This Row],[Points Innovation mécanique]]),\"\")","v":156},{"$f":"IF(Table3[[#This Row],[Parcours choisi]]<>\"\",(VLOOKUP(Table356[[#Headers],[Développement Durable]],'Def. Prix & Parcours'!$I$6:$M$28,3,FALSE)*Table3[[#This Row],[Points Développement Durable]]),\"\")","v":120},{"$f":"IF(Table3[[#This Row],[Parcours choisi]]<>\"\",(VLOOKUP(Table356[[#Headers],[Ingénierie de fabrication]],'Def. Prix & Parcours'!$I$6:$M$28,3,FALSE)*Table3[[#This Row],[Points Ingénierie de fabrication]]),\"\")","v":112},{"$f":"IF(Table3[[#This Row],[Parcours choisi]]<>\"\",(VLOOKUP(Table356[[#Headers],[Gestion de projet et collaborations]],'Def. Prix & Parcours'!$I$6:$M$28,3,FALSE)*Table3[[#This Row],[Points Gestion de projet et \ncollaborations]]),\"\")","v":85},{"$f":"IF(Table3[[#This Row],[Parcours choisi]]<>\"\",(VLOOKUP(Table356[[#Headers],[Présentation Orale]],'Def. Prix & Parcours'!$I$6:$M$28,3,FALSE)*Table3[[#This Row],[Points Présentation Orale]]),\"\")","v":40},{"$f":"IF(Table3[[#This Row],[Parcours choisi]]<>\"\",(VLOOKUP(Table356[[#Headers],[Identité Equipe]],'Def. Prix & Parcours'!$I$6:$M$28,3,FALSE)*Table3[[#This Row],[Points Identité Equipe]]),\"\")","v":48},{"$f":"IF(Table3[[#This Row],[Parcours choisi]]<>\"\",(VLOOKUP(Table356[[#Headers],[Design du Stand]],'Def. Prix & Parcours'!$I$6:$M$28,3,FALSE)*Table3[[#This Row],[Points Design du Stand]]),\"\")","v":0},{"$f":"IF(Table3[[#This Row],[Parcours choisi]]<>\"\",(VLOOKUP(Table356[[#Headers],[Portfolio]],'Def. Prix & Parcours'!$I$6:$M$28,3,FALSE)*Table3[[#This Row],[Points Portfolio]]),\"\")","v":48},{"$f":"IF(Table3[[#This Row],[Parcours choisi]]<>\"\",(VLOOKUP(Table356[[#Headers],[Marketing et Sponsoring]],'Def. Prix & Parcours'!$I$6:$M$28,3,FALSE)*Table3[[#This Row],[Points Marketing et Sponsoring]]),\"\")","v":0},{"$f":"IF(Table3[[#This Row],[Parcours choisi]]<>\"\",(VLOOKUP(Table356[[#Headers],[Budget]],'Def. Prix & Parcours'!$I$6:$M$28,3,FALSE)*Table3[[#This Row],[Points Budget]]),\"\")","v":0},{"$f":"IF(Table3[[#This Row],[Parcours choisi]]<>\"\",(VLOOKUP(Table356[[#Headers],[Design du Véhicule]],'Def. Prix & Parcours'!$I$6:$M$28,3,FALSE)*Table3[[#This Row],[Points Design du Véhicule]]),\"\")","v":72},{"$f":"IF(Table3[[#This Row],[Parcours choisi]]<>\"\",(VLOOKUP(Table356[[#Headers],[Innovation numérique]],'Def. Prix & Parcours'!$I$6:$M$28,3,FALSE)*Table3[[#This Row],[Points Innovation numérique]]),\"\")","v":0},{"$f":"IF(Table3[[#This Row],[Parcours choisi]]<>\"\",(VLOOKUP(Table356[[#Headers],[Programmation]],'Def. Prix & Parcours'!$I$6:$M$28,3,FALSE)*Table3[[#This Row],[Points Programmation]]),\"\")","v":0},{"$f":"IF(Table3[[#This Row],[Parcours choisi]]<>\"\",(VLOOKUP(Table356[[#Headers],[Respect du règlement]],'Def. Prix & Parcours'!$I$6:$M$28,3,FALSE)*Table3[[#This Row],[Points Respect du règlement]]),\"\")","v":90},{"$f":"IF(Table3[[#This Row],[Parcours choisi]]<>\"\",(VLOOKUP(Table356[[#Headers],[Communication : vidéo]],'Def. Prix & Parcours'!$I$6:$M$28,3,FALSE)*Table3[[#This Row],[Points Communication : vidéo]]),\"\")","v":0},{"$f":"IF(Table3[[#This Row],[Parcours choisi]]<>\"\",(VLOOKUP(Table356[[#Headers],[Epreuve CAO]],'Def. Prix & Parcours'!$I$6:$M$28,3,FALSE)*Table3[[#This Row],[Points Epreuve CAO]]),\"\")","v":0},{"$f":"IF(Table3[[#This Row],[Parcours choisi]]<>\"\",(VLOOKUP(Table356[[#Headers],[Temps Réaction]],'Def. Prix & Parcours'!$I$6:$M$28,3,FALSE)*Table3[[#This Row],[Points Temps Réaction]]),\"\")","v":0},{"$f":"IF(Table3[[#This Row],[Parcours choisi]]<>\"\",(VLOOKUP(Table356[[#Headers],[Temps Course]],'Def. Prix & Parcours'!$I$6:$M$28,3,FALSE)*Table3[[#This Row],[Points Temps Course]]),\"\")","v":190},{"$f":"IF(Table3[[#This Row],[Parcours choisi]]<>\"\",(VLOOKUP(Table356[[#Headers],[Epreuve arrêt au stand]],'Def. Prix & Parcours'!$I$6:$M$28,3,FALSE)*Table3[[#This Row],[Points Epreuve arrêt au stand]]),\"\")","v":0},null,{"$f":"IF(Table3[[#This Row],[Parcours choisi]]<>\"\",SUM(Table35678[[#This Row],[Ingénierie et conception]:[1]]),\"\")","v":1027},{"$f":"IF(Table3[[#This Row],[Parcours choisi]]<>\"\",_xlfn.RANK.EQ(Table35678[[#This Row],[Total Sciences et Techniques]],Table35678[Total Sciences et Techniques],0),\"\")","v":10}]
[17,{"$f":"IF(Table3[[#This Row],[Nom équipe]]<>\"\",Table3[[#This Row],[Nom équipe]],\"\")","v":"Grey"},{"$f":"IF(Table3[[#This Row],[Etablissement]]<>\"\",Table3[[#This Row],[Etablissement]],\"\")","v":"Hauts de Blémont Metz"},{"$f":"IF(Table3[[#This Row],[Type établissement]]<>\"\",Table3[[#This Row],[Type établissement]],\"\")","v":"C"},{"$f":"IF(Table3[[#This Row],[Académie]]<>\"\",Table3[[#This Row],[Académie]],\"\")","v":"Nancy-Metz"},{"$f":"IF(Table3[[#This Row],[Parcours choisi]]<>\"\",Table3[[#This Row],[Parcours choisi]],\"\")","v":"G"},{"$f":"IF(Table3[[#This Row],[Parcours choisi]]<>\"\",(VLOOKUP(Table356[[#Headers],[Ingénierie et conception]],'Def. Prix & Parcours'!$I$6:$M$28,3,FALSE)*Table3[[#This Row],[Points Ingénierie et conception]]),\"\")","v":60},{"$f":"IF(Table3[[#This Row],[Parcours choisi]]<>\"\",(VLOOKUP(Table356[[#Headers],[Innovation mécanique]],'Def. Prix & Parcours'!$I$6:$M$28,3,FALSE)*Table3[[#This Row],[Points Innovation mécanique]]),\"\")","v":96},{"$f":"IF(Table3[[#This Row],[Parcours choisi]]<>\"\",(VLOOKUP(Table356[[#Headers],[Développement Durable]],'Def. Prix & Parcours'!$I$6:$M$28,3,FALSE)*Table3[[#This Row],[Points Développement Durable]]),\"\")","v":66},{"$f":"IF(Table3[[#This Row],[Parcours choisi]]<>\"\",(VLOOKUP(Table356[[#Headers],[Ingénierie de fabrication]],'Def. Prix & Parcours'!$I$6:$M$28,3,FALSE)*Table3[[#This Row],[Points Ingénierie de fabrication]]),\"\")","v":88},{"$f":"IF(Table3[[#This Row],[Parcours choisi]]<>\"\",(VLOOKUP(Table356[[#Headers],[Gestion de projet et collaborations]],'Def. Prix & Parcours'!$I$6:$M$28,3,FALSE)*Table3[[#This Row],[Points Gestion de projet et \ncollaborations]]),\"\")","v":75},{"$f":"IF(Table3[[#This Row],[Parcours choisi]]<>\"\",(VLOOKUP(Table356[[#Headers],[Présentation Orale]],'Def. Prix & Parcours'!$I$6:$M$28,3,FALSE)*Table3[[#This Row],[Points Présentation Orale]]),\"\")","v":44},{"$f":"IF(Table3[[#This Row],[Parcours choisi]]<>\"\",(VLOOKUP(Table356[[#Headers],[Identité Equipe]],'Def. Prix & Parcours'!$I$6:$M$28,3,FALSE)*Table3[[#This Row],[Points Identité Equipe]]),\"\")","v":64},{"$f":"IF(Table3[[#This Row],[Parcours choisi]]<>\"\",(VLOOKUP(Table356[[#Headers],[Design du Stand]],'Def. Prix & Parcours'!$I$6:$M$28,3,FALSE)*Table3[[#This Row],[Points Design du Stand]]),\"\")","v":0},{"$f":"IF(Table3[[#This Row],[Parcours choisi]]<>\"\",(VLOOKUP(Table356[[#Headers],[Portfolio]],'Def. Prix & Parcours'!$I$6:$M$28,3,FALSE)*Table3[[#This Row],[Points Portfolio]]),\"\")","v":52},{"$f":"IF(Table3[[#This Row],[Parcours choisi]]<>\"\",(VLOOKUP(Table356[[#Headers],[Marketing et Sponsoring]],'Def. Prix & Parcours'!$I$6:$M$28,3,FALSE)*Table3[[#This Row],[Points Marketing et Sponsoring]]),\"\")","v":0},{"$f":"IF(Table3[[#This Row],[Parcours choisi]]<>\"\",(VLOOKUP(Table356[[#Headers],[Budget]],'Def. Prix & Parcours'!$I$6:$M$28,3,FALSE)*Table3[[#This Row],[Points Budget]]),\"\")","v":0},{"$f":"IF(Table3[[#This Row],[Parcours choisi]]<>\"\",(VLOOKUP(Table356[[#Headers],[Design du Véhicule]],'Def. Prix & Parcours'!$I$6:$M$28,3,FALSE)*Table3[[#This Row],[Points Design du Véhicule]]),\"\")","v":78},{"$f":"IF(Table3[[#This Row],[Parcours choisi]]<>\"\",(VLOOKUP(Table356[[#Headers],[Innovation numérique]],'Def. Prix & Parcours'!$I$6:$M$28,3,FALSE)*Table3[[#This Row],[Points Innovation numérique]]),\"\")","v":0},{"$f":"IF(Table3[[#This Row],[Parcours choisi]]<>\"\",(VLOOKUP(Table356[[#Headers],[Programmation]],'Def. Prix & Parcours'!$I$6:$M$28,3,FALSE)*Table3[[#This Row],[Points Programmation]]),\"\")","v":0},{"$f":"IF(Table3[[#This Row],[Parcours choisi]]<>\"\",(VLOOKUP(Table356[[#Headers],[Respect du règlement]],'Def. Prix & Parcours'!$I$6:$M$28,3,FALSE)*Table3[[#This Row],[Points Respect du règlement]]),\"\")","v":80},{"$f":"IF(Table3[[#This Row],[Parcours choisi]]<>\"\",(VLOOKUP(Table356[[#Headers],[Communication : vidéo]],'Def. Prix & Parcours'!$I$6:$M$28,3,FALSE)*Table3[[#This Row],[Points Communication : vidéo]]),\"\")","v":0},{"$f":"IF(Table3[[#This Row],[Parcours choisi]]<>\"\",(VLOOKUP(Table356[[#Headers],[Epreuve CAO]],'Def. Prix & Parcours'!$I$6:$M$28,3,FALSE)*Table3[[#This Row],[Points Epreuve CAO]]),\"\")","v":0},{"$f":"IF(Table3[[#This Row],[Parcours choisi]]<>\"\",(VLOOKUP(Table356[[#Headers],[Temps Réaction]],'Def. Prix & Parcours'!$I$6:$M$28,3,FALSE)*Table3[[#This Row],[Points Temps Réaction]]),\"\")","v":0},{"$f":"IF(Table3[[#This Row],[Parcours choisi]]<>\"\",(VLOOKUP(Table356[[#Headers],[Temps Course]],'Def. Prix & Parcours'!$I$6:$M$28,3,FALSE)*Table3[[#This Row],[Points Temps Course]]),\"\")","v":130},{"$f":"IF(Table3[[#This Row],[Parcours choisi]]<>\"\",(VLOOKUP(Table356[[#Headers],[Epreuve arrêt au stand]],'Def. Prix & Parcours'!$I$6:$M$28,3,FALSE)*Table3[[#This Row],[Points Epreuve arrêt au stand]]),\"\")","v":0},null,{"$f":"IF(Table3[[#This Row],[Parcours choisi]]<>\"\",SUM(Table35678[[#This Row],[Ingénierie et conception]:[1]]),\"\")","v":833},{"$f":"IF(Table3[[#This Row],[Parcours choisi]]<>\"\",_xlfn.RANK.EQ(Table35678[[#This Row],[Total Sciences et Techniques]],Table35678[Total Sciences et Techniques],0),\"\")","v":21}]
[18,{"$f":"IF(Table3[[#This Row],[Nom équipe]]<>\"\",Table3[[#This Row],[Nom équipe]],\"\")","v":"Danger"},{"$f":"IF(Table3[[#This Row],[Etablissement]]<>\"\",Table3[[#This Row],[Etablissement]],\"\")","v":"Hauts de Blémont Metz"},{"$f":"IF(Table3[[#This Row],[Type établissement]]<>\"\",Table3[[#This Row],[Type établissement]],\"\")","v":"C"},{"$f":"IF(Table3[[#This Row],[Académie]]<>\"\",Table3[[#This Row],[Académie]],\"\")","v":"Nancy-Metz"},{"$f":"IF(Table3[[#This Row],[Parcours choisi]]<>\"\",Table3[[#This Row],[Parcours choisi]],\"\")","v":"G"},{"$f":"IF(Table3[[#This Row],[Parcours choisi]]<>\"\",(VLOOKUP(Table356[[#Headers],[Ingénierie et conception]],'Def. Prix & Parcours'!$I$6:$M$28,3,FALSE)*Table3[[#This Row],[Points Ingénierie et conception]]),\"\")","v":54},{"$f":"IF(Table3[[#This Row],[Parcours choisi]]<>\"\",(VLOOKUP(Table356[[#Headers],[Innovation mécanique]],'Def. Prix & Parcours'!$I$6:$M$28,3,FALSE)*Table3[[#This Row],[Points Innovation mécanique]]),\"\")","v":108},{"$f":"IF(Table3[[#This Row],[Parcours choisi]]<>\"\",(VLOOKUP(Table356[[#Headers],[Développement Durable]],'Def. Prix & Parcours'!$I$6:$M$28,3,FALSE)*Table3[[#This Row],[Points Développement Durable]]),\"\")","v":84},{"$f":"IF(Table3[[#This Row],[Parcours choisi]]<>\"\",(VLOOKUP(Table356[[#Headers],[Ingénierie de fabrication]],'Def. Prix & Parcours'!$I$6:$M$28,3,FALSE)*Table3[[#This Row],[Points Ingénierie de fabrication]]),\"\")","v":104},{"$f":"IF(Table3[[#This Row],[Parcours choisi]]<>\"\",(VLOOKUP(Table356[[#Headers],[Gestion de projet et collaborations]],'Def. Prix & Parcours'!$I$6:$M$28,3,FALSE)*Table3[[#This Row],[Points Gestion de projet et \ncollaborations]]),\"\")","v":35},{"$f":"IF(Table3[[#This Row],[Parcours choisi]]<>\"\",(VLOOKUP(Table356[[#Headers],[Présentation Orale]],'Def. Prix & Parcours'!$I$6:$M$28,3,FALSE)*Table3[[#This Row],[Points Présentation Orale]]),\"\")","v":56},{"$f":"IF(Table3[[#This Row],[Parcours choisi]]<>\"\",(VLOOKUP(Table356[[#Headers],[Identité Equipe]],'Def. Prix & Parcours'!$I$6:$M$28,3,FALSE)*Table3[[#This Row],[Points Identité Equipe]]),\"\")","v":68},{"$f":"IF(Table3[[#This Row],[Parcours choisi]]<>\"\",(VLOOKUP(Table356[[#Headers],[Design du Stand]],'Def. Prix & Parcours'!$I$6:$M$28,3,FALSE)*Table3[[#This Row],[Points Design du Stand]]),\"\")","v":0},{"$f":"IF(Table3[[#This Row],[Parcours choisi]]<>\"\",(VLOOKUP(Table356[[#Headers],[Portfolio]],'Def. Prix & Parcours'!$I$6:$M$28,3,FALSE)*Table3[[#This Row],[Points Portfolio]]),\"\")","v":56},{"$f":"IF(Table3[[#This Row],[Parcours choisi]]<>\"\",(VLOOKUP(Table356[[#Headers],[Marketing et Sponsoring]],'Def. Prix & Parcours'!$I$6:$M$28,3,FALSE)*Table3[[#This Row],[Points Marketing et Sponsoring]]),\"\")","v":0},{"$f":"IF(Table3[[#This Row],[Parcours choisi]]<>\"\",(VLOOKUP(Table356[[#Headers],[Budget]],'Def. Prix & Parcours'!$I$6:$M$28,3,FALSE)*Table3[[#This Row],[Points Budget]]),\"\")","v":0},{"$f":"IF(Table3[[#This Row],[Parcours choisi]]<>\"\",(VLOOKUP(Table356[[#Headers],[Design du Véhicule]],'Def. Prix & Parcours'!$I$6:$M$28,3,FALSE)*Table3[[#This Row],[Points Design du Véhicule]]),\"\")","v":84},{"$f":"IF(Table3[[#This Row],[Parcours choisi]]<>\"\",(VLOOKUP(Table356[[#Headers],[Innovation numérique]],'Def. Prix & Parcours'!$I$6:$M$28,3,FALSE)*Table3[[#This Row],[Points Innovation numérique]]),\"\")","v":0},{"$f":"IF(Table3[[#This Row],[Parcours choisi]]<>\"\",(VLOOKUP(Table356[[#Headers],[Programmation]],'Def. Prix & Parcours'!$I$6:$M$28,3,FALSE)*Table3[[#This Row],[Points Programmation]]),\"\")","v":0},{"$f":"IF(Table3[[#This Row],[Parcours choisi]]<>\"\",(VLOOKUP(Table356[[#Headers],[Respect du règlement]],'Def. Prix & Parcours'!$I$6:$M$28,3,FALSE)*Table3[[#This Row],[Points Respect du règlement]]),\"\")","v":80},{"$f":"IF(Table3[[#This Row],[Parcours choisi]]<>\"\",(VLOOKUP(Table356[[#Headers],[Communication : vidéo]],'Def. Prix & Parcours'!$I$6:$M$28,3,FALSE)*Table3[[#This Row],[Points Communication : vidéo]]),\"\")","v":0},{"$f":"IF(Table3[[#This Row],[Parcours choisi]]<>\"\",(VLOOKUP(Table356[[#Headers],[Epreuve CAO]],'Def. Prix & Parcours'!$I$6:$M$28,3,FALSE)*Table3[[#This Row],[Points Epreuve CAO]]),\"\")","v":0},{"$f":"IF(Table3[[#This Row],[Parcours choisi]]<>\"\",(VLOOKUP(Table356[[#Headers],[Temps Réaction]],'Def. Prix & Parcours'!$I$6:$M$28,3,FALSE)*Table3[[#This Row],[Points Temps Réaction]]),\"\")","v":0},{"$f":"IF(Table3[[#This Row],[Parcours choisi]]<>\"\",(VLOOKUP(Table356[[#Headers],[Temps Course]],'Def. Prix & Parcours'!$I$6:$M$28,3,FALSE)*Table3[[#This Row],[Points Temps Course]]),\"\")","v":80},{"$f":"IF(Table3[[#This Row],[Parcours choisi]]<>\"\",(VLOOKUP(Table356[[#Headers],[Epreuve arrêt au stand]],'Def. Prix & Parcours'!$I$6:$M$28,3,FALSE)*Table3[[#This Row],[Points Epreuve arrêt au stand]]),\"\")","v":0},null,{"$f":"IF(Table3[[#This Row],[Parcours choisi]]<>\"\",SUM(Table35678[[#This Row],[Ingénierie et conception]:[1]]),\"\")","v":809},{"$f":"IF(Table3[[#This Row],[Parcours choisi]]<>\"\",_xlfn.RANK.EQ(Table35678[[#This Row],[Total Sciences et Techniques]],Table35678[Total Sciences et Techniques],0),\"\")","v":23}]
[19,{"$f":"IF(Table3[[#This Row],[Nom équipe]]<>\"\",Table3[[#This Row],[Nom équipe]],\"\")","v":"Scott"},{"$f":"IF(Table3[[#This Row],[Etablissement]]<>\"\",Table3[[#This Row],[Etablissement]],\"\")","v":"Hauts de Blémont Metz"},{"$f":"IF(Table3[[#This Row],[Type établissement]]<>\"\",Table3[[#This Row],[Type établissement]],\"\")","v":"C"},{"$f":"IF(Table3[[#This Row],[Académie]]<>\"\",Table3[[#This Row],[Académie]],\"\")","v":"Nancy-Metz"},{"$f":"IF(Table3[[#This Row],[Parcours choisi]]<>\"\",Table3[[#This Row],[Parcours choisi]],\"\")","v":"G"},{"$f":"IF(Table3[[#This Row],[Parcours choisi]]<>\"\",(VLOOKUP(Table356[[#Headers],[Ingénierie et conception]],'Def. Prix & Parcours'!$I$6:$M$28,3,FALSE)*Table3[[#This Row],[Points Ingénierie et conception]]),\"\")","v":66},{"$f":"IF(Table3[[#This Row],[Parcours choisi]]<>\"\",(VLOOKUP(Table356[[#Headers],[Innovation mécanique]],'Def. Prix & Parcours'!$I$6:$M$28,3,FALSE)*Table3[[#This Row],[Points Innovation mécanique]]),\"\")","v":168},{"$f":"IF(Table3[[#This Row],[Parcours choisi]]<>\"\",(VLOOKUP(Table356[[#Headers],[Développement Durable]],'Def. Prix & Parcours'!$I$6:$M$28,3,FALSE)*Table3[[#This Row],[Points Développement Durable]]),\"\")","v":66},{"$f":"IF(Table3[[#This Row],[Parcours choisi]]<>\"\",(VLOOKUP(Table356[[#Headers],[Ingénierie de fabrication]],'Def. Prix & Parcours'!$I$6:$M$28,3,FALSE)*Table3[[#This Row],[Points Ingénierie de fabrication]]),\"\")","v":96},{"$f":"IF(Table3[[#This Row],[Parcours choisi]]<>\"\",(VLOOKUP(Table356[[#Headers],[Gestion de projet et collaborations]],'Def. Prix & Parcours'!$I$6:$M$28,3,FALSE)*Table3[[#This Row],[Points Gestion de projet et \ncollaborations]]),\"\")","v":75},{"$f":"IF(Table3[[#This Row],[Parcours choisi]]<>\"\",(VLOOKUP(Table356[[#Headers],[Présentation Orale]],'Def. Prix & Parcours'!$I$6:$M$28,3,FALSE)*Table3[[#This Row],[Points Présentation Orale]]),\"\")","v":36},{"$f":"IF(Table3[[#This Row],[Parcours choisi]]<>\"\",(VLOOKUP(Table356[[#Headers],[Identité Equipe]],'Def. Prix & Parcours'!$I$6:$M$28,3,FALSE)*Table3[[#This Row],[Points Identité Equipe]]),\"\")","v":72},{"$f":"IF(Table3[[#This Row],[Parcours choisi]]<>\"\",(VLOOKUP(Table356[[#Headers],[Design du Stand]],'Def. Prix & Parcours'!$I$6:$M$28,3,FALSE)*Table3[[#This Row],[Points Design du Stand]]),\"\")","v":0},{"$f":"IF(Table3[[#This Row],[Parcours choisi]]<>\"\",(VLOOKUP(Table356[[#Headers],[Portfolio]],'Def. Prix & Parcours'!$I$6:$M$28,3,FALSE)*Table3[[#This Row],[Points Portfolio]]),\"\")","v":72},{"$f":"IF(Table3[[#This Row],[Parcours choisi]]<>\"\",(VLOOKUP(Table356[[#Headers],[Marketing et Sponsoring]],'Def. Prix & Parcours'!$I$6:$M$28,3,FALSE)*Table3[[#This Row],[Points Marketing et Sponsoring]]),\"\")","v":0},{"$f":"IF(Table3[[#This Row],[Parcours choisi]]<>\"\",(VLOOKUP(Table356[[#Headers],[Budget]],'Def. Prix & Parcours'!$I$6:$M$28,3,FALSE)*Table3[[#This Row],[Points Budget]]),\"\")","v":0},{"$f":"IF(Table3[[#This Row],[Parcours choisi]]<>\"\",(VLOOKUP(Table356[[#Headers],[Design du Véhicule]],'Def. Prix & Parcours'!$I$6:$M$28,3,FALSE)*Table3[[#This Row],[Points Design du Véhicule]]),\"\")","v":108},{"$f":"IF(Table3[[#This Row],[Parcours choisi]]<>\"\",(VLOOKUP(Table356[[#Headers],[Innovation numérique]],'Def. Prix & Parcours'!$I$6:$M$28,3,FALSE)*Table3[[#This Row],[Points Innovation numérique]]),\"\")","v":0},{"$f":"IF(Table3[[#This Row],[Parcours choisi]]<>\"\",(VLOOKUP(Table356[[#Headers],[Programmation]],'Def. Prix & Parcours'!$I$6:$M$28,3,FALSE)*Table3[[#This Row],[Points Programmation]]),\"\")","v":0},{"$f":"IF(Table3[[#This Row],[Parcours choisi]]<>\"\",(VLOOKUP(Table356[[#Headers],[Respect du règlement]],'Def. Prix & Parcours'!$I$6:$M$28,3,FALSE)*Table3[[#This Row],[Points Respect du règlement]]),\"\")","v":80},{"$f":"IF(Table3[[#This Row],[Parcours choisi]]<>\"\",(VLOOKUP(Table356[[#Headers],[Communication : vidéo]],'Def. Prix & Parcours'!$I$6:$M$28,3,FALSE)*Table3[[#This Row],[Points Communication : vidéo]]),\"\")","v":0},{"$f":"IF(Table3[[#This Row],[Parcours choisi]]<>\"\",(VLOOKUP(Table356[[#Headers],[Epreuve CAO]],'Def. Prix & Parcours'!$I$6:$M$28,3,FALSE)*Table3[[#This Row],[Points Epreuve CAO]]),\"\")","v":0},{"$f":"IF(Table3[[#This Row],[Parcours choisi]]<>\"\",(VLOOKUP(Table356[[#Headers],[Temps Réaction]],'Def. Prix & Parcours'!$I$6:$M$28,3,FALSE)*Table3[[#This Row],[Points Temps Réaction]]),\"\")","v":0},{"$f":"IF(Table3[[#This Row],[Parcours choisi]]<>\"\",(VLOOKUP(Table356[[#Headers],[Temps Course]],'Def. Prix & Parcours'!$I$6:$M$28,3,FALSE)*Table3[[#This Row],[Points Temps Course]]),\"\")","v":90},{"$f":"IF(Table3[[#This Row],[Parcours choisi]]<>\"\",(VLOOKUP(Table356[[#Headers],[Epreuve arrêt au stand]],'Def. Prix & Parcours'!$I$6:$M$28,3,FALSE)*Table3[[#This Row],[Points Epreuve arrêt au stand]]),\"\")","v":0},null,{"$f":"IF(Table3[[#This Row],[Parcours choisi]]<>\"\",SUM(Table35678[[#This Row],[Ingénierie et conception]:[1]]),\"\")","v":929},{"$f":"IF(Table3[[#This Row],[Parcours choisi]]<>\"\",_xlfn.RANK.EQ(Table35678[[#This Row],[Total Sciences et Techniques]],Table35678[Total Sciences et Techniques],0),\"\")","v":18}]
[20,{"$f":"IF(Table3[[#This Row],[Nom équipe]]<>\"\",Table3[[#This Row],[Nom équipe]],\"\")","v":"Amercan's 70"},{"$f":"IF(Table3[[#This Row],[Etablissement]]<>\"\",Table3[[#This Row],[Etablissement]],\"\")","v":"A. Dreux Folschviller"},{"$f":"IF(Table3[[#This Row],[Type établissement]]<>\"\",Table3[[#This Row],[Type établissement]],\"\")","v":"C"},{"$f":"IF(Table3[[#This Row],[Académie]]<>\"\",Table3[[#This Row],[Académie]],\"\")","v":"Nancy-Metz"},{"$f":"IF(Table3[[#This Row],[Parcours choisi]]<>\"\",Table3[[#This Row],[Parcours choisi]],\"\")","v":"G"},{"$f":"IF(Table3[[#This Row],[Parcours choisi]]<>\"\",(VLOOKUP(Table356[[#Headers],[Ingénierie et conception]],'Def. Prix & Parcours'!$I$6:$M$28,3,FALSE)*Table3[[#This Row],[Points Ingénierie et conception]]),\"\")","v":78},{"$f":"IF(Table3[[#This Row],[Parcours choisi]]<>\"\",(VLOOKUP(Table356[[#Headers],[Innovation mécanique]],'Def. Prix & Parcours'!$I$6:$M$28,3,FALSE)*Table3[[#This Row],[Points Innovation mécanique]]),\"\")","v":156},{"$f":"IF(Table3[[#This Row],[Parcours choisi]]<>\"\",(VLOOKUP(Table356[[#Headers],[Développement Durable]],'Def. Prix & Parcours'!$I$6:$M$28,3,FALSE)*Table3[[#This Row],[Points Développement Durable]]),\"\")","v":96},{"$f":"IF(Table3[[#This Row],[Parcours choisi]]<>\"\",(VLOOKUP(Table356[[#Headers],[Ingénierie de fabrication]],'Def. Prix & Parcours'!$I$6:$M$28,3,FALSE)*Table3[[#This Row],[Points Ingénierie de fabrication]]),\"\")","v":128},{"$f":"IF(Table3[[#This Row],[Parcours choisi]]<>\"\",(VLOOKUP(Table356[[#Headers],[Gestion de projet et collaborations]],'Def. Prix & Parcours'!$I$6:$M$28,3,FALSE)*Table3[[#This Row],[Points Gestion de projet et \ncollaborations]]),\"\")","v":70},{"$f":"IF(Table3[[#This Row],[Parcours choisi]]<>\"\",(VLOOKUP(Table356[[#Headers],[Présentation Orale]],'Def. Prix & Parcours'!$I$6:$M$28,3,FALSE)*Table3[[#This Row],[Points Présentation Orale]]),\"\")","v":48},{"$f":"IF(Table3[[#This Row],[Parcours choisi]]<>\"\",(VLOOKUP(Table356[[#Headers],[Identité Equipe]],'Def. Prix & Parcours'!$I$6:$M$28,3,FALSE)*Table3[[#This Row],[Points Identité Equipe]]),\"\")","v":48},{"$f":"IF(Table3[[#This Row],[Parcours choisi]]<>\"\",(VLOOKUP(Table356[[#Headers],[Design du Stand]],'Def. Prix & Parcours'!$I$6:$M$28,3,FALSE)*Table3[[#This Row],[Points Design du Stand]]),\"\")","v":0},{"$f":"IF(Table3[[#This Row],[Parcours choisi]]<>\"\",(VLOOKUP(Table356[[#Headers],[Portfolio]],'Def. Prix & Parcours'!$I$6:$M$28,3,FALSE)*Table3[[#This Row],[Points Portfolio]]),\"\")","v":40},{"$f":"IF(Table3[[#This Row],[Parcours choisi]]<>\"\",(VLOOKUP(Table356[[#Headers],[Marketing et Sponsoring]],'Def. Prix & Parcours'!$I$6:$M$28,3,FALSE)*Table3[[#This Row],[Points Marketing et Sponsoring]]),\"\")","v":0},{"$f":"IF(Table3[[#This Row],[Parcours choisi]]<>\"\",(VLOOKUP(Table356[[#Headers],[Budget]],'Def. Prix & Parcours'!$I$6:$M$28,3,FALSE)*Table3[[#This Row],[Points Budget]]),\"\")","v":0},{"$f":"IF(Table3[[#This Row],[Parcours choisi]]<>\"\",(VLOOKUP(Table356[[#Headers],[Design du Véhicule]],'Def. Prix & Parcours'!$I$6:$M$28,3,FALSE)*Table3[[#This Row],[Points Design du Véhicule]]),\"\")","v":72},{"$f":"IF(Table3[[#This Row],[Parcours choisi]]<>\"\",(VLOOKUP(Table356[[#Headers],[Innovation numérique]],'Def. Prix & Parcours'!$I$6:$M$28,3,FALSE)*Table3[[#This Row],[Points Innovation numérique]]),\"\")","v":0},{"$f":"IF(Table3[[#This Row],[Parcours choisi]]<>\"\",(VLOOKUP(Table356[[#Headers],[Programmation]],'Def. Prix & Parcours'!$I$6:$M$28,3,FALSE)*Table3[[#This Row],[Points Programmation]]),\"\")","v":0},{"$f":"IF(Table3[[#This Row],[Parcours choisi]]<>\"\",(VLOOKUP(Table356[[#Headers],[Respect du règlement]],'Def. Prix & Parcours'!$I$6:$M$28,3,FALSE)*Table3[[#This Row],[Points Respect du règlement]]),\"\")","v":70},{"$f":"IF(Table3[[#This Row],[Parcours choisi]]<>\"\",(VLOOKUP(Table356[[#Headers],[Communication : vidéo]],'Def. Prix & Parcours'!$I$6:$M$28,3,FALSE)*Table3[[#This Row],[Points Communication : vidéo]]),\"\")","v":0},{"$f":"IF(Table3[[#This Row],[Parcours choisi]]<>\"\",(VLOOKUP(Table356[[#Headers],[Epreuve CAO]],'Def. Prix & Parcours'!$I$6:$M$28,3,FALSE)*Table3[[#This Row],[Points Epreuve CAO]]),\"\")","v":0},{"$f":"IF(Table3[[#This Row],[Parcours choisi]]<>\"\",(VLOOKUP(Table356[[#Headers],[Temps Réaction]],'Def. Prix & Parcours'!$I$6:$M$28,3,FALSE)*Table3[[#This Row],[Points Temps Réaction]]),\"\")","v":0},{"$f":"IF(Table3[[#This Row],[Parcours choisi]]<>\"\",(VLOOKUP(Table356[[#Headers],[Temps Course]],'Def. Prix & Parcours'!$I$6:$M$28,3,FALSE)*Table3[[#This Row],[Points Temps Course]]),\"\")","v":80},{"$f":"IF(Table3[[#This Row],[Parcours choisi]]<>\"\",(VLOOKUP(Table356[[#Headers],[Epreuve arrêt au stand]],'Def. Prix & Parcours'!$I$6:$M$28,3,FALSE)*Table3[[#This Row],[Points Epreuve arrêt au stand]]),\"\")","v":0},null,{"$f":"IF(Table3[[#This Row],[Parcours choisi]]<>\"\",SUM(Table35678[[#This Row],[Ingénierie et conception]:[1]]),\"\")","v":886},{"$f":"IF(Table3[[#This Row],[Parcours choisi]]<>\"\",_xlfn.RANK.EQ(Table35678[[#This Row],[Total Sciences et Techniques]],Table35678[Total Sciences et Techniques],0),\"\")","v":19}]
[21,{"$f":"IF(Table3[[#This Row],[Nom équipe]]<>\"\",Table3[[#This Row],[Nom équipe]],\"\")","v":"Les 80's"},{"$f":"IF(Table3[[#This Row],[Etablissement]]<>\"\",Table3[[#This Row],[Etablissement]],\"\")","v":"A. Dreux Folschviller"},{"$f":"IF(Table3[[#This Row],[Type établissement]]<>\"\",Table3[[#This Row],[Type établissement]],\"\")","v":"C"},{"$f":"IF(Table3[[#This Row],[Académie]]<>\"\",Table3[[#This Row],[Académie]],\"\")","v":"Nancy-Metz"},{"$f":"IF(Table3[[#This Row],[Parcours choisi]]<>\"\",Table3[[#This Row],[Parcours choisi]],\"\")","v":"G"},{"$f":"IF(Table3[[#This Row],[Parcours choisi]]<>\"\",(VLOOKUP(Table356[[#Headers],[Ingénierie et conception]],'Def. Prix & Parcours'!$I$6:$M$28,3,FALSE)*Table3[[#This Row],[Points Ingénierie et conception]]),\"\")","v":84},{"$f":"IF(Table3[[#This Row],[Parcours choisi]]<>\"\",(VLOOKUP(Table356[[#Headers],[Innovation mécanique]],'Def. Prix & Parcours'!$I$6:$M$28,3,FALSE)*Table3[[#This Row],[Points Innovation mécanique]]),\"\")","v":144},{"$f":"IF(Table3[[#This Row],[Parcours choisi]]<>\"\",(VLOOKUP(Table356[[#Headers],[Développement Durable]],'Def. Prix & Parcours'!$I$6:$M$28,3,FALSE)*Table3[[#This Row],[Points Développement Durable]]),\"\")","v":54},{"$f":"IF(Table3[[#This Row],[Parcours choisi]]<>\"\",(VLOOKUP(Table356[[#Headers],[Ingénierie de fabrication]],'Def. Prix & Parcours'!$I$6:$M$28,3,FALSE)*Table3[[#This Row],[Points Ingénierie de fabrication]]),\"\")","v":120},{"$f":"IF(Table3[[#This Row],[Parcours choisi]]<>\"\",(VLOOKUP(Table356[[#Headers],[Gestion de projet et collaborations]],'Def. Prix & Parcours'!$I$6:$M$28,3,FALSE)*Table3[[#This Row],[Points Gestion de projet et \ncollaborations]]),\"\")","v":50},{"$f":"IF(Table3[[#This Row],[Parcours choisi]]<>\"\",(VLOOKUP(Table356[[#Headers],[Présentation Orale]],'Def. Prix & Parcours'!$I$6:$M$28,3,FALSE)*Table3[[#This Row],[Points Présentation Orale]]),\"\")","v":56},{"$f":"IF(Table3[[#This Row],[Parcours choisi]]<>\"\",(VLOOKUP(Table356[[#Headers],[Identité Equipe]],'Def. Prix & Parcours'!$I$6:$M$28,3,FALSE)*Table3[[#This Row],[Points Identité Equipe]]),\"\")","v":60},{"$f":"IF(Table3[[#This Row],[Parcours choisi]]<>\"\",(VLOOKUP(Table356[[#Headers],[Design du Stand]],'Def. Prix & Parcours'!$I$6:$M$28,3,FALSE)*Table3[[#This Row],[Points Design du Stand]]),\"\")","v":0},{"$f":"IF(Table3[[#This Row],[Parcours choisi]]<>\"\",(VLOOKUP(Table356[[#Headers],[Portfolio]],'Def. Prix & Parcours'!$I$6:$M$28,3,FALSE)*Table3[[#This Row],[Points Portfolio]]),\"\")","v":56},{"$f":"IF(Table3[[#This Row],[Parcours choisi]]<>\"\",(VLOOKUP(Table356[[#Headers],[Marketing et Sponsoring]],'Def. Prix & Parcours'!$I$6:$M$28,3,FALSE)*Table3[[#This Row],[Points Marketing et Sponsoring]]),\"\")","v":0},{"$f":"IF(Table3[[#This Row],[Parcours choisi]]<>\"\",(VLOOKUP(Table356[[#Headers],[Budget]],'Def. Prix & Parcours'!$I$6:$M$28,3,FALSE)*Table3[[#This Row],[Points Budget]]),\"\")","v":0},{"$f":"IF(Table3[[#This Row],[Parcours choisi]]<>\"\",(VLOOKUP(Table356[[#Headers],[Design du Véhicule]],'Def. Prix & Parcours'!$I$6:$M$28,3,FALSE)*Table3[[#This Row],[Points Design du Véhicule]]),\"\")","v":90},{"$f":"IF(Table3[[#This Row],[Parcours choisi]]<>\"\",(VLOOKUP(Table356[[#Headers],[Innovation numérique]],'Def. Prix & Parcours'!$I$6:$M$28,3,FALSE)*Table3[[#This Row],[Points Innovation numérique]]),\"\")","v":0},{"$f":"IF(Table3[[#This Row],[Parcours choisi]]<>\"\",(VLOOKUP(Table356[[#Headers],[Programmation]],'Def. Prix & Parcours'!$I$6:$M$28,3,FALSE)*Table3[[#This Row],[Points Programmation]]),\"\")","v":0},{"$f":"IF(Table3[[#This Row],[Parcours choisi]]<>\"\",(VLOOKUP(Table356[[#Headers],[Respect du règlement]],'Def. Prix & Parcours'!$I$6:$M$28,3,FALSE)*Table3[[#This Row],[Points Respect du règlement]]),\"\")","v":75},{"$f":"IF(Table3[[#This Row],[Parcours choisi]]<>\"\",(VLOOKUP(Table356[[#Headers],[Communication : vidéo]],'Def. Prix & Parcours'!$I$6:$M$28,3,FALSE)*Table3[[#This Row],[Points Communication : vidéo]]),\"\")","v":0},{"$f":"IF(Table3[[#This Row],[Parcours choisi]]<>\"\",(VLOOKUP(Table356[[#Headers],[Epreuve CAO]],'Def. Prix & Parcours'!$I$6:$M$28,3,FALSE)*Table3[[#This Row],[Points Epreuve CAO]]),\"\")","v":0},{"$f":"IF(Table3[[#This Row],[Parcours choisi]]<>\"\",(VLOOKUP(Table356[[#Headers],[Temps Réaction]],'Def. Prix & Parcours'!$I$6:$M$28,3,FALSE)*Table3[[#This Row],[Points Temps Réaction]]),\"\")","v":0},{"$f":"IF(Table3[[#This Row],[Parcours choisi]]<>\"\",(VLOOKUP(Table356[[#Headers],[Temps Course]],'Def. Prix & Parcours'!$I$6:$M$28,3,FALSE)*Table3[[#This Row],[Points Temps Course]]),\"\")","v":80},{"$f":"IF(Table3[[#This Row],[Parcours choisi]]<>\"\",(VLOOKUP(Table356[[#Headers],[Epreuve arrêt au stand]],'Def. Prix & Parcours'!$I$6:$M$28,3,FALSE)*Table3[[#This Row],[Points Epreuve arrêt au stand]]),\"\")","v":0},null,{"$f":"IF(Table3[[#This Row],[Parcours choisi]]<>\"\",SUM(Table35678[[#This Row],[Ingénierie et conception]:[1]]),\"\")","v":869},{"$f":"IF(Table3[[#This Row],[Parcours choisi]]<>\"\",_xlfn.RANK.EQ(Table35678[[#This Row],[Total Sciences et Techniques]],Table35678[Total Sciences et Techniques],0),\"\")","v":20}]
[22,{"$f":"IF(Table3[[#This Row],[Nom équipe]]<>\"\",Table3[[#This Row],[Nom équipe]],\"\")","v":"E-magie-nation"},{"$f":"IF(Table3[[#This Row],[Etablissement]]<>\"\",Table3[[#This Row],[Etablissement]],\"\")","v":"A. Dreux Folschviller"},{"$f":"IF(Table3[[#This Row],[Type établissement]]<>\"\",Table3[[#This Row],[Type établissement]],\"\")","v":"C"},{"$f":"IF(Table3[[#This Row],[Académie]]<>\"\",Table3[[#This Row],[Académie]],\"\")","v":"Nancy-Metz"},{"$f":"IF(Table3[[#This Row],[Parcours choisi]]<>\"\",Table3[[#This Row],[Parcours choisi]],\"\")","v":"G"},{"$f":"IF(Table3[[#This Row],[Parcours choisi]]<>\"\",(VLOOKUP(Table356[[#Headers],[Ingénierie et conception]],'Def. Prix & Parcours'!$I$6:$M$28,3,FALSE)*Table3[[#This Row],[Points Ingénierie et conception]]),\"\")","v":78},{"$f":"IF(Table3[[#This Row],[Parcours choisi]]<>\"\",(VLOOKUP(Table356[[#Headers],[Innovation mécanique]],'Def. Prix & Parcours'!$I$6:$M$28,3,FALSE)*Table3[[#This Row],[Points Innovation mécanique]]),\"\")","v":168},{"$f":"IF(Table3[[#This Row],[Parcours choisi]]<>\"\",(VLOOKUP(Table356[[#Headers],[Développement Durable]],'Def. Prix & Parcours'!$I$6:$M$28,3,FALSE)*Table3[[#This Row],[Points Développement Durable]]),\"\")","v":72},{"$f":"IF(Table3[[#This Row],[Parcours choisi]]<>\"\",(VLOOKUP(Table356[[#Headers],[Ingénierie de fabrication]],'Def. Prix & Parcours'!$I$6:$M$28,3,FALSE)*Table3[[#This Row],[Points Ingénierie de fabrication]]),\"\")","v":112},{"$f":"IF(Table3[[#This Row],[Parcours choisi]]<>\"\",(VLOOKUP(Table356[[#Headers],[Gestion de projet et collaborations]],'Def. Prix & Parcours'!$I$6:$M$28,3,FALSE)*Table3[[#This Row],[Points Gestion de projet et \ncollaborations]]),\"\")","v":70},{"$f":"IF(Table3[[#This Row],[Parcours choisi]]<>\"\",(VLOOKUP(Table356[[#Headers],[Présentation Orale]],'Def. Prix & Parcours'!$I$6:$M$28,3,FALSE)*Table3[[#This Row],[Points Présentation Orale]]),\"\")","v":52},{"$f":"IF(Table3[[#This Row],[Parcours choisi]]<>\"\",(VLOOKUP(Table356[[#Headers],[Identité Equipe]],'Def. Prix & Parcours'!$I$6:$M$28,3,FALSE)*Table3[[#This Row],[Points Identité Equipe]]),\"\")","v":56},{"$f":"IF(Table3[[#This Row],[Parcours choisi]]<>\"\",(VLOOKUP(Table356[[#Headers],[Design du Stand]],'Def. Prix & Parcours'!$I$6:$M$28,3,FALSE)*Table3[[#This Row],[Points Design du Stand]]),\"\")","v":0},{"$f":"IF(Table3[[#This Row],[Parcours choisi]]<>\"\",(VLOOKUP(Table356[[#Headers],[Portfolio]],'Def. Prix & Parcours'!$I$6:$M$28,3,FALSE)*Table3[[#This Row],[Points Portfolio]]),\"\")","v":72},{"$f":"IF(Table3[[#This Row],[Parcours choisi]]<>\"\",(VLOOKUP(Table356[[#Headers],[Marketing et Sponsoring]],'Def. Prix & Parcours'!$I$6:$M$28,3,FALSE)*Table3[[#This Row],[Points Marketing et Sponsoring]]),\"\")","v":0},{"$f":"IF(Table3[[#This Row],[Parcours choisi]]<>\"\",(VLOOKUP(Table356[[#Headers],[Budget]],'Def. Prix & Parcours'!$I$6:$M$28,3,FALSE)*Table3[[#This Row],[Points Budget]]),\"\")","v":0},{"$f":"IF(Table3[[#This Row],[Parcours choisi]]<>\"\",(VLOOKUP(Table356[[#Headers],[Design du Véhicule]],'Def. Prix & Parcours'!$I$6:$M$28,3,FALSE)*Table3[[#This Row],[Points Design du Véhicule]]),\"\")","v":90},{"$f":"IF(Table3[[#This Row],[Parcours choisi]]<>\"\",(VLOOKUP(Table356[[#Headers],[Innovation numérique]],'Def. Prix & Parcours'!$I$6:$M$28,3,FALSE)*Table3[[#This Row],[Points Innovation numérique]]),\"\")","v":0},{"$f":"IF(Table3[[#This Row],[Parcours choisi]]<>\"\",(VLOOKUP(Table356[[#Headers],[Programmation]],'Def. Prix & Parcours'!$I$6:$M$28,3,FALSE)*Table3[[#This Row],[Points Programmation]]),\"\")","v":0},{"$f":"IF(Table3[[#This Row],[Parcours choisi]]<>\"\",(VLOOKUP(Table356[[#Headers],[Respect du règlement]],'Def. Prix & Parcours'!$I$6:$M$28,3,FALSE)*Table3[[#This Row],[Points Respect du règlement]]),\"\")","v":100},{"$f":"IF(Table3[[#This Row],[Parcours choisi]]<>\"\",(VLOOKUP(Table356[[#Headers],[Communication : vidéo]],'Def. Prix & Parcours'!$I$6:$M$28,3,FALSE)*Table3[[#This Row],[Points Communication : vidéo]]),\"\")","v":0},{"$f":"IF(Table3[[#This Row],[Parcours choisi]]<>\"\",(VLOOKUP(Table356[[#Headers],[Epreuve CAO]],'Def. Prix & Parcours'!$I$6:$M$28,3,FALSE)*Table3[[#This Row],[Points Epreuve CAO]]),\"\")","v":0},{"$f":"IF(Table3[[#This Row],[Parcours choisi]]<>\"\",(VLOOKUP(Table356[[#Headers],[Temps Réaction]],'Def. Prix & Parcours'!$I$6:$M$28,3,FALSE)*Table3[[#This Row],[Points Temps Réaction]]),\"\")","v":0},{"$f":"IF(Table3[[#This Row],[Parcours choisi]]<>\"\",(VLOOKUP(Table356[[#Headers],[Temps Course]],'Def. Prix & Parcours'!$I$6:$M$28,3,FALSE)*Table3[[#This Row],[Points Temps Course]]),\"\")","v":100},{"$f":"IF(Table3[[#This Row],[Parcours choisi]]<>\"\",(VLOOKUP(Table356[[#Headers],[Epreuve arrêt au stand]],'Def. Prix & Parcours'!$I$6:$M$28,3,FALSE)*Table3[[#This Row],[Points Epreuve arrêt au stand]]),\"\")","v":0},null,{"$f":"IF(Table3[[#This Row],[Parcours choisi]]<>\"\",SUM(Table35678[[#This Row],[Ingénierie et conception]:[1]]),\"\")","v":970},{"$f":"IF(Table3[[#This Row],[Parcours choisi]]<>\"\",_xlfn.RANK.EQ(Table35678[[#This Row],[Total Sciences et Techniques]],Table35678[Total Sciences et Techniques],0),\"\")","v":16}]
[23,{"$f":"IF(Table3[[#This Row],[Nom équipe]]<>\"\",Table3[[#This Row],[Nom équipe]],\"\")","v":"Gol'o Team"},{"$f":"IF(Table3[[#This Row],[Etablissement]]<>\"\",Table3[[#This Row],[Etablissement]],\"\")","v":"A. Dreux Folschviller"},{"$f":"IF(Table3[[#This Row],[Type établissement]]<>\"\",Table3[[#This Row],[Type établissement]],\"\")","v":"C"},{"$f":"IF(Table3[[#This Row],[Académie]]<>\"\",Table3[[#This Row],[Académie]],\"\")","v":"Nancy-Metz"},{"$f":"IF(Table3[[#This Row],[Parcours choisi]]<>\"\",Table3[[#This Row],[Parcours choisi]],\"\")","v":"G"},{"$f":"IF(Table3[[#This Row],[Parcours choisi]]<>\"\",(VLOOKUP(Table356[[#Headers],[Ingénierie et conception]],'Def. Prix & Parcours'!$I$6:$M$28,3,FALSE)*Table3[[#This Row],[Points Ingénierie et conception]]),\"\")","v":90},{"$f":"IF(Table3[[#This Row],[Parcours choisi]]<>\"\",(VLOOKUP(Table356[[#Headers],[Innovation mécanique]],'Def. Prix & Parcours'!$I$6:$M$28,3,FALSE)*Table3[[#This Row],[Points Innovation mécanique]]),\"\")","v":192},{"$f":"IF(Table3[[#This Row],[Parcours choisi]]<>\"\",(VLOOKUP(Table356[[#Headers],[Développement Durable]],'Def. Prix & Parcours'!$I$6:$M$28,3,FALSE)*Table3[[#This Row],[Points Développement Durable]]),\"\")","v":78},{"$f":"IF(Table3[[#This Row],[Parcours choisi]]<>\"\",(VLOOKUP(Table356[[#Headers],[Ingénierie de fabrication]],'Def. Prix & Parcours'!$I$6:$M$28,3,FALSE)*Table3[[#This Row],[Points Ingénierie de fabrication]]),\"\")","v":128},{"$f":"IF(Table3[[#This Row],[Parcours choisi]]<>\"\",(VLOOKUP(Table356[[#Headers],[Gestion de projet et collaborations]],'Def. Prix & Parcours'!$I$6:$M$28,3,FALSE)*Table3[[#This Row],[Points Gestion de projet et \ncollaborations]]),\"\")","v":85},{"$f":"IF(Table3[[#This Row],[Parcours choisi]]<>\"\",(VLOOKUP(Table356[[#Headers],[Présentation Orale]],'Def. Prix & Parcours'!$I$6:$M$28,3,FALSE)*Table3[[#This Row],[Points Présentation Orale]]),\"\")","v":72},{"$f":"IF(Table3[[#This Row],[Parcours choisi]]<>\"\",(VLOOKUP(Table356[[#Headers],[Identité Equipe]],'Def. Prix & Parcours'!$I$6:$M$28,3,FALSE)*Table3[[#This Row],[Points Identité Equipe]]),\"\")","v":64},{"$f":"IF(Table3[[#This Row],[Parcours choisi]]<>\"\",(VLOOKUP(Table356[[#Headers],[Design du Stand]],'Def. Prix & Parcours'!$I$6:$M$28,3,FALSE)*Table3[[#This Row],[Points Design du Stand]]),\"\")","v":0},{"$f":"IF(Table3[[#This Row],[Parcours choisi]]<>\"\",(VLOOKUP(Table356[[#Headers],[Portfolio]],'Def. Prix & Parcours'!$I$6:$M$28,3,FALSE)*Table3[[#This Row],[Points Portfolio]]),\"\")","v":44},{"$f":"IF(Table3[[#This Row],[Parcours choisi]]<>\"\",(VLOOKUP(Table356[[#Headers],[Marketing et Sponsoring]],'Def. Prix & Parcours'!$I$6:$M$28,3,FALSE)*Table3[[#This Row],[Points Marketing et Sponsoring]]),\"\")","v":0},{"$f":"IF(Table3[[#This Row],[Parcours choisi]]<>\"\",(VLOOKUP(Table356[[#Headers],[Budget]],'Def. Prix & Parcours'!$I$6:$M$28,3,FALSE)*Table3[[#This Row],[Points Budget]]),\"\")","v":0},{"$f":"IF(Table3[[#This Row],[Parcours choisi]]<>\"\",(VLOOKUP(Table356[[#Headers],[Design du Véhicule]],'Def. Prix & Parcours'!$I$6:$M$28,3,FALSE)*Table3[[#This Row],[Points Design du Véhicule]]),\"\")","v":90},{"$f":"IF(Table3[[#This Row],[Parcours choisi]]<>\"\",(VLOOKUP(Table356[[#Headers],[Innovation numérique]],'Def. Prix & Parcours'!$I$6:$M$28,3,FALSE)*Table3[[#This Row],[Points Innovation numérique]]),\"\")","v":0},{"$f":"IF(Table3[[#This Row],[Parcours choisi]]<>\"\",(VLOOKUP(Table356[[#Headers],[Programmation]],'Def. Prix & Parcours'!$I$6:$M$28,3,FALSE)*Table3[[#This Row],[Points Programmation]]),\"\")","v":0},{"$f":"IF(Table3[[#This Row],[Parcours choisi]]<>\"\",(VLOOKUP(Table356[[#Headers],[Respect du règlement]],'Def. Prix & Parcours'!$I$6:$M$28,3,FALSE)*Table3[[#This Row],[Points Respect du règlement]]),\"\")","v":75},{"$f":"IF(Table3[[#This Row],[Parcours choisi]]<>\"\",(VLOOKUP(Table356[[#Headers],[Communication : vidéo]],'Def. Prix & Parcours'!$I$6:$M$28,3,FALSE)*Table3[[#This Row],[Points Communication : vidéo]]),\"\")","v":0},{"$f":"IF(Table3[[#This Row],[Parcours choisi]]<>\"\",(VLOOKUP(Table356[[#Headers],[Epreuve CAO]],'Def. Prix & Parcours'!$I$6:$M$28,3,FALSE)*Table3[[#This Row],[Points Epreuve CAO]]),\"\")","v":0},{"$f":"IF(Table3[[#This Row],[Parcours choisi]]<>\"\",(VLOOKUP(Table356[[#Headers],[Temps Réaction]],'Def. Prix & Parcours'!$I$6:$M$28,3,FALSE)*Table3[[#This Row],[Points Temps Réaction]]),\"\")","v":0},{"$f":"IF(Table3[[#This Row],[Parcours choisi]]<>\"\",(VLOOKUP(Table356[[#Headers],[Temps Course]],'Def. Prix & Parcours'!$I$6:$M$28,3,FALSE)*Table3[[#This Row],[Points Temps Course]]),\"\")","v":80},{"$f":"IF(Table3[[#This Row],[Parcours choisi]]<>\"\",(VLOOKUP(Table356[[#Headers],[Epreuve arrêt au stand]],'Def. Prix & Parcours'!$I$6:$M$28,3,FALSE)*Table3[[#This Row],[Points Epreuve arrêt au stand]]),\"\")","v":0},null,{"$f":"IF(Table3[[#This Row],[Parcours choisi]]<>\"\",SUM(Table35678[[#This Row],[Ingénierie et conception]:[1]]),\"\")","v":998},{"$f":"IF(Table3[[#This Row],[Parcours choisi]]<>\"\",_xlfn.RANK.EQ(Table35678[[#This Row],[Total Sciences et Techniques]],Table35678[Total Sciences et Techniques],0),\"\")","v":12}]
[24,{"$f":"IF(Table3[[#This Row],[Nom équipe]]<>\"\",Table3[[#This Row],[Nom équipe]],\"\")","v":"Serpent"},{"$f":"IF(Table3[[#This Row],[Etablissement]]<>\"\",Table3[[#This Row],[Etablissement]],\"\")","v":"A. Dreux Folschviller"},{"$f":"IF(Table3[[#This Row],[Type établissement]]<>\"\",Table3[[#This Row],[Type établissement]],\"\")","v":"C"},{"$f":"IF(Table3[[#This Row],[Académie]]<>\"\",Table3[[#This Row],[Académie]],\"\")","v":"Nancy-Metz"},{"$f":"IF(Table3[[#This Row],[Parcours choisi]]<>\"\",Table3[[#This Row],[Parcours choisi]],\"\")","v":"G"},{"$f":"IF(Table3[[#This Row],[Parcours choisi]]<>\"\",(VLOOKUP(Table356[[#Headers],[Ingénierie et conception]],'Def. Prix & Parcours'!$I$6:$M$28,3,FALSE)*Table3[[#This Row],[Points Ingénierie et conception]]),\"\")","v":48},{"$f":"IF(Table3[[#This Row],[Parcours choisi]]<>\"\",(VLOOKUP(Table356[[#Headers],[Innovation mécanique]],'Def. Prix & Parcours'!$I$6:$M$28,3,FALSE)*Table3[[#This Row],[Points Innovation mécanique]]),\"\")","v":132},{"$f":"IF(Table3[[#This Row],[Parcours choisi]]<>\"\",(VLOOKUP(Table356[[#Headers],[Développement Durable]],'Def. Prix & Parcours'!$I$6:$M$28,3,FALSE)*Table3[[#This Row],[Points Développement Durable]]),\"\")","v":48},{"$f":"IF(Table3[[#This Row],[Parcours choisi]]<>\"\",(VLOOKUP(Table356[[#Headers],[Ingénierie de fabrication]],'Def. Prix & Parcours'!$I$6:$M$28,3,FALSE)*Table3[[#This Row],[Points Ingénierie de fabrication]]),\"\")","v":56},{"$f":"IF(Table3[[#This Row],[Parcours choisi]]<>\"\",(VLOOKUP(Table356[[#Headers],[Gestion de projet et collaborations]],'Def. Prix & Parcours'!$I$6:$M$28,3,FALSE)*Table3[[#This Row],[Points Gestion de projet et \ncollaborations]]),\"\")","v":25},{"$f":"IF(Table3[[#This Row],[Parcours choisi]]<>\"\",(VLOOKUP(Table356[[#Headers],[Présentation Orale]],'Def. Prix & Parcours'!$I$6:$M$28,3,FALSE)*Table3[[#This Row],[Points Présentation Orale]]),\"\")","v":16},{"$f":"IF(Table3[[#This Row],[Parcours choisi]]<>\"\",(VLOOKUP(Table356[[#Headers],[Identité Equipe]],'Def. Prix & Parcours'!$I$6:$M$28,3,FALSE)*Table3[[#This Row],[Points Identité Equipe]]),\"\")","v":52},{"$f":"IF(Table3[[#This Row],[Parcours choisi]]<>\"\",(VLOOKUP(Table356[[#Headers],[Design du Stand]],'Def. Prix & Parcours'!$I$6:$M$28,3,FALSE)*Table3[[#This Row],[Points Design du Stand]]),\"\")","v":0},{"$f":"IF(Table3[[#This Row],[Parcours choisi]]<>\"\",(VLOOKUP(Table356[[#Headers],[Portfolio]],'Def. Prix & Parcours'!$I$6:$M$28,3,FALSE)*Table3[[#This Row],[Points Portfolio]]),\"\")","v":52},{"$f":"IF(Table3[[#This Row],[Parcours choisi]]<>\"\",(VLOOKUP(Table356[[#Headers],[Marketing et Sponsoring]],'Def. Prix & Parcours'!$I$6:$M$28,3,FALSE)*Table3[[#This Row],[Points Marketing et Sponsoring]]),\"\")","v":0},{"$f":"IF(Table3[[#This Row],[Parcours choisi]]<>\"\",(VLOOKUP(Table356[[#Headers],[Budget]],'Def. Prix & Parcours'!$I$6:$M$28,3,FALSE)*Table3[[#This Row],[Points Budget]]),\"\")","v":0},{"$f":"IF(Table3[[#This Row],[Parcours choisi]]<>\"\",(VLOOKUP(Table356[[#Headers],[Design du Véhicule]],'Def. Prix & Parcours'!$I$6:$M$28,3,FALSE)*Table3[[#This Row],[Points Design du Véhicule]]),\"\")","v":66},{"$f":"IF(Table3[[#This Row],[Parcours choisi]]<>\"\",(VLOOKUP(Table356[[#Headers],[Innovation numérique]],'Def. Prix & Parcours'!$I$6:$M$28,3,FALSE)*Table3[[#This Row],[Points Innovation numérique]]),\"\")","v":0},{"$f":"IF(Table3[[#This Row],[Parcours choisi]]<>\"\",(VLOOKUP(Table356[[#Headers],[Programmation]],'Def. Prix & Parcours'!$I$6:$M$28,3,FALSE)*Table3[[#This Row],[Points Programmation]]),\"\")","v":0},{"$f":"IF(Table3[[#This Row],[Parcours choisi]]<>\"\",(VLOOKUP(Table356[[#Headers],[Respect du règlement]],'Def. Prix & Parcours'!$I$6:$M$28,3,FALSE)*Table3[[#This Row],[Points Respect du règlement]]),\"\")","v":75},{"$f":"IF(Table3[[#This Row],[Parcours choisi]]<>\"\",(VLOOKUP(Table356[[#Headers],[Communication : vidéo]],'Def. Prix & Parcours'!$I$6:$M$28,3,FALSE)*Table3[[#This Row],[Points Communication : vidéo]]),\"\")","v":0},{"$f":"IF(Table3[[#This Row],[Parcours choisi]]<>\"\",(VLOOKUP(Table356[[#Headers],[Epreuve CAO]],'Def. Prix & Parcours'!$I$6:$M$28,3,FALSE)*Table3[[#This Row],[Points Epreuve CAO]]),\"\")","v":0},{"$f":"IF(Table3[[#This Row],[Parcours choisi]]<>\"\",(VLOOKUP(Table356[[#Headers],[Temps Réaction]],'Def. Prix & Parcours'!$I$6:$M$28,3,FALSE)*Table3[[#This Row],[Points Temps Réaction]]),\"\")","v":0},{"$f":"IF(Table3[[#This Row],[Parcours choisi]]<>\"\",(VLOOKUP(Table356[[#Headers],[Temps Course]],'Def. Prix & Parcours'!$I$6:$M$28,3,FALSE)*Table3[[#This Row],[Points Temps Course]]),\"\")","v":90},{"$f":"IF(Table3[[#This Row],[Parcours choisi]]<>\"\",(VLOOKUP(Table356[[#Headers],[Epreuve arrêt au stand]],'Def. Prix & Parcours'!$I$6:$M$28,3,FALSE)*Table3[[#This Row],[Points Epreuve arrêt au stand]]),\"\")","v":0},null,{"$f":"IF(Table3[[#This Row],[Parcours choisi]]<>\"\",SUM(Table35678[[#This Row],[Ingénierie et conception]:[1]]),\"\")","v":660},{"$f":"IF(Table3[[#This Row],[Parcours choisi]]<>\"\",_xlfn.RANK.EQ(Table35678[[#This Row],[Total Sciences et Techniques]],Table35678[Total Sciences et Techniques],0),\"\")","v":25}]
[25,{"$f":"IF(Table3[[#This Row],[Nom équipe]]<>\"\",Table3[[#This Row],[Nom équipe]],\"\")","v":"The Peaky's"},{"$f":"IF(Table3[[#This Row],[Etablissement]]<>\"\",Table3[[#This Row],[Etablissement]],\"\")","v":"La Fontaine St Avold"},{"$f":"IF(Table3[[#This Row],[Type établissement]]<>\"\",Table3[[#This Row],[Type établissement]],\"\")","v":"C"},{"$f":"IF(Table3[[#This Row],[Académie]]<>\"\",Table3[[#This Row],[Académie]],\"\")","v":"Nancy-Metz"},{"$f":"IF(Table3[[#This Row],[Parcours choisi]]<>\"\",Table3[[#This Row],[Parcours choisi]],\"\")","v":"G"},{"$f":"IF(Table3[[#This Row],[Parcours choisi]]<>\"\",(VLOOKUP(Table356[[#Headers],[Ingénierie et conception]],'Def. Prix & Parcours'!$I$6:$M$28,3,FALSE)*Table3[[#This Row],[Points Ingénierie et conception]]),\"\")","v":120},{"$f":"IF(Table3[[#This Row],[Parcours choisi]]<>\"\",(VLOOKUP(Table356[[#Headers],[Innovation mécanique]],'Def. Prix & Parcours'!$I$6:$M$28,3,FALSE)*Table3[[#This Row],[Points Innovation mécanique]]),\"\")","v":240},{"$f":"IF(Table3[[#This Row],[Parcours choisi]]<>\"\",(VLOOKUP(Table356[[#Headers],[Développement Durable]],'Def. Prix & Parcours'!$I$6:$M$28,3,FALSE)*Table3[[#This Row],[Points Développement Durable]]),\"\")","v":96},{"$f":"IF(Table3[[#This Row],[Parcours choisi]]<>\"\",(VLOOKUP(Table356[[#Headers],[Ingénierie de fabrication]],'Def. Prix & Parcours'!$I$6:$M$28,3,FALSE)*Table3[[#This Row],[Points Ingénierie de fabrication]]),\"\")","v":160},{"$f":"IF(Table3[[#This Row],[Parcours choisi]]<>\"\",(VLOOKUP(Table356[[#Headers],[Gestion de projet et collaborations]],'Def. Prix & Parcours'!$I$6:$M$28,3,FALSE)*Table3[[#This Row],[Points Gestion de projet et \ncollaborations]]),\"\")","v":95},{"$f":"IF(Table3[[#This Row],[Parcours choisi]]<>\"\",(VLOOKUP(Table356[[#Headers],[Présentation Orale]],'Def. Prix & Parcours'!$I$6:$M$28,3,FALSE)*Table3[[#This Row],[Points Présentation Orale]]),\"\")","v":68},{"$f":"IF(Table3[[#This Row],[Parcours choisi]]<>\"\",(VLOOKUP(Table356[[#Headers],[Identité Equipe]],'Def. Prix & Parcours'!$I$6:$M$28,3,FALSE)*Table3[[#This Row],[Points Identité Equipe]]),\"\")","v":68},{"$f":"IF(Table3[[#This Row],[Parcours choisi]]<>\"\",(VLOOKUP(Table356[[#Headers],[Design du Stand]],'Def. Prix & Parcours'!$I$6:$M$28,3,FALSE)*Table3[[#This Row],[Points Design du Stand]]),\"\")","v":0},{"$f":"IF(Table3[[#This Row],[Parcours choisi]]<>\"\",(VLOOKUP(Table356[[#Headers],[Portfolio]],'Def. Prix & Parcours'!$I$6:$M$28,3,FALSE)*Table3[[#This Row],[Points Portfolio]]),\"\")","v":72},{"$f":"IF(Table3[[#This Row],[Parcours choisi]]<>\"\",(VLOOKUP(Table356[[#Headers],[Marketing et Sponsoring]],'Def. Prix & Parcours'!$I$6:$M$28,3,FALSE)*Table3[[#This Row],[Points Marketing et Sponsoring]]),\"\")","v":0},{"$f":"IF(Table3[[#This Row],[Parcours choisi]]<>\"\",(VLOOKUP(Table356[[#Headers],[Budget]],'Def. Prix & Parcours'!$I$6:$M$28,3,FALSE)*Table3[[#This Row],[Points Budget]]),\"\")","v":0},{"$f":"IF(Table3[[#This Row],[Parcours choisi]]<>\"\",(VLOOKUP(Table356[[#Headers],[Design du Véhicule]],'Def. Prix & Parcours'!$I$6:$M$28,3,FALSE)*Table3[[#This Row],[Points Design du Véhicule]]),\"\")","v":114},{"$f":"IF(Table3[[#This Row],[Parcours choisi]]<>\"\",(VLOOKUP(Table356[[#Headers],[Innovation numérique]],'Def. Prix & Parcours'!$I$6:$M$28,3,FALSE)*Table3[[#This Row],[Points Innovation numérique]]),\"\")","v":0},{"$f":"IF(Table3[[#This Row],[Parcours choisi]]<>\"\",(VLOOKUP(Table356[[#Headers],[Programmation]],'Def. Prix & Parcours'!$I$6:$M$28,3,FALSE)*Table3[[#This Row],[Points Programmation]]),\"\")","v":0},{"$f":"IF(Table3[[#This Row],[Parcours choisi]]<>\"\",(VLOOKUP(Table356[[#Headers],[Respect du règlement]],'Def. Prix & Parcours'!$I$6:$M$28,3,FALSE)*Table3[[#This Row],[Points Respect du règlement]]),\"\")","v":95},{"$f":"IF(Table3[[#This Row],[Parcours choisi]]<>\"\",(VLOOKUP(Table356[[#Headers],[Communication : vidéo]],'Def. Prix & Parcours'!$I$6:$M$28,3,FALSE)*Table3[[#This Row],[Points Communication : vidéo]]),\"\")","v":0},{"$f":"IF(Table3[[#This Row],[Parcours choisi]]<>\"\",(VLOOKUP(Table356[[#Headers],[Epreuve CAO]],'Def. Prix & Parcours'!$I$6:$M$28,3,FALSE)*Table3[[#This Row],[Points Epreuve CAO]]),\"\")","v":0},{"$f":"IF(Table3[[#This Row],[Parcours choisi]]<>\"\",(VLOOKUP(Table356[[#Headers],[Temps Réaction]],'Def. Prix & Parcours'!$I$6:$M$28,3,FALSE)*Table3[[#This Row],[Points Temps Réaction]]),\"\")","v":0},{"$f":"IF(Table3[[#This Row],[Parcours choisi]]<>\"\",(VLOOKUP(Table356[[#Headers],[Temps Course]],'Def. Prix & Parcours'!$I$6:$M$28,3,FALSE)*Table3[[#This Row],[Points Temps Course]]),\"\")","v":110},{"$f":"IF(Table3[[#This Row],[Parcours choisi]]<>\"\",(VLOOKUP(Table356[[#Headers],[Epreuve arrêt au stand]],'Def. Prix & Parcours'!$I$6:$M$28,3,FALSE)*Table3[[#This Row],[Points Epreuve arrêt au stand]]),\"\")","v":0},null,{"$f":"IF(Table3[[#This Row],[Parcours choisi]]<>\"\",SUM(Table35678[[#This Row],[Ingénierie et conception]:[1]]),\"\")","v":1238},{"$f":"IF(Table3[[#This Row],[Parcours choisi]]<>\"\",_xlfn.RANK.EQ(Table35678[[#This Row],[Total Sciences et Techniques]],Table35678[Total Sciences et Techniques],0),\"\")","v":1}]
[26,{"$f":"IF(Table3[[#This Row],[Nom équipe]]<>\"\",Table3[[#This Row],[Nom équipe]],\"\")","v":"Cosmos"},{"$f":"IF(Table3[[#This Row],[Etablissement]]<>\"\",Table3[[#This Row],[Etablissement]],\"\")","v":"La Fontaine St Avold"},{"$f":"IF(Table3[[#This Row],[Type établissement]]<>\"\",Table3[[#This Row],[Type établissement]],\"\")","v":"C"},{"$f":"IF(Table3[[#This Row],[Académie]]<>\"\",Table3[[#This Row],[Académie]],\"\")","v":"Nancy-Metz"},{"$f":"IF(Table3[[#This Row],[Parcours choisi]]<>\"\",Table3[[#This Row],[Parcours choisi]],\"\")","v":"G"},{"$f":"IF(Table3[[#This Row],[Parcours choisi]]<>\"\",(VLOOKUP(Table356[[#Headers],[Ingénierie et conception]],'Def. Prix & Parcours'!$I$6:$M$28,3,FALSE)*Table3[[#This Row],[Points Ingénierie et conception]]),\"\")","v":90},{"$f":"IF(Table3[[#This Row],[Parcours choisi]]<>\"\",(VLOOKUP(Table356[[#Headers],[Innovation mécanique]],'Def. Prix & Parcours'!$I$6:$M$28,3,FALSE)*Table3[[#This Row],[Points Innovation mécanique]]),\"\")","v":168},{"$f":"IF(Table3[[#This Row],[Parcours choisi]]<>\"\",(VLOOKUP(Table356[[#Headers],[Développement Durable]],'Def. Prix & Parcours'!$I$6:$M$28,3,FALSE)*Table3[[#This Row],[Points Développement Durable]]),\"\")","v":42},{"$f":"IF(Table3[[#This Row],[Parcours choisi]]<>\"\",(VLOOKUP(Table356[[#Headers],[Ingénierie de fabrication]],'Def. Prix & Parcours'!$I$6:$M$28,3,FALSE)*Table3[[#This Row],[Points Ingénierie de fabrication]]),\"\")","v":104},{"$f":"IF(Table3[[#This Row],[Parcours choisi]]<>\"\",(VLOOKUP(Table356[[#Headers],[Gestion de projet et collaborations]],'Def. Prix & Parcours'!$I$6:$M$28,3,FALSE)*Table3[[#This Row],[Points Gestion de projet et \ncollaborations]]),\"\")","v":75},{"$f":"IF(Table3[[#This Row],[Parcours choisi]]<>\"\",(VLOOKUP(Table356[[#Headers],[Présentation Orale]],'Def. Prix & Parcours'!$I$6:$M$28,3,FALSE)*Table3[[#This Row],[Points Présentation Orale]]),\"\")","v":32},{"$f":"IF(Table3[[#This Row],[Parcours choisi]]<>\"\",(VLOOKUP(Table356[[#Headers],[Identité Equipe]],'Def. Prix & Parcours'!$I$6:$M$28,3,FALSE)*Table3[[#This Row],[Points Identité Equipe]]),\"\")","v":72},{"$f":"IF(Table3[[#This Row],[Parcours choisi]]<>\"\",(VLOOKUP(Table356[[#Headers],[Design du Stand]],'Def. Prix & Parcours'!$I$6:$M$28,3,FALSE)*Table3[[#This Row],[Points Design du Stand]]),\"\")","v":0},{"$f":"IF(Table3[[#This Row],[Parcours choisi]]<>\"\",(VLOOKUP(Table356[[#Headers],[Portfolio]],'Def. Prix & Parcours'!$I$6:$M$28,3,FALSE)*Table3[[#This Row],[Points Portfolio]]),\"\")","v":76},{"$f":"IF(Table3[[#This Row],[Parcours choisi]]<>\"\",(VLOOKUP(Table356[[#Headers],[Marketing et Sponsoring]],'Def. Prix & Parcours'!$I$6:$M$28,3,FALSE)*Table3[[#This Row],[Points Marketing et Sponsoring]]),\"\")","v":0},{"$f":"IF(Table3[[#This Row],[Parcours choisi]]<>\"\",(VLOOKUP(Table356[[#Headers],[Budget]],'Def. Prix & Parcours'!$I$6:$M$28,3,FALSE)*Table3[[#This Row],[Points Budget]]),\"\")","v":0},{"$f":"IF(Table3[[#This Row],[Parcours choisi]]<>\"\",(VLOOKUP(Table356[[#Headers],[Design du Véhicule]],'Def. Prix & Parcours'!$I$6:$M$28,3,FALSE)*Table3[[#This Row],[Points Design du Véhicule]]),\"\")","v":108},{"$f":"IF(Table3[[#This Row],[Parcours choisi]]<>\"\",(VLOOKUP(Table356[[#Headers],[Innovation numérique]],'Def. Prix & Parcours'!$I$6:$M$28,3,FALSE)*Table3[[#This Row],[Points Innovation numérique]]),\"\")","v":0},{"$f":"IF(Table3[[#This Row],[Parcours choisi]]<>\"\",(VLOOKUP(Table356[[#Headers],[Programmation]],'Def. Prix & Parcours'!$I$6:$M$28,3,FALSE)*Table3[[#This Row],[Points Programmation]]),\"\")","v":0},{"$f":"IF(Table3[[#This Row],[Parcours choisi]]<>\"\",(VLOOKUP(Table356[[#Headers],[Respect du règlement]],'Def. Prix & Parcours'!$I$6:$M$28,3,FALSE)*Table3[[#This Row],[Points Respect du règlement]]),\"\")","v":100},{"$f":"IF(Table3[[#This Row],[Parcours choisi]]<>\"\",(VLOOKUP(Table356[[#Headers],[Communication : vidéo]],'Def. Prix & Parcours'!$I$6:$M$28,3,FALSE)*Table3[[#This Row],[Points Communication : vidéo]]),\"\")","v":0},{"$f":"IF(Table3[[#This Row],[Parcours choisi]]<>\"\",(VLOOKUP(Table356[[#Headers],[Epreuve CAO]],'Def. Prix & Parcours'!$I$6:$M$28,3,FALSE)*Table3[[#This Row],[Points Epreuve CAO]]),\"\")","v":0},{"$f":"IF(Table3[[#This Row],[Parcours choisi]]<>\"\",(VLOOKUP(Table356[[#Headers],[Temps Réaction]],'Def. Prix & Parcours'!$I$6:$M$28,3,FALSE)*Table3[[#This Row],[Points Temps Réaction]]),\"\")","v":0},{"$f":"IF(Table3[[#This Row],[Parcours choisi]]<>\"\",(VLOOKUP(Table356[[#Headers],[Temps Course]],'Def. Prix & Parcours'!$I$6:$M$28,3,FALSE)*Table3[[#This Row],[Points Temps Course]]),\"\")","v":140},{"$f":"IF(Table3[[#This Row],[Parcours choisi]]<>\"\",(VLOOKUP(Table356[[#Headers],[Epreuve arrêt au stand]],'Def. Prix & Parcours'!$I$6:$M$28,3,FALSE)*Table3[[#This Row],[Points Epreuve arrêt au stand]]),\"\")","v":0},null,{"$f":"IF(Table3[[#This Row],[Parcours choisi]]<>\"\",SUM(Table35678[[#This Row],[Ingénierie et conception]:[1]]),\"\")","v":1007},{"$f":"IF(Table3[[#This Row],[Parcours choisi]]<>\"\",_xlfn.RANK.EQ(Table35678[[#This Row],[Total Sciences et Techniques]],Table35678[Total Sciences et Techniques],0),\"\")","v":11}]
[27,{"$f":"IF(Table3[[#This Row],[Nom équipe]]<>\"\",Table3[[#This Row],[Nom équipe]],\"\")","v":"Otaku"},{"$f":"IF(Table3[[#This Row],[Etablissement]]<>\"\",Table3[[#This Row],[Etablissement]],\"\")","v":"La Fontaine St Avold"},{"$f":"IF(Table3[[#This Row],[Type établissement]]<>\"\",Table3[[#This Row],[Type établissement]],\"\")","v":"C"},{"$f":"IF(Table3[[#This Row],[Académie]]<>\"\",Table3[[#This Row],[Académie]],\"\")","v":"Nancy-Metz"},{"$f":"IF(Table3[[#This Row],[Parcours choisi]]<>\"\",Table3[[#This Row],[Parcours choisi]],\"\")","v":"G"},{"$f":"IF(Table3[[#This Row],[Parcours choisi]]<>\"\",(VLOOKUP(Table356[[#Headers],[Ingénierie et conception]],'Def. Prix & Parcours'!$I$6:$M$28,3,FALSE)*Table3[[#This Row],[Points Ingénierie et conception]]),\"\")","v":72},{"$f":"IF(Table3[[#This Row],[Parcours choisi]]<>\"\",(VLOOKUP(Table356[[#Headers],[Innovation mécanique]],'Def. Prix & Parcours'!$I$6:$M$28,3,FALSE)*Table3[[#This Row],[Points Innovation mécanique]]),\"\")","v":168},{"$f":"IF(Table3[[#This Row],[Parcours choisi]]<>\"\",(VLOOKUP(Table356[[#Headers],[Développement Durable]],'Def. Prix & Parcours'!$I$6:$M$28,3,FALSE)*Table3[[#This Row],[Points Développement Durable]]),\"\")","v":66},{"$f":"IF(Table3[[#This Row],[Parcours choisi]]<>\"\",(VLOOKUP(Table356[[#Headers],[Ingénierie de fabrication]],'Def. Prix & Parcours'!$I$6:$M$28,3,FALSE)*Table3[[#This Row],[Points Ingénierie de fabrication]]),\"\")","v":112},{"$f":"IF(Table3[[#This Row],[Parcours choisi]]<>\"\",(VLOOKUP(Table356[[#Headers],[Gestion de projet et collaborations]],'Def. Prix & Parcours'!$I$6:$M$28,3,FALSE)*Table3[[#This Row],[Points Gestion de projet et \ncollaborations]]),\"\")","v":85},{"$f":"IF(Table3[[#This Row],[Parcours choisi]]<>\"\",(VLOOKUP(Table356[[#Headers],[Présentation Orale]],'Def. Prix & Parcours'!$I$6:$M$28,3,FALSE)*Table3[[#This Row],[Points Présentation Orale]]),\"\")","v":56},{"$f":"IF(Table3[[#This Row],[Parcours choisi]]<>\"\",(VLOOKUP(Table356[[#Headers],[Identité Equipe]],'Def. Prix & Parcours'!$I$6:$M$28,3,FALSE)*Table3[[#This Row],[Points Identité Equipe]]),\"\")","v":72},{"$f":"IF(Table3[[#This Row],[Parcours choisi]]<>\"\",(VLOOKUP(Table356[[#Headers],[Design du Stand]],'Def. Prix & Parcours'!$I$6:$M$28,3,FALSE)*Table3[[#This Row],[Points Design du Stand]]),\"\")","v":0},{"$f":"IF(Table3[[#This Row],[Parcours choisi]]<>\"\",(VLOOKUP(Table356[[#Headers],[Portfolio]],'Def. Prix & Parcours'!$I$6:$M$28,3,FALSE)*Table3[[#This Row],[Points Portfolio]]),\"\")","v":72},{"$f":"IF(Table3[[#This Row],[Parcours choisi]]<>\"\",(VLOOKUP(Table356[[#Headers],[Marketing et Sponsoring]],'Def. Prix & Parcours'!$I$6:$M$28,3,FALSE)*Table3[[#This Row],[Points Marketing et Sponsoring]]),\"\")","v":0},{"$f":"IF(Table3[[#This Row],[Parcours choisi]]<>\"\",(VLOOKUP(Table356[[#Headers],[Budget]],'Def. Prix & Parcours'!$I$6:$M$28,3,FALSE)*Table3[[#This Row],[Points Budget]]),\"\")","v":0},{"$f":"IF(Table3[[#This Row],[Parcours choisi]]<>\"\",(VLOOKUP(Table356[[#Headers],[Design du Véhicule]],'Def. Prix & Parcours'!$I$6:$M$28,3,FALSE)*Table3[[#This Row],[Points Design du Véhicule]]),\"\")","v":90},{"$f":"IF(Table3[[#This Row],[Parcours choisi]]<>\"\",(VLOOKUP(Table356[[#Headers],[Innovation numérique]],'Def. Prix & Parcours'!$I$6:$M$28,3,FALSE)*Table3[[#This Row],[Points Innovation numérique]]),\"\")","v":0},{"$f":"IF(Table3[[#This Row],[Parcours choisi]]<>\"\",(VLOOKUP(Table356[[#Headers],[Programmation]],'Def. Prix & Parcours'!$I$6:$M$28,3,FALSE)*Table3[[#This Row],[Points Programmation]]),\"\")","v":0},{"$f":"IF(Table3[[#This Row],[Parcours choisi]]<>\"\",(VLOOKUP(Table356[[#Headers],[Respect du règlement]],'Def. Prix & Parcours'!$I$6:$M$28,3,FALSE)*Table3[[#This Row],[Points Respect du règlement]]),\"\")","v":95},{"$f":"IF(Table3[[#This Row],[Parcours choisi]]<>\"\",(VLOOKUP(Table356[[#Headers],[Communication : vidéo]],'Def. Prix & Parcours'!$I$6:$M$28,3,FALSE)*Table3[[#This Row],[Points Communication : vidéo]]),\"\")","v":0},{"$f":"IF(Table3[[#This Row],[Parcours choisi]]<>\"\",(VLOOKUP(Table356[[#Headers],[Epreuve CAO]],'Def. Prix & Parcours'!$I$6:$M$28,3,FALSE)*Table3[[#This Row],[Points Epreuve CAO]]),\"\")","v":0},{"$f":"IF(Table3[[#This Row],[Parcours choisi]]<>\"\",(VLOOKUP(Table356[[#Headers],[Temps Réaction]],'Def. Prix & Parcours'!$I$6:$M$28,3,FALSE)*Table3[[#This Row],[Points Temps Réaction]]),\"\")","v":0},{"$f":"IF(Table3[[#This Row],[Parcours choisi]]<>\"\",(VLOOKUP(Table356[[#Headers],[Temps Course]],'Def. Prix & Parcours'!$I$6:$M$28,3,FALSE)*Table3[[#This Row],[Points Temps Course]]),\"\")","v":100},{"$f":"IF(Table3[[#This Row],[Parcours choisi]]<>\"\",(VLOOKUP(Table356[[#Headers],[Epreuve arrêt au stand]],'Def. Prix & Parcours'!$I$6:$M$28,3,FALSE)*Table3[[#This Row],[Points Epreuve arrêt au stand]]),\"\")","v":0},null,{"$f":"IF(Table3[[#This Row],[Parcours choisi]]<>\"\",SUM(Table35678[[#This Row],[Ingénierie et conception]:[1]]),\"\")","v":988},{"$f":"IF(Table3[[#This Row],[Parcours choisi]]<>\"\",_xlfn.RANK.EQ(Table35678[[#This Row],[Total Sciences et Techniques]],Table35678[Total Sciences et Techniques],0),\"\")","v":14}]
[28,{"$f":"IF(Table3[[#This Row],[Nom équipe]]<>\"\",Table3[[#This Row],[Nom équipe]],\"\")","v":"Bal'eau"},{"$f":"IF(Table3[[#This Row],[Etablissement]]<>\"\",Table3[[#This Row],[Etablissement]],\"\")","v":"La Fontaine St Avold"},{"$f":"IF(Table3[[#This Row],[Type établissement]]<>\"\",Table3[[#This Row],[Type établissement]],\"\")","v":"C"},{"$f":"IF(Table3[[#This Row],[Académie]]<>\"\",Table3[[#This Row],[Académie]],\"\")","v":"Nancy-Metz"},{"$f":"IF(Table3[[#This Row],[Parcours choisi]]<>\"\",Table3[[#This Row],[Parcours choisi]],\"\")","v":"G"},{"$f":"IF(Table3[[#This Row],[Parcours choisi]]<>\"\",(VLOOKUP(Table356[[#Headers],[Ingénierie et conception]],'Def. Prix & Parcours'!$I$6:$M$28,3,FALSE)*Table3[[#This Row],[Points Ingénierie et conception]]),\"\")","v":102},{"$f":"IF(Table3[[#This Row],[Parcours choisi]]<>\"\",(VLOOKUP(Table356[[#Headers],[Innovation mécanique]],'Def. Prix & Parcours'!$I$6:$M$28,3,FALSE)*Table3[[#This Row],[Points Innovation mécanique]]),\"\")","v":180},{"$f":"IF(Table3[[#This Row],[Parcours choisi]]<>\"\",(VLOOKUP(Table356[[#Headers],[Développement Durable]],'Def. Prix & Parcours'!$I$6:$M$28,3,FALSE)*Table3[[#This Row],[Points Développement Durable]]),\"\")","v":120},{"$f":"IF(Table3[[#This Row],[Parcours choisi]]<>\"\",(VLOOKUP(Table356[[#Headers],[Ingénierie de fabrication]],'Def. Prix & Parcours'!$I$6:$M$28,3,FALSE)*Table3[[#This Row],[Points Ingénierie de fabrication]]),\"\")","v":144},{"$f":"IF(Table3[[#This Row],[Parcours choisi]]<>\"\",(VLOOKUP(Table356[[#Headers],[Gestion de projet et collaborations]],'Def. Prix & Parcours'!$I$6:$M$28,3,FALSE)*Table3[[#This Row],[Points Gestion de projet et \ncollaborations]]),\"\")","v":90},{"$f":"IF(Table3[[#This Row],[Parcours choisi]]<>\"\",(VLOOKUP(Table356[[#Headers],[Présentation Orale]],'Def. Prix & Parcours'!$I$6:$M$28,3,FALSE)*Table3[[#This Row],[Points Présentation Orale]]),\"\")","v":52},{"$f":"IF(Table3[[#This Row],[Parcours choisi]]<>\"\",(VLOOKUP(Table356[[#Headers],[Identité Equipe]],'Def. Prix & Parcours'!$I$6:$M$28,3,FALSE)*Table3[[#This Row],[Points Identité Equipe]]),\"\")","v":68},{"$f":"IF(Table3[[#This Row],[Parcours choisi]]<>\"\",(VLOOKUP(Table356[[#Headers],[Design du Stand]],'Def. Prix & Parcours'!$I$6:$M$28,3,FALSE)*Table3[[#This Row],[Points Design du Stand]]),\"\")","v":0},{"$f":"IF(Table3[[#This Row],[Parcours choisi]]<>\"\",(VLOOKUP(Table356[[#Headers],[Portfolio]],'Def. Prix & Parcours'!$I$6:$M$28,3,FALSE)*Table3[[#This Row],[Points Portfolio]]),\"\")","v":72},{"$f":"IF(Table3[[#This Row],[Parcours choisi]]<>\"\",(VLOOKUP(Table356[[#Headers],[Marketing et Sponsoring]],'Def. Prix & Parcours'!$I$6:$M$28,3,FALSE)*Table3[[#This Row],[Points Marketing et Sponsoring]]),\"\")","v":0},{"$f":"IF(Table3[[#This Row],[Parcours choisi]]<>\"\",(VLOOKUP(Table356[[#Headers],[Budget]],'Def. Prix & Parcours'!$I$6:$M$28,3,FALSE)*Table3[[#This Row],[Points Budget]]),\"\")","v":0},{"$f":"IF(Table3[[#This Row],[Parcours choisi]]<>\"\",(VLOOKUP(Table356[[#Headers],[Design du Véhicule]],'Def. Prix & Parcours'!$I$6:$M$28,3,FALSE)*Table3[[#This Row],[Points Design du Véhicule]]),\"\")","v":108},{"$f":"IF(Table3[[#This Row],[Parcours choisi]]<>\"\",(VLOOKUP(Table356[[#Headers],[Innovation numérique]],'Def. Prix & Parcours'!$I$6:$M$28,3,FALSE)*Table3[[#This Row],[Points Innovation numérique]]),\"\")","v":0},{"$f":"IF(Table3[[#This Row],[Parcours choisi]]<>\"\",(VLOOKUP(Table356[[#Headers],[Programmation]],'Def. Prix & Parcours'!$I$6:$M$28,3,FALSE)*Table3[[#This Row],[Points Programmation]]),\"\")","v":0},{"$f":"IF(Table3[[#This Row],[Parcours choisi]]<>\"\",(VLOOKUP(Table356[[#Headers],[Respect du règlement]],'Def. Prix & Parcours'!$I$6:$M$28,3,FALSE)*Table3[[#This Row],[Points Respect du règlement]]),\"\")","v":95},{"$f":"IF(Table3[[#This Row],[Parcours choisi]]<>\"\",(VLOOKUP(Table356[[#Headers],[Communication : vidéo]],'Def. Prix & Parcours'!$I$6:$M$28,3,FALSE)*Table3[[#This Row],[Points Communication : vidéo]]),\"\")","v":0},{"$f":"IF(Table3[[#This Row],[Parcours choisi]]<>\"\",(VLOOKUP(Table356[[#Headers],[Epreuve CAO]],'Def. Prix & Parcours'!$I$6:$M$28,3,FALSE)*Table3[[#This Row],[Points Epreuve CAO]]),\"\")","v":0},{"$f":"IF(Table3[[#This Row],[Parcours choisi]]<>\"\",(VLOOKUP(Table356[[#Headers],[Temps Réaction]],'Def. Prix & Parcours'!$I$6:$M$28,3,FALSE)*Table3[[#This Row],[Points Temps Réaction]]),\"\")","v":0},{"$f":"IF(Table3[[#This Row],[Parcours choisi]]<>\"\",(VLOOKUP(Table356[[#Headers],[Temps Course]],'Def. Prix & Parcours'!$I$6:$M$28,3,FALSE)*Table3[[#This Row],[Points Temps Course]]),\"\")","v":120},{"$f":"IF(Table3[[#This Row],[Parcours choisi]]<>\"\",(VLOOKUP(Table356[[#Headers],[Epreuve arrêt au stand]],'Def. Prix & Parcours'!$I$6:$M$28,3,FALSE)*Table3[[#This Row],[Points Epreuve arrêt au stand]]),\"\")","v":0},null,{"$f":"IF(Table3[[#This Row],[Parcours choisi]]<>\"\",SUM(Table35678[[#This Row],[Ingénierie et conception]:[1]]),\"\")","v":1151},{"$f":"IF(Table3[[#This Row],[Parcours choisi]]<>\"\",_xlfn.RANK.EQ(Table35678[[#This Row],[Total Sciences et Techniques]],Table35678[Total Sciences et Techniques],0),\"\")","v":2}]
[29,{"$f":"IF(Table3[[#This Row],[Nom équipe]]<>\"\",Table3[[#This Row],[Nom équipe]],\"\")","v":"Team Lambo"},{"$f":"IF(Table3[[#This Row],[Etablissement]]<>\"\",Table3[[#This Row],[Etablissement]],\"\")","v":"La Fontaine St Avold"},{"$f":"IF(Table3[[#This Row],[Type établissement]]<>\"\",Table3[[#This Row],[Type établissement]],\"\")","v":"C"},{"$f":"IF(Table3[[#This Row],[Académie]]<>\"\",Table3[[#This Row],[Académie]],\"\")","v":"Nancy-Metz"},{"$f":"IF(Table3[[#This Row],[Parcours choisi]]<>\"\",Table3[[#This Row],[Parcours choisi]],\"\")","v":"G"},{"$f":"IF(Table3[[#This Row],[Parcours choisi]]<>\"\",(VLOOKUP(Table356[[#Headers],[Ingénierie et conception]],'Def. Prix & Parcours'!$I$6:$M$28,3,FALSE)*Table3[[#This Row],[Points Ingénierie et conception]]),\"\")","v":90},{"$f":"IF(Table3[[#This Row],[Parcours choisi]]<>\"\",(VLOOKUP(Table356[[#Headers],[Innovation mécanique]],'Def. Prix & Parcours'!$I$6:$M$28,3,FALSE)*Table3[[#This Row],[Points Innovation mécanique]]),\"\")","v":156},{"$f":"IF(Table3[[#This Row],[Parcours choisi]]<>\"\",(VLOOKUP(Table356[[#Headers],[Développement Durable]],'Def. Prix & Parcours'!$I$6:$M$28,3,FALSE)*Table3[[#This Row],[Points Développement Durable]]),\"\")","v":84},{"$f":"IF(Table3[[#This Row],[Parcours choisi]]<>\"\",(VLOOKUP(Table356[[#Headers],[Ingénierie de fabrication]],'Def. Prix & Parcours'!$I$6:$M$28,3,FALSE)*Table3[[#This Row],[Points Ingénierie de fabrication]]),\"\")","v":104},{"$f":"IF(Table3[[#This Row],[Parcours choisi]]<>\"\",(VLOOKUP(Table356[[#Headers],[Gestion de projet et collaborations]],'Def. Prix & Parcours'!$I$6:$M$28,3,FALSE)*Table3[[#This Row],[Points Gestion de projet et \ncollaborations]]),\"\")","v":55},{"$f":"IF(Table3[[#This Row],[Parcours choisi]]<>\"\",(VLOOKUP(Table356[[#Headers],[Présentation Orale]],'Def. Prix & Parcours'!$I$6:$M$28,3,FALSE)*Table3[[#This Row],[Points Présentation Orale]]),\"\")","v":48},{"$f":"IF(Table3[[#This Row],[Parcours choisi]]<>\"\",(VLOOKUP(Table356[[#Headers],[Identité Equipe]],'Def. Prix & Parcours'!$I$6:$M$28,3,FALSE)*Table3[[#This Row],[Points Identité Equipe]]),\"\")","v":28},{"$f":"IF(Table3[[#This Row],[Parcours choisi]]<>\"\",(VLOOKUP(Table356[[#Headers],[Design du Stand]],'Def. Prix & Parcours'!$I$6:$M$28,3,FALSE)*Table3[[#This Row],[Points Design du Stand]]),\"\")","v":0},{"$f":"IF(Table3[[#This Row],[Parcours choisi]]<>\"\",(VLOOKUP(Table356[[#Headers],[Portfolio]],'Def. Prix & Parcours'!$I$6:$M$28,3,FALSE)*Table3[[#This Row],[Points Portfolio]]),\"\")","v":40},{"$f":"IF(Table3[[#This Row],[Parcours choisi]]<>\"\",(VLOOKUP(Table356[[#Headers],[Marketing et Sponsoring]],'Def. Prix & Parcours'!$I$6:$M$28,3,FALSE)*Table3[[#This Row],[Points Marketing et Sponsoring]]),\"\")","v":0},{"$f":"IF(Table3[[#This Row],[Parcours choisi]]<>\"\",(VLOOKUP(Table356[[#Headers],[Budget]],'Def. Prix & Parcours'!$I$6:$M$28,3,FALSE)*Table3[[#This Row],[Points Budget]]),\"\")","v":0},{"$f":"IF(Table3[[#This Row],[Parcours choisi]]<>\"\",(VLOOKUP(Table356[[#Headers],[Design du Véhicule]],'Def. Prix & Parcours'!$I$6:$M$28,3,FALSE)*Table3[[#This Row],[Points Design du Véhicule]]),\"\")","v":48},{"$f":"IF(Table3[[#This Row],[Parcours choisi]]<>\"\",(VLOOKUP(Table356[[#Headers],[Innovation numérique]],'Def. Prix & Parcours'!$I$6:$M$28,3,FALSE)*Table3[[#This Row],[Points Innovation numérique]]),\"\")","v":0},{"$f":"IF(Table3[[#This Row],[Parcours choisi]]<>\"\",(VLOOKUP(Table356[[#Headers],[Programmation]],'Def. Prix & Parcours'!$I$6:$M$28,3,FALSE)*Table3[[#This Row],[Points Programmation]]),\"\")","v":0},{"$f":"IF(Table3[[#This Row],[Parcours choisi]]<>\"\",(VLOOKUP(Table356[[#Headers],[Respect du règlement]],'Def. Prix & Parcours'!$I$6:$M$28,3,FALSE)*Table3[[#This Row],[Points Respect du règlement]]),\"\")","v":70},{"$f":"IF(Table3[[#This Row],[Parcours choisi]]<>\"\",(VLOOKUP(Table356[[#Headers],[Communication : vidéo]],'Def. Prix & Parcours'!$I$6:$M$28,3,FALSE)*Table3[[#This Row],[Points Communication : vidéo]]),\"\")","v":0},{"$f":"IF(Table3[[#This Row],[Parcours choisi]]<>\"\",(VLOOKUP(Table356[[#Headers],[Epreuve CAO]],'Def. Prix & Parcours'!$I$6:$M$28,3,FALSE)*Table3[[#This Row],[Points Epreuve CAO]]),\"\")","v":0},{"$f":"IF(Table3[[#This Row],[Parcours choisi]]<>\"\",(VLOOKUP(Table356[[#Headers],[Temps Réaction]],'Def. Prix & Parcours'!$I$6:$M$28,3,FALSE)*Table3[[#This Row],[Points Temps Réaction]]),\"\")","v":0},{"$f":"IF(Table3[[#This Row],[Parcours choisi]]<>\"\",(VLOOKUP(Table356[[#Headers],[Temps Course]],'Def. Prix & Parcours'!$I$6:$M$28,3,FALSE)*Table3[[#This Row],[Points Temps Course]]),\"\")","v":80},{"$f":"IF(Table3[[#This Row],[Parcours choisi]]<>\"\",(VLOOKUP(Table356[[#Headers],[Epreuve arrêt au stand]],'Def. Prix & Parcours'!$I$6:$M$28,3,FALSE)*Table3[[#This Row],[Points Epreuve arrêt au stand]]),\"\")","v":0},null,{"$f":"IF(Table3[[#This Row],[Parcours choisi]]<>\"\",SUM(Table35678[[#This Row],[Ingénierie et conception]:[1]]),\"\")","v":803},{"$f":"IF(Table3[[#This Row],[Parcours choisi]]<>\"\",_xlfn.RANK.EQ(Table35678[[#This Row],[Total Sciences et Techniques]],Table35678[Total Sciences et Techniques],0),\"\")","v":24}]
[30,{"$f":"IF(Table3[[#This Row],[Nom équipe]]<>\"\",Table3[[#This Row],[Nom équipe]],\"\")","v":""},{"$f":"IF(Table3[[#This Row],[Etablissement]]<>\"\",Table3[[#This Row],[Etablissement]],\"\")","v":""},{"$f":"IF(Table3[[#This Row],[Type établissement]]<>\"\",Table3[[#This Row],[Type établissement]],\"\")","v":""},{"$f":"IF(Table3[[#This Row],[Académie]]<>\"\",Table3[[#This Row],[Académie]],\"\")","v":""},{"$f":"IF(Table3[[#This Row],[Parcours choisi]]<>\"\",Table3[[#This Row],[Parcours choisi]],\"\")","v":""},{"$f":"IF(Table3[[#This Row],[Parcours choisi]]<>\"\",(VLOOKUP(Table356[[#Headers],[Ingénierie et conception]],'Def. Prix & Parcours'!$I$6:$M$28,3,FALSE)*Table3[[#This Row],[Points Ingénierie et conception]]),\"\")","v":""},{"$f":"IF(Table3[[#This Row],[Parcours choisi]]<>\"\",(VLOOKUP(Table356[[#Headers],[Innovation mécanique]],'Def. Prix & Parcours'!$I$6:$M$28,3,FALSE)*Table3[[#This Row],[Points Innovation mécanique]]),\"\")","v":""},{"$f":"IF(Table3[[#This Row],[Parcours choisi]]<>\"\",(VLOOKUP(Table356[[#Headers],[Développement Durable]],'Def. Prix & Parcours'!$I$6:$M$28,3,FALSE)*Table3[[#This Row],[Points Développement Durable]]),\"\")","v":""},{"$f":"IF(Table3[[#This Row],[Parcours choisi]]<>\"\",(VLOOKUP(Table356[[#Headers],[Ingénierie de fabrication]],'Def. Prix & Parcours'!$I$6:$M$28,3,FALSE)*Table3[[#This Row],[Points Ingénierie de fabrication]]),\"\")","v":""},{"$f":"IF(Table3[[#This Row],[Parcours choisi]]<>\"\",(VLOOKUP(Table356[[#Headers],[Gestion de projet et collaborations]],'Def. Prix & Parcours'!$I$6:$M$28,3,FALSE)*Table3[[#This Row],[Points Gestion de projet et \ncollaborations]]),\"\")","v":""},{"$f":"IF(Table3[[#This Row],[Parcours choisi]]<>\"\",(VLOOKUP(Table356[[#Headers],[Présentation Orale]],'Def. Prix & Parcours'!$I$6:$M$28,3,FALSE)*Table3[[#This Row],[Points Présentation Orale]]),\"\")","v":""},{"$f":"IF(Table3[[#This Row],[Parcours choisi]]<>\"\",(VLOOKUP(Table356[[#Headers],[Identité Equipe]],'Def. Prix & Parcours'!$I$6:$M$28,3,FALSE)*Table3[[#This Row],[Points Identité Equipe]]),\"\")","v":""},{"$f":"IF(Table3[[#This Row],[Parcours choisi]]<>\"\",(VLOOKUP(Table356[[#Headers],[Design du Stand]],'Def. Prix & Parcours'!$I$6:$M$28,3,FALSE)*Table3[[#This Row],[Points Design du Stand]]),\"\")","v":""},{"$f":"IF(Table3[[#This Row],[Parcours choisi]]<>\"\",(VLOOKUP(Table356[[#Headers],[Portfolio]],'Def. Prix & Parcours'!$I$6:$M$28,3,FALSE)*Table3[[#This Row],[Points Portfolio]]),\"\")","v":""},{"$f":"IF(Table3[[#This Row],[Parcours choisi]]<>\"\",(VLOOKUP(Table356[[#Headers],[Marketing et Sponsoring]],'Def. Prix & Parcours'!$I$6:$M$28,3,FALSE)*Table3[[#This Row],[Points Marketing et Sponsoring]]),\"\")","v":""},{"$f":"IF(Table3[[#This Row],[Parcours choisi]]<>\"\",(VLOOKUP(Table356[[#Headers],[Budget]],'Def. Prix & Parcours'!$I$6:$M$28,3,FALSE)*Table3[[#This Row],[Points Budget]]),\"\")","v":""},{"$f":"IF(Table3[[#This Row],[Parcours choisi]]<>\"\",(VLOOKUP(Table356[[#Headers],[Design du Véhicule]],'Def. Prix & Parcours'!$I$6:$M$28,3,FALSE)*Table3[[#This Row],[Points Design du Véhicule]]),\"\")","v":""},{"$f":"IF(Table3[[#This Row],[Parcours choisi]]<>\"\",(VLOOKUP(Table356[[#Headers],[Innovation numérique]],'Def. Prix & Parcours'!$I$6:$M$28,3,FALSE)*Table3[[#This Row],[Points Innovation numérique]]),\"\")","v":""},{"$f":"IF(Table3[[#This Row],[Parcours choisi]]<>\"\",(VLOOKUP(Table356[[#Headers],[Programmation]],'Def. Prix & Parcours'!$I$6:$M$28,3,FALSE)*Table3[[#This Row],[Points Programmation]]),\"\")","v":""},{"$f":"IF(Table3[[#This Row],[Parcours choisi]]<>\"\",(VLOOKUP(Table356[[#Headers],[Respect du règlement]],'Def. Prix & Parcours'!$I$6:$M$28,3,FALSE)*Table3[[#This Row],[Points Respect du règlement]]),\"\")","v":""},{"$f":"IF(Table3[[#This Row],[Parcours choisi]]<>\"\",(VLOOKUP(Table356[[#Headers],[Communication : vidéo]],'Def. Prix & Parcours'!$I$6:$M$28,3,FALSE)*Table3[[#This Row],[Points Communication : vidéo]]),\"\")","v":""},{"$f":"IF(Table3[[#This Row],[Parcours choisi]]<>\"\",(VLOOKUP(Table356[[#Headers],[Epreuve CAO]],'Def. Prix & Parcours'!$I$6:$M$28,3,FALSE)*Table3[[#This Row],[Points Epreuve CAO]]),\"\")","v":""},{"$f":"IF(Table3[[#This Row],[Parcours choisi]]<>\"\",(VLOOKUP(Table356[[#Headers],[Temps Réaction]],'Def. Prix & Parcours'!$I$6:$M$28,3,FALSE)*Table3[[#This Row],[Points Temps Réaction]]),\"\")","v":""},{"$f":"IF(Table3[[#This Row],[Parcours choisi]]<>\"\",(VLOOKUP(Table356[[#Headers],[Temps Course]],'Def. Prix & Parcours'!$I$6:$M$28,3,FALSE)*Table3[[#This Row],[Points Temps Course]]),\"\")","v":""},{"$f":"IF(Table3[[#This Row],[Parcours choisi]]<>\"\",(VLOOKUP(Table356[[#Headers],[Epreuve arrêt au stand]],'Def. Prix & Parcours'!$I$6:$M$28,3,FALSE)*Table3[[#This Row],[Points Epreuve arrêt au stand]]),\"\")","v":""},null,{"$f":"IF(Table3[[#This Row],[Parcours choisi]]<>\"\",SUM(Table35678[[#This Row],[Ingénierie et conception]:[1]]),\"\")","v":""},{"$f":"IF(Table3[[#This Row],[Parcours choisi]]<>\"\",_xlfn.RANK.EQ(Table35678[[#This Row],[Total Sciences et Techniques]],Table35678[Total Sciences et Techniques],0),\"\")","v":""}]

{"sheet":"Prix Marketing & Communication","index":4,"n_rows":36,"n_cols":29,"rows_kept":36,"cut":false,"hidden":false,"merged":[[1,10,1,23],[3,4,3,19]]}
[]
[null,null,"FINALE FRANCE / ACADEMIQUES COURSE EN COURS",null,null,null,null,null,null,null,"Résultats du Prix Marketing et Communication Collèges/Lycées"]
[]
[null,null,null,null,"Attention: Ne rien saisir sur cette feuille est calculée automatiquement"]
[]
["N° équipe","Nom équipe","établissement","Type établissement","Académie","Parcours","Ingénierie et conception","Innovation mécanique","Développement Durable","Ingénierie de fabrication","Gestion de projet et collaborations","Présentation Orale","Identité Equipe","Design du Stand","Portfolio","Marketing et Sponsoring","Budget","Design du Véhicule","Innovation numérique","Programmation","Respect du règlement","Communication : vidéo","Epreuve CAO","Temps Réaction","Temps Course","Epreuve arrêt au stand","1","Total Marketing et Communication","Classement Marketing et Communication"]
[1,{"$f":"IF(Table3[[#This Row],[Nom équipe]]<>\"\",Table3[[#This Row],[Nom équipe]],\"\")","v":"Star Car"},{"$f":"IF(Table3[[#This Row],[Etablissement]]<>\"\",Table3[[#This Row],[Etablissement]],\"\")","v":"AVEC"},{"$f":"IF(Table3[[#This Row],[Type établissement]]<>\"\",Table3[[#This Row],[Type établissement]],\"\")","v":"C"},{"$f":"IF(Table3[[#This Row],[Académie]]<>\"\",Table3[[#This Row],[Académie]],\"\")","v":"Nancy-Metz"},{"$f":"IF(Table3[[#This Row],[Parcours choisi]]<>\"\",Table3[[#This Row],[Parcours choisi]],\"\")","v":"G"},{"$f":"IF(Table3[[#This Row],[Parcours choisi]]<>\"\",(VLOOKUP(Table356[[#Headers],[Ingénierie et conception]],'Def. Prix & Parcours'!$I$6:$M$28,4,FALSE)*Table3[[#This Row],[Points Ingénierie et conception]]),\"\")","v":28},{"$f":"IF(Table3[[#This Row],[Parcours choisi]]<>\"\",(VLOOKUP(Table356[[#Headers],[Innovation mécanique]],'Def. Prix & Parcours'!$I$6:$M$28,4,FALSE)*Table3[[#This Row],[Points Innovation mécanique]]),\"\")","v":32},{"$f":"IF(Table3[[#This Row],[Parcours choisi]]<>\"\",(VLOOKUP(Table356[[#Headers],[Développement Durable]],'Def. Prix & Parcours'!$I$6:$M$28,4,FALSE)*Table3[[#This Row],[Points Développement Durable]]),\"\")","v":24},{"$f":"IF(Table3[[#This Row],[Parcours choisi]]<>\"\",(VLOOKUP(Table356[[#Headers],[Ingénierie de fabrication]],'Def. Prix & Parcours'!$I$6:$M$28,4,FALSE)*Table3[[#This Row],[Points Ingénierie de fabrication]]),\"\")","v":0},{"$f":"IF(Table3[[#This Row],[Parcours choisi]]<>\"\",(VLOOKUP(Table356[[#Headers],[Gestion de projet et collaborations]],'Def. Prix & Parcours'!$I$6:$M$28,4,FALSE)*Table3[[#This Row],[Points Gestion de projet et \ncollaborations]]),\"\")","v":85},{"$f":"IF(Table3[[#This Row],[Parcours choisi]]<>\"\",(VLOOKUP(Table356[[#Headers],[Présentation Orale]],'Def. Prix & Parcours'!$I$6:$M$28,4,FALSE)*Table3[[#This Row],[Points Présentation Orale]]),\"\")","v":70},{"$f":"IF(Table3[[#This Row],[Parcours choisi]]<>\"\",(VLOOKUP(Table356[[#Headers],[Identité Equipe]],'Def. Prix & Parcours'!$I$6:$M$28,4,FALSE)*Table3[[#This Row],[Points Identité Equipe]]),\"\")","v":65},{"$f":"IF(Table3[[#This Row],[Parcours choisi]]<>\"\",(VLOOKUP(Table356[[#Headers],[Design du Stand]],'Def. Prix & Parcours'!$I$6:$M$28,4,FALSE)*Table3[[#This Row],[Points Design du Stand]]),\"\")","v":88},{"$f":"IF(Table3[[#This Row],[Parcours choisi]]<>\"\",(VLOOKUP(Table356[[#Headers],[Portfolio]],'Def. Prix & Parcours'!$I$6:$M$28,4,FALSE)*Table3[[#This Row],[Points Portfolio]]),\"\")","v":0},{"$f":"IF(Table3[[#This Row],[Parcours choisi]]<>\"\",(VLOOKUP(Table356[[#Headers],[Marketing et Sponsoring]],'Def. Prix & Parcours'!$I$6:$M$28,4,FALSE)*Table3[[#This Row],[Points Marketing et Sponsoring]]),\"\")","v":120},{"$f":"IF(Table3[[#This Row],[Parcours choisi]]<>\"\",(VLOOKUP(Table356[[#Headers],[Budget]],'Def. Prix & Parcours'!$I$6:$M$28,4,FALSE)*Table3[[#This Row],[Points Budget]]),\"\")","v":18},{"$f":"IF(Table3[[#This Row],[Parcours choisi]]<>\"\",(VLOOKUP(Table356[[#Headers],[Design du Véhicule]],'Def. Prix & Parcours'!$I$6:$M$28,4,FALSE)*Table3[[#This Row],[Points Design du Véhicule]]),\"\")","v":30},{"$f":"IF(Table3[[#This Row],[Parcours choisi]]<>\"\",(VLOOKUP(Table356[[#Headers],[Innovation numérique]],'Def. Prix & Parcours'!$I$6:$M$28,4,FALSE)*Table3[[#This Row],[Points Innovation numérique]]),\"\")","v":0},{"$f":"IF(Table3[[#This Row],[Parcours choisi]]<>\"\",(VLOOKUP(Table356[[#Headers],[Programmation]],'Def. Prix & Parcours'!$I$6:$M$28,4,FALSE)*Table3[[#This Row],[Points Programmation]]),\"\")","v":0},{"$f":"IF(Table3[[#This Row],[Parcours choisi]]<>\"\",(VLOOKUP(Table356[[#Headers],[Respect du règlement]],'Def. Prix & Parcours'!$I$6:$M$28,4,FALSE)*Table3[[#This Row],[Points Respect du règlement]]),\"\")","v":45},{"$f":"IF(Table3[[#This Row],[Parcours choisi]]<>\"\",(VLOOKUP(Table356[[#Headers],[Communication : vidéo]],'Def. Prix & Parcours'!$I$6:$M$28,4,FALSE)*Table3[[#This Row],[Points Communication : vidéo]]),\"\")","v":130},{"$f":"IF(Table3[[#This Row],[Parcours choisi]]<>\"\",(VLOOKUP(Table356[[#Headers],[Epreuve CAO]],'Def. Prix & Parcours'!$I$6:$M$28,4,FALSE)*Table3[[#This Row],[Points Epreuve CAO]]),\"\")","v":0},{"$f":"IF(Table3[[#This Row],[Parcours choisi]]<>\"\",(VLOOKUP(Table356[[#Headers],[Temps Réaction]],'Def. Prix & Parcours'!$I$6:$M$28,4,FALSE)*Table3[[#This Row],[Points Temps Réaction]]),\"\")","v":0},{"$f":"IF(Table3[[#This Row],[Parcours choisi]]<>\"\",(VLOOKUP(Table356[[#Headers],[Temps Course]],'Def. Prix & Parcours'!$I$6:$M$28,4,FALSE)*Table3[[#This Row],[Points Temps Course]]),\"\")","v":0},{"$f":"IF(Table3[[#This Row],[Parcours choisi]]<>\"\",(VLOOKUP(Table356[[#Headers],[Epreuve arrêt au stand]],'Def. Prix & Parcours'!$I$6:$M$28,4,FALSE)*Table3[[#This Row],[Points Epreuve arrêt au stand]]),\"\")","v":0},null,{"$f":"IF(Table3[[#This Row],[Parcours choisi]]<>\"\",SUM(Table3567810[[#This Row],[Ingénierie et conception]:[1]]),\"\")","v":735},{"$f":"IF(Table3[[#This Row],[Parcours choisi]]<>\"\",_xlfn.RANK.EQ(Table3567810[[#This Row],[Total Marketing et Communication]],Table3567810[Total Marketing et Communication],0),\"\")","v":23}]
[2,{"$f":"IF(Table3[[#This Row],[Nom équipe]]<>\"\",Table3[[#This Row],[Nom équipe]],\"\")","v":"Les industriels"},{"$f":"IF(Table3[[#This Row],[Etablissement]]<>\"\",Table3[[#This Row],[Etablissement]],\"\")","v":"Loritz Nancy"},{"$f":"IF(Table3[[#This Row],[Type établissement]]<>\"\",Table3[[#This Row],[Type établissement]],\"\")","v":"L"},{"$f":"IF(Table3[[#This Row],[Académie]]<>\"\",Table3[[#This Row],[Académie]],\"\")","v":"Nancy-Metz"},{"$f":"IF(Table3[[#This Row],[Parcours choisi]]<>\"\",Table3[[#This Row],[Parcours choisi]],\"\")","v":"T"},{"$f":"IF(Table3[[#This Row],[Parcours choisi]]<>\"\",(VLOOKUP(Table356[[#Headers],[Ingénierie et conception]],'Def. Prix & Parcours'!$I$6:$M$28,4,FALSE)*Table3[[#This Row],[Points Ingénierie et conception]]),\"\")","v":0},{"$f":"IF(Table3[[#This Row],[Parcours choisi]]<>\"\",(VLOOKUP(Table356[[#Headers],[Innovation mécanique]],'Def. Prix & Parcours'!$I$6:$M$28,4,FALSE)*Table3[[#This Row],[Points Innovation mécanique]]),\"\")","v":0},{"$f":"IF(Table3[[#This Row],[Parcours choisi]]<>\"\",(VLOOKUP(Table356[[#Headers],[Développement Durable]],'Def. Prix & Parcours'!$I$6:$M$28,4,FALSE)*Table3[[#This Row],[Points Développement Durable]]),\"\")","v":0},{"$f":"IF(Table3[[#This Row],[Parcours choisi]]<>\"\",(VLOOKUP(Table356[[#Headers],[Ingénierie de fabrication]],'Def. Prix & Parcours'!$I$6:$M$28,4,FALSE)*Table3[[#This Row],[Points Ingénierie de fabrication]]),\"\")","v":0},{"$f":"IF(Table3[[#This Row],[Parcours choisi]]<>\"\",(VLOOKUP(Table356[[#Headers],[Gestion de projet et collaborations]],'Def. Prix & Parcours'!$I$6:$M$28,4,FALSE)*Table3[[#This Row],[Points Gestion de projet et \ncollaborations]]),\"\")","v":0},{"$f":"IF(Table3[[#This Row],[Parcours choisi]]<>\"\",(VLOOKUP(Table356[[#Headers],[Présentation Orale]],'Def. Prix & Parcours'!$I$6:$M$28,4,FALSE)*Table3[[#This Row],[Points Présentation Orale]]),\"\")","v":0},{"$f":"IF(Table3[[#This Row],[Parcours choisi]]<>\"\",(VLOOKUP(Table356[[#Headers],[Identité Equipe]],'Def. Prix & Parcours'!$I$6:$M$28,4,FALSE)*Table3[[#This Row],[Points Identité Equipe]]),\"\")","v":0},{"$f":"IF(Table3[[#This Row],[Parcours choisi]]<>\"\",(VLOOKUP(Table356[[#Headers],[Design du Stand]],'Def. Prix & Parcours'!$I$6:$M$28,4,FALSE)*Table3[[#This Row],[Points Design du Stand]]),\"\")","v":0},{"$f":"IF(Table3[[#This Row],[Parcours choisi]]<>\"\",(VLOOKUP(Table356[[#Headers],[Portfolio]],'Def. Prix & Parcours'!$I$6:$M$28,4,FALSE)*Table3[[#This Row],[Points Portfolio]]),\"\")","v":0},{"$f":"IF(Table3[[#This Row],[Parcours choisi]]<>\"\",(VLOOKUP(Table356[[#Headers],[Marketing et Sponsoring]],'Def. Prix & Parcours'!$I$6:$M$28,4,FALSE)*Table3[[#This Row],[Points Marketing et Sponsoring]]),\"\")","v":0},{"$f":"IF(Table3[[#This Row],[Parcours choisi]]<>\"\",(VLOOKUP(Table356[[#Headers],[Budget]],'Def. Prix & Parcours'!$I$6:$M$28,4,FALSE)*Table3[[#This Row],[Points Budget]]),\"\")","v":0},{"$f":"IF(Table3[[#This Row],[Parcours choisi]]<>\"\",(VLOOKUP(Table356[[#Headers],[Design du Véhicule]],'Def. Prix & Parcours'!$I$6:$M$28,4,FALSE)*Table3[[#This Row],[Points Design du Véhicule]]),\"\")","v":0},{"$f":"IF(Table3[[#This Row],[Parcours choisi]]<>\"\",(VLOOKUP(Table356[[#Headers],[Innovation numérique]],'Def. Prix & Parcours'!$I$6:$M$28,4,FALSE)*Table3[[#This Row],[Points Innovation numérique]]),\"\")","v":0},{"$f":"IF(Table3[[#This Row],[Parcours choisi]]<>\"\",(VLOOKUP(Table356[[#Headers],[Programmation]],'Def. Prix & Parcours'!$I$6:$M$28,4,FALSE)*Table3[[#This Row],[Points Programmation]]),\"\")","v":0},{"$f":"IF(Table3[[#This Row],[Parcours choisi]]<>\"\",(VLOOKUP(Table356[[#Headers],[Respect du règlement]],'Def. Prix & Parcours'!$I$6:$M$28,4,FALSE)*Table3[[#This Row],[Points Respect du règlement]]),\"\")","v":0},{"$f":"IF(Table3[[#This Row],[Parcours choisi]]<>\"\",(VLOOKUP(Table356[[#Headers],[Communication : vidéo]],'Def. Prix & Parcours'!$I$6:$M$28,4,FALSE)*Table3[[#This Row],[Points Communication : vidéo]]),\"\")","v":0},{"$f":"IF(Table3[[#This Row],[Parcours choisi]]<>\"\",(VLOOKUP(Table356[[#Headers],[Epreuve CAO]],'Def. Prix & Parcours'!$I$6:$M$28,4,FALSE)*Table3[[#This Row],[Points Epreuve CAO]]),\"\")","v":0},{"$f":"IF(Table3[[#This Row],[Parcours choisi]]<>\"\",(VLOOKUP(Table356[[#Headers],[Temps Réaction]],'Def. Prix & Parcours'!$I$6:$M$28,4,FALSE)*Table3[[#This Row],[Points Temps Réaction]]),\"\")","v":0},{"$f":"IF(Table3[[#This Row],[Parcours choisi]]<>\"\",(VLOOKUP(Table356[[#Headers],[Temps Course]],'Def. Prix & Parcours'!$I$6:$M$28,4,FALSE)*Table3[[#This Row],[Points Temps Course]]),\"\")","v":0},{"$f":"IF(Table3[[#This Row],[Parcours choisi]]<>\"\",(VLOOKUP(Table356[[#Headers],[Epreuve arrêt au stand]],'Def. Prix & Parcours'!$I$6:$M$28,4,FALSE)*Table3[[#This Row],[Points Epreuve arrêt au stand]]),\"\")","v":0},null,{"$f":"IF(Table3[[#This Row],[Parcours choisi]]<>\"\",SUM(Table3567810[[#This Row],[Ingénierie et conception]:[1]]),\"\")","v":0},{"$f":"IF(Table3[[#This Row],[Parcours choisi]]<>\"\",_xlfn.RANK.EQ(Table3567810[[#This Row],[Total Marketing et Communication]],Table3567810[Total Marketing et Communication],0),\"\")","v":26}]
[3,{"$f":"IF(Table3[[#This Row],[Nom équipe]]<>\"\",Table3[[#This Row],[Nom équipe]],\"\")","v":" S1 motor sport"},{"$f":"IF(Table3[[#This Row],[Etablissement]]<>\"\",Table3[[#This Row],[Etablissement]],\"\")","v":"Lotitz Nancy"},{"$f":"IF(Table3[[#This Row],[Type établissement]]<>\"\",Table3[[#This Row],[Type établissement]],\"\")","v":"L"},{"$f":"IF(Table3[[#This Row],[Académie]]<>\"\",Table3[[#This Row],[Académie]],\"\")","v":"Nancy-Metz"},{"$f":"IF(Table3[[#This Row],[Parcours choisi]]<>\"\",Table3[[#This Row],[Parcours choisi]],\"\")","v":"T"},{"$f":"IF(Table3[[#This Row],[Parcours choisi]]<>\"\",(VLOOKUP(Table356[[#Headers],[Ingénierie et conception]],'Def. Prix & Parcours'!$I$6:$M$28,4,FALSE)*Table3[[#This Row],[Points Ingénierie et conception]]),\"\")","v":0},{"$f":"IF(Table3[[#This Row],[Parcours choisi]]<>\"\",(VLOOKUP(Table356[[#Headers],[Innovation mécanique]],'Def. Prix & Parcours'!$I$6:$M$28,4,FALSE)*Table3[[#This Row],[Points Innovation mécanique]]),\"\")","v":0},{"$f":"IF(Table3[[#This Row],[Parcours choisi]]<>\"\",(VLOOKUP(Table356[[#Headers],[Développement Durable]],'Def. Prix & Parcours'!$I$6:$M$28,4,FALSE)*Table3[[#This Row],[Points Développement Durable]]),\"\")","v":0},{"$f":"IF(Table3[[#This Row],[Parcours choisi]]<>\"\",(VLOOKUP(Table356[[#Headers],[Ingénierie de fabrication]],'Def. Prix & Parcours'!$I$6:$M$28,4,FALSE)*Table3[[#This Row],[Points Ingénierie de fabrication]]),\"\")","v":0},{"$f":"IF(Table3[[#This Row],[Parcours choisi]]<>\"\",(VLOOKUP(Table356[[#Headers],[Gestion de projet et collaborations]],'Def. Prix & Parcours'!$I$6:$M$28,4,FALSE)*Table3[[#This Row],[Points Gestion de projet et \ncollaborations]]),\"\")","v":0},{"$f":"IF(Table3[[#This Row],[Parcours choisi]]<>\"\",(VLOOKUP(Table356[[#Headers],[Présentation Orale]],'Def. Prix & Parcours'!$I$6:$M$28,4,FALSE)*Table3[[#This Row],[Points Présentation Orale]]),\"\")","v":0},{"$f":"IF(Table3[[#This Row],[Parcours choisi]]<>\"\",(VLOOKUP(Table356[[#Headers],[Identité Equipe]],'Def. Prix & Parcours'!$I$6:$M$28,4,FALSE)*Table3[[#This Row],[Points Identité Equipe]]),\"\")","v":0},{"$f":"IF(Table3[[#This Row],[Parcours choisi]]<>\"\",(VLOOKUP(Table356[[#Headers],[Design du Stand]],'Def. Prix & Parcours'!$I$6:$M$28,4,FALSE)*Table3[[#This Row],[Points Design du Stand]]),\"\")","v":0},{"$f":"IF(Table3[[#This Row],[Parcours choisi]]<>\"\",(VLOOKUP(Table356[[#Headers],[Portfolio]],'Def. Prix & Parcours'!$I$6:$M$28,4,FALSE)*Table3[[#This Row],[Points Portfolio]]),\"\")","v":0},{"$f":"IF(Table3[[#This Row],[Parcours choisi]]<>\"\",(VLOOKUP(Table356[[#Headers],[Marketing et Sponsoring]],'Def. Prix & Parcours'!$I$6:$M$28,4,FALSE)*Table3[[#This Row],[Points Marketing et Sponsoring]]),\"\")","v":0},{"$f":"IF(Table3[[#This Row],[Parcours choisi]]<>\"\",(VLOOKUP(Table356[[#Headers],[Budget]],'Def. Prix & Parcours'!$I$6:$M$28,4,FALSE)*Table3[[#This Row],[Points Budget]]),\"\")","v":0},{"$f":"IF(Table3[[#This Row],[Parcours choisi]]<>\"\",(VLOOKUP(Table356[[#Headers],[Design du Véhicule]],'Def. Prix & Parcours'!$I$6:$M$28,4,FALSE)*Table3[[#This Row],[Points Design du Véhicule]]),\"\")","v":0},{"$f":"IF(Table3[[#This Row],[Parcours choisi]]<>\"\",(VLOOKUP(Table356[[#Headers],[Innovation numérique]],'Def. Prix & Parcours'!$I$6:$M$28,4,FALSE)*Table3[[#This Row],[Points Innovation numérique]]),\"\")","v":0},{"$f":"IF(Table3[[#This Row],[Parcours choisi]]<>\"\",(VLOOKUP(Table356[[#Headers],[Programmation]],'Def. Prix & Parcours'!$I$6:$M$28,4,FALSE)*Table3[[#This Row],[Points Programmation]]),\"\")","v":0},{"$f":"IF(Table3[[#This Row],[Parcours choisi]]<>\"\",(VLOOKUP(Table356[[#Headers],[Respect du règlement]],'Def. Prix & Parcours'!$I$6:$M$28,4,FALSE)*Table3[[#This Row],[Points Respect du règlement]]),\"\")","v":0},{"$f":"IF(Table3[[#This Row],[Parcours choisi]]<>\"\",(VLOOKUP(Table356[[#Headers],[Communication : vidéo]],'Def. Prix & Parcours'!$I$6:$M$28,4,FALSE)*Table3[[#This Row],[Points Communication : vidéo]]),\"\")","v":0},{"$f":"IF(Table3[[#This Row],[Parcours choisi]]<>\"\",(VLOOKUP(Table356[[#Headers],[Epreuve CAO]],'Def. Prix & Parcours'!$I$6:$M$28,4,FALSE)*Table3[[#This Row],[Points Epreuve CAO]]),\"\")","v":0},{"$f":"IF(Table3[[#This Row],[Parcours choisi]]<>\"\",(VLOOKUP(Table356[[#Headers],[Temps Réaction]],'Def. Prix & Parcours'!$I$6:$M$28,4,FALSE)*Table3[[#This Row],[Points Temps Réaction]]),\"\")","v":0},{"$f":"IF(Table3[[#This Row],[Parcours choisi]]<>\"\",(VLOOKUP(Table356[[#Headers],[Temps Course]],'Def. Prix & Parcours'!$I$6:$M$28,4,FALSE)*Table3[[#This Row],[Points Temps Course]]),\"\")","v":0},{"$f":"IF(Table3[[#This Row],[Parcours choisi]]<>\"\",(VLOOKUP(Table356[[#Headers],[Epreuve arrêt au stand]],'Def. Prix & Parcours'!$I$6:$M$28,4,FALSE)*Table3[[#This Row],[Points Epreuve arrêt au stand]]),\"\")","v":0},null,{"$f":"IF(Table3[[#This Row],[Parcours choisi]]<>\"\",SUM(Table3567810[[#This Row],[Ingénierie et conception]:[1]]),\"\")","v":0},{"$f":"IF(Table3[[#This Row],[Parcours choisi]]<>\"\",_xlfn.RANK.EQ(Table3567810[[#This Row],[Total Marketing et Communication]],Table3567810[Total Marketing et Communication],0),\"\")","v":26}]
[4,{"$f":"IF(Table3[[#This Row],[Nom équipe]]<>\"\",Table3[[#This Row],[Nom équipe]],\"\")","v":"Back to the past"},{"$f":"IF(Table3[[#This Row],[Etablissement]]<>\"\",Table3[[#This Row],[Etablissement]],\"\")","v":"Loritz Nancy"},{"$f":"IF(Table3[[#This Row],[Type établissement]]<>\"\",Table3[[#This Row],[Type établissement]],\"\")","v":"L"},{"$f":"IF(Table3[[#This Row],[Académie]]<>\"\",Table3[[#This Row],[Académie]],\"\")","v":"Nancy-Metz"},{"$f":"IF(Table3[[#This Row],[Parcours choisi]]<>\"\",Table3[[#This Row],[Parcours choisi]],\"\")","v":"T"},{"$f":"IF(Table3[[#This Row],[Parcours choisi]]<>\"\",(VLOOKUP(Table356[[#Headers],[Ingénierie et conception]],'Def. Prix & Parcours'!$I$6:$M$28,4,FALSE)*Table3[[#This Row],[Points Ingénierie et conception]]),\"\")","v":34},{"$f":"IF(Table3[[#This Row],[Parcours choisi]]<>\"\",(VLOOKUP(Table356[[#Headers],[Innovation mécanique]],'Def. Prix & Parcours'!$I$6:$M$28,4,FALSE)*Table3[[#This Row],[Points Innovation mécanique]]),\"\")","v":28},{"$f":"IF(Table3[[#This Row],[Parcours choisi]]<>\"\",(VLOOKUP(Table356[[#Headers],[Développement Durable]],'Def. Prix & Parcours'!$I$6:$M$28,4,FALSE)*Table3[[#This Row],[Points Développement Durable]]),\"\")","v":90},{"$f":"IF(Table3[[#This Row],[Parcours choisi]]<>\"\",(VLOOKUP(Table356[[#Headers],[Ingénierie de fabrication]],'Def. Prix & Parcours'!$I$6:$M$28,4,FALSE)*Table3[[#This Row],[Points Ingénierie de fabrication]]),\"\")","v":0},{"$f":"IF(Table3[[#This Row],[Parcours choisi]]<>\"\",(VLOOKUP(Table356[[#Headers],[Gestion de projet et collaborations]],'Def. Prix & Parcours'!$I$6:$M$28,4,FALSE)*Table3[[#This Row],[Points Gestion de projet et \ncollaborations]]),\"\")","v":70},{"$f":"IF(Table3[[#This Row],[Parcours choisi]]<>\"\",(VLOOKUP(Table356[[#Headers],[Présentation Orale]],'Def. Prix & Parcours'!$I$6:$M$28,4,FALSE)*Table3[[#This Row],[Points Présentation Orale]]),\"\")","v":70},{"$f":"IF(Table3[[#This Row],[Parcours choisi]]<>\"\",(VLOOKUP(Table356[[#Headers],[Identité Equipe]],'Def. Prix & Parcours'!$I$6:$M$28,4,FALSE)*Table3[[#This Row],[Points Identité Equipe]]),\"\")","v":80},{"$f":"IF(Table3[[#This Row],[Parcours choisi]]<>\"\",(VLOOKUP(Table356[[#Headers],[Design du Stand]],'Def. Prix & Parcours'!$I$6:$M$28,4,FALSE)*Table3[[#This Row],[Points Design du Stand]]),\"\")","v":128},{"$f":"IF(Table3[[#This Row],[Parcours choisi]]<>\"\",(VLOOKUP(Table356[[#Headers],[Portfolio]],'Def. Prix & Parcours'!$I$6:$M$28,4,FALSE)*Table3[[#This Row],[Points Portfolio]]),\"\")","v":120},{"$f":"IF(Table3[[#This Row],[Parcours choisi]]<>\"\",(VLOOKUP(Table356[[#Headers],[Marketing et Sponsoring]],'Def. Prix & Parcours'!$I$6:$M$28,4,FALSE)*Table3[[#This Row],[Points Marketing et Sponsoring]]),\"\")","v":140},{"$f":"IF(Table3[[#This Row],[Parcours choisi]]<>\"\",(VLOOKUP(Table356[[#Headers],[Budget]],'Def. Prix & Parcours'!$I$6:$M$28,4,FALSE)*Table3[[#This Row],[Points Budget]]),\"\")","v":28},{"$f":"IF(Table3[[#This Row],[Parcours choisi]]<>\"\",(VLOOKUP(Table356[[#Headers],[Design du Véhicule]],'Def. Prix & Parcours'!$I$6:$M$28,4,FALSE)*Table3[[#This Row],[Points Design du Véhicule]]),\"\")","v":30},{"$f":"IF(Table3[[#This Row],[Parcours choisi]]<>\"\",(VLOOKUP(Table356[[#Headers],[Innovation numérique]],'Def. Prix & Parcours'!$I$6:$M$28,4,FALSE)*Table3[[#This Row],[Points Innovation numérique]]),\"\")","v":0},{"$f":"IF(Table3[[#This Row],[Parcours choisi]]<>\"\",(VLOOKUP(Table356[[#Headers],[Programmation]],'Def. Prix & Parcours'!$I$6:$M$28,4,FALSE)*Table3[[#This Row],[Points Programmation]]),\"\")","v":0},{"$f":"IF(Table3[[#This Row],[Parcours choisi]]<>\"\",(VLOOKUP(Table356[[#Headers],[Respect du règlement]],'Def. Prix & Parcours'!$I$6:$M$28,4,FALSE)*Table3[[#This Row],[Points Respect du règlement]]),\"\")","v":90},{"$f":"IF(Table3[[#This Row],[Parcours choisi]]<>\"\",(VLOOKUP(Table356[[#Headers],[Communication : vidéo]],'Def. Prix & Parcours'!$I$6:$M$28,4,FALSE)*Table3[[#This Row],[Points Communication : vidéo]]),\"\")","v":170},{"$f":"IF(Table3[[#This Row],[Parcours choisi]]<>\"\",(VLOOKUP(Table356[[#Headers],[Epreuve CAO]],'Def. Prix & Parcours'!$I$6:$M$28,4,FALSE)*Table3[[#This Row],[Points Epreuve CAO]]),\"\")","v":0},{"$f":"IF(Table3[[#This Row],[Parcours choisi]]<>\"\",(VLOOKUP(Table356[[#Headers],[Temps Réaction]],'Def. Prix & Parcours'!$I$6:$M$28,4,FALSE)*Table3[[#This Row],[Points Temps Réaction]]),\"\")","v":0},{"$f":"IF(Table3[[#This Row],[Parcours choisi]]<>\"\",(VLOOKUP(Table356[[#Headers],[Temps Course]],'Def. Prix & Parcours'!$I$6:$M$28,4,FALSE)*Table3[[#This Row],[Points Temps Course]]),\"\")","v":0},{"$f":"IF(Table3[[#This Row],[Parcours choisi]]<>\"\",(VLOOKUP(Table356[[#Headers],[Epreuve arrêt au stand]],'Def. Prix & Parcours'!$I$6:$M$28,4,FALSE)*Table3[[#This Row],[Points Epreuve arrêt au stand]]),\"\")","v":0},null,{"$f":"IF(Table3[[#This Row],[Parcours choisi]]<>\"\",SUM(Table3567810[[#This Row],[Ingénierie et conception]:[1]]),\"\")","v":1078},{"$f":"IF(Table3[[#This Row],[Parcours choisi]]<>\"\",_xlfn.RANK.EQ(Table3567810[[#This Row],[Total Marketing et Communication]],Table3567810[Total Marketing et Communication],0),\"\")","v":8}]
[5,{"$f":"IF(Table3[[#This Row],[Nom équipe]]<>\"\",Table3[[#This Row],[Nom équipe]],\"\")","v":"Ionix"},{"$f":"IF(Table3[[#This Row],[Etablissement]]<>\"\",Table3[[#This Row],[Etablissement]],\"\")","v":"Loritz Nancy"},{"$f":"IF(Table3[[#This Row],[Type établissement]]<>\"\",Table3[[#This Row],[Type établissement]],\"\")","v":"L"},{"$f":"IF(Table3[[#This Row],[Académie]]<>\"\",Table3[[#This Row],[Académie]],\"\")","v":"Nancy-Metz"},{"$f":"IF(Table3[[#This Row],[Parcours choisi]]<>\"\",Table3[[#This Row],[Parcours choisi]],\"\")","v":"T"},{"$f":"IF(Table3[[#This Row],[Parcours choisi]]<>\"\",(VLOOKUP(Table356[[#Headers],[Ingénierie et conception]],'Def. Prix & Parcours'!$I$6:$M$28,4,FALSE)*Table3[[#This Row],[Points Ingénierie et conception]]),\"\")","v":28},{"$f":"IF(Table3[[#This Row],[Parcours choisi]]<>\"\",(VLOOKUP(Table356[[#Headers],[Innovation mécanique]],'Def. Prix & Parcours'!$I$6:$M$28,4,FALSE)*Table3[[#This Row],[Points Innovation mécanique]]),\"\")","v":26},{"$f":"IF(Table3[[#This Row],[Parcours choisi]]<>\"\",(VLOOKUP(Table356[[#Headers],[Développement Durable]],'Def. Prix & Parcours'!$I$6:$M$28,4,FALSE)*Table3[[#This Row],[Points Développement Durable]]),\"\")","v":108},{"$f":"IF(Table3[[#This Row],[Parcours choisi]]<>\"\",(VLOOKUP(Table356[[#Headers],[Ingénierie de fabrication]],'Def. Prix & Parcours'!$I$6:$M$28,4,FALSE)*Table3[[#This Row],[Points Ingénierie de fabrication]]),\"\")","v":0},{"$f":"IF(Table3[[#This Row],[Parcours choisi]]<>\"\",(VLOOKUP(Table356[[#Headers],[Gestion de projet et collaborations]],'Def. Prix & Parcours'!$I$6:$M$28,4,FALSE)*Table3[[#This Row],[Points Gestion de projet et \ncollaborations]]),\"\")","v":80},{"$f":"IF(Table3[[#This Row],[Parcours choisi]]<>\"\",(VLOOKUP(Table356[[#Headers],[Présentation Orale]],'Def. Prix & Parcours'!$I$6:$M$28,4,FALSE)*Table3[[#This Row],[Points Présentation Orale]]),\"\")","v":65},{"$f":"IF(Table3[[#This Row],[Parcours choisi]]<>\"\",(VLOOKUP(Table356[[#Headers],[Identité Equipe]],'Def. Prix & Parcours'!$I$6:$M$28,4,FALSE)*Table3[[#This Row],[Points Identité Equipe]]),\"\")","v":55},{"$f":"IF(Table3[[#This Row],[Parcours choisi]]<>\"\",(VLOOKUP(Table356[[#Headers],[Design du Stand]],'Def. Prix & Parcours'!$I$6:$M$28,4,FALSE)*Table3[[#This Row],[Points Design du Stand]]),\"\")","v":96},{"$f":"IF(Table3[[#This Row],[Parcours choisi]]<>\"\",(VLOOKUP(Table356[[#Headers],[Portfolio]],'Def. Prix & Parcours'!$I$6:$M$28,4,FALSE)*Table3[[#This Row],[Points Portfolio]]),\"\")","v":80},{"$f":"IF(Table3[[#This Row],[Parcours choisi]]<>\"\",(VLOOKUP(Table356[[#Headers],[Marketing et Sponsoring]],'Def. Prix & Parcours'!$I$6:$M$28,4,FALSE)*Table3[[#This Row],[Points Marketing et Sponsoring]]),\"\")","v":140},{"$f":"IF(Table3[[#This Row],[Parcours choisi]]<>\"\",(VLOOKUP(Table356[[#Headers],[Budget]],'Def. Prix & Parcours'!$I$6:$M$28,4,FALSE)*Table3[[#This Row],[Points Budget]]),\"\")","v":22},{"$f":"IF(Table3[[#This Row],[Parcours choisi]]<>\"\",(VLOOKUP(Table356[[#Headers],[Design du Véhicule]],'Def. Prix & Parcours'!$I$6:$M$28,4,FALSE)*Table3[[#This Row],[Points Design du Véhicule]]),\"\")","v":28},{"$f":"IF(Table3[[#This Row],[Parcours choisi]]<>\"\",(VLOOKUP(Table356[[#Headers],[Innovation numérique]],'Def. Prix & Parcours'!$I$6:$M$28,4,FALSE)*Table3[[#This Row],[Points Innovation numérique]]),\"\")","v":0},{"$f":"IF(Table3[[#This Row],[Parcours choisi]]<>\"\",(VLOOKUP(Table356[[#Headers],[Programmation]],'Def. Prix & Parcours'!$I$6:$M$28,4,FALSE)*Table3[[#This Row],[Points Programmation]]),\"\")","v":0},{"$f":"IF(Table3[[#This Row],[Parcours choisi]]<>\"\",(VLOOKUP(Table356[[#Headers],[Respect du règlement]],'Def. Prix & Parcours'!$I$6:$M$28,4,FALSE)*Table3[[#This Row],[Points Respect du règlement]]),\"\")","v":100},{"$f":"IF(Table3[[#This Row],[Parcours choisi]]<>\"\",(VLOOKUP(Table356[[#Headers],[Communication : vidéo]],'Def. Prix & Parcours'!$I$6:$M$28,4,FALSE)*Table3[[#This Row],[Points Communication : vidéo]]),\"\")","v":160},{"$f":"IF(Table3[[#This Row],[Parcours choisi]]<>\"\",(VLOOKUP(Table356[[#Headers],[Epreuve CAO]],'Def. Prix & Parcours'!$I$6:$M$28,4,FALSE)*Table3[[#This Row],[Points Epreuve CAO]]),\"\")","v":0},{"$f":"IF(Table3[[#This Row],[Parcours choisi]]<>\"\",(VLOOKUP(Table356[[#Headers],[Temps Réaction]],'Def. Prix & Parcours'!$I$6:$M$28,4,FALSE)*Table3[[#This Row],[Points Temps Réaction]]),\"\")","v":0},{"$f":"IF(Table3[[#This Row],[Parcours choisi]]<>\"\",(VLOOKUP(Table356[[#Headers],[Temps Course]],'Def. Prix & Parcours'!$I$6:$M$28,4,FALSE)*Table3[[#This Row],[Points Temps Course]]),\"\")","v":0},{"$f":"IF(Table3[[#This Row],[Parcours choisi]]<>\"\",(VLOOKUP(Table356[[#Headers],[Epreuve arrêt au stand]],'Def. Prix & Parcours'!$I$6:$M$28,4,FALSE)*Table3[[#This Row],[Points Epreuve arrêt au stand]]),\"\")","v":0},null,{"$f":"IF(Table3[[#This Row],[Parcours choisi]]<>\"\",SUM(Table3567810[[#This Row],[Ingénierie et conception]:[1]]),\"\")","v":988},{"$f":"IF(Table3[[#This Row],[Parcours choisi]]<>\"\",_xlfn.RANK.EQ(Table3567810[[#This Row],[Total Marketing et Communication]],Table3567810[Total Marketing et Communication],0),\"\")","v":15}]
[6,{"$f":"IF(Table3[[#This Row],[Nom équipe]]<>\"\",Table3[[#This Row],[Nom équipe]],\"\")","v":"Pavisado"},{"$f":"IF(Table3[[#This Row],[Etablissement]]<>\"\",Table3[[#This Row],[Etablissement]],\"\")","v":"Loritz Nancy"},{"$f":"IF(Table3[[#This Row],[Type établissement]]<>\"\",Table3[[#This Row],[Type établissement]],\"\")","v":"L"},{"$f":"IF(Table3[[#This Row],[Académie]]<>\"\",Table3[[#This Row],[Académie]],\"\")","v":"Nancy-Metz"},{"$f":"IF(Table3[[#This Row],[Parcours choisi]]<>\"\",Table3[[#This Row],[Parcours choisi]],\"\")","v":"T"},{"$f":"IF(Table3[[#This Row],[Parcours choisi]]<>\"\",(VLOOKUP(Table356[[#Headers],[Ingénierie et conception]],'Def. Prix & Parcours'!$I$6:$M$28,4,FALSE)*Table3[[#This Row],[Points Ingénierie et conception]]),\"\")","v":0},{"$f":"IF(Table3[[#This Row],[Parcours choisi]]<>\"\",(VLOOKUP(Table356[[#Headers],[Innovation mécanique]],'Def. Prix & Parcours'!$I$6:$M$28,4,FALSE)*Table3[[#This Row],[Points Innovation mécanique]]),\"\")","v":0},{"$f":"IF(Table3[[#This Row],[Parcours choisi]]<>\"\",(VLOOKUP(Table356[[#Headers],[Développement Durable]],'Def. Prix & Parcours'!$I$6:$M$28,4,FALSE)*Table3[[#This Row],[Points Développement Durable]]),\"\")","v":0},{"$f":"IF(Table3[[#This Row],[Parcours choisi]]<>\"\",(VLOOKUP(Table356[[#Headers],[Ingénierie de fabrication]],'Def. Prix & Parcours'!$I$6:$M$28,4,FALSE)*Table3[[#This Row],[Points Ingénierie de fabrication]]),\"\")","v":0},{"$f":"IF(Table3[[#This Row],[Parcours choisi]]<>\"\",(VLOOKUP(Table356[[#Headers],[Gestion de projet et collaborations]],'Def. Prix & Parcours'!$I$6:$M$28,4,FALSE)*Table3[[#This Row],[Points Gestion de projet et \ncollaborations]]),\"\")","v":0},{"$f":"IF(Table3[[#This Row],[Parcours choisi]]<>\"\",(VLOOKUP(Table356[[#Headers],[Présentation Orale]],'Def. Prix & Parcours'!$I$6:$M$28,4,FALSE)*Table3[[#This Row],[Points Présentation Orale]]),\"\")","v":0},{"$f":"IF(Table3[[#This Row],[Parcours choisi]]<>\"\",(VLOOKUP(Table356[[#Headers],[Identité Equipe]],'Def. Prix & Parcours'!$I$6:$M$28,4,FALSE)*Table3[[#This Row],[Points Identité Equipe]]),\"\")","v":0},{"$f":"IF(Table3[[#This Row],[Parcours choisi]]<>\"\",(VLOOKUP(Table356[[#Headers],[Design du Stand]],'Def. Prix & Parcours'!$I$6:$M$28,4,FALSE)*Table3[[#This Row],[Points Design du Stand]]),\"\")","v":0},{"$f":"IF(Table3[[#This Row],[Parcours choisi]]<>\"\",(VLOOKUP(Table356[[#Headers],[Portfolio]],'Def. Prix & Parcours'!$I$6:$M$28,4,FALSE)*Table3[[#This Row],[Points Portfolio]]),\"\")","v":0},{"$f":"IF(Table3[[#This Row],[Parcours choisi]]<>\"\",(VLOOKUP(Table356[[#Headers],[Marketing et Sponsoring]],'Def. Prix & Parcours'!$I$6:$M$28,4,FALSE)*Table3[[#This Row],[Points Marketing et Sponsoring]]),\"\")","v":0},{"$f":"IF(Table3[[#This Row],[Parcours choisi]]<>\"\",(VLOOKUP(Table356[[#Headers],[Budget]],'Def. Prix & Parcours'!$I$6:$M$28,4,FALSE)*Table3[[#This Row],[Points Budget]]),\"\")","v":0},{"$f":"IF(Table3[[#This Row],[Parcours choisi]]<>\"\",(VLOOKUP(Table356[[#Headers],[Design du Véhicule]],'Def. Prix & Parcours'!$I$6:$M$28,4,FALSE)*Table3[[#This Row],[Points Design du Véhicule]]),\"\")","v":0},{"$f":"IF(Table3[[#This Row],[Parcours choisi]]<>\"\",(VLOOKUP(Table356[[#Headers],[Innovation numérique]],'Def. Prix & Parcours'!$I$6:$M$28,4,FALSE)*Table3[[#This Row],[Points Innovation numérique]]),\"\")","v":0},{"$f":"IF(Table3[[#This Row],[Parcours choisi]]<>\"\",(VLOOKUP(Table356[[#Headers],[Programmation]],'Def. Prix & Parcours'!$I$6:$M$28,4,FALSE)*Table3[[#This Row],[Points Programmation]]),\"\")","v":0},{"$f":"IF(Table3[[#This Row],[Parcours choisi]]<>\"\",(VLOOKUP(Table356[[#Headers],[Respect du règlement]],'Def. Prix & Parcours'!$I$6:$M$28,4,FALSE)*Table3[[#This Row],[Points Respect du règlement]]),\"\")","v":0},{"$f":"IF(Table3[[#This Row],[Parcours choisi]]<>\"\",(VLOOKUP(Table356[[#Headers],[Communication : vidéo]],'Def. Prix & Parcours'!$I$6:$M$28,4,FALSE)*Table3[[#This Row],[Points Communication : vidéo]]),\"\")","v":0},{"$f":"IF(Table3[[#This Row],[Parcours choisi]]<>\"\",(VLOOKUP(Table356[[#Headers],[Epreuve CAO]],'Def. Prix & Parcours'!$I$6:$M$28,4,FALSE)*Table3[[#This Row],[Points Epreuve CAO]]),\"\")","v":0},{"$f":"IF(Table3[[#This Row],[Parcours choisi]]<>\"\",(VLOOKUP(Table356[[#Headers],[Temps Réaction]],'Def. Prix & Parcours'!$I$6:$M$28,4,FALSE)*Table3[[#This Row],[Points Temps Réaction]]),\"\")","v":0},{"$f":"IF(Table3[[#This Row],[Parcours choisi]]<>\"\",(VLOOKUP(Table356[[#Headers],[Temps Course]],'Def. Prix & Parcours'!$I$6:$M$28,4,FALSE)*Table3[[#This Row],[Points Temps Course]]),\"\")","v":0},{"$f":"IF(Table3[[#This Row],[Parcours choisi]]<>\"\",(VLOOKUP(Table356[[#Headers],[Epreuve arrêt au stand]],'Def. Prix & Parcours'!$I$6:$M$28,4,FALSE)*Table3[[#This Row],[Points Epreuve arrêt au stand]]),\"\")","v":0},null,{"$f":"IF(Table3[[#This Row],[Parcours choisi]]<>\"\",SUM(Table3567810[[#This Row],[Ingénierie et conception]:[1]]),\"\")","v":0},{"$f":"IF(Table3[[#This Row],[Parcours choisi]]<>\"\",_xlfn.RANK.EQ(Table3567810[[#This Row],[Total Marketing et Communication]],Table3567810[Total Marketing et Communication],0),\"\")","v":26}]
[7,{"$f":"IF(Table3[[#This Row],[Nom équipe]]<>\"\",Table3[[#This Row],[Nom équipe]],\"\")","v":"Les Toucaninos"},{"$f":"IF(Table3[[#This Row],[Etablissement]]<>\"\",Table3[[#This Row],[Etablissement]],\"\")","v":"Jean Lamour Nancy"},{"$f":"IF(Table3[[#This Row],[Type établissement]]<>\"\",Table3[[#This Row],[Type établissement]],\"\")","v":"C"},{"$f":"IF(Table3[[#This Row],[Académie]]<>\"\",Table3[[#This Row],[Académie]],\"\")","v":"Nancy-Metz"},{"$f":"IF(Table3[[#This Row],[Parcours choisi]]<>\"\",Table3[[#This Row],[Parcours choisi]],\"\")","v":"G"},{"$f":"IF(Table3[[#This Row],[Parcours choisi]]<>\"\",(VLOOKUP(Table356[[#Headers],[Ingénierie et conception]],'Def. Prix & Parcours'!$I$6:$M$28,4,FALSE)*Table3[[#This Row],[Points Ingénierie et conception]]),\"\")","v":36},{"$f":"IF(Table3[[#This Row],[Parcours choisi]]<>\"\",(VLOOKUP(Table356[[#Headers],[Innovation mécanique]],'Def. Prix & Parcours'!$I$6:$M$28,4,FALSE)*Table3[[#This Row],[Points Innovation mécanique]]),\"\")","v":34},{"$f":"IF(Table3[[#This Row],[Parcours choisi]]<>\"\",(VLOOKUP(Table356[[#Headers],[Développement Durable]],'Def. Prix & Parcours'!$I$6:$M$28,4,FALSE)*Table3[[#This Row],[Points Développement Durable]]),\"\")","v":114},{"$f":"IF(Table3[[#This Row],[Parcours choisi]]<>\"\",(VLOOKUP(Table356[[#Headers],[Ingénierie de fabrication]],'Def. Prix & Parcours'!$I$6:$M$28,4,FALSE)*Table3[[#This Row],[Points Ingénierie de fabrication]]),\"\")","v":0},{"$f":"IF(Table3[[#This Row],[Parcours choisi]]<>\"\",(VLOOKUP(Table356[[#Headers],[Gestion de projet et collaborations]],'Def. Prix & Parcours'!$I$6:$M$28,4,FALSE)*Table3[[#This Row],[Points Gestion de projet et \ncollaborations]]),\"\")","v":95},{"$f":"IF(Table3[[#This Row],[Parcours choisi]]<>\"\",(VLOOKUP(Table356[[#Headers],[Présentation Orale]],'Def. Prix & Parcours'!$I$6:$M$28,4,FALSE)*Table3[[#This Row],[Points Présentation Orale]]),\"\")","v":95},{"$f":"IF(Table3[[#This Row],[Parcours choisi]]<>\"\",(VLOOKUP(Table356[[#Headers],[Identité Equipe]],'Def. Prix & Parcours'!$I$6:$M$28,4,FALSE)*Table3[[#This Row],[Points Identité Equipe]]),\"\")","v":75},{"$f":"IF(Table3[[#This Row],[Parcours choisi]]<>\"\",(VLOOKUP(Table356[[#Headers],[Design du Stand]],'Def. Prix & Parcours'!$I$6:$M$28,4,FALSE)*Table3[[#This Row],[Points Design du Stand]]),\"\")","v":120},{"$f":"IF(Table3[[#This Row],[Parcours choisi]]<>\"\",(VLOOKUP(Table356[[#Headers],[Portfolio]],'Def. Prix & Parcours'!$I$6:$M$28,4,FALSE)*Table3[[#This Row],[Points Portfolio]]),\"\")","v":64},{"$f":"IF(Table3[[#This Row],[Parcours choisi]]<>\"\",(VLOOKUP(Table356[[#Headers],[Marketing et Sponsoring]],'Def. Prix & Parcours'!$I$6:$M$28,4,FALSE)*Table3[[#This Row],[Points Marketing et Sponsoring]]),\"\")","v":130},{"$f":"IF(Table3[[#This Row],[Parcours choisi]]<>\"\",(VLOOKUP(Table356[[#Headers],[Budget]],'Def. Prix & Parcours'!$I$6:$M$28,4,FALSE)*Table3[[#This Row],[Points Budget]]),\"\")","v":32},{"$f":"IF(Table3[[#This Row],[Parcours choisi]]<>\"\",(VLOOKUP(Table356[[#Headers],[Design du Véhicule]],'Def. Prix & Parcours'!$I$6:$M$28,4,FALSE)*Table3[[#This Row],[Points Design du Véhicule]]),\"\")","v":32},{"$f":"IF(Table3[[#This Row],[Parcours choisi]]<>\"\",(VLOOKUP(Table356[[#Headers],[Innovation numérique]],'Def. Prix & Parcours'!$I$6:$M$28,4,FALSE)*Table3[[#This Row],[Points Innovation numérique]]),\"\")","v":0},{"$f":"IF(Table3[[#This Row],[Parcours choisi]]<>\"\",(VLOOKUP(Table356[[#Headers],[Programmation]],'Def. Prix & Parcours'!$I$6:$M$28,4,FALSE)*Table3[[#This Row],[Points Programmation]]),\"\")","v":0},{"$f":"IF(Table3[[#This Row],[Parcours choisi]]<>\"\",(VLOOKUP(Table356[[#Headers],[Respect du règlement]],'Def. Prix & Parcours'!$I$6:$M$28,4,FALSE)*Table3[[#This Row],[Points Respect du règlement]]),\"\")","v":70},{"$f":"IF(Table3[[#This Row],[Parcours choisi]]<>\"\",(VLOOKUP(Table356[[#Headers],[Communication : vidéo]],'Def. Prix & Parcours'!$I$6:$M$28,4,FALSE)*Table3[[#This Row],[Points Communication : vidéo]]),\"\")","v":140},{"$f":"IF(Table3[[#This Row],[Parcours choisi]]<>\"\",(VLOOKUP(Table356[[#Headers],[Epreuve CAO]],'Def. Prix & Parcours'!$I$6:$M$28,4,FALSE)*Table3[[#This Row],[Points Epreuve CAO]]),\"\")","v":0},{"$f":"IF(Table3[[#This Row],[Parcours choisi]]<>\"\",(VLOOKUP(Table356[[#Headers],[Temps Réaction]],'Def. Prix & Parcours'!$I$6:$M$28,4,FALSE)*Table3[[#This Row],[Points Temps Réaction]]),\"\")","v":0},{"$f":"IF(Table3[[#This Row],[Parcours choisi]]<>\"\",(VLOOKUP(Table356[[#Headers],[Temps Course]],'Def. Prix & Parcours'!$I$6:$M$28,4,FALSE)*Table3[[#This Row],[Points Temps Course]]),\"\")","v":0},{"$f":"IF(Table3[[#This Row],[Parcours choisi]]<>\"\",(VLOOKUP(Table356[[#Headers],[Epreuve arrêt au stand]],'Def. Prix & Parcours'!$I$6:$M$28,4,FALSE)*Table3[[#This Row],[Points Epreuve arrêt au stand]]),\"\")","v":0},null,{"$f":"IF(Table3[[#This Row],[Parcours choisi]]<>\"\",SUM(Table3567810[[#This Row],[Ingénierie et conception]:[1]]),\"\")","v":1037},{"$f":"IF(Table3[[#This Row],[Parcours choisi]]<>\"\",_xlfn.RANK.EQ(Table3567810[[#This Row],[Total Marketing et Communication]],Table3567810[Total Marketing et Communication],0),\"\")","v":11}]
[8,{"$f":"IF(Table3[[#This Row],[Nom équipe]]<>\"\",Table3[[#This Row],[Nom équipe]],\"\")","v":"Les Daltram"},{"$f":"IF(Table3[[#This Row],[Etablissement]]<>\"\",Table3[[#This Row],[Etablissement]],\"\")","v":"Jean Lamour Nancy"},{"$f":"IF(Table3[[#This Row],[Type établissement]]<>\"\",Table3[[#This Row],[Type établissement]],\"\")","v":"C"},{"$f":"IF(Table3[[#This Row],[Académie]]<>\"\",Table3[[#This Row],[Académie]],\"\")","v":"Nancy-Metz"},{"$f":"IF(Table3[[#This Row],[Parcours choisi]]<>\"\",Table3[[#This Row],[Parcours choisi]],\"\")","v":"G"},{"$f":"IF(Table3[[#This Row],[Parcours choisi]]<>\"\",(VLOOKUP(Table356[[#Headers],[Ingénierie et conception]],'Def. Prix & Parcours'!$I$6:$M$28,4,FALSE)*Table3[[#This Row],[Points Ingénierie et conception]]),\"\")","v":30},{"$f":"IF(Table3[[#This Row],[Parcours choisi]]<>\"\",(VLOOKUP(Table356[[#Headers],[Innovation mécanique]],'Def. Prix & Parcours'!$I$6:$M$28,4,FALSE)*Table3[[#This Row],[Points Innovation mécanique]]),\"\")","v":26},{"$f":"IF(Table3[[#This Row],[Parcours choisi]]<>\"\",(VLOOKUP(Table356[[#Headers],[Développement Durable]],'Def. Prix & Parcours'!$I$6:$M$28,4,FALSE)*Table3[[#This Row],[Points Développement Durable]]),\"\")","v":72},{"$f":"IF(Table3[[#This Row],[Parcours choisi]]<>\"\",(VLOOKUP(Table356[[#Headers],[Ingénierie de fabrication]],'Def. Prix & Parcours'!$I$6:$M$28,4,FALSE)*Table3[[#This Row],[Points Ingénierie de fabrication]]),\"\")","v":0},{"$f":"IF(Table3[[#This Row],[Parcours choisi]]<>\"\",(VLOOKUP(Table356[[#Headers],[Gestion de projet et collaborations]],'Def. Prix & Parcours'!$I$6:$M$28,4,FALSE)*Table3[[#This Row],[Points Gestion de projet et \ncollaborations]]),\"\")","v":70},{"$f":"IF(Table3[[#This Row],[Parcours choisi]]<>\"\",(VLOOKUP(Table356[[#Headers],[Présentation Orale]],'Def. Prix & Parcours'!$I$6:$M$28,4,FALSE)*Table3[[#This Row],[Points Présentation Orale]]),\"\")","v":85},{"$f":"IF(Table3[[#This Row],[Parcours choisi]]<>\"\",(VLOOKUP(Table356[[#Headers],[Identité Equipe]],'Def. Prix & Parcours'!$I$6:$M$28,4,FALSE)*Table3[[#This Row],[Points Identité Equipe]]),\"\")","v":90},{"$f":"IF(Table3[[#This Row],[Parcours choisi]]<>\"\",(VLOOKUP(Table356[[#Headers],[Design du Stand]],'Def. Prix & Parcours'!$I$6:$M$28,4,FALSE)*Table3[[#This Row],[Points Design du Stand]]),\"\")","v":120},{"$f":"IF(Table3[[#This Row],[Parcours choisi]]<>\"\",(VLOOKUP(Table356[[#Headers],[Portfolio]],'Def. Prix & Parcours'!$I$6:$M$28,4,FALSE)*Table3[[#This Row],[Points Portfolio]]),\"\")","v":112},{"$f":"IF(Table3[[#This Row],[Parcours choisi]]<>\"\",(VLOOKUP(Table356[[#Headers],[Marketing et Sponsoring]],'Def. Prix & Parcours'!$I$6:$M$28,4,FALSE)*Table3[[#This Row],[Points Marketing et Sponsoring]]),\"\")","v":130},{"$f":"IF(Table3[[#This Row],[Parcours choisi]]<>\"\",(VLOOKUP(Table356[[#Headers],[Budget]],'Def. Prix & Parcours'!$I$6:$M$28,4,FALSE)*Table3[[#This Row],[Points Budget]]),\"\")","v":32},{"$f":"IF(Table3[[#This Row],[Parcours choisi]]<>\"\",(VLOOKUP(Table356[[#Headers],[Design du Véhicule]],'Def. Prix & Parcours'!$I$6:$M$28,4,FALSE)*Table3[[#This Row],[Points Design du Véhicule]]),\"\")","v":34},{"$f":"IF(Table3[[#This Row],[Parcours choisi]]<>\"\",(VLOOKUP(Table356[[#Headers],[Innovation numérique]],'Def. Prix & Parcours'!$I$6:$M$28,4,FALSE)*Table3[[#This Row],[Points Innovation numérique]]),\"\")","v":0},{"$f":"IF(Table3[[#This Row],[Parcours choisi]]<>\"\",(VLOOKUP(Table356[[#Headers],[Programmation]],'Def. Prix & Parcours'!$I$6:$M$28,4,FALSE)*Table3[[#This Row],[Points Programmation]]),\"\")","v":0},{"$f":"IF(Table3[[#This Row],[Parcours choisi]]<>\"\",(VLOOKUP(Table356[[#Headers],[Respect du règlement]],'Def. Prix & Parcours'!$I$6:$M$28,4,FALSE)*Table3[[#This Row],[Points Respect du règlement]]),\"\")","v":100},{"$f":"IF(Table3[[#This Row],[Parcours choisi]]<>\"\",(VLOOKUP(Table356[[#Headers],[Communication : vidéo]],'Def. Prix & Parcours'!$I$6:$M$28,4,FALSE)*Table3[[#This Row],[Points Communication : vidéo]]),\"\")","v":170},{"$f":"IF(Table3[[#This Row],[Parcours choisi]]<>\"\",(VLOOKUP(Table356[[#Headers],[Epreuve CAO]],'Def. Prix & Parcours'!$I$6:$M$28,4,FALSE)*Table3[[#This Row],[Points Epreuve CAO]]),\"\")","v":0},{"$f":"IF(Table3[[#This Row],[Parcours choisi]]<>\"\",(VLOOKUP(Table356[[#Headers],[Temps Réaction]],'Def. Prix & Parcours'!$I$6:$M$28,4,FALSE)*Table3[[#This Row],[Points Temps Réaction]]),\"\")","v":0},{"$f":"IF(Table3[[#This Row],[Parcours choisi]]<>\"\",(VLOOKUP(Table356[[#Headers],[Temps Course]],'Def. Prix & Parcours'!$I$6:$M$28,4,FALSE)*Table3[[#This Row],[Points Temps Course]]),\"\")","v":0},{"$f":"IF(Table3[[#This Row],[Parcours choisi]]<>\"\",(VLOOKUP(Table356[[#Headers],[Epreuve arrêt au stand]],'Def. Prix & Parcours'!$I$6:$M$28,4,FALSE)*Table3[[#This Row],[Points Epreuve arrêt au stand]]),\"\")","v":0},null,{"$f":"IF(Table3[[#This Row],[Parcours choisi]]<>\"\",SUM(Table3567810[[#This Row],[Ingénierie et conception]:[1]]),\"\")","v":1071},{"$f":"IF(Table3[[#This Row],[Parcours choisi]]<>\"\",_xlfn.RANK.EQ(Table3567810[[#This Row],[Total Marketing et Communication]],Table3567810[Total Marketing et Communication],0),\"\")","v":9}]
[9,{"$f":"IF(Table3[[#This Row],[Nom équipe]]<>\"\",Table3[[#This Row],[Nom équipe]],\"\")","v":"Droit devant"},{"$f":"IF(Table3[[#This Row],[Etablissement]]<>\"\",Table3[[#This Row],[Etablissement]],\"\")","v":"Boutet Lunéville"},{"$f":"IF(Table3[[#This Row],[Type établissement]]<>\"\",Table3[[#This Row],[Type établissement]],\"\")","v":"L"},{"$f":"IF(Table3[[#This Row],[Académie]]<>\"\",Table3[[#This Row],[Académie]],\"\")","v":"Nancy-Metz"},{"$f":"IF(Table3[[#This Row],[Parcours choisi]]<>\"\",Table3[[#This Row],[Parcours choisi]],\"\")","v":"T"},{"$f":"IF(Table3[[#This Row],[Parcours choisi]]<>\"\",(VLOOKUP(Table356[[#Headers],[Ingénierie et conception]],'Def. Prix & Parcours'!$I$6:$M$28,4,FALSE)*Table3[[#This Row],[Points Ingénierie et conception]]),\"\")","v":0},{"$f":"IF(Table3[[#This Row],[Parcours choisi]]<>\"\",(VLOOKUP(Table356[[#Headers],[Innovation mécanique]],'Def. Prix & Parcours'!$I$6:$M$28,4,FALSE)*Table3[[#This Row],[Points Innovation mécanique]]),\"\")","v":0},{"$f":"IF(Table3[[#This Row],[Parcours choisi]]<>\"\",(VLOOKUP(Table356[[#Headers],[Développement Durable]],'Def. Prix & Parcours'!$I$6:$M$28,4,FALSE)*Table3[[#This Row],[Points Développement Durable]]),\"\")","v":0},{"$f":"IF(Table3[[#This Row],[Parcours choisi]]<>\"\",(VLOOKUP(Table356[[#Headers],[Ingénierie de fabrication]],'Def. Prix & Parcours'!$I$6:$M$28,4,FALSE)*Table3[[#This Row],[Points Ingénierie de fabrication]]),\"\")","v":0},{"$f":"IF(Table3[[#This Row],[Parcours choisi]]<>\"\",(VLOOKUP(Table356[[#Headers],[Gestion de projet et collaborations]],'Def. Prix & Parcours'!$I$6:$M$28,4,FALSE)*Table3[[#This Row],[Points Gestion de projet et \ncollaborations]]),\"\")","v":0},{"$f":"IF(Table3[[#This Row],[Parcours choisi]]<>\"\",(VLOOKUP(Table356[[#Headers],[Présentation Orale]],'Def. Prix & Parcours'!$I$6:$M$28,4,FALSE)*Table3[[#This Row],[Points Présentation Orale]]),\"\")","v":0},{"$f":"IF(Table3[[#This Row],[Parcours choisi]]<>\"\",(VLOOKUP(Table356[[#Headers],[Identité Equipe]],'Def. Prix & Parcours'!$I$6:$M$28,4,FALSE)*Table3[[#This Row],[Points Identité Equipe]]),\"\")","v":0},{"$f":"IF(Table3[[#This Row],[Parcours choisi]]<>\"\",(VLOOKUP(Table356[[#Headers],[Design du Stand]],'Def. Prix & Parcours'!$I$6:$M$28,4,FALSE)*Table3[[#This Row],[Points Design du Stand]]),\"\")","v":0},{"$f":"IF(Table3[[#This Row],[Parcours choisi]]<>\"\",(VLOOKUP(Table356[[#Headers],[Portfolio]],'Def. Prix & Parcours'!$I$6:$M$28,4,FALSE)*Table3[[#This Row],[Points Portfolio]]),\"\")","v":0},{"$f":"IF(Table3[[#This Row],[Parcours choisi]]<>\"\",(VLOOKUP(Table356[[#Headers],[Marketing et Sponsoring]],'Def. Prix & Parcours'!$I$6:$M$28,4,FALSE)*Table3[[#This Row],[Points Marketing et Sponsoring]]),\"\")","v":0},{"$f":"IF(Table3[[#This Row],[Parcours choisi]]<>\"\",(VLOOKUP(Table356[[#Headers],[Budget]],'Def. Prix & Parcours'!$I$6:$M$28,4,FALSE)*Table3[[#This Row],[Points Budget]]),\"\")","v":0},{"$f":"IF(Table3[[#This Row],[Parcours choisi]]<>\"\",(VLOOKUP(Table356[[#Headers],[Design du Véhicule]],'Def. Prix & Parcours'!$I$6:$M$28,4,FALSE)*Table3[[#This Row],[Points Design du Véhicule]]),\"\")","v":0},{"$f":"IF(Table3[[#This Row],[Parcours choisi]]<>\"\",(VLOOKUP(Table356[[#Headers],[Innovation numérique]],'Def. Prix & Parcours'!$I$6:$M$28,4,FALSE)*Table3[[#This Row],[Points Innovation numérique]]),\"\")","v":0},{"$f":"IF(Table3[[#This Row],[Parcours choisi]]<>\"\",(VLOOKUP(Table356[[#Headers],[Programmation]],'Def. Prix & Parcours'!$I$6:$M$28,4,FALSE)*Table3[[#This Row],[Points Programmation]]),\"\")","v":0},{"$f":"IF(Table3[[#This Row],[Parcours choisi]]<>\"\",(VLOOKUP(Table356[[#Headers],[Respect du règlement]],'Def. Prix & Parcours'!$I$6:$M$28,4,FALSE)*Table3[[#This Row],[Points Respect du règlement]]),\"\")","v":0},{"$f":"IF(Table3[[#This Row],[Parcours choisi]]<>\"\",(VLOOKUP(Table356[[#Headers],[Communication : vidéo]],'Def. Prix & Parcours'!$I$6:$M$28,4,FALSE)*Table3[[#This Row],[Points Communication : vidéo]]),\"\")","v":0},{"$f":"IF(Table3[[#This Row],[Parcours choisi]]<>\"\",(VLOOKUP(Table356[[#Headers],[Epreuve CAO]],'Def. Prix & Parcours'!$I$6:$M$28,4,FALSE)*Table3[[#This Row],[Points Epreuve CAO]]),\"\")","v":0},{"$f":"IF(Table3[[#This Row],[Parcours choisi]]<>\"\",(VLOOKUP(Table356[[#Headers],[Temps Réaction]],'Def. Prix & Parcours'!$I$6:$M$28,4,FALSE)*Table3[[#This Row],[Points Temps Réaction]]),\"\")","v":0},{"$f":"IF(Table3[[#This Row],[Parcours choisi]]<>\"\",(VLOOKUP(Table356[[#Headers],[Temps Course]],'Def. Prix & Parcours'!$I$6:$M$28,4,FALSE)*Table3[[#This Row],[Points Temps Course]]),\"\")","v":0},{"$f":"IF(Table3[[#This Row],[Parcours choisi]]<>\"\",(VLOOKUP(Table356[[#Headers],[Epreuve arrêt au stand]],'Def. Prix & Parcours'!$I$6:$M$28,4,FALSE)*Table3[[#This Row],[Points Epreuve arrêt au stand]]),\"\")","v":0},null,{"$f":"IF(Table3[[#This Row],[Parcours choisi]]<>\"\",SUM(Table3567810[[#This Row],[Ingénierie et conception]:[1]]),\"\")","v":0},{"$f":"IF(Table3[[#This Row],[Parcours choisi]]<>\"\",_xlfn.RANK.EQ(Table3567810[[#This Row],[Total Marketing et Communication]],Table3567810[Total Marketing et Communication],0),\"\")","v":26}]
[10,{"$f":"IF(Table3[[#This Row],[Nom équipe]]<>\"\",Table3[[#This Row],[Nom équipe]],\"\")","v":"Space-hat"},{"$f":"IF(Table3[[#This Row],[Etablissement]]<>\"\",Table3[[#This Row],[Etablissement]],\"\")","v":"Boutet Lunéville"},{"$f":"IF(Table3[[#This Row],[Type établissement]]<>\"\",Table3[[#This Row],[Type établissement]],\"\")","v":"L"},{"$f":"IF(Table3[[#This Row],[Académie]]<>\"\",Table3[[#This Row],[Académie]],\"\")","v":"Nancy-Metz"},{"$f":"IF(Table3[[#This Row],[Parcours choisi]]<>\"\",Table3[[#This Row],[Parcours choisi]],\"\")","v":"T"},{"$f":"IF(Table3[[#This Row],[Parcours choisi]]<>\"\",(VLOOKUP(Table356[[#Headers],[Ingénierie et conception]],'Def. Prix & Parcours'!$I$6:$M$28,4,FALSE)*Table3[[#This Row],[Points Ingénierie et conception]]),\"\")","v":26},{"$f":"IF(Table3[[#This Row],[Parcours choisi]]<>\"\",(VLOOKUP(Table356[[#Headers],[Innovation mécanique]],'Def. Prix & Parcours'!$I$6:$M$28,4,FALSE)*Table3[[#This Row],[Points Innovation mécanique]]),\"\")","v":28},{"$f":"IF(Table3[[#This Row],[Parcours choisi]]<>\"\",(VLOOKUP(Table356[[#Headers],[Développement Durable]],'Def. Prix & Parcours'!$I$6:$M$28,4,FALSE)*Table3[[#This Row],[Points Développement Durable]]),\"\")","v":96},{"$f":"IF(Table3[[#This Row],[Parcours choisi]]<>\"\",(VLOOKUP(Table356[[#Headers],[Ingénierie de fabrication]],'Def. Prix & Parcours'!$I$6:$M$28,4,FALSE)*Table3[[#This Row],[Points Ingénierie de fabrication]]),\"\")","v":0},{"$f":"IF(Table3[[#This Row],[Parcours choisi]]<>\"\",(VLOOKUP(Table356[[#Headers],[Gestion de projet et collaborations]],'Def. Prix & Parcours'!$I$6:$M$28,4,FALSE)*Table3[[#This Row],[Points Gestion de projet et \ncollaborations]]),\"\")","v":60},{"$f":"IF(Table3[[#This Row],[Parcours choisi]]<>\"\",(VLOOKUP(Table356[[#Headers],[Présentation Orale]],'Def. Prix & Parcours'!$I$6:$M$28,4,FALSE)*Table3[[#This Row],[Points Présentation Orale]]),\"\")","v":60},{"$f":"IF(Table3[[#This Row],[Parcours choisi]]<>\"\",(VLOOKUP(Table356[[#Headers],[Identité Equipe]],'Def. Prix & Parcours'!$I$6:$M$28,4,FALSE)*Table3[[#This Row],[Points Identité Equipe]]),\"\")","v":85},{"$f":"IF(Table3[[#This Row],[Parcours choisi]]<>\"\",(VLOOKUP(Table356[[#Headers],[Design du Stand]],'Def. Prix & Parcours'!$I$6:$M$28,4,FALSE)*Table3[[#This Row],[Points Design du Stand]]),\"\")","v":128},{"$f":"IF(Table3[[#This Row],[Parcours choisi]]<>\"\",(VLOOKUP(Table356[[#Headers],[Portfolio]],'Def. Prix & Parcours'!$I$6:$M$28,4,FALSE)*Table3[[#This Row],[Points Portfolio]]),\"\")","v":104},{"$f":"IF(Table3[[#This Row],[Parcours choisi]]<>\"\",(VLOOKUP(Table356[[#Headers],[Marketing et Sponsoring]],'Def. Prix & Parcours'!$I$6:$M$28,4,FALSE)*Table3[[#This Row],[Points Marketing et Sponsoring]]),\"\")","v":120},{"$f":"IF(Table3[[#This Row],[Parcours choisi]]<>\"\",(VLOOKUP(Table356[[#Headers],[Budget]],'Def. Prix & Parcours'!$I$6:$M$28,4,FALSE)*Table3[[#This Row],[Points Budget]]),\"\")","v":24},{"$f":"IF(Table3[[#This Row],[Parcours choisi]]<>\"\",(VLOOKUP(Table356[[#Headers],[Design du Véhicule]],'Def. Prix & Parcours'!$I$6:$M$28,4,FALSE)*Table3[[#This Row],[Points Design du Véhicule]]),\"\")","v":30},{"$f":"IF(Table3[[#This Row],[Parcours choisi]]<>\"\",(VLOOKUP(Table356[[#Headers],[Innovation numérique]],'Def. Prix & Parcours'!$I$6:$M$28,4,FALSE)*Table3[[#This Row],[Points Innovation numérique]]),\"\")","v":0},{"$f":"IF(Table3[[#This Row],[Parcours choisi]]<>\"\",(VLOOKUP(Table356[[#Headers],[Programmation]],'Def. Prix & Parcours'!$I$6:$M$28,4,FALSE)*Table3[[#This Row],[Points Programmation]]),\"\")","v":0},{"$f":"IF(Table3[[#This Row],[Parcours choisi]]<>\"\",(VLOOKUP(Table356[[#Headers],[Respect du règlement]],'Def. Prix & Parcours'!$I$6:$M$28,4,FALSE)*Table3[[#This Row],[Points Respect du règlement]]),\"\")","v":95},{"$f":"IF(Table3[[#This Row],[Parcours choisi]]<>\"\",(VLOOKUP(Table356[[#Headers],[Communication : vidéo]],'Def. Prix & Parcours'!$I$6:$M$28,4,FALSE)*Table3[[#This Row],[Points Communication : vidéo]]),\"\")","v":150},{"$f":"IF(Table3[[#This Row],[Parcours choisi]]<>\"\",(VLOOKUP(Table356[[#Headers],[Epreuve CAO]],'Def. Prix & Parcours'!$I$6:$M$28,4,FALSE)*Table3[[#This Row],[Points Epreuve CAO]]),\"\")","v":0},{"$f":"IF(Table3[[#This Row],[Parcours choisi]]<>\"\",(VLOOKUP(Table356[[#Headers],[Temps Réaction]],'Def. Prix & Parcours'!$I$6:$M$28,4,FALSE)*Table3[[#This Row],[Points Temps Réaction]]),\"\")","v":0},{"$f":"IF(Table3[[#This Row],[Parcours choisi]]<>\"\",(VLOOKUP(Table356[[#Headers],[Temps Course]],'Def. Prix & Parcours'!$I$6:$M$28,4,FALSE)*Table3[[#This Row],[Points Temps Course]]),\"\")","v":0},{"$f":"IF(Table3[[#This Row],[Parcours choisi]]<>\"\",(VLOOKUP(Table356[[#Headers],[Epreuve arrêt au stand]],'Def. Prix & Parcours'!$I$6:$M$28,4,FALSE)*Table3[[#This Row],[Points Epreuve arrêt au stand]]),\"\")","v":0},null,{"$f":"IF(Table3[[#This Row],[Parcours choisi]]<>\"\",SUM(Table3567810[[#This Row],[Ingénierie et conception]:[1]]),\"\")","v":1006},{"$f":"IF(Table3[[#This Row],[Parcours choisi]]<>\"\",_xlfn.RANK.EQ(Table3567810[[#This Row],[Total Marketing et Communication]],Table3567810[Total Marketing et Communication],0),\"\")","v":14}]
[11,{"$f":"IF(Table3[[#This Row],[Nom équipe]]<>\"\",Table3[[#This Row],[Nom équipe]],\"\")","v":"Molécuisto"},{"$f":"IF(Table3[[#This Row],[Etablissement]]<>\"\",Table3[[#This Row],[Etablissement]],\"\")","v":"Bichat Lunéville"},{"$f":"IF(Table3[[#This Row],[Type établissement]]<>\"\",Table3[[#This Row],[Type établissement]],\"\")","v":"C"},{"$f":"IF(Table3[[#This Row],[Académie]]<>\"\",Table3[[#This Row],[Académie]],\"\")","v":"Nancy-Metz"},{"$f":"IF(Table3[[#This Row],[Parcours choisi]]<>\"\",Table3[[#This Row],[Parcours choisi]],\"\")","v":"G"},{"$f":"IF(Table3[[#This Row],[Parcours choisi]]<>\"\",(VLOOKUP(Table356[[#Headers],[Ingénierie et conception]],'Def. Prix & Parcours'!$I$6:$M$28,4,FALSE)*Table3[[#This Row],[Points Ingénierie et conception]]),\"\")","v":26},{"$f":"IF(Table3[[#This Row],[Parcours choisi]]<>\"\",(VLOOKUP(Table356[[#Headers],[Innovation mécanique]],'Def. Prix & Parcours'!$I$6:$M$28,4,FALSE)*Table3[[#This Row],[Points Innovation mécanique]]),\"\")","v":28},{"$f":"IF(Table3[[#This Row],[Parcours choisi]]<>\"\",(VLOOKUP(Table356[[#Headers],[Développement Durable]],'Def. Prix & Parcours'!$I$6:$M$28,4,FALSE)*Table3[[#This Row],[Points Développement Durable]]),\"\")","v":66},{"$f":"IF(Table3[[#This Row],[Parcours choisi]]<>\"\",(VLOOKUP(Table356[[#Headers],[Ingénierie de fabrication]],'Def. Prix & Parcours'!$I$6:$M$28,4,FALSE)*Table3[[#This Row],[Points Ingénierie de fabrication]]),\"\")","v":0},{"$f":"IF(Table3[[#This Row],[Parcours choisi]]<>\"\",(VLOOKUP(Table356[[#Headers],[Gestion de projet et collaborations]],'Def. Prix & Parcours'!$I$6:$M$28,4,FALSE)*Table3[[#This Row],[Points Gestion de projet et \ncollaborations]]),\"\")","v":65},{"$f":"IF(Table3[[#This Row],[Parcours choisi]]<>\"\",(VLOOKUP(Table356[[#Headers],[Présentation Orale]],'Def. Prix & Parcours'!$I$6:$M$28,4,FALSE)*Table3[[#This Row],[Points Présentation Orale]]),\"\")","v":65},{"$f":"IF(Table3[[#This Row],[Parcours choisi]]<>\"\",(VLOOKUP(Table356[[#Headers],[Identité Equipe]],'Def. Prix & Parcours'!$I$6:$M$28,4,FALSE)*Table3[[#This Row],[Points Identité Equipe]]),\"\")","v":80},{"$f":"IF(Table3[[#This Row],[Parcours choisi]]<>\"\",(VLOOKUP(Table356[[#Headers],[Design du Stand]],'Def. Prix & Parcours'!$I$6:$M$28,4,FALSE)*Table3[[#This Row],[Points Design du Stand]]),\"\")","v":136},{"$f":"IF(Table3[[#This Row],[Parcours choisi]]<>\"\",(VLOOKUP(Table356[[#Headers],[Portfolio]],'Def. Prix & Parcours'!$I$6:$M$28,4,FALSE)*Table3[[#This Row],[Points Portfolio]]),\"\")","v":80},{"$f":"IF(Table3[[#This Row],[Parcours choisi]]<>\"\",(VLOOKUP(Table356[[#Headers],[Marketing et Sponsoring]],'Def. Prix & Parcours'!$I$6:$M$28,4,FALSE)*Table3[[#This Row],[Points Marketing et Sponsoring]]),\"\")","v":160},{"$f":"IF(Table3[[#This Row],[Parcours choisi]]<>\"\",(VLOOKUP(Table356[[#Headers],[Budget]],'Def. Prix & Parcours'!$I$6:$M$28,4,FALSE)*Table3[[#This Row],[Points Budget]]),\"\")","v":22},{"$f":"IF(Table3[[#This Row],[Parcours choisi]]<>\"\",(VLOOKUP(Table356[[#Headers],[Design du Véhicule]],'Def. Prix & Parcours'!$I$6:$M$28,4,FALSE)*Table3[[#This Row],[Points Design du Véhicule]]),\"\")","v":22},{"$f":"IF(Table3[[#This Row],[Parcours choisi]]<>\"\",(VLOOKUP(Table356[[#Headers],[Innovation numérique]],'Def. Prix & Parcours'!$I$6:$M$28,4,FALSE)*Table3[[#This Row],[Points Innovation numérique]]),\"\")","v":0},{"$f":"IF(Table3[[#This Row],[Parcours choisi]]<>\"\",(VLOOKUP(Table356[[#Headers],[Programmation]],'Def. Prix & Parcours'!$I$6:$M$28,4,FALSE)*Table3[[#This Row],[Points Programmation]]),\"\")","v":0},{"$f":"IF(Table3[[#This Row],[Parcours choisi]]<>\"\",(VLOOKUP(Table356[[#Headers],[Respect du règlement]],'Def. Prix & Parcours'!$I$6:$M$28,4,FALSE)*Table3[[#This Row],[Points Respect du règlement]]),\"\")","v":100},{"$f":"IF(Table3[[#This Row],[Parcours choisi]]<>\"\",(VLOOKUP(Table356[[#Headers],[Communication : vidéo]],'Def. Prix & Parcours'!$I$6:$M$28,4,FALSE)*Table3[[#This Row],[Points Communication : vidéo]]),\"\")","v":90},{"$f":"IF(Table3[[#This Row],[Parcours choisi]]<>\"\",(VLOOKUP(Table356[[#Headers],[Epreuve CAO]],'Def. Prix & Parcours'!$I$6:$M$28,4,FALSE)*Table3[[#This Row],[Points Epreuve CAO]]),\"\")","v":0},{"$f":"IF(Table3[[#This Row],[Parcours choisi]]<>\"\",(VLOOKUP(Table356[[#Headers],[Temps Réaction]],'Def. Prix & Parcours'!$I$6:$M$28,4,FALSE)*Table3[[#This Row],[Points Temps Réaction]]),\"\")","v":0},{"$f":"IF(Table3[[#This Row],[Parcours choisi]]<>\"\",(VLOOKUP(Table356[[#Headers],[Temps Course]],'Def. Prix & Parcours'!$I$6:$M$28,4,FALSE)*Table3[[#This Row],[Points Temps Course]]),\"\")","v":0},{"$f":"IF(Table3[[#This Row],[Parcours choisi]]<>\"\",(VLOOKUP(Table356[[#Headers],[Epreuve arrêt au stand]],'Def. Prix & Parcours'!$I$6:$M$28,4,FALSE)*Table3[[#This Row],[Points Epreuve arrêt au stand]]),\"\")","v":0},null,{"$f":"IF(Table3[[#This Row],[Parcours choisi]]<>\"\",SUM(Table3567810[[#This Row],[Ingénierie et conception]:[1]]),\"\")","v":940},{"$f":"IF(Table3[[#This Row],[Parcours choisi]]<>\"\",_xlfn.RANK.EQ(Table3567810[[#This Row],[Total Marketing et Communication]],Table3567810[Total Marketing et Communication],0),\"\")","v":18}]
[12,{"$f":"IF(Table3[[#This Row],[Nom équipe]]<>\"\",Table3[[#This Row],[Nom équipe]],\"\")","v":"Six divergents"},{"$f":"IF(Table3[[#This Row],[Etablissement]]<>\"\",Table3[[#This Row],[Etablissement]],\"\")","v":"Bichat Lunéville"},{"$f":"IF(Table3[[#This Row],[Type établissement]]<>\"\",Table3[[#This Row],[Type établissement]],\"\")","v":"C"},{"$f":"IF(Table3[[#This Row],[Académie]]<>\"\",Table3[[#This Row],[Académie]],\"\")","v":"Nancy-Metz"},{"$f":"IF(Table3[[#This Row],[Parcours choisi]]<>\"\",Table3[[#This Row],[Parcours choisi]],\"\")","v":"G"},{"$f":"IF(Table3[[#This Row],[Parcours choisi]]<>\"\",(VLOOKUP(Table356[[#Headers],[Ingénierie et conception]],'Def. Prix & Parcours'!$I$6:$M$28,4,FALSE)*Table3[[#This Row],[Points Ingénierie et conception]]),\"\")","v":32},{"$f":"IF(Table3[[#This Row],[Parcours choisi]]<>\"\",(VLOOKUP(Table356[[#Headers],[Innovation mécanique]],'Def. Prix & Parcours'!$I$6:$M$28,4,FALSE)*Table3[[#This Row],[Points Innovation mécanique]]),\"\")","v":32},{"$f":"IF(Table3[[#This Row],[Parcours choisi]]<>\"\",(VLOOKUP(Table356[[#Headers],[Développement Durable]],'Def. Prix & Parcours'!$I$6:$M$28,4,FALSE)*Table3[[#This Row],[Points Développement Durable]]),\"\")","v":72},{"$f":"IF(Table3[[#This Row],[Parcours choisi]]<>\"\",(VLOOKUP(Table356[[#Headers],[Ingénierie de fabrication]],'Def. Prix & Parcours'!$I$6:$M$28,4,FALSE)*Table3[[#This Row],[Points Ingénierie de fabrication]]),\"\")","v":0},{"$f":"IF(Table3[[#This Row],[Parcours choisi]]<>\"\",(VLOOKUP(Table356[[#Headers],[Gestion de projet et collaborations]],'Def. Prix & Parcours'!$I$6:$M$28,4,FALSE)*Table3[[#This Row],[Points Gestion de projet et \ncollaborations]]),\"\")","v":90},{"$f":"IF(Table3[[#This Row],[Parcours choisi]]<>\"\",(VLOOKUP(Table356[[#Headers],[Présentation Orale]],'Def. Prix & Parcours'!$I$6:$M$28,4,FALSE)*Table3[[#This Row],[Points Présentation Orale]]),\"\")","v":70},{"$f":"IF(Table3[[#This Row],[Parcours choisi]]<>\"\",(VLOOKUP(Table356[[#Headers],[Identité Equipe]],'Def. Prix & Parcours'!$I$6:$M$28,4,FALSE)*Table3[[#This Row],[Points Identité Equipe]]),\"\")","v":80},{"$f":"IF(Table3[[#This Row],[Parcours choisi]]<>\"\",(VLOOKUP(Table356[[#Headers],[Design du Stand]],'Def. Prix & Parcours'!$I$6:$M$28,4,FALSE)*Table3[[#This Row],[Points Design du Stand]]),\"\")","v":120},{"$f":"IF(Table3[[#This Row],[Parcours choisi]]<>\"\",(VLOOKUP(Table356[[#Headers],[Portfolio]],'Def. Prix & Parcours'!$I$6:$M$28,4,FALSE)*Table3[[#This Row],[Points Portfolio]]),\"\")","v":136},{"$f":"IF(Table3[[#This Row],[Parcours choisi]]<>\"\",(VLOOKUP(Table356[[#Headers],[Marketing et Sponsoring]],'Def. Prix & Parcours'!$I$6:$M$28,4,FALSE)*Table3[[#This Row],[Points Marketing et Sponsoring]]),\"\")","v":170},{"$f":"IF(Table3[[#This Row],[Parcours choisi]]<>\"\",(VLOOKUP(Table356[[#Headers],[Budget]],'Def. Prix & Parcours'!$I$6:$M$28,4,FALSE)*Table3[[#This Row],[Points Budget]]),\"\")","v":34},{"$f":"IF(Table3[[#This Row],[Parcours choisi]]<>\"\",(VLOOKUP(Table356[[#Headers],[Design du Véhicule]],'Def. Prix & Parcours'!$I$6:$M$28,4,FALSE)*Table3[[#This Row],[Points Design du Véhicule]]),\"\")","v":36},{"$f":"IF(Table3[[#This Row],[Parcours choisi]]<>\"\",(VLOOKUP(Table356[[#Headers],[Innovation numérique]],'Def. Prix & Parcours'!$I$6:$M$28,4,FALSE)*Table3[[#This Row],[Points Innovation numérique]]),\"\")","v":0},{"$f":"IF(Table3[[#This Row],[Parcours choisi]]<>\"\",(VLOOKUP(Table356[[#Headers],[Programmation]],'Def. Prix & Parcours'!$I$6:$M$28,4,FALSE)*Table3[[#This Row],[Points Programmation]]),\"\")","v":0},{"$f":"IF(Table3[[#This Row],[Parcours choisi]]<>\"\",(VLOOKUP(Table356[[#Headers],[Respect du règlement]],'Def. Prix & Parcours'!$I$6:$M$28,4,FALSE)*Table3[[#This Row],[Points Respect du règlement]]),\"\")","v":100},{"$f":"IF(Table3[[#This Row],[Parcours choisi]]<>\"\",(VLOOKUP(Table356[[#Headers],[Communication : vidéo]],'Def. Prix & Parcours'!$I$6:$M$28,4,FALSE)*Table3[[#This Row],[Points Communication : vidéo]]),\"\")","v":160},{"$f":"IF(Table3[[#This Row],[Parcours choisi]]<>\"\",(VLOOKUP(Table356[[#Headers],[Epreuve CAO]],'Def. Prix & Parcours'!$I$6:$M$28,4,FALSE)*Table3[[#This Row],[Points Epreuve CAO]]),\"\")","v":0},{"$f":"IF(Table3[[#This Row],[Parcours choisi]]<>\"\",(VLOOKUP(Table356[[#Headers],[Temps Réaction]],'Def. Prix & Parcours'!$I$6:$M$28,4,FALSE)*Table3[[#This Row],[Points Temps Réaction]]),\"\")","v":0},{"$f":"IF(Table3[[#This Row],[Parcours choisi]]<>\"\",(VLOOKUP(Table356[[#Headers],[Temps Course]],'Def. Prix & Parcours'!$I$6:$M$28,4,FALSE)*Table3[[#This Row],[Points Temps Course]]),\"\")","v":0},{"$f":"IF(Table3[[#This Row],[Parcours choisi]]<>\"\",(VLOOKUP(Table356[[#Headers],[Epreuve arrêt au stand]],'Def. Prix & Parcours'!$I$6:$M$28,4,FALSE)*Table3[[#This Row],[Points Epreuve arrêt au stand]]),\"\")","v":0},null,{"$f":"IF(Table3[[#This Row],[Parcours choisi]]<>\"\",SUM(Table3567810[[#This Row],[Ingénierie et conception]:[1]]),\"\")","v":1132},{"$f":"IF(Table3[[#This Row],[Parcours choisi]]<>\"\",_xlfn.RANK.EQ(Table3567810[[#This Row],[Total Marketing et Communication]],Table3567810[Total Marketing et Communication],0),\"\")","v":3}]
[13,{"$f":"IF(Table3[[#This Row],[Nom équipe]]<>\"\",Table3[[#This Row],[Nom équipe]],\"\")","v":"Andromeda"},{"$f":"IF(Table3[[#This Row],[Etablissement]]<>\"\",Table3[[#This Row],[Etablissement]],\"\")","v":"Duvivier Einville"},{"$f":"IF(Table3[[#This Row],[Type établissement]]<>\"\",Table3[[#This Row],[Type établissement]],\"\")","v":"C"},{"$f":"IF(Table3[[#This Row],[Académie]]<>\"\",Table3[[#This Row],[Académie]],\"\")","v":"Nancy-Metz"},{"$f":"IF(Table3[[#This Row],[Parcours choisi]]<>\"\",Table3[[#This Row],[Parcours choisi]],\"\")","v":"G"},{"$f":"IF(Table3[[#This Row],[Parcours choisi]]<>\"\",(VLOOKUP(Table356[[#Headers],[Ingénierie et conception]],'Def. Prix & Parcours'!$I$6:$M$28,4,FALSE)*Table3[[#This Row],[Points Ingénierie et conception]]),\"\")","v":34},{"$f":"IF(Table3[[#This Row],[Parcours choisi]]<>\"\",(VLOOKUP(Table356[[#Headers],[Innovation mécanique]],'Def. Prix & Parcours'!$I$6:$M$28,4,FALSE)*Table3[[#This Row],[Points Innovation mécanique]]),\"\")","v":30},{"$f":"IF(Table3[[#This Row],[Parcours choisi]]<>\"\",(VLOOKUP(Table356[[#Headers],[Développement Durable]],'Def. Prix & Parcours'!$I$6:$M$28,4,FALSE)*Table3[[#This Row],[Points Développement Durable]]),\"\")","v":90},{"$f":"IF(Table3[[#This Row],[Parcours choisi]]<>\"\",(VLOOKUP(Table356[[#Headers],[Ingénierie de fabrication]],'Def. Prix & Parcours'!$I$6:$M$28,4,FALSE)*Table3[[#This Row],[Points Ingénierie de fabrication]]),\"\")","v":0},{"$f":"IF(Table3[[#This Row],[Parcours choisi]]<>\"\",(VLOOKUP(Table356[[#Headers],[Gestion de projet et collaborations]],'Def. Prix & Parcours'!$I$6:$M$28,4,FALSE)*Table3[[#This Row],[Points Gestion de projet et \ncollaborations]]),\"\")","v":85},{"$f":"IF(Table3[[#This Row],[Parcours choisi]]<>\"\",(VLOOKUP(Table356[[#Headers],[Présentation Orale]],'Def. Prix & Parcours'!$I$6:$M$28,4,FALSE)*Table3[[#This Row],[Points Présentation Orale]]),\"\")","v":85},{"$f":"IF(Table3[[#This Row],[Parcours choisi]]<>\"\",(VLOOKUP(Table356[[#Headers],[Identité Equipe]],'Def. Prix & Parcours'!$I$6:$M$28,4,FALSE)*Table3[[#This Row],[Points Identité Equipe]]),\"\")","v":85},{"$f":"IF(Table3[[#This Row],[Parcours choisi]]<>\"\",(VLOOKUP(Table356[[#Headers],[Design du Stand]],'Def. Prix & Parcours'!$I$6:$M$28,4,FALSE)*Table3[[#This Row],[Points Design du Stand]]),\"\")","v":112},{"$f":"IF(Table3[[#This Row],[Parcours choisi]]<>\"\",(VLOOKUP(Table356[[#Headers],[Portfolio]],'Def. Prix & Parcours'!$I$6:$M$28,4,FALSE)*Table3[[#This Row],[Points Portfolio]]),\"\")","v":144},{"$f":"IF(Table3[[#This Row],[Parcours choisi]]<>\"\",(VLOOKUP(Table356[[#Headers],[Marketing et Sponsoring]],'Def. Prix & Parcours'!$I$6:$M$28,4,FALSE)*Table3[[#This Row],[Points Marketing et Sponsoring]]),\"\")","v":180},{"$f":"IF(Table3[[#This Row],[Parcours choisi]]<>\"\",(VLOOKUP(Table356[[#Headers],[Budget]],'Def. Prix & Parcours'!$I$6:$M$28,4,FALSE)*Table3[[#This Row],[Points Budget]]),\"\")","v":38},{"$f":"IF(Table3[[#This Row],[Parcours choisi]]<>\"\",(VLOOKUP(Table356[[#Headers],[Design du Véhicule]],'Def. Prix & Parcours'!$I$6:$M$28,4,FALSE)*Table3[[#This Row],[Points Design du Véhicule]]),\"\")","v":26},{"$f":"IF(Table3[[#This Row],[Parcours choisi]]<>\"\",(VLOOKUP(Table356[[#Headers],[Innovation numérique]],'Def. Prix & Parcours'!$I$6:$M$28,4,FALSE)*Table3[[#This Row],[Points Innovation numérique]]),\"\")","v":0},{"$f":"IF(Table3[[#This Row],[Parcours choisi]]<>\"\",(VLOOKUP(Table356[[#Headers],[Programmation]],'Def. Prix & Parcours'!$I$6:$M$28,4,FALSE)*Table3[[#This Row],[Points Programmation]]),\"\")","v":0},{"$f":"IF(Table3[[#This Row],[Parcours choisi]]<>\"\",(VLOOKUP(Table356[[#Headers],[Respect du règlement]],'Def. Prix & Parcours'!$I$6:$M$28,4,FALSE)*Table3[[#This Row],[Points Respect du règlement]]),\"\")","v":100},{"$f":"IF(Table3[[#This Row],[Parcours choisi]]<>\"\",(VLOOKUP(Table356[[#Headers],[Communication : vidéo]],'Def. Prix & Parcours'!$I$6:$M$28,4,FALSE)*Table3[[#This Row],[Points Communication : vidéo]]),\"\")","v":120},{"$f":"IF(Table3[[#This Row],[Parcours choisi]]<>\"\",(VLOOKUP(Table356[[#Headers],[Epreuve CAO]],'Def. Prix & Parcours'!$I$6:$M$28,4,FALSE)*Table3[[#This Row],[Points Epreuve CAO]]),\"\")","v":0},{"$f":"IF(Table3[[#This Row],[Parcours choisi]]<>\"\",(VLOOKUP(Table356[[#Headers],[Temps Réaction]],'Def. Prix & Parcours'!$I$6:$M$28,4,FALSE)*Table3[[#This Row],[Points Temps Réaction]]),\"\")","v":0},{"$f":"IF(Table3[[#This Row],[Parcours choisi]]<>\"\",(VLOOKUP(Table356[[#Headers],[Temps Course]],'Def. Prix & Parcours'!$I$6:$M$28,4,FALSE)*Table3[[#This Row],[Points Temps Course]]),\"\")","v":0},{"$f":"IF(Table3[[#This Row],[Parcours choisi]]<>\"\",(VLOOKUP(Table356[[#Headers],[Epreuve arrêt au stand]],'Def. Prix & Parcours'!$I$6:$M$28,4,FALSE)*Table3[[#This Row],[Points Epreuve arrêt au stand]]),\"\")","v":0},null,{"$f":"IF(Table3[[#This Row],[Parcours choisi]]<>\"\",SUM(Table3567810[[#This Row],[Ingénierie et conception]:[1]]),\"\")","v":1129},{"$f":"IF(Table3[[#This Row],[Parcours choisi]]<>\"\",_xlfn.RANK.EQ(Table3567810[[#This Row],[Total Marketing et Communication]],Table3567810[Total Marketing et Communication],0),\"\")","v":4}]
[14,{"$f":"IF(Table3[[#This Row],[Nom équipe]]<>\"\",Table3[[#This Row],[Nom équipe]],\"\")","v":"Fifties"},{"$f":"IF(Table3[[#This Row],[Etablissement]]<>\"\",Table3[[#This Row],[Etablissement]],\"\")","v":"Duvivier Einville"},{"$f":"IF(Table3[[#This Row],[Type établissement]]<>\"\",Table3[[#This Row],[Type établissement]],\"\")","v":"C"},{"$f":"IF(Table3[[#This Row],[Académie]]<>\"\",Table3[[#This Row],[Académie]],\"\")","v":"Nancy-Metz"},{"$f":"IF(Table3[[#This Row],[Parcours choisi]]<>\"\",Table3[[#This Row],[Parcours choisi]],\"\")","v":"G"},{"$f":"IF(Table3[[#This Row],[Parcours choisi]]<>\"\",(VLOOKUP(Table356[[#Headers],[Ingénierie et conception]],'Def. Prix & Parcours'!$I$6:$M$28,4,FALSE)*Table3[[#This Row],[Points Ingénierie et conception]]),\"\")","v":32},{"$f":"IF(Table3[[#This Row],[Parcours choisi]]<>\"\",(VLOOKUP(Table356[[#Headers],[Innovation mécanique]],'Def. Prix & Parcours'!$I$6:$M$28,4,FALSE)*Table3[[#This Row],[Points Innovation mécanique]]),\"\")","v":32},{"$f":"IF(Table3[[#This Row],[Parcours choisi]]<>\"\",(VLOOKUP(Table356[[#Headers],[Développement Durable]],'Def. Prix & Parcours'!$I$6:$M$28,4,FALSE)*Table3[[#This Row],[Points Développement Durable]]),\"\")","v":78},{"$f":"IF(Table3[[#This Row],[Parcours choisi]]<>\"\",(VLOOKUP(Table356[[#Headers],[Ingénierie de fabrication]],'Def. Prix & Parcours'!$I$6:$M$28,4,FALSE)*Table3[[#This Row],[Points Ingénierie de fabrication]]),\"\")","v":0},{"$f":"IF(Table3[[#This Row],[Parcours choisi]]<>\"\",(VLOOKUP(Table356[[#Headers],[Gestion de projet et collaborations]],'Def. Prix & Parcours'!$I$6:$M$28,4,FALSE)*Table3[[#This Row],[Points Gestion de projet et \ncollaborations]]),\"\")","v":90},{"$f":"IF(Table3[[#This Row],[Parcours choisi]]<>\"\",(VLOOKUP(Table356[[#Headers],[Présentation Orale]],'Def. Prix & Parcours'!$I$6:$M$28,4,FALSE)*Table3[[#This Row],[Points Présentation Orale]]),\"\")","v":80},{"$f":"IF(Table3[[#This Row],[Parcours choisi]]<>\"\",(VLOOKUP(Table356[[#Headers],[Identité Equipe]],'Def. Prix & Parcours'!$I$6:$M$28,4,FALSE)*Table3[[#This Row],[Points Identité Equipe]]),\"\")","v":100},{"$f":"IF(Table3[[#This Row],[Parcours choisi]]<>\"\",(VLOOKUP(Table356[[#Headers],[Design du Stand]],'Def. Prix & Parcours'!$I$6:$M$28,4,FALSE)*Table3[[#This Row],[Points Design du Stand]]),\"\")","v":160},{"$f":"IF(Table3[[#This Row],[Parcours choisi]]<>\"\",(VLOOKUP(Table356[[#Headers],[Portfolio]],'Def. Prix & Parcours'!$I$6:$M$28,4,FALSE)*Table3[[#This Row],[Points Portfolio]]),\"\")","v":160},{"$f":"IF(Table3[[#This Row],[Parcours choisi]]<>\"\",(VLOOKUP(Table356[[#Headers],[Marketing et Sponsoring]],'Def. Prix & Parcours'!$I$6:$M$28,4,FALSE)*Table3[[#This Row],[Points Marketing et Sponsoring]]),\"\")","v":200},{"$f":"IF(Table3[[#This Row],[Parcours choisi]]<>\"\",(VLOOKUP(Table356[[#Headers],[Budget]],'Def. Prix & Parcours'!$I$6:$M$28,4,FALSE)*Table3[[#This Row],[Points Budget]]),\"\")","v":40},{"$f":"IF(Table3[[#This Row],[Parcours choisi]]<>\"\",(VLOOKUP(Table356[[#Headers],[Design du Véhicule]],'Def. Prix & Parcours'!$I$6:$M$28,4,FALSE)*Table3[[#This Row],[Points Design du Véhicule]]),\"\")","v":38},{"$f":"IF(Table3[[#This Row],[Parcours choisi]]<>\"\",(VLOOKUP(Table356[[#Headers],[Innovation numérique]],'Def. Prix & Parcours'!$I$6:$M$28,4,FALSE)*Table3[[#This Row],[Points Innovation numérique]]),\"\")","v":0},{"$f":"IF(Table3[[#This Row],[Parcours choisi]]<>\"\",(VLOOKUP(Table356[[#Headers],[Programmation]],'Def. Prix & Parcours'!$I$6:$M$28,4,FALSE)*Table3[[#This Row],[Points Programmation]]),\"\")","v":0},{"$f":"IF(Table3[[#This Row],[Parcours choisi]]<>\"\",(VLOOKUP(Table356[[#Headers],[Respect du règlement]],'Def. Prix & Parcours'!$I$6:$M$28,4,FALSE)*Table3[[#This Row],[Points Respect du règlement]]),\"\")","v":100},{"$f":"IF(Table3[[#This Row],[Parcours choisi]]<>\"\",(VLOOKUP(Table356[[#Headers],[Communication : vidéo]],'Def. Prix & Parcours'!$I$6:$M$28,4,FALSE)*Table3[[#This Row],[Points Communication : vidéo]]),\"\")","v":160},{"$f":"IF(Table3[[#This Row],[Parcours choisi]]<>\"\",(VLOOKUP(Table356[[#Headers],[Epreuve CAO]],'Def. Prix & Parcours'!$I$6:$M$28,4,FALSE)*Table3[[#This Row],[Points Epreuve CAO]]),\"\")","v":0},{"$f":"IF(Table3[[#This Row],[Parcours choisi]]<>\"\",(VLOOKUP(Table356[[#Headers],[Temps Réaction]],'Def. Prix & Parcours'!$I$6:$M$28,4,FALSE)*Table3[[#This Row],[Points Temps Réaction]]),\"\")","v":0},{"$f":"IF(Table3[[#This Row],[Parcours choisi]]<>\"\",(VLOOKUP(Table356[[#Headers],[Temps Course]],'Def. Prix & Parcours'!$I$6:$M$28,4,FALSE)*Table3[[#This Row],[Points Temps Course]]),\"\")","v":0},{"$f":"IF(Table3[[#This Row],[Parcours choisi]]<>\"\",(VLOOKUP(Table356[[#Headers],[Epreuve arrêt au stand]],'Def. Prix & Parcours'!$I$6:$M$28,4,FALSE)*Table3[[#This Row],[Points Epreuve arrêt au stand]]),\"\")","v":0},null,{"$f":"IF(Table3[[#This Row],[Parcours choisi]]<>\"\",SUM(Table3567810[[#This Row],[Ingénierie et conception]:[1]]),\"\")","v":1270},{"$f":"IF(Table3[[#This Row],[Parcours choisi]]<>\"\",_xlfn.RANK.EQ(Table3567810[[#This Row],[Total Marketing et Communication]],Table3567810[Total Marketing et Communication],0),\"\")","v":1}]
[15,{"$f":"IF(Table3[[#This Row],[Nom équipe]]<>\"\",Table3[[#This Row],[Nom équipe]],\"\")","v":"SharkAttack"},{"$f":"IF(Table3[[#This Row],[Etablissement]]<>\"\",Table3[[#This Row],[Etablissement]],\"\")","v":"Vogt Commercy"},{"$f":"IF(Table3[[#This Row],[Type établissement]]<>\"\",Table3[[#This Row],[Type établissement]],\"\")","v":"L"},{"$f":"IF(Table3[[#This Row],[Académie]]<>\"\",Table3[[#This Row],[Académie]],\"\")","v":"Nancy-Metz"},{"$f":"IF(Table3[[#This Row],[Parcours choisi]]<>\"\",Table3[[#This Row],[Parcours choisi]],\"\")","v":"G"},{"$f":"IF(Table3[[#This Row],[Parcours choisi]]<>\"\",(VLOOKUP(Table356[[#Headers],[Ingénierie et conception]],'Def. Prix & Parcours'!$I$6:$M$28,4,FALSE)*Table3[[#This Row],[Points Ingénierie et conception]]),\"\")","v":34},{"$f":"IF(Table3[[#This Row],[Parcours choisi]]<>\"\",(VLOOKUP(Table356[[#Headers],[Innovation mécanique]],'Def. Prix & Parcours'!$I$6:$M$28,4,FALSE)*Table3[[#This Row],[Points Innovation mécanique]]),\"\")","v":28},{"$f":"IF(Table3[[#This Row],[Parcours choisi]]<>\"\",(VLOOKUP(Table356[[#Headers],[Développement Durable]],'Def. Prix & Parcours'!$I$6:$M$28,4,FALSE)*Table3[[#This Row],[Points Développement Durable]]),\"\")","v":42},{"$f":"IF(Table3[[#This Row],[Parcours choisi]]<>\"\",(VLOOKUP(Table356[[#Headers],[Ingénierie de fabrication]],'Def. Prix & Parcours'!$I$6:$M$28,4,FALSE)*Table3[[#This Row],[Points Ingénierie de fabrication]]),\"\")","v":0},{"$f":"IF(Table3[[#This Row],[Parcours choisi]]<>\"\",(VLOOKUP(Table356[[#Headers],[Gestion de projet et collaborations]],'Def. Prix & Parcours'!$I$6:$M$28,4,FALSE)*Table3[[#This Row],[Points Gestion de projet et \ncollaborations]]),\"\")","v":75},{"$f":"IF(Table3[[#This Row],[Parcours choisi]]<>\"\",(VLOOKUP(Table356[[#Headers],[Présentation Orale]],'Def. Prix & Parcours'!$I$6:$M$28,4,FALSE)*Table3[[#This Row],[Points Présentation Orale]]),\"\")","v":65},{"$f":"IF(Table3[[#This Row],[Parcours choisi]]<>\"\",(VLOOKUP(Table356[[#Headers],[Identité Equipe]],'Def. Prix & Parcours'!$I$6:$M$28,4,FALSE)*Table3[[#This Row],[Points Identité Equipe]]),\"\")","v":65},{"$f":"IF(Table3[[#This Row],[Parcours choisi]]<>\"\",(VLOOKUP(Table356[[#Headers],[Design du Stand]],'Def. Prix & Parcours'!$I$6:$M$28,4,FALSE)*Table3[[#This Row],[Points Design du Stand]]),\"\")","v":104},{"$f":"IF(Table3[[#This Row],[Parcours choisi]]<>\"\",(VLOOKUP(Table356[[#Headers],[Portfolio]],'Def. Prix & Parcours'!$I$6:$M$28,4,FALSE)*Table3[[#This Row],[Points Portfolio]]),\"\")","v":96},{"$f":"IF(Table3[[#This Row],[Parcours choisi]]<>\"\",(VLOOKUP(Table356[[#Headers],[Marketing et Sponsoring]],'Def. Prix & Parcours'!$I$6:$M$28,4,FALSE)*Table3[[#This Row],[Points Marketing et Sponsoring]]),\"\")","v":140},{"$f":"IF(Table3[[#This Row],[Parcours choisi]]<>\"\",(VLOOKUP(Table356[[#Headers],[Budget]],'Def. Prix & Parcours'!$I$6:$M$28,4,FALSE)*Table3[[#This Row],[Points Budget]]),\"\")","v":24},{"$f":"IF(Table3[[#This Row],[Parcours choisi]]<>\"\",(VLOOKUP(Table356[[#Headers],[Design du Véhicule]],'Def. Prix & Parcours'!$I$6:$M$28,4,FALSE)*Table3[[#This Row],[Points Design du Véhicule]]),\"\")","v":26},{"$f":"IF(Table3[[#This Row],[Parcours choisi]]<>\"\",(VLOOKUP(Table356[[#Headers],[Innovation numérique]],'Def. Prix & Parcours'!$I$6:$M$28,4,FALSE)*Table3[[#This Row],[Points Innovation numérique]]),\"\")","v":0},{"$f":"IF(Table3[[#This Row],[Parcours choisi]]<>\"\",(VLOOKUP(Table356[[#Headers],[Programmation]],'Def. Prix & Parcours'!$I$6:$M$28,4,FALSE)*Table3[[#This Row],[Points Programmation]]),\"\")","v":0},{"$f":"IF(Table3[[#This Row],[Parcours choisi]]<>\"\",(VLOOKUP(Table356[[#Headers],[Respect du règlement]],'Def. Prix & Parcours'!$I$6:$M$28,4,FALSE)*Table3[[#This Row],[Points Respect du règlement]]),\"\")","v":95},{"$f":"IF(Table3[[#This Row],[Parcours choisi]]<>\"\",(VLOOKUP(Table356[[#Headers],[Communication : vidéo]],'Def. Prix & Parcours'!$I$6:$M$28,4,FALSE)*Table3[[#This Row],[Points Communication : vidéo]]),\"\")","v":160},{"$f":"IF(Table3[[#This Row],[Parcours choisi]]<>\"\",(VLOOKUP(Table356[[#Headers],[Epreuve CAO]],'Def. Prix & Parcours'!$I$6:$M$28,4,FALSE)*Table3[[#This Row],[Points Epreuve CAO]]),\"\")","v":0},{"$f":"IF(Table3[[#This Row],[Parcours choisi]]<>\"\",(VLOOKUP(Table356[[#Headers],[Temps Réaction]],'Def. Prix & Parcours'!$I$6:$M$28,4,FALSE)*Table3[[#This Row],[Points Temps Réaction]]),\"\")","v":0},{"$f":"IF(Table3[[#This Row],[Parcours choisi]]<>\"\",(VLOOKUP(Table356[[#Headers],[Temps Course]],'Def. Prix & Parcours'!$I$6:$M$28,4,FALSE)*Table3[[#This Row],[Points Temps Course]]),\"\")","v":0},{"$f":"IF(Table3[[#This Row],[Parcours choisi]]<>\"\",(VLOOKUP(Table356[[#Headers],[Epreuve arrêt au stand]],'Def. Prix & Parcours'!$I$6:$M$28,4,FALSE)*Table3[[#This Row],[Points Epreuve arrêt au stand]]),\"\")","v":0},null,{"$f":"IF(Table3[[#This Row],[Parcours choisi]]<>\"\",SUM(Table3567810[[#This Row],[Ingénierie et conception]:[1]]),\"\")","v":954},{"$f":"IF(Table3[[#This Row],[Parcours choisi]]<>\"\",_xlfn.RANK.EQ(Table3567810[[#This Row],[Total Marketing et Communication]],Table3567810[Total Marketing et Communication],0),\"\")","v":16}]
[16,{"$f":"IF(Table3[[#This Row],[Nom équipe]]<>\"\",Table3[[#This Row],[Nom équipe]],\"\")","v":"Green Tiger"},{"$f":"IF(Table3[[#This Row],[Etablissement]]<>\"\",Table3[[#This Row],[Etablissement]],\"\")","v":"Hauts de Blémont Metz"},{"$f":"IF(Table3[[#This Row],[Type établissement]]<>\"\",Table3[[#This Row],[Type établissement]],\"\")","v":"C"},{"$f":"IF(Table3[[#This Row],[Académie]]<>\"\",Table3[[#This Row],[Académie]],\"\")","v":"Nancy-Metz"},{"$f":"IF(Table3[[#This Row],[Parcours choisi]]<>\"\",Table3[[#This Row],[Parcours choisi]],\"\")","v":"G"},{"$f":"IF(Table3[[#This Row],[Parcours choisi]]<>\"\",(VLOOKUP(Table356[[#Headers],[Ingénierie et conception]],'Def. Prix & Parcours'!$I$6:$M$28,4,FALSE)*Table3[[#This Row],[Points Ingénierie et conception]]),\"\")","v":22},{"$f":"IF(Table3[[#This Row],[Parcours choisi]]<>\"\",(VLOOKUP(Table356[[#Headers],[Innovation mécanique]],'Def. Prix & Parcours'!$I$6:$M$28,4,FALSE)*Table3[[#This Row],[Points Innovation mécanique]]),\"\")","v":26},{"$f":"IF(Table3[[#This Row],[Parcours choisi]]<>\"\",(VLOOKUP(Table356[[#Headers],[Développement Durable]],'Def. Prix & Parcours'!$I$6:$M$28,4,FALSE)*Table3[[#This Row],[Points Développement Durable]]),\"\")","v":120},{"$f":"IF(Table3[[#This Row],[Parcours choisi]]<>\"\",(VLOOKUP(Table356[[#Headers],[Ingénierie de fabrication]],'Def. Prix & Parcours'!$I$6:$M$28,4,FALSE)*Table3[[#This Row],[Points Ingénierie de fabrication]]),\"\")","v":0},{"$f":"IF(Table3[[#This Row],[Parcours choisi]]<>\"\",(VLOOKUP(Table356[[#Headers],[Gestion de projet et collaborations]],'Def. Prix & Parcours'!$I$6:$M$28,4,FALSE)*Table3[[#This Row],[Points Gestion de projet et \ncollaborations]]),\"\")","v":85},{"$f":"IF(Table3[[#This Row],[Parcours choisi]]<>\"\",(VLOOKUP(Table356[[#Headers],[Présentation Orale]],'Def. Prix & Parcours'!$I$6:$M$28,4,FALSE)*Table3[[#This Row],[Points Présentation Orale]]),\"\")","v":50},{"$f":"IF(Table3[[#This Row],[Parcours choisi]]<>\"\",(VLOOKUP(Table356[[#Headers],[Identité Equipe]],'Def. Prix & Parcours'!$I$6:$M$28,4,FALSE)*Table3[[#This Row],[Points Identité Equipe]]),\"\")","v":60},{"$f":"IF(Table3[[#This Row],[Parcours choisi]]<>\"\",(VLOOKUP(Table356[[#Headers],[Design du Stand]],'Def. Prix & Parcours'!$I$6:$M$28,4,FALSE)*Table3[[#This Row],[Points Design du Stand]]),\"\")","v":104},{"$f":"IF(Table3[[#This Row],[Parcours choisi]]<>\"\",(VLOOKUP(Table356[[#Headers],[Portfolio]],'Def. Prix & Parcours'!$I$6:$M$28,4,FALSE)*Table3[[#This Row],[Points Portfolio]]),\"\")","v":96},{"$f":"IF(Table3[[#This Row],[Parcours choisi]]<>\"\",(VLOOKUP(Table356[[#Headers],[Marketing et Sponsoring]],'Def. Prix & Parcours'!$I$6:$M$28,4,FALSE)*Table3[[#This Row],[Points Marketing et Sponsoring]]),\"\")","v":110},{"$f":"IF(Table3[[#This Row],[Parcours choisi]]<>\"\",(VLOOKUP(Table356[[#Headers],[Budget]],'Def. Prix & Parcours'!$I$6:$M$28,4,FALSE)*Table3[[#This Row],[Points Budget]]),\"\")","v":22},{"$f":"IF(Table3[[#This Row],[Parcours choisi]]<>\"\",(VLOOKUP(Table356[[#Headers],[Design du Véhicule]],'Def. Prix & Parcours'!$I$6:$M$28,4,FALSE)*Table3[[#This Row],[Points Design du Véhicule]]),\"\")","v":24},{"$f":"IF(Table3[[#This Row],[Parcours choisi]]<>\"\",(VLOOKUP(Table356[[#Headers],[Innovation numérique]],'Def. Prix & Parcours'!$I$6:$M$28,4,FALSE)*Table3[[#This Row],[Points Innovation numérique]]),\"\")","v":0},{"$f":"IF(Table3[[#This Row],[Parcours choisi]]<>\"\",(VLOOKUP(Table356[[#Headers],[Programmation]],'Def. Prix & Parcours'!$I$6:$M$28,4,FALSE)*Table3[[#This Row],[Points Programmation]]),\"\")","v":0},{"$f":"IF(Table3[[#This Row],[Parcours choisi]]<>\"\",(VLOOKUP(Table356[[#Headers],[Respect du règlement]],'Def. Prix & Parcours'!$I$6:$M$28,4,FALSE)*Table3[[#This Row],[Points Respect du règlement]]),\"\")","v":90},{"$f":"IF(Table3[[#This Row],[Parcours choisi]]<>\"\",(VLOOKUP(Table356[[#Headers],[Communication : vidéo]],'Def. Prix & Parcours'!$I$6:$M$28,4,FALSE)*Table3[[#This Row],[Points Communication : vidéo]]),\"\")","v":200},{"$f":"IF(Table3[[#This Row],[Parcours choisi]]<>\"\",(VLOOKUP(Table356[[#Headers],[Epreuve CAO]],'Def. Prix & Parcours'!$I$6:$M$28,4,FALSE)*Table3[[#This Row],[Points Epreuve CAO]]),\"\")","v":0},{"$f":"IF(Table3[[#This Row],[Parcours choisi]]<>\"\",(VLOOKUP(Table356[[#Headers],[Temps Réaction]],'Def. Prix & Parcours'!$I$6:$M$28,4,FALSE)*Table3[[#This Row],[Points Temps Réaction]]),\"\")","v":0},{"$f":"IF(Table3[[#This Row],[Parcours choisi]]<>\"\",(VLOOKUP(Table356[[#Headers],[Temps Course]],'Def. Prix & Parcours'!$I$6:$M$28,4,FALSE)*Table3[[#This Row],[Points Temps Course]]),\"\")","v":0},{"$f":"IF(Table3[[#This Row],[Parcours choisi]]<>\"\",(VLOOKUP(Table356[[#Headers],[Epreuve arrêt au stand]],'Def. Prix & Parcours'!$I$6:$M$28,4,FALSE)*Table3[[#This Row],[Points Epreuve arrêt au stand]]),\"\")","v":0},null,{"$f":"IF(Table3[[#This Row],[Parcours choisi]]<>\"\",SUM(Table3567810[[#This Row],[Ingénierie et conception]:[1]]),\"\")","v":1009},{"$f":"IF(Table3[[#This Row],[Parcours choisi]]<>\"\",_xlfn.RANK.EQ(Table3567810[[#This Row],[Total Marketing et Communication]],Table3567810[Total Marketing et Communication],0),\"\")","v":13}]
[17,{"$f":"IF(Table3[[#This Row],[Nom équipe]]<>\"\",Table3[[#This Row],[Nom équipe]],\"\")","v":"Grey"},{"$f":"IF(Table3[[#This Row],[Etablissement]]<>\"\",Table3[[#This Row],[Etablissement]],\"\")","v":"Hauts de Blémont Metz"},{"$f":"IF(Table3[[#This Row],[Type établissement]]<>\"\",Table3[[#This Row],[Type établissement]],\"\")","v":"C"},{"$f":"IF(Table3[[#This Row],[Académie]]<>\"\",Table3[[#This Row],[Académie]],\"\")","v":"Nancy-Metz"},{"$f":"IF(Table3[[#This Row],[Parcours choisi]]<>\"\",Table3[[#This Row],[Parcours choisi]],\"\")","v":"G"},{"$f":"IF(Table3[[#This Row],[Parcours choisi]]<>\"\",(VLOOKUP(Table356[[#Headers],[Ingénierie et conception]],'Def. Prix & Parcours'!$I$6:$M$28,4,FALSE)*Table3[[#This Row],[Points Ingénierie et conception]]),\"\")","v":20},{"$f":"IF(Table3[[#This Row],[Parcours choisi]]<>\"\",(VLOOKUP(Table356[[#Headers],[Innovation mécanique]],'Def. Prix & Parcours'!$I$6:$M$28,4,FALSE)*Table3[[#This Row],[Points Innovation mécanique]]),\"\")","v":16},{"$f":"IF(Table3[[#This Row],[Parcours choisi]]<>\"\",(VLOOKUP(Table356[[#Headers],[Développement Durable]],'Def. Prix & Parcours'!$I$6:$M$28,4,FALSE)*Table3[[#This Row],[Points Développement Durable]]),\"\")","v":66},{"$f":"IF(Table3[[#This Row],[Parcours choisi]]<>\"\",(VLOOKUP(Table356[[#Headers],[Ingénierie de fabrication]],'Def. Prix & Parcours'!$I$6:$M$28,4,FALSE)*Table3[[#This Row],[Points Ingénierie de fabrication]]),\"\")","v":0},{"$f":"IF(Table3[[#This Row],[Parcours choisi]]<>\"\",(VLOOKUP(Table356[[#Headers],[Gestion de projet et collaborations]],'Def. Prix & Parcours'!$I$6:$M$28,4,FALSE)*Table3[[#This Row],[Points Gestion de projet et \ncollaborations]]),\"\")","v":75},{"$f":"IF(Table3[[#This Row],[Parcours choisi]]<>\"\",(VLOOKUP(Table356[[#Headers],[Présentation Orale]],'Def. Prix & Parcours'!$I$6:$M$28,4,FALSE)*Table3[[#This Row],[Points Présentation Orale]]),\"\")","v":55},{"$f":"IF(Table3[[#This Row],[Parcours choisi]]<>\"\",(VLOOKUP(Table356[[#Headers],[Identité Equipe]],'Def. Prix & Parcours'!$I$6:$M$28,4,FALSE)*Table3[[#This Row],[Points Identité Equipe]]),\"\")","v":80},{"$f":"IF(Table3[[#This Row],[Parcours choisi]]<>\"\",(VLOOKUP(Table356[[#Headers],[Design du Stand]],'Def. Prix & Parcours'!$I$6:$M$28,4,FALSE)*Table3[[#This Row],[Points Design du Stand]]),\"\")","v":128},{"$f":"IF(Table3[[#This Row],[Parcours choisi]]<>\"\",(VLOOKUP(Table356[[#Headers],[Portfolio]],'Def. Prix & Parcours'!$I$6:$M$28,4,FALSE)*Table3[[#This Row],[Points Portfolio]]),\"\")","v":104},{"$f":"IF(Table3[[#This Row],[Parcours choisi]]<>\"\",(VLOOKUP(Table356[[#Headers],[Marketing et Sponsoring]],'Def. Prix & Parcours'!$I$6:$M$28,4,FALSE)*Table3[[#This Row],[Points Marketing et Sponsoring]]),\"\")","v":130},{"$f":"IF(Table3[[#This Row],[Parcours choisi]]<>\"\",(VLOOKUP(Table356[[#Headers],[Budget]],'Def. Prix & Parcours'!$I$6:$M$28,4,FALSE)*Table3[[#This Row],[Points Budget]]),\"\")","v":22},{"$f":"IF(Table3[[#This Row],[Parcours choisi]]<>\"\",(VLOOKUP(Table356[[#Headers],[Design du Véhicule]],'Def. Prix & Parcours'!$I$6:$M$28,4,FALSE)*Table3[[#This Row],[Points Design du Véhicule]]),\"\")","v":26},{"$f":"IF(Table3[[#This Row],[Parcours choisi]]<>\"\",(VLOOKUP(Table356[[#Headers],[Innovation numérique]],'Def. Prix & Parcours'!$I$6:$M$28,4,FALSE)*Table3[[#This Row],[Points Innovation numérique]]),\"\")","v":0},{"$f":"IF(Table3[[#This Row],[Parcours choisi]]<>\"\",(VLOOKUP(Table356[[#Headers],[Programmation]],'Def. Prix & Parcours'!$I$6:$M$28,4,FALSE)*Table3[[#This Row],[Points Programmation]]),\"\")","v":0},{"$f":"IF(Table3[[#This Row],[Parcours choisi]]<>\"\",(VLOOKUP(Table356[[#Headers],[Respect du règlement]],'Def. Prix & Parcours'!$I$6:$M$28,4,FALSE)*Table3[[#This Row],[Points Respect du règlement]]),\"\")","v":80},{"$f":"IF(Table3[[#This Row],[Parcours choisi]]<>\"\",(VLOOKUP(Table356[[#Headers],[Communication : vidéo]],'Def. Prix & Parcours'!$I$6:$M$28,4,FALSE)*Table3[[#This Row],[Points Communication : vidéo]]),\"\")","v":140},{"$f":"IF(Table3[[#This Row],[Parcours choisi]]<>\"\",(VLOOKUP(Table356[[#Headers],[Epreuve CAO]],'Def. Prix & Parcours'!$I$6:$M$28,4,FALSE)*Table3[[#This Row],[Points Epreuve CAO]]),\"\")","v":0},{"$f":"IF(Table3[[#This Row],[Parcours choisi]]<>\"\",(VLOOKUP(Table356[[#Headers],[Temps Réaction]],'Def. Prix & Parcours'!$I$6:$M$28,4,FALSE)*Table3[[#This Row],[Points Temps Réaction]]),\"\")","v":0},{"$f":"IF(Table3[[#This Row],[Parcours choisi]]<>\"\",(VLOOKUP(Table356[[#Headers],[Temps Course]],'Def. Prix & Parcours'!$I$6:$M$28,4,FALSE)*Table3[[#This Row],[Points Temps Course]]),\"\")","v":0},{"$f":"IF(Table3[[#This Row],[Parcours choisi]]<>\"\",(VLOOKUP(Table356[[#Headers],[Epreuve arrêt au stand]],'Def. Prix & Parcours'!$I$6:$M$28,4,FALSE)*Table3[[#This Row],[Points Epreuve arrêt au stand]]),\"\")","v":0},null,{"$f":"IF(Table3[[#This Row],[Parcours choisi]]<>\"\",SUM(Table3567810[[#This Row],[Ingénierie et conception]:[1]]),\"\")","v":942},{"$f":"IF(Table3[[#This Row],[Parcours choisi]]<>\"\",_xlfn.RANK.EQ(Table3567810[[#This Row],[Total Marketing et Communication]],Table3567810[Total Marketing et Communication],0),\"\")","v":17}]
[18,{"$f":"IF(Table3[[#This Row],[Nom équipe]]<>\"\",Table3[[#This Row],[Nom équipe]],\"\")","v":"Danger"},{"$f":"IF(Table3[[#This Row],[Etablissement]]<>\"\",Table3[[#This Row],[Etablissement]],\"\")","v":"Hauts de Blémont Metz"},{"$f":"IF(Table3[[#This Row],[Type établissement]]<>\"\",Table3[[#This Row],[Type établissement]],\"\")","v":"C"},{"$f":"IF(Table3[[#This Row],[Académie]]<>\"\",Table3[[#This Row],[Académie]],\"\")","v":"Nancy-Metz"},{"$f":"IF(Table3[[#This Row],[Parcours choisi]]<>\"\",Table3[[#This Row],[Parcours choisi]],\"\")","v":"G"},{"$f":"IF(Table3[[#This Row],[Parcours choisi]]<>\"\",(VLOOKUP(Table356[[#Headers],[Ingénierie et conception]],'Def. Prix & Parcours'!$I$6:$M$28,4,FALSE)*Table3[[#This Row],[Points Ingénierie et conception]]),\"\")","v":18},{"$f":"IF(Table3[[#This Row],[Parcours choisi]]<>\"\",(VLOOKUP(Table356[[#Headers],[Innovation mécanique]],'Def. Prix & Parcours'!$I$6:$M$28,4,FALSE)*Table3[[#This Row],[Points Innovation mécanique]]),\"\")","v":18},{"$f":"IF(Table3[[#This Row],[Parcours choisi]]<>\"\",(VLOOKUP(Table356[[#Headers],[Développement Durable]],'Def. Prix & Parcours'!$I$6:$M$28,4,FALSE)*Table3[[#This Row],[Points Développement Durable]]),\"\")","v":84},{"$f":"IF(Table3[[#This Row],[Parcours choisi]]<>\"\",(VLOOKUP(Table356[[#Headers],[Ingénierie de fabrication]],'Def. Prix & Parcours'!$I$6:$M$28,4,FALSE)*Table3[[#This Row],[Points Ingénierie de fabrication]]),\"\")","v":0},{"$f":"IF(Table3[[#This Row],[Parcours choisi]]<>\"\",(VLOOKUP(Table356[[#Headers],[Gestion de projet et collaborations]],'Def. Prix & Parcours'!$I$6:$M$28,4,FALSE)*Table3[[#This Row],[Points Gestion de projet et \ncollaborations]]),\"\")","v":35},{"$f":"IF(Table3[[#This Row],[Parcours choisi]]<>\"\",(VLOOKUP(Table356[[#Headers],[Présentation Orale]],'Def. Prix & Parcours'!$I$6:$M$28,4,FALSE)*Table3[[#This Row],[Points Présentation Orale]]),\"\")","v":70},{"$f":"IF(Table3[[#This Row],[Parcours choisi]]<>\"\",(VLOOKUP(Table356[[#Headers],[Identité Equipe]],'Def. Prix & Parcours'!$I$6:$M$28,4,FALSE)*Table3[[#This Row],[Points Identité Equipe]]),\"\")","v":85},{"$f":"IF(Table3[[#This Row],[Parcours choisi]]<>\"\",(VLOOKUP(Table356[[#Headers],[Design du Stand]],'Def. Prix & Parcours'!$I$6:$M$28,4,FALSE)*Table3[[#This Row],[Points Design du Stand]]),\"\")","v":136},{"$f":"IF(Table3[[#This Row],[Parcours choisi]]<>\"\",(VLOOKUP(Table356[[#Headers],[Portfolio]],'Def. Prix & Parcours'!$I$6:$M$28,4,FALSE)*Table3[[#This Row],[Points Portfolio]]),\"\")","v":112},{"$f":"IF(Table3[[#This Row],[Parcours choisi]]<>\"\",(VLOOKUP(Table356[[#Headers],[Marketing et Sponsoring]],'Def. Prix & Parcours'!$I$6:$M$28,4,FALSE)*Table3[[#This Row],[Points Marketing et Sponsoring]]),\"\")","v":100},{"$f":"IF(Table3[[#This Row],[Parcours choisi]]<>\"\",(VLOOKUP(Table356[[#Headers],[Budget]],'Def. Prix & Parcours'!$I$6:$M$28,4,FALSE)*Table3[[#This Row],[Points Budget]]),\"\")","v":26},{"$f":"IF(Table3[[#This Row],[Parcours choisi]]<>\"\",(VLOOKUP(Table356[[#Headers],[Design du Véhicule]],'Def. Prix & Parcours'!$I$6:$M$28,4,FALSE)*Table3[[#This Row],[Points Design du Véhicule]]),\"\")","v":28},{"$f":"IF(Table3[[#This Row],[Parcours choisi]]<>\"\",(VLOOKUP(Table356[[#Headers],[Innovation numérique]],'Def. Prix & Parcours'!$I$6:$M$28,4,FALSE)*Table3[[#This Row],[Points Innovation numérique]]),\"\")","v":0},{"$f":"IF(Table3[[#This Row],[Parcours choisi]]<>\"\",(VLOOKUP(Table356[[#Headers],[Programmation]],'Def. Prix & Parcours'!$I$6:$M$28,4,FALSE)*Table3[[#This Row],[Points Programmation]]),\"\")","v":0},{"$f":"IF(Table3[[#This Row],[Parcours choisi]]<>\"\",(VLOOKUP(Table356[[#Headers],[Respect du règlement]],'Def. Prix & Parcours'!$I$6:$M$28,4,FALSE)*Table3[[#This Row],[Points Respect du règlement]]),\"\")","v":80},{"$f":"IF(Table3[[#This Row],[Parcours choisi]]<>\"\",(VLOOKUP(Table356[[#Headers],[Communication : vidéo]],'Def. Prix & Parcours'!$I$6:$M$28,4,FALSE)*Table3[[#This Row],[Points Communication : vidéo]]),\"\")","v":130},{"$f":"IF(Table3[[#This Row],[Parcours choisi]]<>\"\",(VLOOKUP(Table356[[#Headers],[Epreuve CAO]],'Def. Prix & Parcours'!$I$6:$M$28,4,FALSE)*Table3[[#This Row],[Points Epreuve CAO]]),\"\")","v":0},{"$f":"IF(Table3[[#This Row],[Parcours choisi]]<>\"\",(VLOOKUP(Table356[[#Headers],[Temps Réaction]],'Def. Prix & Parcours'!$I$6:$M$28,4,FALSE)*Table3[[#This Row],[Points Temps Réaction]]),\"\")","v":0},{"$f":"IF(Table3[[#This Row],[Parcours choisi]]<>\"\",(VLOOKUP(Table356[[#Headers],[Temps Course]],'Def. Prix & Parcours'!$I$6:$M$28,4,FALSE)*Table3[[#This Row],[Points Temps Course]]),\"\")","v":0},{"$f":"IF(Table3[[#This Row],[Parcours choisi]]<>\"\",(VLOOKUP(Table356[[#Headers],[Epreuve arrêt au stand]],'Def. Prix & Parcours'!$I$6:$M$28,4,FALSE)*Table3[[#This Row],[Points Epreuve arrêt au stand]]),\"\")","v":0},null,{"$f":"IF(Table3[[#This Row],[Parcours choisi]]<>\"\",SUM(Table3567810[[#This Row],[Ingénierie et conception]:[1]]),\"\")","v":922},{"$f":"IF(Table3[[#This Row],[Parcours choisi]]<>\"\",_xlfn.RANK.EQ(Table3567810[[#This Row],[Total Marketing et Communication]],Table3567810[Total Marketing et Communication],0),\"\")","v":19}]
[19,{"$f":"IF(Table3[[#This Row],[Nom équipe]]<>\"\",Table3[[#This Row],[Nom équipe]],\"\")","v":"Scott"},{"$f":"IF(Table3[[#This Row],[Etablissement]]<>\"\",Table3[[#This Row],[Etablissement]],\"\")","v":"Hauts de Blémont Metz"},{"$f":"IF(Table3[[#This Row],[Type établissement]]<>\"\",Table3[[#This Row],[Type établissement]],\"\")","v":"C"},{"$f":"IF(Table3[[#This Row],[Académie]]<>\"\",Table3[[#This Row],[Académie]],\"\")","v":"Nancy-Metz"},{"$f":"IF(Table3[[#This Row],[Parcours choisi]]<>\"\",Table3[[#This Row],[Parcours choisi]],\"\")","v":"G"},{"$f":"IF(Table3[[#This Row],[Parcours choisi]]<>\"\",(VLOOKUP(Table356[[#Headers],[Ingénierie et conception]],'Def. Prix & Parcours'!$I$6:$M$28,4,FALSE)*Table3[[#This Row],[Points Ingénierie et conception]]),\"\")","v":22},{"$f":"IF(Table3[[#This Row],[Parcours choisi]]<>\"\",(VLOOKUP(Table356[[#Headers],[Innovation mécanique]],'Def. Prix & Parcours'!$I$6:$M$28,4,FALSE)*Table3[[#This Row],[Points Innovation mécanique]]),\"\")","v":28},{"$f":"IF(Table3[[#This Row],[Parcours choisi]]<>\"\",(VLOOKUP(Table356[[#Headers],[Développement Durable]],'Def. Prix & Parcours'!$I$6:$M$28,4,FALSE)*Table3[[#This Row],[Points Développement Durable]]),\"\")","v":66},{"$f":"IF(Table3[[#This Row],[Parcours choisi]]<>\"\",(VLOOKUP(Table356[[#Headers],[Ingénierie de fabrication]],'Def. Prix & Parcours'!$I$6:$M$28,4,FALSE)*Table3[[#This Row],[Points Ingénierie de fabrication]]),\"\")","v":0},{"$f":"IF(Table3[[#This Row],[Parcours choisi]]<>\"\",(VLOOKUP(Table356[[#Headers],[Gestion de projet et collaborations]],'Def. Prix & Parcours'!$I$6:$M$28,4,FALSE)*Table3[[#This Row],[Points Gestion de projet et \ncollaborations]]),\"\")","v":75},{"$f":"IF(Table3[[#This Row],[Parcours choisi]]<>\"\",(VLOOKUP(Table356[[#Headers],[Présentation Orale]],'Def. Prix & Parcours'!$I$6:$M$28,4,FALSE)*Table3[[#This Row],[Points Présentation Orale]]),\"\")","v":45},{"$f":"IF(Table3[[#This Row],[Parcours choisi]]<>\"\",(VLOOKUP(Table356[[#Headers],[Identité Equipe]],'Def. Prix & Parcours'!$I$6:$M$28,4,FALSE)*Table3[[#This Row],[Points Identité Equipe]]),\"\")","v":90},{"$f":"IF(Table3[[#This Row],[Parcours choisi]]<>\"\",(VLOOKUP(Table356[[#Headers],[Design du Stand]],'Def. Prix & Parcours'!$I$6:$M$28,4,FALSE)*Table3[[#This Row],[Points Design du Stand]]),\"\")","v":128},{"$f":"IF(Table3[[#This Row],[Parcours choisi]]<>\"\",(VLOOKUP(Table356[[#Headers],[Portfolio]],'Def. Prix & Parcours'!$I$6:$M$28,4,FALSE)*Table3[[#This Row],[Points Portfolio]]),\"\")","v":144},{"$f":"IF(Table3[[#This Row],[Parcours choisi]]<>\"\",(VLOOKUP(Table356[[#Headers],[Marketing et Sponsoring]],'Def. Prix & Parcours'!$I$6:$M$28,4,FALSE)*Table3[[#This Row],[Points Marketing et Sponsoring]]),\"\")","v":180},{"$f":"IF(Table3[[#This Row],[Parcours choisi]]<>\"\",(VLOOKUP(Table356[[#Headers],[Budget]],'Def. Prix & Parcours'!$I$6:$M$28,4,FALSE)*Table3[[#This Row],[Points Budget]]),\"\")","v":36},{"$f":"IF(Table3[[#This Row],[Parcours choisi]]<>\"\",(VLOOKUP(Table356[[#Headers],[Design du Véhicule]],'Def. Prix & Parcours'!$I$6:$M$28,4,FALSE)*Table3[[#This Row],[Points Design du Véhicule]]),\"\")","v":36},{"$f":"IF(Table3[[#This Row],[Parcours choisi]]<>\"\",(VLOOKUP(Table356[[#Headers],[Innovation numérique]],'Def. Prix & Parcours'!$I$6:$M$28,4,FALSE)*Table3[[#This Row],[Points Innovation numérique]]),\"\")","v":0},{"$f":"IF(Table3[[#This Row],[Parcours choisi]]<>\"\",(VLOOKUP(Table356[[#Headers],[Programmation]],'Def. Prix & Parcours'!$I$6:$M$28,4,FALSE)*Table3[[#This Row],[Points Programmation]]),\"\")","v":0},{"$f":"IF(Table3[[#This Row],[Parcours choisi]]<>\"\",(VLOOKUP(Table356[[#Headers],[Respect du règlement]],'Def. Prix & Parcours'!$I$6:$M$28,4,FALSE)*Table3[[#This Row],[Points Respect du règlement]]),\"\")","v":80},{"$f":"IF(Table3[[#This Row],[Parcours choisi]]<>\"\",(VLOOKUP(Table356[[#Headers],[Communication : vidéo]],'Def. Prix & Parcours'!$I$6:$M$28,4,FALSE)*Table3[[#This Row],[Points Communication : vidéo]]),\"\")","v":180},{"$f":"IF(Table3[[#This Row],[Parcours choisi]]<>\"\",(VLOOKUP(Table356[[#Headers],[Epreuve CAO]],'Def. Prix & Parcours'!$I$6:$M$28,4,FALSE)*Table3[[#This Row],[Points Epreuve CAO]]),\"\")","v":0},{"$f":"IF(Table3[[#This Row],[Parcours choisi]]<>\"\",(VLOOKUP(Table356[[#Headers],[Temps Réaction]],'Def. Prix & Parcours'!$I$6:$M$28,4,FALSE)*Table3[[#This Row],[Points Temps Réaction]]),\"\")","v":0},{"$f":"IF(Table3[[#This Row],[Parcours choisi]]<>\"\",(VLOOKUP(Table356[[#Headers],[Temps Course]],'Def. Prix & Parcours'!$I$6:$M$28,4,FALSE)*Table3[[#This Row],[Points Temps Course]]),\"\")","v":0},{"$f":"IF(Table3[[#This Row],[Parcours choisi]]<>\"\",(VLOOKUP(Table356[[#Headers],[Epreuve arrêt au stand]],'Def. Prix & Parcours'!$I$6:$M$28,4,FALSE)*Table3[[#This Row],[Points Epreuve arrêt au stand]]),\"\")","v":0},null,{"$f":"IF(Table3[[#This Row],[Parcours choisi]]<>\"\",SUM(Table3567810[[#This Row],[Ingénierie et conception]:[1]]),\"\")","v":1110},{"$f":"IF(Table3[[#This Row],[Parcours choisi]]<>\"\",_xlfn.RANK.EQ(Table3567810[[#This Row],[Total Marketing et Communication]],Table3567810[Total Marketing et Communication],0),\"\")","v":6}]
[20,{"$f":"IF(Table3[[#This Row],[Nom équipe]]<>\"\",Table3[[#This Row],[Nom équipe]],\"\")","v":"Amercan's 70"},{"$f":"IF(Table3[[#This Row],[Etablissement]]<>\"\",Table3[[#This Row],[Etablissement]],\"\")","v":"A. Dreux Folschviller"},{"$f":"IF(Table3[[#This Row],[Type établissement]]<>\"\",Table3[[#This Row],[Type établissement]],\"\")","v":"C"},{"$f":"IF(Table3[[#This Row],[Académie]]<>\"\",Table3[[#This Row],[Académie]],\"\")","v":"Nancy-Metz"},{"$f":"IF(Table3[[#This Row],[Parcours choisi]]<>\"\",Table3[[#This Row],[Parcours choisi]],\"\")","v":"G"},{"$f":"IF(Table3[[#This Row],[Parcours choisi]]<>\"\",(VLOOKUP(Table356[[#Headers],[Ingénierie et conception]],'Def. Prix & Parcours'!$I$6:$M$28,4,FALSE)*Table3[[#This Row],[Points Ingénierie et conception]]),\"\")","v":26},{"$f":"IF(Table3[[#This Row],[Parcours choisi]]<>\"\",(VLOOKUP(Table356[[#Headers],[Innovation mécanique]],'Def. Prix & Parcours'!$I$6:$M$28,4,FALSE)*Table3[[#This Row],[Points Innovation mécanique]]),\"\")","v":26},{"$f":"IF(Table3[[#This Row],[Parcours choisi]]<>\"\",(VLOOKUP(Table356[[#Headers],[Développement Durable]],'Def. Prix & Parcours'!$I$6:$M$28,4,FALSE)*Table3[[#This Row],[Points Développement Durable]]),\"\")","v":96},{"$f":"IF(Table3[[#This Row],[Parcours choisi]]<>\"\",(VLOOKUP(Table356[[#Headers],[Ingénierie de fabrication]],'Def. Prix & Parcours'!$I$6:$M$28,4,FALSE)*Table3[[#This Row],[Points Ingénierie de fabrication]]),\"\")","v":0},{"$f":"IF(Table3[[#This Row],[Parcours choisi]]<>\"\",(VLOOKUP(Table356[[#Headers],[Gestion de projet et collaborations]],'Def. Prix & Parcours'!$I$6:$M$28,4,FALSE)*Table3[[#This Row],[Points Gestion de projet et \ncollaborations]]),\"\")","v":70},{"$f":"IF(Table3[[#This Row],[Parcours choisi]]<>\"\",(VLOOKUP(Table356[[#Headers],[Présentation Orale]],'Def. Prix & Parcours'!$I$6:$M$28,4,FALSE)*Table3[[#This Row],[Points Présentation Orale]]),\"\")","v":60},{"$f":"IF(Table3[[#This Row],[Parcours choisi]]<>\"\",(VLOOKUP(Table356[[#Headers],[Identité Equipe]],'Def. Prix & Parcours'!$I$6:$M$28,4,FALSE)*Table3[[#This Row],[Points Identité Equipe]]),\"\")","v":60},{"$f":"IF(Table3[[#This Row],[Parcours choisi]]<>\"\",(VLOOKUP(Table356[[#Headers],[Design du Stand]],'Def. Prix & Parcours'!$I$6:$M$28,4,FALSE)*Table3[[#This Row],[Points Design du Stand]]),\"\")","v":96},{"$f":"IF(Table3[[#This Row],[Parcours choisi]]<>\"\",(VLOOKUP(Table356[[#Headers],[Portfolio]],'Def. Prix & Parcours'!$I$6:$M$28,4,FALSE)*Table3[[#This Row],[Points Portfolio]]),\"\")","v":80},{"$f":"IF(Table3[[#This Row],[Parcours choisi]]<>\"\",(VLOOKUP(Table356[[#Headers],[Marketing et Sponsoring]],'Def. Prix & Parcours'!$I$6:$M$28,4,FALSE)*Table3[[#This Row],[Points Marketing et Sponsoring]]),\"\")","v":70},{"$f":"IF(Table3[[#This Row],[Parcours choisi]]<>\"\",(VLOOKUP(Table356[[#Headers],[Budget]],'Def. Prix & Parcours'!$I$6:$M$28,4,FALSE)*Table3[[#This Row],[Points Budget]]),\"\")","v":8},{"$f":"IF(Table3[[#This Row],[Parcours choisi]]<>\"\",(VLOOKUP(Table356[[#Headers],[Design du Véhicule]],'Def. Prix & Parcours'!$I$6:$M$28,4,FALSE)*Table3[[#This Row],[Points Design du Véhicule]]),\"\")","v":24},{"$f":"IF(Table3[[#This Row],[Parcours choisi]]<>\"\",(VLOOKUP(Table356[[#Headers],[Innovation numérique]],'Def. Prix & Parcours'!$I$6:$M$28,4,FALSE)*Table3[[#This Row],[Points Innovation numérique]]),\"\")","v":0},{"$f":"IF(Table3[[#This Row],[Parcours choisi]]<>\"\",(VLOOKUP(Table356[[#Headers],[Programmation]],'Def. Prix & Parcours'!$I$6:$M$28,4,FALSE)*Table3[[#This Row],[Points Programmation]]),\"\")","v":0},{"$f":"IF(Table3[[#This Row],[Parcours choisi]]<>\"\",(VLOOKUP(Table356[[#Headers],[Respect du règlement]],'Def. Prix & Parcours'!$I$6:$M$28,4,FALSE)*Table3[[#This Row],[Points Respect du règlement]]),\"\")","v":70},{"$f":"IF(Table3[[#This Row],[Parcours choisi]]<>\"\",(VLOOKUP(Table356[[#Headers],[Communication : vidéo]],'Def. Prix & Parcours'!$I$6:$M$28,4,FALSE)*Table3[[#This Row],[Points Communication : vidéo]]),\"\")","v":160},{"$f":"IF(Table3[[#This Row],[Parcours choisi]]<>\"\",(VLOOKUP(Table356[[#Headers],[Epreuve CAO]],'Def. Prix & Parcours'!$I$6:$M$28,4,FALSE)*Table3[[#This Row],[Points Epreuve CAO]]),\"\")","v":0},{"$f":"IF(Table3[[#This Row],[Parcours choisi]]<>\"\",(VLOOKUP(Table356[[#Headers],[Temps Réaction]],'Def. Prix & Parcours'!$I$6:$M$28,4,FALSE)*Table3[[#This Row],[Points Temps Réaction]]),\"\")","v":0},{"$f":"IF(Table3[[#This Row],[Parcours choisi]]<>\"\",(VLOOKUP(Table356[[#Headers],[Temps Course]],'Def. Prix & Parcours'!$I$6:$M$28,4,FALSE)*Table3[[#This Row],[Points Temps Course]]),\"\")","v":0},{"$f":"IF(Table3[[#This Row],[Parcours choisi]]<>\"\",(VLOOKUP(Table356[[#Headers],[Epreuve arrêt au stand]],'Def. Prix & Parcours'!$I$6:$M$28,4,FALSE)*Table3[[#This Row],[Points Epreuve arrêt au stand]]),\"\")","v":0},null,{"$f":"IF(Table3[[#This Row],[Parcours choisi]]<>\"\",SUM(Table3567810[[#This Row],[Ingénierie et conception]:[1]]),\"\")","v":846},{"$f":"IF(Table3[[#This Row],[Parcours choisi]]<>\"\",_xlfn.RANK.EQ(Table3567810[[#This Row],[Total Marketing et Communication]],Table3567810[Total Marketing et Communication],0),\"\")","v":22}]
[21,{"$f":"IF(Table3[[#This Row],[Nom équipe]]<>\"\",Table3[[#This Row],[Nom équipe]],\"\")","v":"Les 80's"},{"$f":"IF(Table3[[#This Row],[Etablissement]]<>\"\",Table3[[#This Row],[Etablissement]],\"\")","v":"A. Dreux Folschviller"},{"$f":"IF(Table3[[#This Row],[Type établissement]]<>\"\",Table3[[#This Row],[Type établissement]],\"\")","v":"C"},{"$f":"IF(Table3[[#This Row],[Académie]]<>\"\",Table3[[#This Row],[Académie]],\"\")","v":"Nancy-Metz"},{"$f":"IF(Table3[[#This Row],[Parcours choisi]]<>\"\",Table3[[#This Row],[Parcours choisi]],\"\")","v":"G"},{"$f":"IF(Table3[[#This Row],[Parcours choisi]]<>\"\",(VLOOKUP(Table356[[#Headers],[Ingénierie et conception]],'Def. Prix & Parcours'!$I$6:$M$28,4,FALSE)*Table3[[#This Row],[Points Ingénierie et conception]]),\"\")","v":28},{"$f":"IF(Table3[[#This Row],[Parcours choisi]]<>\"\",(VLOOKUP(Table356[[#Headers],[Innovation mécanique]],'Def. Prix & Parcours'!$I$6:$M$28,4,FALSE)*Table3[[#This Row],[Points Innovation mécanique]]),\"\")","v":24},{"$f":"IF(Table3[[#This Row],[Parcours choisi]]<>\"\",(VLOOKUP(Table356[[#Headers],[Développement Durable]],'Def. Prix & Parcours'!$I$6:$M$28,4,FALSE)*Table3[[#This Row],[Points Développement Durable]]),\"\")","v":54},{"$f":"IF(Table3[[#This Row],[Parcours choisi]]<>\"\",(VLOOKUP(Table356[[#Headers],[Ingénierie de fabrication]],'Def. Prix & Parcours'!$I$6:$M$28,4,FALSE)*Table3[[#This Row],[Points Ingénierie de fabrication]]),\"\")","v":0},{"$f":"IF(Table3[[#This Row],[Parcours choisi]]<>\"\",(VLOOKUP(Table356[[#Headers],[Gestion de projet et collaborations]],'Def. Prix & Parcours'!$I$6:$M$28,4,FALSE)*Table3[[#This Row],[Points Gestion de projet et \ncollaborations]]),\"\")","v":50},{"$f":"IF(Table3[[#This Row],[Parcours choisi]]<>\"\",(VLOOKUP(Table356[[#Headers],[Présentation Orale]],'Def. Prix & Parcours'!$I$6:$M$28,4,FALSE)*Table3[[#This Row],[Points Présentation Orale]]),\"\")","v":70},{"$f":"IF(Table3[[#This Row],[Parcours choisi]]<>\"\",(VLOOKUP(Table356[[#Headers],[Identité Equipe]],'Def. Prix & Parcours'!$I$6:$M$28,4,FALSE)*Table3[[#This Row],[Points Identité Equipe]]),\"\")","v":75},{"$f":"IF(Table3[[#This Row],[Parcours choisi]]<>\"\",(VLOOKUP(Table356[[#Headers],[Design du Stand]],'Def. Prix & Parcours'!$I$6:$M$28,4,FALSE)*Table3[[#This Row],[Points Design du Stand]]),\"\")","v":120},{"$f":"IF(Table3[[#This Row],[Parcours choisi]]<>\"\",(VLOOKUP(Table356[[#Headers],[Portfolio]],'Def. Prix & Parcours'!$I$6:$M$28,4,FALSE)*Table3[[#This Row],[Points Portfolio]]),\"\")","v":112},{"$f":"IF(Table3[[#This Row],[Parcours choisi]]<>\"\",(VLOOKUP(Table356[[#Headers],[Marketing et Sponsoring]],'Def. Prix & Parcours'!$I$6:$M$28,4,FALSE)*Table3[[#This Row],[Points Marketing et Sponsoring]]),\"\")","v":130},{"$f":"IF(Table3[[#This Row],[Parcours choisi]]<>\"\",(VLOOKUP(Table356[[#Headers],[Budget]],'Def. Prix & Parcours'!$I$6:$M$28,4,FALSE)*Table3[[#This Row],[Points Budget]]),\"\")","v":18},{"$f":"IF(Table3[[#This Row],[Parcours choisi]]<>\"\",(VLOOKUP(Table356[[#Headers],[Design du Véhicule]],'Def. Prix & Parcours'!$I$6:$M$28,4,FALSE)*Table3[[#This Row],[Points Design du Véhicule]]),\"\")","v":30},{"$f":"IF(Table3[[#This Row],[Parcours choisi]]<>\"\",(VLOOKUP(Table356[[#Headers],[Innovation numérique]],'Def. Prix & Parcours'!$I$6:$M$28,4,FALSE)*Table3[[#This Row],[Points Innovation numérique]]),\"\")","v":0},{"$f":"IF(Table3[[#This Row],[Parcours choisi]]<>\"\",(VLOOKUP(Table356[[#Headers],[Programmation]],'Def. Prix & Parcours'!$I$6:$M$28,4,FALSE)*Table3[[#This Row],[Points Programmation]]),\"\")","v":0},{"$f":"IF(Table3[[#This Row],[Parcours choisi]]<>\"\",(VLOOKUP(Table356[[#Headers],[Respect du règlement]],'Def. Prix & Parcours'!$I$6:$M$28,4,FALSE)*Table3[[#This Row],[Points Respect du règlement]]),\"\")","v":75},{"$f":"IF(Table3[[#This Row],[Parcours choisi]]<>\"\",(VLOOKUP(Table356[[#Headers],[Communication : vidéo]],'Def. Prix & Parcours'!$I$6:$M$28,4,FALSE)*Table3[[#This Row],[Points Communication : vidéo]]),\"\")","v":110},{"$f":"IF(Table3[[#This Row],[Parcours choisi]]<>\"\",(VLOOKUP(Table356[[#Headers],[Epreuve CAO]],'Def. Prix & Parcours'!$I$6:$M$28,4,FALSE)*Table3[[#This Row],[Points Epreuve CAO]]),\"\")","v":0},{"$f":"IF(Table3[[#This Row],[Parcours choisi]]<>\"\",(VLOOKUP(Table356[[#Headers],[Temps Réaction]],'Def. Prix & Parcours'!$I$6:$M$28,4,FALSE)*Table3[[#This Row],[Points Temps Réaction]]),\"\")","v":0},{"$f":"IF(Table3[[#This Row],[Parcours choisi]]<>\"\",(VLOOKUP(Table356[[#Headers],[Temps Course]],'Def. Prix & Parcours'!$I$6:$M$28,4,FALSE)*Table3[[#This Row],[Points Temps Course]]),\"\")","v":0},{"$f":"IF(Table3[[#This Row],[Parcours choisi]]<>\"\",(VLOOKUP(Table356[[#Headers],[Epreuve arrêt au stand]],'Def. Prix & Parcours'!$I$6:$M$28,4,FALSE)*Table3[[#This Row],[Points Epreuve arrêt au stand]]),\"\")","v":0},null,{"$f":"IF(Table3[[#This Row],[Parcours choisi]]<>\"\",SUM(Table3567810[[#This Row],[Ingénierie et conception]:[1]]),\"\")","v":896},{"$f":"IF(Table3[[#This Row],[Parcours choisi]]<>\"\",_xlfn.RANK.EQ(Table3567810[[#This Row],[Total Marketing et Communication]],Table3567810[Total Marketing et Communication],0),\"\")","v":20}]
[22,{"$f":"IF(Table3[[#This Row],[Nom équipe]]<>\"\",Table3[[#This Row],[Nom équipe]],\"\")","v":"E-magie-nation"},{"$f":"IF(Table3[[#This Row],[Etablissement]]<>\"\",Table3[[#This Row],[Etablissement]],\"\")","v":"A. Dreux Folschviller"},{"$f":"IF(Table3[[#This Row],[Type établissement]]<>\"\",Table3[[#This Row],[Type établissement]],\"\")","v":"C"},{"$f":"IF(Table3[[#This Row],[Académie]]<>\"\",Table3[[#This Row],[Académie]],\"\")","v":"Nancy-Metz"},{"$f":"IF(Table3[[#This Row],[Parcours choisi]]<>\"\",Table3[[#This Row],[Parcours choisi]],\"\")","v":"G"},{"$f":"IF(Table3[[#This Row],[Parcours choisi]]<>\"\",(VLOOKUP(Table356[[#Headers],[Ingénierie et conception]],'Def. Prix & Parcours'!$I$6:$M$28,4,FALSE)*Table3[[#This Row],[Points Ingénierie et conception]]),\"\")","v":26},{"$f":"IF(Table3[[#This Row],[Parcours choisi]]<>\"\",(VLOOKUP(Table356[[#Headers],[Innovation mécanique]],'Def. Prix & Parcours'!$I$6:$M$28,4,FALSE)*Table3[[#This Row],[Points Innovation mécanique]]),\"\")","v":28},{"$f":"IF(Table3[[#This Row],[Parcours choisi]]<>\"\",(VLOOKUP(Table356[[#Headers],[Développement Durable]],'Def. Prix & Parcours'!$I$6:$M$28,4,FALSE)*Table3[[#This Row],[Points Développement Durable]]),\"\")","v":72},{"$f":"IF(Table3[[#This Row],[Parcours choisi]]<>\"\",(VLOOKUP(Table356[[#Headers],[Ingénierie de fabrication]],'Def. Prix & Parcours'!$I$6:$M$28,4,FALSE)*Table3[[#This Row],[Points Ingénierie de fabrication]]),\"\")","v":0},{"$f":"IF(Table3[[#This Row],[Parcours choisi]]<>\"\",(VLOOKUP(Table356[[#Headers],[Gestion de projet et collaborations]],'Def. Prix & Parcours'!$I$6:$M$28,4,FALSE)*Table3[[#This Row],[Points Gestion de projet et \ncollaborations]]),\"\")","v":70},{"$f":"IF(Table3[[#This Row],[Parcours choisi]]<>\"\",(VLOOKUP(Table356[[#Headers],[Présentation Orale]],'Def. Prix & Parcours'!$I$6:$M$28,4,FALSE)*Table3[[#This Row],[Points Présentation Orale]]),\"\")","v":65},{"$f":"IF(Table3[[#This Row],[Parcours choisi]]<>\"\",(VLOOKUP(Table356[[#Headers],[Identité Equipe]],'Def. Prix & Parcours'!$I$6:$M$28,4,FALSE)*Table3[[#This Row],[Points Identité Equipe]]),\"\")","v":70},{"$f":"IF(Table3[[#This Row],[Parcours choisi]]<>\"\",(VLOOKUP(Table356[[#Headers],[Design du Stand]],'Def. Prix & Parcours'!$I$6:$M$28,4,FALSE)*Table3[[#This Row],[Points Design du Stand]]),\"\")","v":120},{"$f":"IF(Table3[[#This Row],[Parcours choisi]]<>\"\",(VLOOKUP(Table356[[#Headers],[Portfolio]],'Def. Prix & Parcours'!$I$6:$M$28,4,FALSE)*Table3[[#This Row],[Points Portfolio]]),\"\")","v":144},{"$f":"IF(Table3[[#This Row],[Parcours choisi]]<>\"\",(VLOOKUP(Table356[[#Headers],[Marketing et Sponsoring]],'Def. Prix & Parcours'!$I$6:$M$28,4,FALSE)*Table3[[#This Row],[Points Marketing et Sponsoring]]),\"\")","v":80},{"$f":"IF(Table3[[#This Row],[Parcours choisi]]<>\"\",(VLOOKUP(Table356[[#Headers],[Budget]],'Def. Prix & Parcours'!$I$6:$M$28,4,FALSE)*Table3[[#This Row],[Points Budget]]),\"\")","v":16},{"$f":"IF(Table3[[#This Row],[Parcours choisi]]<>\"\",(VLOOKUP(Table356[[#Headers],[Design du Véhicule]],'Def. Prix & Parcours'!$I$6:$M$28,4,FALSE)*Table3[[#This Row],[Points Design du Véhicule]]),\"\")","v":30},{"$f":"IF(Table3[[#This Row],[Parcours choisi]]<>\"\",(VLOOKUP(Table356[[#Headers],[Innovation numérique]],'Def. Prix & Parcours'!$I$6:$M$28,4,FALSE)*Table3[[#This Row],[Points Innovation numérique]]),\"\")","v":0},{"$f":"IF(Table3[[#This Row],[Parcours choisi]]<>\"\",(VLOOKUP(Table356[[#Headers],[Programmation]],'Def. Prix & Parcours'!$I$6:$M$28,4,FALSE)*Table3[[#This Row],[Points Programmation]]),\"\")","v":0},{"$f":"IF(Table3[[#This Row],[Parcours choisi]]<>\"\",(VLOOKUP(Table356[[#Headers],[Respect du règlement]],'Def. Prix & Parcours'!$I$6:$M$28,4,FALSE)*Table3[[#This Row],[Points Respect du règlement]]),\"\")","v":100},{"$f":"IF(Table3[[#This Row],[Parcours choisi]]<>\"\",(VLOOKUP(Table356[[#Headers],[Communication : vidéo]],'Def. Prix & Parcours'!$I$6:$M$28,4,FALSE)*Table3[[#This Row],[Points Communication : vidéo]]),\"\")","v":200},{"$f":"IF(Table3[[#This Row],[Parcours choisi]]<>\"\",(VLOOKUP(Table356[[#Headers],[Epreuve CAO]],'Def. Prix & Parcours'!$I$6:$M$28,4,FALSE)*Table3[[#This Row],[Points Epreuve CAO]]),\"\")","v":0},{"$f":"IF(Table3[[#This Row],[Parcours choisi]]<>\"\",(VLOOKUP(Table356[[#Headers],[Temps Réaction]],'Def. Prix & Parcours'!$I$6:$M$28,4,FALSE)*Table3[[#This Row],[Points Temps Réaction]]),\"\")","v":0},{"$f":"IF(Table3[[#This Row],[Parcours choisi]]<>\"\",(VLOOKUP(Table356[[#Headers],[Temps Course]],'Def. Prix & Parcours'!$I$6:$M$28,4,FALSE)*Table3[[#This Row],[Points Temps Course]]),\"\")","v":0},{"$f":"IF(Table3[[#This Row],[Parcours choisi]]<>\"\",(VLOOKUP(Table356[[#Headers],[Epreuve arrêt au stand]],'Def. Prix & Parcours'!$I$6:$M$28,4,FALSE)*Table3[[#This Row],[Points Epreuve arrêt au stand]]),\"\")","v":0},null,{"$f":"IF(Table3[[#This Row],[Parcours choisi]]<>\"\",SUM(Table3567810[[#This Row],[Ingénierie et conception]:[1]]),\"\")","v":1021},{"$f":"IF(Table3[[#This Row],[Parcours choisi]]<>\"\",_xlfn.RANK.EQ(Table3567810[[#This Row],[Total Marketing et Communication]],Table3567810[Total Marketing et Communication],0),\"\")","v":12}]
[23,{"$f":"IF(Table3[[#This Row],[Nom équipe]]<>\"\",Table3[[#This Row],[Nom équipe]],\"\")","v":"Gol'o Team"},{"$f":"IF(Table3[[#This Row],[Etablissement]]<>\"\",Table3[[#This Row],[Etablissement]],\"\")","v":"A. Dreux Folschviller"},{"$f":"IF(Table3[[#This Row],[Type établissement]]<>\"\",Table3[[#This Row],[Type établissement]],\"\")","v":"C"},{"$f":"IF(Table3[[#This Row],[Académie]]<>\"\",Table3[[#This Row],[Académie]],\"\")","v":"Nancy-Metz"},{"$f":"IF(Table3[[#This Row],[Parcours choisi]]<>\"\",Table3[[#This Row],[Parcours choisi]],\"\")","v":"G"},{"$f":"IF(Table3[[#This Row],[Parcours choisi]]<>\"\",(VLOOKUP(Table356[[#Headers],[Ingénierie et conception]],'Def. Prix & Parcours'!$I$6:$M$28,4,FALSE)*Table3[[#This Row],[Points Ingénierie et conception]]),\"\")","v":30},{"$f":"IF(Table3[[#This Row],[Parcours choisi]]<>\"\",(VLOOKUP(Table356[[#Headers],[Innovation mécanique]],'Def. Prix & Parcours'!$I$6:$M$28,4,FALSE)*Table3[[#This Row],[Points Innovation mécanique]]),\"\")","v":32},{"$f":"IF(Table3[[#This Row],[Parcours choisi]]<>\"\",(VLOOKUP(Table356[[#Headers],[Développement Durable]],'Def. Prix & Parcours'!$I$6:$M$28,4,FALSE)*Table3[[#This Row],[Points Développement Durable]]),\"\")","v":78},{"$f":"IF(Table3[[#This Row],[Parcours choisi]]<>\"\",(VLOOKUP(Table356[[#Headers],[Ingénierie de fabrication]],'Def. Prix & Parcours'!$I$6:$M$28,4,FALSE)*Table3[[#This Row],[Points Ingénierie de fabrication]]),\"\")","v":0},{"$f":"IF(Table3[[#This Row],[Parcours choisi]]<>\"\",(VLOOKUP(Table356[[#Headers],[Gestion de projet et collaborations]],'Def. Prix & Parcours'!$I$6:$M$28,4,FALSE)*Table3[[#This Row],[Points Gestion de projet et \ncollaborations]]),\"\")","v":85},{"$f":"IF(Table3[[#This Row],[Parcours choisi]]<>\"\",(VLOOKUP(Table356[[#Headers],[Présentation Orale]],'Def. Prix & Parcours'!$I$6:$M$28,4,FALSE)*Table3[[#This Row],[Points Présentation Orale]]),\"\")","v":90},{"$f":"IF(Table3[[#This Row],[Parcours choisi]]<>\"\",(VLOOKUP(Table356[[#Headers],[Identité Equipe]],'Def. Prix & Parcours'!$I$6:$M$28,4,FALSE)*Table3[[#This Row],[Points Identité Equipe]]),\"\")","v":80},{"$f":"IF(Table3[[#This Row],[Parcours choisi]]<>\"\",(VLOOKUP(Table356[[#Headers],[Design du Stand]],'Def. Prix & Parcours'!$I$6:$M$28,4,FALSE)*Table3[[#This Row],[Points Design du Stand]]),\"\")","v":104},{"$f":"IF(Table3[[#This Row],[Parcours choisi]]<>\"\",(VLOOKUP(Table356[[#Headers],[Portfolio]],'Def. Prix & Parcours'!$I$6:$M$28,4,FALSE)*Table3[[#This Row],[Points Portfolio]]),\"\")","v":88},{"$f":"IF(Table3[[#This Row],[Parcours choisi]]<>\"\",(VLOOKUP(Table356[[#Headers],[Marketing et Sponsoring]],'Def. Prix & Parcours'!$I$6:$M$28,4,FALSE)*Table3[[#This Row],[Points Marketing et Sponsoring]]),\"\")","v":110},{"$f":"IF(Table3[[#This Row],[Parcours choisi]]<>\"\",(VLOOKUP(Table356[[#Headers],[Budget]],'Def. Prix & Parcours'!$I$6:$M$28,4,FALSE)*Table3[[#This Row],[Points Budget]]),\"\")","v":22},{"$f":"IF(Table3[[#This Row],[Parcours choisi]]<>\"\",(VLOOKUP(Table356[[#Headers],[Design du Véhicule]],'Def. Prix & Parcours'!$I$6:$M$28,4,FALSE)*Table3[[#This Row],[Points Design du Véhicule]]),\"\")","v":30},{"$f":"IF(Table3[[#This Row],[Parcours choisi]]<>\"\",(VLOOKUP(Table356[[#Headers],[Innovation numérique]],'Def. Prix & Parcours'!$I$6:$M$28,4,FALSE)*Table3[[#This Row],[Points Innovation numérique]]),\"\")","v":0},{"$f":"IF(Table3[[#This Row],[Parcours choisi]]<>\"\",(VLOOKUP(Table356[[#Headers],[Programmation]],'Def. Prix & Parcours'!$I$6:$M$28,4,FALSE)*Table3[[#This Row],[Points Programmation]]),\"\")","v":0},{"$f":"IF(Table3[[#This Row],[Parcours choisi]]<>\"\",(VLOOKUP(Table356[[#Headers],[Respect du règlement]],'Def. Prix & Parcours'!$I$6:$M$28,4,FALSE)*Table3[[#This Row],[Points Respect du règlement]]),\"\")","v":75},{"$f":"IF(Table3[[#This Row],[Parcours choisi]]<>\"\",(VLOOKUP(Table356[[#Headers],[Communication : vidéo]],'Def. Prix & Parcours'!$I$6:$M$28,4,FALSE)*Table3[[#This Row],[Points Communication : vidéo]]),\"\")","v":70},{"$f":"IF(Table3[[#This Row],[Parcours choisi]]<>\"\",(VLOOKUP(Table356[[#Headers],[Epreuve CAO]],'Def. Prix & Parcours'!$I$6:$M$28,4,FALSE)*Table3[[#This Row],[Points Epreuve CAO]]),\"\")","v":0},{"$f":"IF(Table3[[#This Row],[Parcours choisi]]<>\"\",(VLOOKUP(Table356[[#Headers],[Temps Réaction]],'Def. Prix & Parcours'!$I$6:$M$28,4,FALSE)*Table3[[#This Row],[Points Temps Réaction]]),\"\")","v":0},{"$f":"IF(Table3[[#This Row],[Parcours choisi]]<>\"\",(VLOOKUP(Table356[[#Headers],[Temps Course]],'Def. Prix & Parcours'!$I$6:$M$28,4,FALSE)*Table3[[#This Row],[Points Temps Course]]),\"\")","v":0},{"$f":"IF(Table3[[#This Row],[Parcours choisi]]<>\"\",(VLOOKUP(Table356[[#Headers],[Epreuve arrêt au stand]],'Def. Prix & Parcours'!$I$6:$M$28,4,FALSE)*Table3[[#This Row],[Points Epreuve arrêt au stand]]),\"\")","v":0},null,{"$f":"IF(Table3[[#This Row],[Parcours choisi]]<>\"\",SUM(Table3567810[[#This Row],[Ingénierie et conception]:[1]]),\"\")","v":894},{"$f":"IF(Table3[[#This Row],[Parcours choisi]]<>\"\",_xlfn.RANK.EQ(Table3567810[[#This Row],[Total Marketing et Communication]],Table3567810[Total Marketing et Communication],0),\"\")","v":21}]
[24,{"$f":"IF(Table3[[#This Row],[Nom équipe]]<>\"\",Table3[[#This Row],[Nom équipe]],\"\")","v":"Serpent"},{"$f":"IF(Table3[[#This Row],[Etablissement]]<>\"\",Table3[[#This Row],[Etablissement]],\"\")","v":"A. Dreux Folschviller"},{"$f":"IF(Table3[[#This Row],[Type établissement]]<>\"\",Table3[[#This Row],[Type établissement]],\"\")","v":"C"},{"$f":"IF(Table3[[#This Row],[Académie]]<>\"\",Table3[[#This Row],[Académie]],\"\")","v":"Nancy-Metz"},{"$f":"IF(Table3[[#This Row],[Parcours choisi]]<>\"\",Table3[[#This Row],[Parcours choisi]],\"\")","v":"G"},{"$f":"IF(Table3[[#This Row],[Parcours choisi]]<>\"\",(VLOOKUP(Table356[[#Headers],[Ingénierie et conception]],'Def. Prix & Parcours'!$I$6:$M$28,4,FALSE)*Table3[[#This Row],[Points Ingénierie et conception]]),\"\")","v":16},{"$f":"IF(Table3[[#This Row],[Parcours choisi]]<>\"\",(VLOOKUP(Table356[[#Headers],[Innovation mécanique]],'Def. Prix & Parcours'!$I$6:$M$28,4,FALSE)*Table3[[#This Row],[Points Innovation mécanique]]),\"\")","v":22},{"$f":"IF(Table3[[#This Row],[Parcours choisi]]<>\"\",(VLOOKUP(Table356[[#Headers],[Développement Durable]],'Def. Prix & Parcours'!$I$6:$M$28,4,FALSE)*Table3[[#This Row],[Points Développement Durable]]),\"\")","v":48},{"$f":"IF(Table3[[#This Row],[Parcours choisi]]<>\"\",(VLOOKUP(Table356[[#Headers],[Ingénierie de fabrication]],'Def. Prix & Parcours'!$I$6:$M$28,4,FALSE)*Table3[[#This Row],[Points Ingénierie de fabrication]]),\"\")","v":0},{"$f":"IF(Table3[[#This Row],[Parcours choisi]]<>\"\",(VLOOKUP(Table356[[#Headers],[Gestion de projet et collaborations]],'Def. Prix & Parcours'!$I$6:$M$28,4,FALSE)*Table3[[#This Row],[Points Gestion de projet et \ncollaborations]]),\"\")","v":25},{"$f":"IF(Table3[[#This Row],[Parcours choisi]]<>\"\",(VLOOKUP(Table356[[#Headers],[Présentation Orale]],'Def. Prix & Parcours'!$I$6:$M$28,4,FALSE)*Table3[[#This Row],[Points Présentation Orale]]),\"\")","v":20},{"$f":"IF(Table3[[#This Row],[Parcours choisi]]<>\"\",(VLOOKUP(Table356[[#Headers],[Identité Equipe]],'Def. Prix & Parcours'!$I$6:$M$28,4,FALSE)*Table3[[#This Row],[Points Identité Equipe]]),\"\")","v":65},{"$f":"IF(Table3[[#This Row],[Parcours choisi]]<>\"\",(VLOOKUP(Table356[[#Headers],[Design du Stand]],'Def. Prix & Parcours'!$I$6:$M$28,4,FALSE)*Table3[[#This Row],[Points Design du Stand]]),\"\")","v":80},{"$f":"IF(Table3[[#This Row],[Parcours choisi]]<>\"\",(VLOOKUP(Table356[[#Headers],[Portfolio]],'Def. Prix & Parcours'!$I$6:$M$28,4,FALSE)*Table3[[#This Row],[Points Portfolio]]),\"\")","v":104},{"$f":"IF(Table3[[#This Row],[Parcours choisi]]<>\"\",(VLOOKUP(Table356[[#Headers],[Marketing et Sponsoring]],'Def. Prix & Parcours'!$I$6:$M$28,4,FALSE)*Table3[[#This Row],[Points Marketing et Sponsoring]]),\"\")","v":70},{"$f":"IF(Table3[[#This Row],[Parcours choisi]]<>\"\",(VLOOKUP(Table356[[#Headers],[Budget]],'Def. Prix & Parcours'!$I$6:$M$28,4,FALSE)*Table3[[#This Row],[Points Budget]]),\"\")","v":16},{"$f":"IF(Table3[[#This Row],[Parcours choisi]]<>\"\",(VLOOKUP(Table356[[#Headers],[Design du Véhicule]],'Def. Prix & Parcours'!$I$6:$M$28,4,FALSE)*Table3[[#This Row],[Points Design du Véhicule]]),\"\")","v":22},{"$f":"IF(Table3[[#This Row],[Parcours choisi]]<>\"\",(VLOOKUP(Table356[[#Headers],[Innovation numérique]],'Def. Prix & Parcours'!$I$6:$M$28,4,FALSE)*Table3[[#This Row],[Points Innovation numérique]]),\"\")","v":0},{"$f":"IF(Table3[[#This Row],[Parcours choisi]]<>\"\",(VLOOKUP(Table356[[#Headers],[Programmation]],'Def. Prix & Parcours'!$I$6:$M$28,4,FALSE)*Table3[[#This Row],[Points Programmation]]),\"\")","v":0},{"$f":"IF(Table3[[#This Row],[Parcours choisi]]<>\"\",(VLOOKUP(Table356[[#Headers],[Respect du règlement]],'Def. Prix & Parcours'!$I$6:$M$28,4,FALSE)*Table3[[#This Row],[Points Respect du règlement]]),\"\")","v":75},{"$f":"IF(Table3[[#This Row],[Parcours choisi]]<>\"\",(VLOOKUP(Table356[[#Headers],[Communication : vidéo]],'Def. Prix & Parcours'!$I$6:$M$28,4,FALSE)*Table3[[#This Row],[Points Communication : vidéo]]),\"\")","v":130},{"$f":"IF(Table3[[#This Row],[Parcours choisi]]<>\"\",(VLOOKUP(Table356[[#Headers],[Epreuve CAO]],'Def. Prix & Parcours'!$I$6:$M$28,4,FALSE)*Table3[[#This Row],[Points Epreuve CAO]]),\"\")","v":0},{"$f":"IF(Table3[[#This Row],[Parcours choisi]]<>\"\",(VLOOKUP(Table356[[#Headers],[Temps Réaction]],'Def. Prix & Parcours'!$I$6:$M$28,4,FALSE)*Table3[[#This Row],[Points Temps Réaction]]),\"\")","v":0},{"$f":"IF(Table3[[#This Row],[Parcours choisi]]<>\"\",(VLOOKUP(Table356[[#Headers],[Temps Course]],'Def. Prix & Parcours'!$I$6:$M$28,4,FALSE)*Table3[[#This Row],[Points Temps Course]]),\"\")","v":0},{"$f":"IF(Table3[[#This Row],[Parcours choisi]]<>\"\",(VLOOKUP(Table356[[#Headers],[Epreuve arrêt au stand]],'Def. Prix & Parcours'!$I$6:$M$28,4,FALSE)*Table3[[#This Row],[Points Epreuve arrêt au stand]]),\"\")","v":0},null,{"$f":"IF(Table3[[#This Row],[Parcours choisi]]<>\"\",SUM(Table3567810[[#This Row],[Ingénierie et conception]:[1]]),\"\")","v":693},{"$f":"IF(Table3[[#This Row],[Parcours choisi]]<>\"\",_xlfn.RANK.EQ(Table3567810[[#This Row],[Total Marketing et Communication]],Table3567810[Total Marketing et Communication],0),\"\")","v":25}]
[25,{"$f":"IF(Table3[[#This Row],[Nom équipe]]<>\"\",Table3[[#This Row],[Nom équipe]],\"\")","v":"The Peaky's"},{"$f":"IF(Table3[[#This Row],[Etablissement]]<>\"\",Table3[[#This Row],[Etablissement]],\"\")","v":"La Fontaine St Avold"},{"$f":"IF(Table3[[#This Row],[Type établissement]]<>\"\",Table3[[#This Row],[Type établissement]],\"\")","v":"C"},{"$f":"IF(Table3[[#This Row],[Académie]]<>\"\",Table3[[#This Row],[Académie]],\"\")","v":"Nancy-Metz"},{"$f":"IF(Table3[[#This Row],[Parcours choisi]]<>\"\",Table3[[#This Row],[Parcours choisi]],\"\")","v":"G"},{"$f":"IF(Table3[[#This Row],[Parcours choisi]]<>\"\",(VLOOKUP(Table356[[#Headers],[Ingénierie et conception]],'Def. Prix & Parcours'!$I$6:$M$28,4,FALSE)*Table3[[#This Row],[Points Ingénierie et conception]]),\"\")","v":40},{"$f":"IF(Table3[[#This Row],[Parcours choisi]]<>\"\",(VLOOKUP(Table356[[#Headers],[Innovation mécanique]],'Def. Prix & Parcours'!$I$6:$M$28,4,FALSE)*Table3[[#This Row],[Points Innovation mécanique]]),\"\")","v":40},{"$f":"IF(Table3[[#This Row],[Parcours choisi]]<>\"\",(VLOOKUP(Table356[[#Headers],[Développement Durable]],'Def. Prix & Parcours'!$I$6:$M$28,4,FALSE)*Table3[[#This Row],[Points Développement Durable]]),\"\")","v":96},{"$f":"IF(Table3[[#This Row],[Parcours choisi]]<>\"\",(VLOOKUP(Table356[[#Headers],[Ingénierie de fabrication]],'Def. Prix & Parcours'!$I$6:$M$28,4,FALSE)*Table3[[#This Row],[Points Ingénierie de fabrication]]),\"\")","v":0},{"$f":"IF(Table3[[#This Row],[Parcours choisi]]<>\"\",(VLOOKUP(Table356[[#Headers],[Gestion de projet et collaborations]],'Def. Prix & Parcours'!$I$6:$M$28,4,FALSE)*Table3[[#This Row],[Points Gestion de projet et \ncollaborations]]),\"\")","v":95},{"$f":"IF(Table3[[#This Row],[Parcours choisi]]<>\"\",(VLOOKUP(Table356[[#Headers],[Présentation Orale]],'Def. Prix & Parcours'!$I$6:$M$28,4,FALSE)*Table3[[#This Row],[Points Présentation Orale]]),\"\")","v":85},{"$f":"IF(Table3[[#This Row],[Parcours choisi]]<>\"\",(VLOOKUP(Table356[[#Headers],[Identité Equipe]],'Def. Prix & Parcours'!$I$6:$M$28,4,FALSE)*Table3[[#This Row],[Points Identité Equipe]]),\"\")","v":85},{"$f":"IF(Table3[[#This Row],[Parcours choisi]]<>\"\",(VLOOKUP(Table356[[#Headers],[Design du Stand]],'Def. Prix & Parcours'!$I$6:$M$28,4,FALSE)*Table3[[#This Row],[Points Design du Stand]]),\"\")","v":152},{"$f":"IF(Table3[[#This Row],[Parcours choisi]]<>\"\",(VLOOKUP(Table356[[#Headers],[Portfolio]],'Def. Prix & Parcours'!$I$6:$M$28,4,FALSE)*Table3[[#This Row],[Points Portfolio]]),\"\")","v":144},{"$f":"IF(Table3[[#This Row],[Parcours choisi]]<>\"\",(VLOOKUP(Table356[[#Headers],[Marketing et Sponsoring]],'Def. Prix & Parcours'!$I$6:$M$28,4,FALSE)*Table3[[#This Row],[Points Marketing et Sponsoring]]),\"\")","v":190},{"$f":"IF(Table3[[#This Row],[Parcours choisi]]<>\"\",(VLOOKUP(Table356[[#Headers],[Budget]],'Def. Prix & Parcours'!$I$6:$M$28,4,FALSE)*Table3[[#This Row],[Points Budget]]),\"\")","v":36},{"$f":"IF(Table3[[#This Row],[Parcours choisi]]<>\"\",(VLOOKUP(Table356[[#Headers],[Design du Véhicule]],'Def. Prix & Parcours'!$I$6:$M$28,4,FALSE)*Table3[[#This Row],[Points Design du Véhicule]]),\"\")","v":38},{"$f":"IF(Table3[[#This Row],[Parcours choisi]]<>\"\",(VLOOKUP(Table356[[#Headers],[Innovation numérique]],'Def. Prix & Parcours'!$I$6:$M$28,4,FALSE)*Table3[[#This Row],[Points Innovation numérique]]),\"\")","v":0},{"$f":"IF(Table3[[#This Row],[Parcours choisi]]<>\"\",(VLOOKUP(Table356[[#Headers],[Programmation]],'Def. Prix & Parcours'!$I$6:$M$28,4,FALSE)*Table3[[#This Row],[Points Programmation]]),\"\")","v":0},{"$f":"IF(Table3[[#This Row],[Parcours choisi]]<>\"\",(VLOOKUP(Table356[[#Headers],[Respect du règlement]],'Def. Prix & Parcours'!$I$6:$M$28,4,FALSE)*Table3[[#This Row],[Points Respect du règlement]]),\"\")","v":95},{"$f":"IF(Table3[[#This Row],[Parcours choisi]]<>\"\",(VLOOKUP(Table356[[#Headers],[Communication : vidéo]],'Def. Prix & Parcours'!$I$6:$M$28,4,FALSE)*Table3[[#This Row],[Points Communication : vidéo]]),\"\")","v":170},{"$f":"IF(Table3[[#This Row],[Parcours choisi]]<>\"\",(VLOOKUP(Table356[[#Headers],[Epreuve CAO]],'Def. Prix & Parcours'!$I$6:$M$28,4,FALSE)*Table3[[#This Row],[Points Epreuve CAO]]),\"\")","v":0},{"$f":"IF(Table3[[#This Row],[Parcours choisi]]<>\"\",(VLOOKUP(Table356[[#Headers],[Temps Réaction]],'Def. Prix & Parcours'!$I$6:$M$28,4,FALSE)*Table3[[#This Row],[Points Temps Réaction]]),\"\")","v":0},{"$f":"IF(Table3[[#This Row],[Parcours choisi]]<>\"\",(VLOOKUP(Table356[[#Headers],[Temps Course]],'Def. Prix & Parcours'!$I$6:$M$28,4,FALSE)*Table3[[#This Row],[Points Temps Course]]),\"\")","v":0},{"$f":"IF(Table3[[#This Row],[Parcours choisi]]<>\"\",(VLOOKUP(Table356[[#Headers],[Epreuve arrêt au stand]],'Def. Prix & Parcours'!$I$6:$M$28,4,FALSE)*Table3[[#This Row],[Points Epreuve arrêt au stand]]),\"\")","v":0},null,{"$f":"IF(Table3[[#This Row],[Parcours choisi]]<>\"\",SUM(Table3567810[[#This Row],[Ingénierie et conception]:[1]]),\"\")","v":1266},{"$f":"IF(Table3[[#This Row],[Parcours choisi]]<>\"\",_xlfn.RANK.EQ(Table3567810[[#This Row],[Total Marketing et Communication]],Table3567810[Total Marketing et Communication],0),\"\")","v":2}]
[26,{"$f":"IF(Table3[[#This Row],[Nom équipe]]<>\"\",Table3[[#This Row],[Nom équipe]],\"\")","v":"Cosmos"},{"$f":"IF(Table3[[#This Row],[Etablissement]]<>\"\",Table3[[#This Row],[Etablissement]],\"\")","v":"La Fontaine St Avold"},{"$f":"IF(Table3[[#This Row],[Type établissement]]<>\"\",Table3[[#This Row],[Type établissement]],\"\")","v":"C"},{"$f":"IF(Table3[[#This Row],[Académie]]<>\"\",Table3[[#This Row],[Académie]],\"\")","v":"Nancy-Metz"},{"$f":"IF(Table3[[#This Row],[Parcours choisi]]<>\"\",Table3[[#This Row],[Parcours choisi]],\"\")","v":"G"},{"$f":"IF(Table3[[#This Row],[Parcours choisi]]<>\"\",(VLOOKUP(Table356[[#Headers],[Ingénierie et conception]],'Def. Prix & Parcours'!$I$6:$M$28,4,FALSE)*Table3[[#This Row],[Points Ingénierie et conception]]),\"\")","v":30},{"$f":"IF(Table3[[#This Row],[Parcours choisi]]<>\"\",(VLOOKUP(Table356[[#Headers],[Innovation mécanique]],'Def. Prix & Parcours'!$I$6:$M$28,4,FALSE)*Table3[[#This Row],[Points Innovation mécanique]]),\"\")","v":28},{"$f":"IF(Table3[[#This Row],[Parcours choisi]]<>\"\",(VLOOKUP(Table356[[#Headers],[Développement Durable]],'Def. Prix & Parcours'!$I$6:$M$28,4,FALSE)*Table3[[#This Row],[Points Développement Durable]]),\"\")","v":42},{"$f":"IF(Table3[[#This Row],[Parcours choisi]]<>\"\",(VLOOKUP(Table356[[#Headers],[Ingénierie de fabrication]],'Def. Prix & Parcours'!$I$6:$M$28,4,FALSE)*Table3[[#This Row],[Points Ingénierie de fabrication]]),\"\")","v":0},{"$f":"IF(Table3[[#This Row],[Parcours choisi]]<>\"\",(VLOOKUP(Table356[[#Headers],[Gestion de projet et collaborations]],'Def. Prix & Parcours'!$I$6:$M$28,4,FALSE)*Table3[[#This Row],[Points Gestion de projet et \ncollaborations]]),\"\")","v":75},{"$f":"IF(Table3[[#This Row],[Parcours choisi]]<>\"\",(VLOOKUP(Table356[[#Headers],[Présentation Orale]],'Def. Prix & Parcours'!$I$6:$M$28,4,FALSE)*Table3[[#This Row],[Points Présentation Orale]]),\"\")","v":40},{"$f":"IF(Table3[[#This Row],[Parcours choisi]]<>\"\",(VLOOKUP(Table356[[#Headers],[Identité Equipe]],'Def. Prix & Parcours'!$I$6:$M$28,4,FALSE)*Table3[[#This Row],[Points Identité Equipe]]),\"\")","v":90},{"$f":"IF(Table3[[#This Row],[Parcours choisi]]<>\"\",(VLOOKUP(Table356[[#Headers],[Design du Stand]],'Def. Prix & Parcours'!$I$6:$M$28,4,FALSE)*Table3[[#This Row],[Points Design du Stand]]),\"\")","v":152},{"$f":"IF(Table3[[#This Row],[Parcours choisi]]<>\"\",(VLOOKUP(Table356[[#Headers],[Portfolio]],'Def. Prix & Parcours'!$I$6:$M$28,4,FALSE)*Table3[[#This Row],[Points Portfolio]]),\"\")","v":152},{"$f":"IF(Table3[[#This Row],[Parcours choisi]]<>\"\",(VLOOKUP(Table356[[#Headers],[Marketing et Sponsoring]],'Def. Prix & Parcours'!$I$6:$M$28,4,FALSE)*Table3[[#This Row],[Points Marketing et Sponsoring]]),\"\")","v":160},{"$f":"IF(Table3[[#This Row],[Parcours choisi]]<>\"\",(VLOOKUP(Table356[[#Headers],[Budget]],'Def. Prix & Parcours'!$I$6:$M$28,4,FALSE)*Table3[[#This Row],[Points Budget]]),\"\")","v":36},{"$f":"IF(Table3[[#This Row],[Parcours choisi]]<>\"\",(VLOOKUP(Table356[[#Headers],[Design du Véhicule]],'Def. Prix & Parcours'!$I$6:$M$28,4,FALSE)*Table3[[#This Row],[Points Design du Véhicule]]),\"\")","v":36},{"$f":"IF(Table3[[#This Row],[Parcours choisi]]<>\"\",(VLOOKUP(Table356[[#Headers],[Innovation numérique]],'Def. Prix & Parcours'!$I$6:$M$28,4,FALSE)*Table3[[#This Row],[Points Innovation numérique]]),\"\")","v":0},{"$f":"IF(Table3[[#This Row],[Parcours choisi]]<>\"\",(VLOOKUP(Table356[[#Headers],[Programmation]],'Def. Prix & Parcours'!$I$6:$M$28,4,FALSE)*Table3[[#This Row],[Points Programmation]]),\"\")","v":0},{"$f":"IF(Table3[[#This Row],[Parcours choisi]]<>\"\",(VLOOKUP(Table356[[#Headers],[Respect du règlement]],'Def. Prix & Parcours'!$I$6:$M$28,4,FALSE)*Table3[[#This Row],[Points Respect du règlement]]),\"\")","v":100},{"$f":"IF(Table3[[#This Row],[Parcours choisi]]<>\"\",(VLOOKUP(Table356[[#Headers],[Communication : vidéo]],'Def. Prix & Parcours'!$I$6:$M$28,4,FALSE)*Table3[[#This Row],[Points Communication : vidéo]]),\"\")","v":180},{"$f":"IF(Table3[[#This Row],[Parcours choisi]]<>\"\",(VLOOKUP(Table356[[#Headers],[Epreuve CAO]],'Def. Prix & Parcours'!$I$6:$M$28,4,FALSE)*Table3[[#This Row],[Points Epreuve CAO]]),\"\")","v":0},{"$f":"IF(Table3[[#This Row],[Parcours choisi]]<>\"\",(VLOOKUP(Table356[[#Headers],[Temps Réaction]],'Def. Prix & Parcours'!$I$6:$M$28,4,FALSE)*Table3[[#This Row],[Points Temps Réaction]]),\"\")","v":0},{"$f":"IF(Table3[[#This Row],[Parcours choisi]]<>\"\",(VLOOKUP(Table356[[#Headers],[Temps Course]],'Def. Prix & Parcours'!$I$6:$M$28,4,FALSE)*Table3[[#This Row],[Points Temps Course]]),\"\")","v":0},{"$f":"IF(Table3[[#This Row],[Parcours choisi]]<>\"\",(VLOOKUP(Table356[[#Headers],[Epreuve arrêt au stand]],'Def. Prix & Parcours'!$I$6:$M$28,4,FALSE)*Table3[[#This Row],[Points Epreuve arrêt au stand]]),\"\")","v":0},null,{"$f":"IF(Table3[[#This Row],[Parcours choisi]]<>\"\",SUM(Table3567810[[#This Row],[Ingénierie et conception]:[1]]),\"\")","v":1121},{"$f":"IF(Table3[[#This Row],[Parcours choisi]]<>\"\",_xlfn.RANK.EQ(Table3567810[[#This Row],[Total Marketing et Communication]],Table3567810[Total Marketing et Communication],0),\"\")","v":5}]
[27,{"$f":"IF(Table3[[#This Row],[Nom équipe]]<>\"\",Table3[[#This Row],[Nom équipe]],\"\")","v":"Otaku"},{"$f":"IF(Table3[[#This Row],[Etablissement]]<>\"\",Table3[[#This Row],[Etablissement]],\"\")","v":"La Fontaine St Avold"},{"$f":"IF(Table3[[#This Row],[Type établissement]]<>\"\",Table3[[#This Row],[Type établissement]],\"\")","v":"C"},{"$f":"IF(Table3[[#This Row],[Académie]]<>\"\",Table3[[#This Row],[Académie]],\"\")","v":"Nancy-Metz"},{"$f":"IF(Table3[[#This Row],[Parcours choisi]]<>\"\",Table3[[#This Row],[Parcours choisi]],\"\")","v":"G"},{"$f":"IF(Table3[[#This Row],[Parcours choisi]]<>\"\",(VLOOKUP(Table356[[#Headers],[Ingénierie et conception]],'Def. Prix & Parcours'!$I$6:$M$28,4,FALSE)*Table3[[#This Row],[Points Ingénierie et conception]]),\"\")","v":24},{"$f":"IF(Table3[[#This Row],[Parcours choisi]]<>\"\",(VLOOKUP(Table356[[#Headers],[Innovation mécanique]],'Def. Prix & Parcours'!$I$6:$M$28,4,FALSE)*Table3[[#This Row],[Points Innovation mécanique]]),\"\")","v":28},{"$f":"IF(Table3[[#This Row],[Parcours choisi]]<>\"\",(VLOOKUP(Table356[[#Headers],[Développement Durable]],'Def. Prix & Parcours'!$I$6:$M$28,4,FALSE)*Table3[[#This Row],[Points Développement Durable]]),\"\")","v":66},{"$f":"IF(Table3[[#This Row],[Parcours choisi]]<>\"\",(VLOOKUP(Table356[[#Headers],[Ingénierie de fabrication]],'Def. Prix & Parcours'!$I$6:$M$28,4,FALSE)*Table3[[#This Row],[Points Ingénierie de fabrication]]),\"\")","v":0},{"$f":"IF(Table3[[#This Row],[Parcours choisi]]<>\"\",(VLOOKUP(Table356[[#Headers],[Gestion de projet et collaborations]],'Def. Prix & Parcours'!$I$6:$M$28,4,FALSE)*Table3[[#This Row],[Points Gestion de projet et \ncollaborations]]),\"\")","v":85},{"$f":"IF(Table3[[#This Row],[Parcours choisi]]<>\"\",(VLOOKUP(Table356[[#Headers],[Présentation Orale]],'Def. Prix & Parcours'!$I$6:$M$28,4,FALSE)*Table3[[#This Row],[Points Présentation Orale]]),\"\")","v":70},{"$f":"IF(Table3[[#This Row],[Parcours choisi]]<>\"\",(VLOOKUP(Table356[[#Headers],[Identité Equipe]],'Def. Prix & Parcours'!$I$6:$M$28,4,FALSE)*Table3[[#This Row],[Points Identité Equipe]]),\"\")","v":90},{"$f":"IF(Table3[[#This Row],[Parcours choisi]]<>\"\",(VLOOKUP(Table356[[#Headers],[Design du Stand]],'Def. Prix & Parcours'!$I$6:$M$28,4,FALSE)*Table3[[#This Row],[Points Design du Stand]]),\"\")","v":120},{"$f":"IF(Table3[[#This Row],[Parcours choisi]]<>\"\",(VLOOKUP(Table356[[#Headers],[Portfolio]],'Def. Prix & Parcours'!$I$6:$M$28,4,FALSE)*Table3[[#This Row],[Points Portfolio]]),\"\")","v":144},{"$f":"IF(Table3[[#This Row],[Parcours choisi]]<>\"\",(VLOOKUP(Table356[[#Headers],[Marketing et Sponsoring]],'Def. Prix & Parcours'!$I$6:$M$28,4,FALSE)*Table3[[#This Row],[Points Marketing et Sponsoring]]),\"\")","v":130},{"$f":"IF(Table3[[#This Row],[Parcours choisi]]<>\"\",(VLOOKUP(Table356[[#Headers],[Budget]],'Def. Prix & Parcours'!$I$6:$M$28,4,FALSE)*Table3[[#This Row],[Points Budget]]),\"\")","v":20},{"$f":"IF(Table3[[#This Row],[Parcours choisi]]<>\"\",(VLOOKUP(Table356[[#Headers],[Design du Véhicule]],'Def. Prix & Parcours'!$I$6:$M$28,4,FALSE)*Table3[[#This Row],[Points Design du Véhicule]]),\"\")","v":30},{"$f":"IF(Table3[[#This Row],[Parcours choisi]]<>\"\",(VLOOKUP(Table356[[#Headers],[Innovation numérique]],'Def. Prix & Parcours'!$I$6:$M$28,4,FALSE)*Table3[[#This Row],[Points Innovation numérique]]),\"\")","v":0},{"$f":"IF(Table3[[#This Row],[Parcours choisi]]<>\"\",(VLOOKUP(Table356[[#Headers],[Programmation]],'Def. Prix & Parcours'!$I$6:$M$28,4,FALSE)*Table3[[#This Row],[Points Programmation]]),\"\")","v":0},{"$f":"IF(Table3[[#This Row],[Parcours choisi]]<>\"\",(VLOOKUP(Table356[[#Headers],[Respect du règlement]],'Def. Prix & Parcours'!$I$6:$M$28,4,FALSE)*Table3[[#This Row],[Points Respect du règlement]]),\"\")","v":95},{"$f":"IF(Table3[[#This Row],[Parcours choisi]]<>\"\",(VLOOKUP(Table356[[#Headers],[Communication : vidéo]],'Def. Prix & Parcours'!$I$6:$M$28,4,FALSE)*Table3[[#This Row],[Points Communication : vidéo]]),\"\")","v":160},{"$f":"IF(Table3[[#This Row],[Parcours choisi]]<>\"\",(VLOOKUP(Table356[[#Headers],[Epreuve CAO]],'Def. Prix & Parcours'!$I$6:$M$28,4,FALSE)*Table3[[#This Row],[Points Epreuve CAO]]),\"\")","v":0},{"$f":"IF(Table3[[#This Row],[Parcours choisi]]<>\"\",(VLOOKUP(Table356[[#Headers],[Temps Réaction]],'Def. Prix & Parcours'!$I$6:$M$28,4,FALSE)*Table3[[#This Row],[Points Temps Réaction]]),\"\")","v":0},{"$f":"IF(Table3[[#This Row],[Parcours choisi]]<>\"\",(VLOOKUP(Table356[[#Headers],[Temps Course]],'Def. Prix & Parcours'!$I$6:$M$28,4,FALSE)*Table3[[#This Row],[Points Temps Course]]),\"\")","v":0},{"$f":"IF(Table3[[#This Row],[Parcours choisi]]<>\"\",(VLOOKUP(Table356[[#Headers],[Epreuve arrêt au stand]],'Def. Prix & Parcours'!$I$6:$M$28,4,FALSE)*Table3[[#This Row],[Points Epreuve arrêt au stand]]),\"\")","v":0},null,{"$f":"IF(Table3[[#This Row],[Parcours choisi]]<>\"\",SUM(Table3567810[[#This Row],[Ingénierie et conception]:[1]]),\"\")","v":1062},{"$f":"IF(Table3[[#This Row],[Parcours choisi]]<>\"\",_xlfn.RANK.EQ(Table3567810[[#This Row],[Total Marketing et Communication]],Table3567810[Total Marketing et Communication],0),\"\")","v":10}]
[28,{"$f":"IF(Table3[[#This Row],[Nom équipe]]<>\"\",Table3[[#This Row],[Nom équipe]],\"\")","v":"Bal'eau"},{"$f":"IF(Table3[[#This Row],[Etablissement]]<>\"\",Table3[[#This Row],[Etablissement]],\"\")","v":"La Fontaine St Avold"},{"$f":"IF(Table3[[#This Row],[Type établissement]]<>\"\",Table3[[#This Row],[Type établissement]],\"\")","v":"C"},{"$f":"IF(Table3[[#This Row],[Académie]]<>\"\",Table3[[#This Row],[Académie]],\"\")","v":"Nancy-Metz"},{"$f":"IF(Table3[[#This Row],[Parcours choisi]]<>\"\",Table3[[#This Row],[Parcours choisi]],\"\")","v":"G"},{"$f":"IF(Table3[[#This Row],[Parcours choisi]]<>\"\",(VLOOKUP(Table356[[#Headers],[Ingénierie et conception]],'Def. Prix & Parcours'!$I$6:$M$28,4,FALSE)*Table3[[#This Row],[Points Ingénierie et conception]]),\"\")","v":34},{"$f":"IF(Table3[[#This Row],[Parcours choisi]]<>\"\",(VLOOKUP(Table356[[#Headers],[Innovation mécanique]],'Def. Prix & Parcours'!$I$6:$M$28,4,FALSE)*Table3[[#This Row],[Points Innovation mécanique]]),\"\")","v":30},{"$f":"IF(Table3[[#This Row],[Parcours choisi]]<>\"\",(VLOOKUP(Table356[[#Headers],[Développement Durable]],'Def. Prix & Parcours'!$I$6:$M$28,4,FALSE)*Table3[[#This Row],[Points Développement Durable]]),\"\")","v":120},{"$f":"IF(Table3[[#This Row],[Parcours choisi]]<>\"\",(VLOOKUP(Table356[[#Headers],[Ingénierie de fabrication]],'Def. Prix & Parcours'!$I$6:$M$28,4,FALSE)*Table3[[#This Row],[Points Ingénierie de fabrication]]),\"\")","v":0},{"$f":"IF(Table3[[#This Row],[Parcours choisi]]<>\"\",(VLOOKUP(Table356[[#Headers],[Gestion de projet et collaborations]],'Def. Prix & Parcours'!$I$6:$M$28,4,FALSE)*Table3[[#This Row],[Points Gestion de projet et \ncollaborations]]),\"\")","v":90},{"$f":"IF(Table3[[#This Row],[Parcours choisi]]<>\"\",(VLOOKUP(Table356[[#Headers],[Présentation Orale]],'Def. Prix & Parcours'!$I$6:$M$28,4,FALSE)*Table3[[#This Row],[Points Présentation Orale]]),\"\")","v":65},{"$f":"IF(Table3[[#This Row],[Parcours choisi]]<>\"\",(VLOOKUP(Table356[[#Headers],[Identité Equipe]],'Def. Prix & Parcours'!$I$6:$M$28,4,FALSE)*Table3[[#This Row],[Points Identité Equipe]]),\"\")","v":85},{"$f":"IF(Table3[[#This Row],[Parcours choisi]]<>\"\",(VLOOKUP(Table356[[#Headers],[Design du Stand]],'Def. Prix & Parcours'!$I$6:$M$28,4,FALSE)*Table3[[#This Row],[Points Design du Stand]]),\"\")","v":136},{"$f":"IF(Table3[[#This Row],[Parcours choisi]]<>\"\",(VLOOKUP(Table356[[#Headers],[Portfolio]],'Def. Prix & Parcours'!$I$6:$M$28,4,FALSE)*Table3[[#This Row],[Points Portfolio]]),\"\")","v":144},{"$f":"IF(Table3[[#This Row],[Parcours choisi]]<>\"\",(VLOOKUP(Table356[[#Headers],[Marketing et Sponsoring]],'Def. Prix & Parcours'!$I$6:$M$28,4,FALSE)*Table3[[#This Row],[Points Marketing et Sponsoring]]),\"\")","v":120},{"$f":"IF(Table3[[#This Row],[Parcours choisi]]<>\"\",(VLOOKUP(Table356[[#Headers],[Budget]],'Def. Prix & Parcours'!$I$6:$M$28,4,FALSE)*Table3[[#This Row],[Points Budget]]),\"\")","v":36},{"$f":"IF(Table3[[#This Row],[Parcours choisi]]<>\"\",(VLOOKUP(Table356[[#Headers],[Design du Véhicule]],'Def. Prix & Parcours'!$I$6:$M$28,4,FALSE)*Table3[[#This Row],[Points Design du Véhicule]]),\"\")","v":36},{"$f":"IF(Table3[[#This Row],[Parcours choisi]]<>\"\",(VLOOKUP(Table356[[#Headers],[Innovation numérique]],'Def. Prix & Parcours'!$I$6:$M$28,4,FALSE)*Table3[[#This Row],[Points Innovation numérique]]),\"\")","v":0},{"$f":"IF(Table3[[#This Row],[Parcours choisi]]<>\"\",(VLOOKUP(Table356[[#Headers],[Programmation]],'Def. Prix & Parcours'!$I$6:$M$28,4,FALSE)*Table3[[#This Row],[Points Programmation]]),\"\")","v":0},{"$f":"IF(Table3[[#This Row],[Parcours choisi]]<>\"\",(VLOOKUP(Table356[[#Headers],[Respect du règlement]],'Def. Prix & Parcours'!$I$6:$M$28,4,FALSE)*Table3[[#This Row],[Points Respect du règlement]]),\"\")","v":95},{"$f":"IF(Table3[[#This Row],[Parcours choisi]]<>\"\",(VLOOKUP(Table356[[#Headers],[Communication : vidéo]],'Def. Prix & Parcours'!$I$6:$M$28,4,FALSE)*Table3[[#This Row],[Points Communication : vidéo]]),\"\")","v":110},{"$f":"IF(Table3[[#This Row],[Parcours choisi]]<>\"\",(VLOOKUP(Table356[[#Headers],[Epreuve CAO]],'Def. Prix & Parcours'!$I$6:$M$28,4,FALSE)*Table3[[#This Row],[Points Epreuve CAO]]),\"\")","v":0},{"$f":"IF(Table3[[#This Row],[Parcours choisi]]<>\"\",(VLOOKUP(Table356[[#Headers],[Temps Réaction]],'Def. Prix & Parcours'!$I$6:$M$28,4,FALSE)*Table3[[#This Row],[Points Temps Réaction]]),\"\")","v":0},{"$f":"IF(Table3[[#This Row],[Parcours choisi]]<>\"\",(VLOOKUP(Table356[[#Headers],[Temps Course]],'Def. Prix & Parcours'!$I$6:$M$28,4,FALSE)*Table3[[#This Row],[Points Temps Course]]),\"\")","v":0},{"$f":"IF(Table3[[#This Row],[Parcours choisi]]<>\"\",(VLOOKUP(Table356[[#Headers],[Epreuve arrêt au stand]],'Def. Prix & Parcours'!$I$6:$M$28,4,FALSE)*Table3[[#This Row],[Points Epreuve arrêt au stand]]),\"\")","v":0},null,{"$f":"IF(Table3[[#This Row],[Parcours choisi]]<>\"\",SUM(Table3567810[[#This Row],[Ingénierie et conception]:[1]]),\"\")","v":1101},{"$f":"IF(Table3[[#This Row],[Parcours choisi]]<>\"\",_xlfn.RANK.EQ(Table3567810[[#This Row],[Total Marketing et Communication]],Table3567810[Total Marketing et Communication],0),\"\")","v":7}]
[29,{"$f":"IF(Table3[[#This Row],[Nom équipe]]<>\"\",Table3[[#This Row],[Nom équipe]],\"\")","v":"Team Lambo"},{"$f":"IF(Table3[[#This Row],[Etablissement]]<>\"\",Table3[[#This Row],[Etablissement]],\"\")","v":"La Fontaine St Avold"},{"$f":"IF(Table3[[#This Row],[Type établissement]]<>\"\",Table3[[#This Row],[Type établissement]],\"\")","v":"C"},{"$f":"IF(Table3[[#This Row],[Académie]]<>\"\",Table3[[#This Row],[Académie]],\"\")","v":"Nancy-Metz"},{"$f":"IF(Table3[[#This Row],[Parcours choisi]]<>\"\",Table3[[#This Row],[Parcours choisi]],\"\")","v":"G"},{"$f":"IF(Table3[[#This Row],[Parcours choisi]]<>\"\",(VLOOKUP(Table356[[#Headers],[Ingénierie et conception]],'Def. Prix & Parcours'!$I$6:$M$28,4,FALSE)*Table3[[#This Row],[Points Ingénierie et conception]]),\"\")","v":30},{"$f":"IF(Table3[[#This Row],[Parcours choisi]]<>\"\",(VLOOKUP(Table356[[#Headers],[Innovation mécanique]],'Def. Prix & Parcours'!$I$6:$M$28,4,FALSE)*Table3[[#This Row],[Points Innovation mécanique]]),\"\")","v":26},{"$f":"IF(Table3[[#This Row],[Parcours choisi]]<>\"\",(VLOOKUP(Table356[[#Headers],[Développement Durable]],'Def. Prix & Parcours'!$I$6:$M$28,4,FALSE)*Table3[[#This Row],[Points Développement Durable]]),\"\")","v":84},{"$f":"IF(Table3[[#This Row],[Parcours choisi]]<>\"\",(VLOOKUP(Table356[[#Headers],[Ingénierie de fabrication]],'Def. Prix & Parcours'!$I$6:$M$28,4,FALSE)*Table3[[#This Row],[Points Ingénierie de fabrication]]),\"\")","v":0},{"$f":"IF(Table3[[#This Row],[Parcours choisi]]<>\"\",(VLOOKUP(Table356[[#Headers],[Gestion de projet et collaborations]],'Def. Prix & Parcours'!$I$6:$M$28,4,FALSE)*Table3[[#This Row],[Points Gestion de projet et \ncollaborations]]),\"\")","v":55},{"$f":"IF(Table3[[#This Row],[Parcours choisi]]<>\"\",(VLOOKUP(Table356[[#Headers],[Présentation Orale]],'Def. Prix & Parcours'!$I$6:$M$28,4,FALSE)*Table3[[#This Row],[Points Présentation Orale]]),\"\")","v":60},{"$f":"IF(Table3[[#This Row],[Parcours choisi]]<>\"\",(VLOOKUP(Table356[[#Headers],[Identité Equipe]],'Def. Prix & Parcours'!$I$6:$M$28,4,FALSE)*Table3[[#This Row],[Points Identité Equipe]]),\"\")","v":35},{"$f":"IF(Table3[[#This Row],[Parcours choisi]]<>\"\",(VLOOKUP(Table356[[#Headers],[Design du Stand]],'Def. Prix & Parcours'!$I$6:$M$28,4,FALSE)*Table3[[#This Row],[Points Design du Stand]]),\"\")","v":56},{"$f":"IF(Table3[[#This Row],[Parcours choisi]]<>\"\",(VLOOKUP(Table356[[#Headers],[Portfolio]],'Def. Prix & Parcours'!$I$6:$M$28,4,FALSE)*Table3[[#This Row],[Points Portfolio]]),\"\")","v":80},{"$f":"IF(Table3[[#This Row],[Parcours choisi]]<>\"\",(VLOOKUP(Table356[[#Headers],[Marketing et Sponsoring]],'Def. Prix & Parcours'!$I$6:$M$28,4,FALSE)*Table3[[#This Row],[Points Marketing et Sponsoring]]),\"\")","v":80},{"$f":"IF(Table3[[#This Row],[Parcours choisi]]<>\"\",(VLOOKUP(Table356[[#Headers],[Budget]],'Def. Prix & Parcours'!$I$6:$M$28,4,FALSE)*Table3[[#This Row],[Points Budget]]),\"\")","v":12},{"$f":"IF(Table3[[#This Row],[Parcours choisi]]<>\"\",(VLOOKUP(Table356[[#Headers],[Design du Véhicule]],'Def. Prix & Parcours'!$I$6:$M$28,4,FALSE)*Table3[[#This Row],[Points Design du Véhicule]]),\"\")","v":16},{"$f":"IF(Table3[[#This Row],[Parcours choisi]]<>\"\",(VLOOKUP(Table356[[#Headers],[Innovation numérique]],'Def. Prix & Parcours'!$I$6:$M$28,4,FALSE)*Table3[[#This Row],[Points Innovation numérique]]),\"\")","v":0},{"$f":"IF(Table3[[#This Row],[Parcours choisi]]<>\"\",(VLOOKUP(Table356[[#Headers],[Programmation]],'Def. Prix & Parcours'!$I$6:$M$28,4,FALSE)*Table3[[#This Row],[Points Programmation]]),\"\")","v":0},{"$f":"IF(Table3[[#This Row],[Parcours choisi]]<>\"\",(VLOOKUP(Table356[[#Headers],[Respect du règlement]],'Def. Prix & Parcours'!$I$6:$M$28,4,FALSE)*Table3[[#This Row],[Points Respect du règlement]]),\"\")","v":70},{"$f":"IF(Table3[[#This Row],[Parcours choisi]]<>\"\",(VLOOKUP(Table356[[#Headers],[Communication : vidéo]],'Def. Prix & Parcours'!$I$6:$M$28,4,FALSE)*Table3[[#This Row],[Points Communication : vidéo]]),\"\")","v":100},{"$f":"IF(Table3[[#This Row],[Parcours choisi]]<>\"\",(VLOOKUP(Table356[[#Headers],[Epreuve CAO]],'Def. Prix & Parcours'!$I$6:$M$28,4,FALSE)*Table3[[#This Row],[Points Epreuve CAO]]),\"\")","v":0},{"$f":"IF(Table3[[#This Row],[Parcours choisi]]<>\"\",(VLOOKUP(Table356[[#Headers],[Temps Réaction]],'Def. Prix & Parcours'!$I$6:$M$28,4,FALSE)*Table3[[#This Row],[Points Temps Réaction]]),\"\")","v":0},{"$f":"IF(Table3[[#This Row],[Parcours choisi]]<>\"\",(VLOOKUP(Table356[[#Headers],[Temps Course]],'Def. Prix & Parcours'!$I$6:$M$28,4,FALSE)*Table3[[#This Row],[Points Temps Course]]),\"\")","v":0},{"$f":"IF(Table3[[#This Row],[Parcours choisi]]<>\"\",(VLOOKUP(Table356[[#Headers],[Epreuve arrêt au stand]],'Def. Prix & Parcours'!$I$6:$M$28,4,FALSE)*Table3[[#This Row],[Points Epreuve arrêt au stand]]),\"\")","v":0},null,{"$f":"IF(Table3[[#This Row],[Parcours choisi]]<>\"\",SUM(Table3567810[[#This Row],[Ingénierie et conception]:[1]]),\"\")","v":704},{"$f":"IF(Table3[[#This Row],[Parcours choisi]]<>\"\",_xlfn.RANK.EQ(Table3567810[[#This Row],[Total Marketing et Communication]],Table3567810[Total Marketing et Communication],0),\"\")","v":24}]
[30,{"$f":"IF(Table3[[#This Row],[Nom équipe]]<>\"\",Table3[[#This Row],[Nom équipe]],\"\")","v":""},{"$f":"IF(Table3[[#This Row],[Etablissement]]<>\"\",Table3[[#This Row],[Etablissement]],\"\")","v":""},{"$f":"IF(Table3[[#This Row],[Type établissement]]<>\"\",Table3[[#This Row],[Type établissement]],\"\")","v":""},{"$f":"IF(Table3[[#This Row],[Académie]]<>\"\",Table3[[#This Row],[Académie]],\"\")","v":""},{"$f":"IF(Table3[[#This Row],[Parcours choisi]]<>\"\",Table3[[#This Row],[Parcours choisi]],\"\")","v":""},{"$f":"IF(Table3[[#This Row],[Parcours choisi]]<>\"\",(VLOOKUP(Table356[[#Headers],[Ingénierie et conception]],'Def. Prix & Parcours'!$I$6:$M$28,4,FALSE)*Table3[[#This Row],[Points Ingénierie et conception]]),\"\")","v":""},{"$f":"IF(Table3[[#This Row],[Parcours choisi]]<>\"\",(VLOOKUP(Table356[[#Headers],[Innovation mécanique]],'Def. Prix & Parcours'!$I$6:$M$28,4,FALSE)*Table3[[#This Row],[Points Innovation mécanique]]),\"\")","v":""},{"$f":"IF(Table3[[#This Row],[Parcours choisi]]<>\"\",(VLOOKUP(Table356[[#Headers],[Développement Durable]],'Def. Prix & Parcours'!$I$6:$M$28,4,FALSE)*Table3[[#This Row],[Points Développement Durable]]),\"\")","v":""},{"$f":"IF(Table3[[#This Row],[Parcours choisi]]<>\"\",(VLOOKUP(Table356[[#Headers],[Ingénierie de fabrication]],'Def. Prix & Parcours'!$I$6:$M$28,4,FALSE)*Table3[[#This Row],[Points Ingénierie de fabrication]]),\"\")","v":""},{"$f":"IF(Table3[[#This Row],[Parcours choisi]]<>\"\",(VLOOKUP(Table356[[#Headers],[Gestion de projet et collaborations]],'Def. Prix & Parcours'!$I$6:$M$28,4,FALSE)*Table3[[#This Row],[Points Gestion de projet et \ncollaborations]]),\"\")","v":""},{"$f":"IF(Table3[[#This Row],[Parcours choisi]]<>\"\",(VLOOKUP(Table356[[#Headers],[Présentation Orale]],'Def. Prix & Parcours'!$I$6:$M$28,4,FALSE)*Table3[[#This Row],[Points Présentation Orale]]),\"\")","v":""},{"$f":"IF(Table3[[#This Row],[Parcours choisi]]<>\"\",(VLOOKUP(Table356[[#Headers],[Identité Equipe]],'Def. Prix & Parcours'!$I$6:$M$28,4,FALSE)*Table3[[#This Row],[Points Identité Equipe]]),\"\")","v":""},{"$f":"IF(Table3[[#This Row],[Parcours choisi]]<>\"\",(VLOOKUP(Table356[[#Headers],[Design du Stand]],'Def. Prix & Parcours'!$I$6:$M$28,4,FALSE)*Table3[[#This Row],[Points Design du Stand]]),\"\")","v":""},{"$f":"IF(Table3[[#This Row],[Parcours choisi]]<>\"\",(VLOOKUP(Table356[[#Headers],[Portfolio]],'Def. Prix & Parcours'!$I$6:$M$28,4,FALSE)*Table3[[#This Row],[Points Portfolio]]),\"\")","v":""},{"$f":"IF(Table3[[#This Row],[Parcours choisi]]<>\"\",(VLOOKUP(Table356[[#Headers],[Marketing et Sponsoring]],'Def. Prix & Parcours'!$I$6:$M$28,4,FALSE)*Table3[[#This Row],[Points Marketing et Sponsoring]]),\"\")","v":""},{"$f":"IF(Table3[[#This Row],[Parcours choisi]]<>\"\",(VLOOKUP(Table356[[#Headers],[Budget]],'Def. Prix & Parcours'!$I$6:$M$28,4,FALSE)*Table3[[#This Row],[Points Budget]]),\"\")","v":""},{"$f":"IF(Table3[[#This Row],[Parcours choisi]]<>\"\",(VLOOKUP(Table356[[#Headers],[Design du Véhicule]],'Def. Prix & Parcours'!$I$6:$M$28,4,FALSE)*Table3[[#This Row],[Points Design du Véhicule]]),\"\")","v":""},{"$f":"IF(Table3[[#This Row],[Parcours choisi]]<>\"\",(VLOOKUP(Table356[[#Headers],[Innovation numérique]],'Def. Prix & Parcours'!$I$6:$M$28,4,FALSE)*Table3[[#This Row],[Points Innovation numérique]]),\"\")","v":""},{"$f":"IF(Table3[[#This Row],[Parcours choisi]]<>\"\",(VLOOKUP(Table356[[#Headers],[Programmation]],'Def. Prix & Parcours'!$I$6:$M$28,4,FALSE)*Table3[[#This Row],[Points Programmation]]),\"\")","v":""},{"$f":"IF(Table3[[#This Row],[Parcours choisi]]<>\"\",(VLOOKUP(Table356[[#Headers],[Respect du règlement]],'Def. Prix & Parcours'!$I$6:$M$28,4,FALSE)*Table3[[#This Row],[Points Respect du règlement]]),\"\")","v":""},{"$f":"IF(Table3[[#This Row],[Parcours choisi]]<>\"\",(VLOOKUP(Table356[[#Headers],[Communication : vidéo]],'Def. Prix & Parcours'!$I$6:$M$28,4,FALSE)*Table3[[#This Row],[Points Communication : vidéo]]),\"\")","v":""},{"$f":"IF(Table3[[#This Row],[Parcours choisi]]<>\"\",(VLOOKUP(Table356[[#Headers],[Epreuve CAO]],'Def. Prix & Parcours'!$I$6:$M$28,4,FALSE)*Table3[[#This Row],[Points Epreuve CAO]]),\"\")","v":""},{"$f":"IF(Table3[[#This Row],[Parcours choisi]]<>\"\",(VLOOKUP(Table356[[#Headers],[Temps Réaction]],'Def. Prix & Parcours'!$I$6:$M$28,4,FALSE)*Table3[[#This Row],[Points Temps Réaction]]),\"\")","v":""},{"$f":"IF(Table3[[#This Row],[Parcours choisi]]<>\"\",(VLOOKUP(Table356[[#Headers],[Temps Course]],'Def. Prix & Parcours'!$I$6:$M$28,4,FALSE)*Table3[[#This Row],[Points Temps Course]]),\"\")","v":""},{"$f":"IF(Table3[[#This Row],[Parcours choisi]]<>\"\",(VLOOKUP(Table356[[#Headers],[Epreuve arrêt au stand]],'Def. Prix & Parcours'!$I$6:$M$28,4,FALSE)*Table3[[#This Row],[Points Epreuve arrêt au stand]]),\"\")","v":""},null,{"$f":"IF(Table3[[#This Row],[Parcours choisi]]<>\"\",SUM(Table3567810[[#This Row],[Ingénierie et conception]:[1]]),\"\")","v":""},{"$f":"IF(Table3[[#This Row],[Parcours choisi]]<>\"\",_xlfn.RANK.EQ(Table3567810[[#This Row],[Total Marketing et Communication]],Table3567810[Total Marketing et Communication],0),\"\")","v":""}]

{"sheet":"Prix Numérique","index":5,"n_rows":36,"n_cols":29,"rows_kept":36,"cut":false,"hidden":false,"merged":[[3,4,3,19],[1,10,1,27]]}
[]
[null,null,"FINALE FRANCE / ACADEMIQUES COURSE EN COURS",null,null,null,null,null,null,null,"Résultats du Prix Innovation Technologiques à caractère Numérique Collèges/Lycées"]
[]
[null,null,null,null,"Attention: Ne rien saisir sur cette feuille est calculée automatiquement"]
[]
["N° équipe","Nom équipe","établissement","Type établissement","Académie","Parcours","Ingénierie et conception","Innovation mécanique","Développement Durable","Ingénierie de fabrication","Gestion de projet et collaborations","Présentation Orale","Identité Equipe","Design du Stand","Portfolio","Marketing et Sponsoring","Budget","Design du Véhicule","Innovation numérique","Programmation","Respect du règlement","Communication : vidéo","Epreuve CAO","Temps Réaction","Temps Course","Epreuve arrêt au stand","1","Total Numérique","Classement Numérique"]
[1,{"$f":"IF(Table3[[#This Row],[Nom équipe]]<>\"\",Table3[[#This Row],[Nom équipe]],\"\")","v":"Star Car"},{"$f":"IF(Table3[[#This Row],[Etablissement]]<>\"\",Table3[[#This Row],[Etablissement]],\"\")","v":"AVEC"},{"$f":"IF(Table3[[#This Row],[Type établissement]]<>\"\",Table3[[#This Row],[Type établissement]],\"\")","v":"C"},{"$f":"IF(Table3[[#This Row],[Académie]]<>\"\",Table3[[#This Row],[Académie]],\"\")","v":"Nancy-Metz"},{"$f":"IF(Table3[[#This Row],[Parcours choisi]]<>\"\",Table3[[#This Row],[Parcours choisi]],\"\")","v":"G"},{"$f":"IF(Table3[[#This Row],[Parcours choisi]]<>\"\",(VLOOKUP(Table356[[#Headers],[Ingénierie et conception]],'Def. Prix & Parcours'!$I$6:$M$28,5,FALSE)*Table3[[#This Row],[Points Ingénierie et conception]]),\"\")","v":28},{"$f":"IF(Table3[[#This Row],[Parcours choisi]]<>\"\",(VLOOKUP(Table356[[#Headers],[Innovation mécanique]],'Def. Prix & Parcours'!$I$6:$M$28,5,FALSE)*Table3[[#This Row],[Points Innovation mécanique]]),\"\")","v":48},{"$f":"IF(Table3[[#This Row],[Parcours choisi]]<>\"\",(VLOOKUP(Table356[[#Headers],[Développement Durable]],'Def. Prix & Parcours'!$I$6:$M$28,5,FALSE)*Table3[[#This Row],[Points Développement Durable]]),\"\")","v":24},{"$f":"IF(Table3[[#This Row],[Parcours choisi]]<>\"\",(VLOOKUP(Table356[[#Headers],[Ingénierie de fabrication]],'Def. Prix & Parcours'!$I$6:$M$28,5,FALSE)*Table3[[#This Row],[Points Ingénierie de fabrication]]),\"\")","v":0},{"$f":"IF(Table3[[#This Row],[Parcours choisi]]<>\"\",(VLOOKUP(Table356[[#Headers],[Gestion de projet et collaborations]],'Def. Prix & Parcours'!$I$6:$M$28,5,FALSE)*Table3[[#This Row],[Points Gestion de projet et \ncollaborations]]),\"\")","v":85},{"$f":"IF(Table3[[#This Row],[Parcours choisi]]<>\"\",(VLOOKUP(Table356[[#Headers],[Présentation Orale]],'Def. Prix & Parcours'!$I$6:$M$28,5,FALSE)*Table3[[#This Row],[Points Présentation Orale]]),\"\")","v":56},{"$f":"IF(Table3[[#This Row],[Parcours choisi]]<>\"\",(VLOOKUP(Table356[[#Headers],[Identité Equipe]],'Def. Prix & Parcours'!$I$6:$M$28,5,FALSE)*Table3[[#This Row],[Points Identité Equipe]]),\"\")","v":52},{"$f":"IF(Table3[[#This Row],[Parcours choisi]]<>\"\",(VLOOKUP(Table356[[#Headers],[Design du Stand]],'Def. Prix & Parcours'!$I$6:$M$28,5,FALSE)*Table3[[#This Row],[Points Design du Stand]]),\"\")","v":0},{"$f":"IF(Table3[[#This Row],[Parcours choisi]]<>\"\",(VLOOKUP(Table356[[#Headers],[Portfolio]],'Def. Prix & Parcours'!$I$6:$M$28,5,FALSE)*Table3[[#This Row],[Points Portfolio]]),\"\")","v":0},{"$f":"IF(Table3[[#This Row],[Parcours choisi]]<>\"\",(VLOOKUP(Table356[[#Headers],[Marketing et Sponsoring]],'Def. Prix & Parcours'!$I$6:$M$28,5,FALSE)*Table3[[#This Row],[Points Marketing et Sponsoring]]),\"\")","v":0},{"$f":"IF(Table3[[#This Row],[Parcours choisi]]<>\"\",(VLOOKUP(Table356[[#Headers],[Budget]],'Def. Prix & Parcours'!$I$6:$M$28,5,FALSE)*Table3[[#This Row],[Points Budget]]),\"\")","v":0},{"$f":"IF(Table3[[#This Row],[Parcours choisi]]<>\"\",(VLOOKUP(Table356[[#Headers],[Design du Véhicule]],'Def. Prix & Parcours'!$I$6:$M$28,5,FALSE)*Table3[[#This Row],[Points Design du Véhicule]]),\"\")","v":30},{"$f":"IF(Table3[[#This Row],[Parcours choisi]]<>\"\",(VLOOKUP(Table356[[#Headers],[Innovation numérique]],'Def. Prix & Parcours'!$I$6:$M$28,5,FALSE)*Table3[[#This Row],[Points Innovation numérique]]),\"\")","v":0},{"$f":"IF(Table3[[#This Row],[Parcours choisi]]<>\"\",(VLOOKUP(Table356[[#Headers],[Programmation]],'Def. Prix & Parcours'!$I$6:$M$28,5,FALSE)*Table3[[#This Row],[Points Programmation]]),\"\")","v":0},{"$f":"IF(Table3[[#This Row],[Parcours choisi]]<>\"\",(VLOOKUP(Table356[[#Headers],[Respect du règlement]],'Def. Prix & Parcours'!$I$6:$M$28,5,FALSE)*Table3[[#This Row],[Points Respect du règlement]]),\"\")","v":45},{"$f":"IF(Table3[[#This Row],[Parcours choisi]]<>\"\",(VLOOKUP(Table356[[#Headers],[Communication : vidéo]],'Def. Prix & Parcours'!$I$6:$M$28,5,FALSE)*Table3[[#This Row],[Points Communication : vidéo]]),\"\")","v":0},{"$f":"IF(Table3[[#This Row],[Parcours choisi]]<>\"\",(VLOOKUP(Table356[[#Headers],[Epreuve CAO]],'Def. Prix & Parcours'!$I$6:$M$28,5,FALSE)*Table3[[#This Row],[Points Epreuve CAO]]),\"\")","v":0},{"$f":"IF(Table3[[#This Row],[Parcours choisi]]<>\"\",(VLOOKUP(Table356[[#Headers],[Temps Réaction]],'Def. Prix & Parcours'!$I$6:$M$28,5,FALSE)*Table3[[#This Row],[Points Temps Réaction]]),\"\")","v":0},{"$f":"IF(Table3[[#This Row],[Parcours choisi]]<>\"\",(VLOOKUP(Table356[[#Headers],[Temps Course]],'Def. Prix & Parcours'!$I$6:$M$28,5,FALSE)*Table3[[#This Row],[Points Temps Course]]),\"\")","v":45},{"$f":"IF(Table3[[#This Row],[Parcours choisi]]<>\"\",(VLOOKUP(Table356[[#Headers],[Epreuve arrêt au stand]],'Def. Prix & Parcours'!$I$6:$M$28,5,FALSE)*Table3[[#This Row],[Points Epreuve arrêt au stand]]),\"\")","v":0},null,{"$f":"IF(Table3[[#This Row],[Parcours choisi]]<>\"\",SUM(Table356781011[[#This Row],[Ingénierie et conception]:[1]]),\"\")","v":413},{"$f":"IF(Table3[[#This Row],[Parcours choisi]]<>\"\",_xlfn.RANK.EQ(Table356781011[[#This Row],[Total Numérique]],Table356781011[Total Numérique],0),\"\")","v":25}]
[2,{"$f":"IF(Table3[[#This Row],[Nom équipe]]<>\"\",Table3[[#This Row],[Nom équipe]],\"\")","v":"Les industriels"},{"$f":"IF(Table3[[#This Row],[Etablissement]]<>\"\",Table3[[#This Row],[Etablissement]],\"\")","v":"Loritz Nancy"},{"$f":"IF(Table3[[#This Row],[Type établissement]]<>\"\",Table3[[#This Row],[Type établissement]],\"\")","v":"L"},{"$f":"IF(Table3[[#This Row],[Académie]]<>\"\",Table3[[#This Row],[Académie]],\"\")","v":"Nancy-Metz"},{"$f":"IF(Table3[[#This Row],[Parcours choisi]]<>\"\",Table3[[#This Row],[Parcours choisi]],\"\")","v":"T"},{"$f":"IF(Table3[[#This Row],[Parcours choisi]]<>\"\",(VLOOKUP(Table356[[#Headers],[Ingénierie et conception]],'Def. Prix & Parcours'!$I$6:$M$28,5,FALSE)*Table3[[#This Row],[Points Ingénierie et conception]]),\"\")","v":0},{"$f":"IF(Table3[[#This Row],[Parcours choisi]]<>\"\",(VLOOKUP(Table356[[#Headers],[Innovation mécanique]],'Def. Prix & Parcours'!$I$6:$M$28,5,FALSE)*Table3[[#This Row],[Points Innovation mécanique]]),\"\")","v":0},{"$f":"IF(Table3[[#This Row],[Parcours choisi]]<>\"\",(VLOOKUP(Table356[[#Headers],[Développement Durable]],'Def. Prix & Parcours'!$I$6:$M$28,5,FALSE)*Table3[[#This Row],[Points Développement Durable]]),\"\")","v":0},{"$f":"IF(Table3[[#This Row],[Parcours choisi]]<>\"\",(VLOOKUP(Table356[[#Headers],[Ingénierie de fabrication]],'Def. Prix & Parcours'!$I$6:$M$28,5,FALSE)*Table3[[#This Row],[Points Ingénierie de fabrication]]),\"\")","v":0},{"$f":"IF(Table3[[#This Row],[Parcours choisi]]<>\"\",(VLOOKUP(Table356[[#Headers],[Gestion de projet et collaborations]],'Def. Prix & Parcours'!$I$6:$M$28,5,FALSE)*Table3[[#This Row],[Points Gestion de projet et \ncollaborations]]),\"\")","v":0},{"$f":"IF(Table3[[#This Row],[Parcours choisi]]<>\"\",(VLOOKUP(Table356[[#Headers],[Présentation Orale]],'Def. Prix & Parcours'!$I$6:$M$28,5,FALSE)*Table3[[#This Row],[Points Présentation Orale]]),\"\")","v":0},{"$f":"IF(Table3[[#This Row],[Parcours choisi]]<>\"\",(VLOOKUP(Table356[[#Headers],[Identité Equipe]],'Def. Prix & Parcours'!$I$6:$M$28,5,FALSE)*Table3[[#This Row],[Points Identité Equipe]]),\"\")","v":0},{"$f":"IF(Table3[[#This Row],[Parcours choisi]]<>\"\",(VLOOKUP(Table356[[#Headers],[Design du Stand]],'Def. Prix & Parcours'!$I$6:$M$28,5,FALSE)*Table3[[#This Row],[Points Design du Stand]]),\"\")","v":0},{"$f":"IF(Table3[[#This Row],[Parcours choisi]]<>\"\",(VLOOKUP(Table356[[#Headers],[Portfolio]],'Def. Prix & Parcours'!$I$6:$M$28,5,FALSE)*Table3[[#This Row],[Points Portfolio]]),\"\")","v":0},{"$f":"IF(Table3[[#This Row],[Parcours choisi]]<>\"\",(VLOOKUP(Table356[[#Headers],[Marketing et Sponsoring]],'Def. Prix & Parcours'!$I$6:$M$28,5,FALSE)*Table3[[#This Row],[Points Marketing et Sponsoring]]),\"\")","v":0},{"$f":"IF(Table3[[#This Row],[Parcours choisi]]<>\"\",(VLOOKUP(Table356[[#Headers],[Budget]],'Def. Prix & Parcours'!$I$6:$M$28,5,FALSE)*Table3[[#This Row],[Points Budget]]),\"\")","v":0},{"$f":"IF(Table3[[#This Row],[Parcours choisi]]<>\"\",(VLOOKUP(Table356[[#Headers],[Design du Véhicule]],'Def. Prix & Parcours'!$I$6:$M$28,5,FALSE)*Table3[[#This Row],[Points Design du Véhicule]]),\"\")","v":0},{"$f":"IF(Table3[[#This Row],[Parcours choisi]]<>\"\",(VLOOKUP(Table356[[#Headers],[Innovation numérique]],'Def. Prix & Parcours'!$I$6:$M$28,5,FALSE)*Table3[[#This Row],[Points Innovation numérique]]),\"\")","v":0},{"$f":"IF(Table3[[#This Row],[Parcours choisi]]<>\"\",(VLOOKUP(Table356[[#Headers],[Programmation]],'Def. Prix & Parcours'!$I$6:$M$28,5,FALSE)*Table3[[#This Row],[Points Programmation]]),\"\")","v":0},{"$f":"IF(Table3[[#This Row],[Parcours choisi]]<>\"\",(VLOOKUP(Table356[[#Headers],[Respect du règlement]],'Def. Prix & Parcours'!$I$6:$M$28,5,FALSE)*Table3[[#This Row],[Points Respect du règlement]]),\"\")","v":0},{"$f":"IF(Table3[[#This Row],[Parcours choisi]]<>\"\",(VLOOKUP(Table356[[#Headers],[Communication : vidéo]],'Def. Prix & Parcours'!$I$6:$M$28,5,FALSE)*Table3[[#This Row],[Points Communication : vidéo]]),\"\")","v":0},{"$f":"IF(Table3[[#This Row],[Parcours choisi]]<>\"\",(VLOOKUP(Table356[[#Headers],[Epreuve CAO]],'Def. Prix & Parcours'!$I$6:$M$28,5,FALSE)*Table3[[#This Row],[Points Epreuve CAO]]),\"\")","v":0},{"$f":"IF(Table3[[#This Row],[Parcours choisi]]<>\"\",(VLOOKUP(Table356[[#Headers],[Temps Réaction]],'Def. Prix & Parcours'!$I$6:$M$28,5,FALSE)*Table3[[#This Row],[Points Temps Réaction]]),\"\")","v":0},{"$f":"IF(Table3[[#This Row],[Parcours choisi]]<>\"\",(VLOOKUP(Table356[[#Headers],[Temps Course]],'Def. Prix & Parcours'!$I$6:$M$28,5,FALSE)*Table3[[#This Row],[Points Temps Course]]),\"\")","v":40},{"$f":"IF(Table3[[#This Row],[Parcours choisi]]<>\"\",(VLOOKUP(Table356[[#Headers],[Epreuve arrêt au stand]],'Def. Prix & Parcours'!$I$6:$M$28,5,FALSE)*Table3[[#This Row],[Points Epreuve arrêt au stand]]),\"\")","v":0},null,{"$f":"IF(Table3[[#This Row],[Parcours choisi]]<>\"\",SUM(Table356781011[[#This Row],[Ingénierie et conception]:[1]]),\"\")","v":40},{"$f":"IF(Table3[[#This Row],[Parcours choisi]]<>\"\",_xlfn.RANK.EQ(Table356781011[[#This Row],[Total Numérique]],Table356781011[Total Numérique],0),\"\")","v":26}]
[3,{"$f":"IF(Table3[[#This Row],[Nom équipe]]<>\"\",Table3[[#This Row],[Nom équipe]],\"\")","v":" S1 motor sport"},{"$f":"IF(Table3[[#This Row],[Etablissement]]<>\"\",Table3[[#This Row],[Etablissement]],\"\")","v":"Lotitz Nancy"},{"$f":"IF(Table3[[#This Row],[Type établissement]]<>\"\",Table3[[#This Row],[Type établissement]],\"\")","v":"L"},{"$f":"IF(Table3[[#This Row],[Académie]]<>\"\",Table3[[#This Row],[Académie]],\"\")","v":"Nancy-Metz"},{"$f":"IF(Table3[[#This Row],[Parcours choisi]]<>\"\",Table3[[#This Row],[Parcours choisi]],\"\")","v":"T"},{"$f":"IF(Table3[[#This Row],[Parcours choisi]]<>\"\",(VLOOKUP(Table356[[#Headers],[Ingénierie et conception]],'Def. Prix & Parcours'!$I$6:$M$28,5,FALSE)*Table3[[#This Row],[Points Ingénierie et conception]]),\"\")","v":0},{"$f":"IF(Table3[[#This Row],[Parcours choisi]]<>\"\",(VLOOKUP(Table356[[#Headers],[Innovation mécanique]],'Def. Prix & Parcours'!$I$6:$M$28,5,FALSE)*Table3[[#This Row],[Points Innovation mécanique]]),\"\")","v":0},{"$f":"IF(Table3[[#This Row],[Parcours choisi]]<>\"\",(VLOOKUP(Table356[[#Headers],[Développement Durable]],'Def. Prix & Parcours'!$I$6:$M$28,5,FALSE)*Table3[[#This Row],[Points Développement Durable]]),\"\")","v":0},{"$f":"IF(Table3[[#This Row],[Parcours choisi]]<>\"\",(VLOOKUP(Table356[[#Headers],[Ingénierie de fabrication]],'Def. Prix & Parcours'!$I$6:$M$28,5,FALSE)*Table3[[#This Row],[Points Ingénierie de fabrication]]),\"\")","v":0},{"$f":"IF(Table3[[#This Row],[Parcours choisi]]<>\"\",(VLOOKUP(Table356[[#Headers],[Gestion de projet et collaborations]],'Def. Prix & Parcours'!$I$6:$M$28,5,FALSE)*Table3[[#This Row],[Points Gestion de projet et \ncollaborations]]),\"\")","v":0},{"$f":"IF(Table3[[#This Row],[Parcours choisi]]<>\"\",(VLOOKUP(Table356[[#Headers],[Présentation Orale]],'Def. Prix & Parcours'!$I$6:$M$28,5,FALSE)*Table3[[#This Row],[Points Présentation Orale]]),\"\")","v":0},{"$f":"IF(Table3[[#This Row],[Parcours choisi]]<>\"\",(VLOOKUP(Table356[[#Headers],[Identité Equipe]],'Def. Prix & Parcours'!$I$6:$M$28,5,FALSE)*Table3[[#This Row],[Points Identité Equipe]]),\"\")","v":0},{"$f":"IF(Table3[[#This Row],[Parcours choisi]]<>\"\",(VLOOKUP(Table356[[#Headers],[Design du Stand]],'Def. Prix & Parcours'!$I$6:$M$28,5,FALSE)*Table3[[#This Row],[Points Design du Stand]]),\"\")","v":0},{"$f":"IF(Table3[[#This Row],[Parcours choisi]]<>\"\",(VLOOKUP(Table356[[#Headers],[Portfolio]],'Def. Prix & Parcours'!$I$6:$M$28,5,FALSE)*Table3[[#This Row],[Points Portfolio]]),\"\")","v":0},{"$f":"IF(Table3[[#This Row],[Parcours choisi]]<>\"\",(VLOOKUP(Table356[[#Headers],[Marketing et Sponsoring]],'Def. Prix & Parcours'!$I$6:$M$28,5,FALSE)*Table3[[#This Row],[Points Marketing et Sponsoring]]),\"\")","v":0},{"$f":"IF(Table3[[#This Row],[Parcours choisi]]<>\"\",(VLOOKUP(Table356[[#Headers],[Budget]],'Def. Prix & Parcours'!$I$6:$M$28,5,FALSE)*Table3[[#This Row],[Points Budget]]),\"\")","v":0},{"$f":"IF(Table3[[#This Row],[Parcours choisi]]<>\"\",(VLOOKUP(Table356[[#Headers],[Design du Véhicule]],'Def. Prix & Parcours'!$I$6:$M$28,5,FALSE)*Table3[[#This Row],[Points Design du Véhicule]]),\"\")","v":0},{"$f":"IF(Table3[[#This Row],[Parcours choisi]]<>\"\",(VLOOKUP(Table356[[#Headers],[Innovation numérique]],'Def. Prix & Parcours'!$I$6:$M$28,5,FALSE)*Table3[[#This Row],[Points Innovation numérique]]),\"\")","v":0},{"$f":"IF(Table3[[#This Row],[Parcours choisi]]<>\"\",(VLOOKUP(Table356[[#Headers],[Programmation]],'Def. Prix & Parcours'!$I$6:$M$28,5,FALSE)*Table3[[#This Row],[Points Programmation]]),\"\")","v":0},{"$f":"IF(Table3[[#This Row],[Parcours choisi]]<>\"\",(VLOOKUP(Table356[[#Headers],[Respect du règlement]],'Def. Prix & Parcours'!$I$6:$M$28,5,FALSE)*Table3[[#This Row],[Points Respect du règlement]]),\"\")","v":0},{"$f":"IF(Table3[[#This Row],[Parcours choisi]]<>\"\",(VLOOKUP(Table356[[#Headers],[Communication : vidéo]],'Def. Prix & Parcours'!$I$6:$M$28,5,FALSE)*Table3[[#This Row],[Points Communication : vidéo]]),\"\")","v":0},{"$f":"IF(Table3[[#This Row],[Parcours choisi]]<>\"\",(VLOOKUP(Table356[[#Headers],[Epreuve CAO]],'Def. Prix & Parcours'!$I$6:$M$28,5,FALSE)*Table3[[#This Row],[Points Epreuve CAO]]),\"\")","v":0},{"$f":"IF(Table3[[#This Row],[Parcours choisi]]<>\"\",(VLOOKUP(Table356[[#Headers],[Temps Réaction]],'Def. Prix & Parcours'!$I$6:$M$28,5,FALSE)*Table3[[#This Row],[Points Temps Réaction]]),\"\")","v":0},{"$f":"IF(Table3[[#This Row],[Parcours choisi]]<>\"\",(VLOOKUP(Table356[[#Headers],[Temps Course]],'Def. Prix & Parcours'!$I$6:$M$28,5,FALSE)*Table3[[#This Row],[Points Temps Course]]),\"\")","v":40},{"$f":"IF(Table3[[#This Row],[Parcours choisi]]<>\"\",(VLOOKUP(Table356[[#Headers],[Epreuve arrêt au stand]],'Def. Prix & Parcours'!$I$6:$M$28,5,FALSE)*Table3[[#This Row],[Points Epreuve arrêt au stand]]),\"\")","v":0},null,{"$f":"IF(Table3[[#This Row],[Parcours choisi]]<>\"\",SUM(Table356781011[[#This Row],[Ingénierie et conception]:[1]]),\"\")","v":40},{"$f":"IF(Table3[[#This Row],[Parcours choisi]]<>\"\",_xlfn.RANK.EQ(Table356781011[[#This Row],[Total Numérique]],Table356781011[Total Numérique],0),\"\")","v":26}]
[4,{"$f":"IF(Table3[[#This Row],[Nom équipe]]<>\"\",Table3[[#This Row],[Nom équipe]],\"\")","v":"Back to the past"},{"$f":"IF(Table3[[#This Row],[Etablissement]]<>\"\",Table3[[#This Row],[Etablissement]],\"\")","v":"Loritz Nancy"},{"$f":"IF(Table3[[#This Row],[Type établissement]]<>\"\",Table3[[#This Row],[Type établissement]],\"\")","v":"L"},{"$f":"IF(Table3[[#This Row],[Académie]]<>\"\",Table3[[#This Row],[Académie]],\"\")","v":"Nancy-Metz"},{"$f":"IF(Table3[[#This Row],[Parcours choisi]]<>\"\",Table3[[#This Row],[Parcours choisi]],\"\")","v":"T"},{"$f":"IF(Table3[[#This Row],[Parcours choisi]]<>\"\",(VLOOKUP(Table356[[#Headers],[Ingénierie et conception]],'Def. Prix & Parcours'!$I$6:$M$28,5,FALSE)*Table3[[#This Row],[Points Ingénierie et conception]]),\"\")","v":34},{"$f":"IF(Table3[[#This Row],[Parcours choisi]]<>\"\",(VLOOKUP(Table356[[#Headers],[Innovation mécanique]],'Def. Prix & Parcours'!$I$6:$M$28,5,FALSE)*Table3[[#This Row],[Points Innovation mécanique]]),\"\")","v":42},{"$f":"IF(Table3[[#This Row],[Parcours choisi]]<>\"\",(VLOOKUP(Table356[[#Headers],[Développement Durable]],'Def. Prix & Parcours'!$I$6:$M$28,5,FALSE)*Table3[[#This Row],[Points Développement Durable]]),\"\")","v":90},{"$f":"IF(Table3[[#This Row],[Parcours choisi]]<>\"\",(VLOOKUP(Table356[[#Headers],[Ingénierie de fabrication]],'Def. Prix & Parcours'!$I$6:$M$28,5,FALSE)*Table3[[#This Row],[Points Ingénierie de fabrication]]),\"\")","v":0},{"$f":"IF(Table3[[#This Row],[Parcours choisi]]<>\"\",(VLOOKUP(Table356[[#Headers],[Gestion de projet et collaborations]],'Def. Prix & Parcours'!$I$6:$M$28,5,FALSE)*Table3[[#This Row],[Points Gestion de projet et \ncollaborations]]),\"\")","v":70},{"$f":"IF(Table3[[#This Row],[Parcours choisi]]<>\"\",(VLOOKUP(Table356[[#Headers],[Présentation Orale]],'Def. Prix & Parcours'!$I$6:$M$28,5,FALSE)*Table3[[#This Row],[Points Présentation Orale]]),\"\")","v":56},{"$f":"IF(Table3[[#This Row],[Parcours choisi]]<>\"\",(VLOOKUP(Table356[[#Headers],[Identité Equipe]],'Def. Prix & Parcours'!$I$6:$M$28,5,FALSE)*Table3[[#This Row],[Points Identité Equipe]]),\"\")","v":64},{"$f":"IF(Table3[[#This Row],[Parcours choisi]]<>\"\",(VLOOKUP(Table356[[#Headers],[Design du Stand]],'Def. Prix & Parcours'!$I$6:$M$28,5,FALSE)*Table3[[#This Row],[Points Design du Stand]]),\"\")","v":0},{"$f":"IF(Table3[[#This Row],[Parcours choisi]]<>\"\",(VLOOKUP(Table356[[#Headers],[Portfolio]],'Def. Prix & Parcours'!$I$6:$M$28,5,FALSE)*Table3[[#This Row],[Points Portfolio]]),\"\")","v":60},{"$f":"IF(Table3[[#This Row],[Parcours choisi]]<>\"\",(VLOOKUP(Table356[[#Headers],[Marketing et Sponsoring]],'Def. Prix & Parcours'!$I$6:$M$28,5,FALSE)*Table3[[#This Row],[Points Marketing et Sponsoring]]),\"\")","v":0},{"$f":"IF(Table3[[#This Row],[Parcours choisi]]<>\"\",(VLOOKUP(Table356[[#Headers],[Budget]],'Def. Prix & Parcours'!$I$6:$M$28,5,FALSE)*Table3[[#This Row],[Points Budget]]),\"\")","v":0},{"$f":"IF(Table3[[#This Row],[Parcours choisi]]<>\"\",(VLOOKUP(Table356[[#Headers],[Design du Véhicule]],'Def. Prix & Parcours'!$I$6:$M$28,5,FALSE)*Table3[[#This Row],[Points Design du Véhicule]]),\"\")","v":30},{"$f":"IF(Table3[[#This Row],[Parcours choisi]]<>\"\",(VLOOKUP(Table356[[#Headers],[Innovation numérique]],'Def. Prix & Parcours'!$I$6:$M$28,5,FALSE)*Table3[[#This Row],[Points Innovation numérique]]),\"\")","v":45},{"$f":"IF(Table3[[#This Row],[Parcours choisi]]<>\"\",(VLOOKUP(Table356[[#Headers],[Programmation]],'Def. Prix & Parcours'!$I$6:$M$28,5,FALSE)*Table3[[#This Row],[Points Programmation]]),\"\")","v":30},{"$f":"IF(Table3[[#This Row],[Parcours choisi]]<>\"\",(VLOOKUP(Table356[[#Headers],[Respect du règlement]],'Def. Prix & Parcours'!$I$6:$M$28,5,FALSE)*Table3[[#This Row],[Points Respect du règlement]]),\"\")","v":90},{"$f":"IF(Table3[[#This Row],[Parcours choisi]]<>\"\",(VLOOKUP(Table356[[#Headers],[Communication : vidéo]],'Def. Prix & Parcours'!$I$6:$M$28,5,FALSE)*Table3[[#This Row],[Points Communication : vidéo]]),\"\")","v":0},{"$f":"IF(Table3[[#This Row],[Parcours choisi]]<>\"\",(VLOOKUP(Table356[[#Headers],[Epreuve CAO]],'Def. Prix & Parcours'!$I$6:$M$28,5,FALSE)*Table3[[#This Row],[Points Epreuve CAO]]),\"\")","v":0},{"$f":"IF(Table3[[#This Row],[Parcours choisi]]<>\"\",(VLOOKUP(Table356[[#Headers],[Temps Réaction]],'Def. Prix & Parcours'!$I$6:$M$28,5,FALSE)*Table3[[#This Row],[Points Temps Réaction]]),\"\")","v":0},{"$f":"IF(Table3[[#This Row],[Parcours choisi]]<>\"\",(VLOOKUP(Table356[[#Headers],[Temps Course]],'Def. Prix & Parcours'!$I$6:$M$28,5,FALSE)*Table3[[#This Row],[Points Temps Course]]),\"\")","v":50},{"$f":"IF(Table3[[#This Row],[Parcours choisi]]<>\"\",(VLOOKUP(Table356[[#Headers],[Epreuve arrêt au stand]],'Def. Prix & Parcours'!$I$6:$M$28,5,FALSE)*Table3[[#This Row],[Points Epreuve arrêt au stand]]),\"\")","v":0},null,{"$f":"IF(Table3[[#This Row],[Parcours choisi]]<>\"\",SUM(Table356781011[[#This Row],[Ingénierie et conception]:[1]]),\"\")","v":661},{"$f":"IF(Table3[[#This Row],[Parcours choisi]]<>\"\",_xlfn.RANK.EQ(Table356781011[[#This Row],[Total Numérique]],Table356781011[Total Numérique],0),\"\")","v":14}]
[5,{"$f":"IF(Table3[[#This Row],[Nom équipe]]<>\"\",Table3[[#This Row],[Nom équipe]],\"\")","v":"Ionix"},{"$f":"IF(Table3[[#This Row],[Etablissement]]<>\"\",Table3[[#This Row],[Etablissement]],\"\")","v":"Loritz Nancy"},{"$f":"IF(Table3[[#This Row],[Type établissement]]<>\"\",Table3[[#This Row],[Type établissement]],\"\")","v":"L"},{"$f":"IF(Table3[[#This Row],[Académie]]<>\"\",Table3[[#This Row],[Académie]],\"\")","v":"Nancy-Metz"},{"$f":"IF(Table3[[#This Row],[Parcours choisi]]<>\"\",Table3[[#This Row],[Parcours choisi]],\"\")","v":"T"},{"$f":"IF(Table3[[#This Row],[Parcours choisi]]<>\"\",(VLOOKUP(Table356[[#Headers],[Ingénierie et conception]],'Def. Prix & Parcours'!$I$6:$M$28,5,FALSE)*Table3[[#This Row],[Points Ingénierie et conception]]),\"\")","v":28},{"$f":"IF(Table3[[#This Row],[Parcours choisi]]<>\"\",(VLOOKUP(Table356[[#Headers],[Innovation mécanique]],'Def. Prix & Parcours'!$I$6:$M$28,5,FALSE)*Table3[[#This Row],[Points Innovation mécanique]]),\"\")","v":39},{"$f":"IF(Table3[[#This Row],[Parcours choisi]]<>\"\",(VLOOKUP(Table356[[#Headers],[Développement Durable]],'Def. Prix & Parcours'!$I$6:$M$28,5,FALSE)*Table3[[#This Row],[Points Développement Durable]]),\"\")","v":108},{"$f":"IF(Table3[[#This Row],[Parcours choisi]]<>\"\",(VLOOKUP(Table356[[#Headers],[Ingénierie de fabrication]],'Def. Prix & Parcours'!$I$6:$M$28,5,FALSE)*Table3[[#This Row],[Points Ingénierie de fabrication]]),\"\")","v":0},{"$f":"IF(Table3[[#This Row],[Parcours choisi]]<>\"\",(VLOOKUP(Table356[[#Headers],[Gestion de projet et collaborations]],'Def. Prix & Parcours'!$I$6:$M$28,5,FALSE)*Table3[[#This Row],[Points Gestion de projet et \ncollaborations]]),\"\")","v":80},{"$f":"IF(Table3[[#This Row],[Parcours choisi]]<>\"\",(VLOOKUP(Table356[[#Headers],[Présentation Orale]],'Def. Prix & Parcours'!$I$6:$M$28,5,FALSE)*Table3[[#This Row],[Points Présentation Orale]]),\"\")","v":52},{"$f":"IF(Table3[[#This Row],[Parcours choisi]]<>\"\",(VLOOKUP(Table356[[#Headers],[Identité Equipe]],'Def. Prix & Parcours'!$I$6:$M$28,5,FALSE)*Table3[[#This Row],[Points Identité Equipe]]),\"\")","v":44},{"$f":"IF(Table3[[#This Row],[Parcours choisi]]<>\"\",(VLOOKUP(Table356[[#Headers],[Design du Stand]],'Def. Prix & Parcours'!$I$6:$M$28,5,FALSE)*Table3[[#This Row],[Points Design du Stand]]),\"\")","v":0},{"$f":"IF(Table3[[#This Row],[Parcours choisi]]<>\"\",(VLOOKUP(Table356[[#Headers],[Portfolio]],'Def. Prix & Parcours'!$I$6:$M$28,5,FALSE)*Table3[[#This Row],[Points Portfolio]]),\"\")","v":40},{"$f":"IF(Table3[[#This Row],[Parcours choisi]]<>\"\",(VLOOKUP(Table356[[#Headers],[Marketing et Sponsoring]],'Def. Prix & Parcours'!$I$6:$M$28,5,FALSE)*Table3[[#This Row],[Points Marketing et Sponsoring]]),\"\")","v":0},{"$f":"IF(Table3[[#This Row],[Parcours choisi]]<>\"\",(VLOOKUP(Table356[[#Headers],[Budget]],'Def. Prix & Parcours'!$I$6:$M$28,5,FALSE)*Table3[[#This Row],[Points Budget]]),\"\")","v":0},{"$f":"IF(Table3[[#This Row],[Parcours choisi]]<>\"\",(VLOOKUP(Table356[[#Headers],[Design du Véhicule]],'Def. Prix & Parcours'!$I$6:$M$28,5,FALSE)*Table3[[#This Row],[Points Design du Véhicule]]),\"\")","v":28},{"$f":"IF(Table3[[#This Row],[Parcours choisi]]<>\"\",(VLOOKUP(Table356[[#Headers],[Innovation numérique]],'Def. Prix & Parcours'!$I$6:$M$28,5,FALSE)*Table3[[#This Row],[Points Innovation numérique]]),\"\")","v":120},{"$f":"IF(Table3[[#This Row],[Parcours choisi]]<>\"\",(VLOOKUP(Table356[[#Headers],[Programmation]],'Def. Prix & Parcours'!$I$6:$M$28,5,FALSE)*Table3[[#This Row],[Points Programmation]]),\"\")","v":0},{"$f":"IF(Table3[[#This Row],[Parcours choisi]]<>\"\",(VLOOKUP(Table356[[#Headers],[Respect du règlement]],'Def. Prix & Parcours'!$I$6:$M$28,5,FALSE)*Table3[[#This Row],[Points Respect du règlement]]),\"\")","v":100},{"$f":"IF(Table3[[#This Row],[Parcours choisi]]<>\"\",(VLOOKUP(Table356[[#Headers],[Communication : vidéo]],'Def. Prix & Parcours'!$I$6:$M$28,5,FALSE)*Table3[[#This Row],[Points Communication : vidéo]]),\"\")","v":0},{"$f":"IF(Table3[[#This Row],[Parcours choisi]]<>\"\",(VLOOKUP(Table356[[#Headers],[Epreuve CAO]],'Def. Prix & Parcours'!$I$6:$M$28,5,FALSE)*Table3[[#This Row],[Points Epreuve CAO]]),\"\")","v":0},{"$f":"IF(Table3[[#This Row],[Parcours choisi]]<>\"\",(VLOOKUP(Table356[[#Headers],[Temps Réaction]],'Def. Prix & Parcours'!$I$6:$M$28,5,FALSE)*Table3[[#This Row],[Points Temps Réaction]]),\"\")","v":0},{"$f":"IF(Table3[[#This Row],[Parcours choisi]]<>\"\",(VLOOKUP(Table356[[#Headers],[Temps Course]],'Def. Prix & Parcours'!$I$6:$M$28,5,FALSE)*Table3[[#This Row],[Points Temps Course]]),\"\")","v":45},{"$f":"IF(Table3[[#This Row],[Parcours choisi]]<>\"\",(VLOOKUP(Table356[[#Headers],[Epreuve arrêt au stand]],'Def. Prix & Parcours'!$I$6:$M$28,5,FALSE)*Table3[[#This Row],[Points Epreuve arrêt au stand]]),\"\")","v":0},null,{"$f":"IF(Table3[[#This Row],[Parcours choisi]]<>\"\",SUM(Table356781011[[#This Row],[Ingénierie et conception]:[1]]),\"\")","v":684},{"$f":"IF(Table3[[#This Row],[Parcours choisi]]<>\"\",_xlfn.RANK.EQ(Table356781011[[#This Row],[Total Numérique]],Table356781011[Total Numérique],0),\"\")","v":13}]
[6,{"$f":"IF(Table3[[#This Row],[Nom équipe]]<>\"\",Table3[[#This Row],[Nom équipe]],\"\")","v":"Pavisado"},{"$f":"IF(Table3[[#This Row],[Etablissement]]<>\"\",Table3[[#This Row],[Etablissement]],\"\")","v":"Loritz Nancy"},{"$f":"IF(Table3[[#This Row],[Type établissement]]<>\"\",Table3[[#This Row],[Type établissement]],\"\")","v":"L"},{"$f":"IF(Table3[[#This Row],[Académie]]<>\"\",Table3[[#This Row],[Académie]],\"\")","v":"Nancy-Metz"},{"$f":"IF(Table3[[#This Row],[Parcours choisi]]<>\"\",Table3[[#This Row],[Parcours choisi]],\"\")","v":"T"},{"$f":"IF(Table3[[#This Row],[Parcours choisi]]<>\"\",(VLOOKUP(Table356[[#Headers],[Ingénierie et conception]],'Def. Prix & Parcours'!$I$6:$M$28,5,FALSE)*Table3[[#This Row],[Points Ingénierie et conception]]),\"\")","v":0},{"$f":"IF(Table3[[#This Row],[Parcours choisi]]<>\"\",(VLOOKUP(Table356[[#Headers],[Innovation mécanique]],'Def. Prix & Parcours'!$I$6:$M$28,5,FALSE)*Table3[[#This Row],[Points Innovation mécanique]]),\"\")","v":0},{"$f":"IF(Table3[[#This Row],[Parcours choisi]]<>\"\",(VLOOKUP(Table356[[#Headers],[Développement Durable]],'Def. Prix & Parcours'!$I$6:$M$28,5,FALSE)*Table3[[#This Row],[Points Développement Durable]]),\"\")","v":0},{"$f":"IF(Table3[[#This Row],[Parcours choisi]]<>\"\",(VLOOKUP(Table356[[#Headers],[Ingénierie de fabrication]],'Def. Prix & Parcours'!$I$6:$M$28,5,FALSE)*Table3[[#This Row],[Points Ingénierie de fabrication]]),\"\")","v":0},{"$f":"IF(Table3[[#This Row],[Parcours choisi]]<>\"\",(VLOOKUP(Table356[[#Headers],[Gestion de projet et collaborations]],'Def. Prix & Parcours'!$I$6:$M$28,5,FALSE)*Table3[[#This Row],[Points Gestion de projet et \ncollaborations]]),\"\")","v":0},{"$f":"IF(Table3[[#This Row],[Parcours choisi]]<>\"\",(VLOOKUP(Table356[[#Headers],[Présentation Orale]],'Def. Prix & Parcours'!$I$6:$M$28,5,FALSE)*Table3[[#This Row],[Points Présentation Orale]]),\"\")","v":0},{"$f":"IF(Table3[[#This Row],[Parcours choisi]]<>\"\",(VLOOKUP(Table356[[#Headers],[Identité Equipe]],'Def. Prix & Parcours'!$I$6:$M$28,5,FALSE)*Table3[[#This Row],[Points Identité Equipe]]),\"\")","v":0},{"$f":"IF(Table3[[#This Row],[Parcours choisi]]<>\"\",(VLOOKUP(Table356[[#Headers],[Design du Stand]],'Def. Prix & Parcours'!$I$6:$M$28,5,FALSE)*Table3[[#This Row],[Points Design du Stand]]),\"\")","v":0},{"$f":"IF(Table3[[#This Row],[Parcours choisi]]<>\"\",(VLOOKUP(Table356[[#Headers],[Portfolio]],'Def. Prix & Parcours'!$I$6:$M$28,5,FALSE)*Table3[[#This Row],[Points Portfolio]]),\"\")","v":0},{"$f":"IF(Table3[[#This Row],[Parcours choisi]]<>\"\",(VLOOKUP(Table356[[#Headers],[Marketing et Sponsoring]],'Def. Prix & Parcours'!$I$6:$M$28,5,FALSE)*Table3[[#This Row],[Points Marketing et Sponsoring]]),\"\")","v":0},{"$f":"IF(Table3[[#This Row],[Parcours choisi]]<>\"\",(VLOOKUP(Table356[[#Headers],[Budget]],'Def. Prix & Parcours'!$I$6:$M$28,5,FALSE)*Table3[[#This Row],[Points Budget]]),\"\")","v":0},{"$f":"IF(Table3[[#This Row],[Parcours choisi]]<>\"\",(VLOOKUP(Table356[[#Headers],[Design du Véhicule]],'Def. Prix & Parcours'!$I$6:$M$28,5,FALSE)*Table3[[#This Row],[Points Design du Véhicule]]),\"\")","v":0},{"$f":"IF(Table3[[#This Row],[Parcours choisi]]<>\"\",(VLOOKUP(Table356[[#Headers],[Innovation numérique]],'Def. Prix & Parcours'!$I$6:$M$28,5,FALSE)*Table3[[#This Row],[Points Innovation numérique]]),\"\")","v":0},{"$f":"IF(Table3[[#This Row],[Parcours choisi]]<>\"\",(VLOOKUP(Table356[[#Headers],[Programmation]],'Def. Prix & Parcours'!$I$6:$M$28,5,FALSE)*Table3[[#This Row],[Points Programmation]]),\"\")","v":0},{"$f":"IF(Table3[[#This Row],[Parcours choisi]]<>\"\",(VLOOKUP(Table356[[#Headers],[Respect du règlement]],'Def. Prix & Parcours'!$I$6:$M$28,5,FALSE)*Table3[[#This Row],[Points Respect du règlement]]),\"\")","v":0},{"$f":"IF(Table3[[#This Row],[Parcours choisi]]<>\"\",(VLOOKUP(Table356[[#Headers],[Communication : vidéo]],'Def. Prix & Parcours'!$I$6:$M$28,5,FALSE)*Table3[[#This Row],[Points Communication : vidéo]]),\"\")","v":0},{"$f":"IF(Table3[[#This Row],[Parcours choisi]]<>\"\",(VLOOKUP(Table356[[#Headers],[Epreuve CAO]],'Def. Prix & Parcours'!$I$6:$M$28,5,FALSE)*Table3[[#This Row],[Points Epreuve CAO]]),\"\")","v":0},{"$f":"IF(Table3[[#This Row],[Parcours choisi]]<>\"\",(VLOOKUP(Table356[[#Headers],[Temps Réaction]],'Def. Prix & Parcours'!$I$6:$M$28,5,FALSE)*Table3[[#This Row],[Points Temps Réaction]]),\"\")","v":0},{"$f":"IF(Table3[[#This Row],[Parcours choisi]]<>\"\",(VLOOKUP(Table356[[#Headers],[Temps Course]],'Def. Prix & Parcours'!$I$6:$M$28,5,FALSE)*Table3[[#This Row],[Points Temps Course]]),\"\")","v":40},{"$f":"IF(Table3[[#This Row],[Parcours choisi]]<>\"\",(VLOOKUP(Table356[[#Headers],[Epreuve arrêt au stand]],'Def. Prix & Parcours'!$I$6:$M$28,5,FALSE)*Table3[[#This Row],[Points Epreuve arrêt au stand]]),\"\")","v":0},null,{"$f":"IF(Table3[[#This Row],[Parcours choisi]]<>\"\",SUM(Table356781011[[#This Row],[Ingénierie et conception]:[1]]),\"\")","v":40},{"$f":"IF(Table3[[#This Row],[Parcours choisi]]<>\"\",_xlfn.RANK.EQ(Table356781011[[#This Row],[Total Numérique]],Table356781011[Total Numérique],0),\"\")","v":26}]
[7,{"$f":"IF(Table3[[#This Row],[Nom équipe]]<>\"\",Table3[[#This Row],[Nom équipe]],\"\")","v":"Les Toucaninos"},{"$f":"IF(Table3[[#This Row],[Etablissement]]<>\"\",Table3[[#This Row],[Etablissement]],\"\")","v":"Jean Lamour Nancy"},{"$f":"IF(Table3[[#This Row],[Type établissement]]<>\"\",Table3[[#This Row],[Type établissement]],\"\")","v":"C"},{"$f":"IF(Table3[[#This Row],[Académie]]<>\"\",Table3[[#This Row],[Académie]],\"\")","v":"Nancy-Metz"},{"$f":"IF(Table3[[#This Row],[Parcours choisi]]<>\"\",Table3[[#This Row],[Parcours choisi]],\"\")","v":"G"},{"$f":"IF(Table3[[#This Row],[Parcours choisi]]<>\"\",(VLOOKUP(Table356[[#Headers],[Ingénierie et conception]],'Def. Prix & Parcours'!$I$6:$M$28,5,FALSE)*Table3[[#This Row],[Points Ingénierie et conception]]),\"\")","v":36},{"$f":"IF(Table3[[#This Row],[Parcours choisi]]<>\"\",(VLOOKUP(Table356[[#Headers],[Innovation mécanique]],'Def. Prix & Parcours'!$I$6:$M$28,5,FALSE)*Table3[[#This Row],[Points Innovation mécanique]]),\"\")","v":51},{"$f":"IF(Table3[[#This Row],[Parcours choisi]]<>\"\",(VLOOKUP(Table356[[#Headers],[Développement Durable]],'Def. Prix & Parcours'!$I$6:$M$28,5,FALSE)*Table3[[#This Row],[Points Développement Durable]]),\"\")","v":114},{"$f":"IF(Table3[[#This Row],[Parcours choisi]]<>\"\",(VLOOKUP(Table356[[#Headers],[Ingénierie de fabrication]],'Def. Prix & Parcours'!$I$6:$M$28,5,FALSE)*Table3[[#This Row],[Points Ingénierie de fabrication]]),\"\")","v":0},{"$f":"IF(Table3[[#This Row],[Parcours choisi]]<>\"\",(VLOOKUP(Table356[[#Headers],[Gestion de projet et collaborations]],'Def. Prix & Parcours'!$I$6:$M$28,5,FALSE)*Table3[[#This Row],[Points Gestion de projet et \ncollaborations]]),\"\")","v":95},{"$f":"IF(Table3[[#This Row],[Parcours choisi]]<>\"\",(VLOOKUP(Table356[[#Headers],[Présentation Orale]],'Def. Prix & Parcours'!$I$6:$M$28,5,FALSE)*Table3[[#This Row],[Points Présentation Orale]]),\"\")","v":76},{"$f":"IF(Table3[[#This Row],[Parcours choisi]]<>\"\",(VLOOKUP(Table356[[#Headers],[Identité Equipe]],'Def. Prix & Parcours'!$I$6:$M$28,5,FALSE)*Table3[[#This Row],[Points Identité Equipe]]),\"\")","v":60},{"$f":"IF(Table3[[#This Row],[Parcours choisi]]<>\"\",(VLOOKUP(Table356[[#Headers],[Design du Stand]],'Def. Prix & Parcours'!$I$6:$M$28,5,FALSE)*Table3[[#This Row],[Points Design du Stand]]),\"\")","v":0},{"$f":"IF(Table3[[#This Row],[Parcours choisi]]<>\"\",(VLOOKUP(Table356[[#Headers],[Portfolio]],'Def. Prix & Parcours'!$I$6:$M$28,5,FALSE)*Table3[[#This Row],[Points Portfolio]]),\"\")","v":32},{"$f":"IF(Table3[[#This Row],[Parcours choisi]]<>\"\",(VLOOKUP(Table356[[#Headers],[Marketing et Sponsoring]],'Def. Prix & Parcours'!$I$6:$M$28,5,FALSE)*Table3[[#This Row],[Points Marketing et Sponsoring]]),\"\")","v":0},{"$f":"IF(Table3[[#This Row],[Parcours choisi]]<>\"\",(VLOOKUP(Table356[[#Headers],[Budget]],'Def. Prix & Parcours'!$I$6:$M$28,5,FALSE)*Table3[[#This Row],[Points Budget]]),\"\")","v":0},{"$f":"IF(Table3[[#This Row],[Parcours choisi]]<>\"\",(VLOOKUP(Table356[[#Headers],[Design du Véhicule]],'Def. Prix & Parcours'!$I$6:$M$28,5,FALSE)*Table3[[#This Row],[Points Design du Véhicule]]),\"\")","v":32},{"$f":"IF(Table3[[#This Row],[Parcours choisi]]<>\"\",(VLOOKUP(Table356[[#Headers],[Innovation numérique]],'Def. Prix & Parcours'!$I$6:$M$28,5,FALSE)*Table3[[#This Row],[Points Innovation numérique]]),\"\")","v":105},{"$f":"IF(Table3[[#This Row],[Parcours choisi]]<>\"\",(VLOOKUP(Table356[[#Headers],[Programmation]],'Def. Prix & Parcours'!$I$6:$M$28,5,FALSE)*Table3[[#This Row],[Points Programmation]]),\"\")","v":120},{"$f":"IF(Table3[[#This Row],[Parcours choisi]]<>\"\",(VLOOKUP(Table356[[#Headers],[Respect du règlement]],'Def. Prix & Parcours'!$I$6:$M$28,5,FALSE)*Table3[[#This Row],[Points Respect du règlement]]),\"\")","v":70},{"$f":"IF(Table3[[#This Row],[Parcours choisi]]<>\"\",(VLOOKUP(Table356[[#Headers],[Communication : vidéo]],'Def. Prix & Parcours'!$I$6:$M$28,5,FALSE)*Table3[[#This Row],[Points Communication : vidéo]]),\"\")","v":0},{"$f":"IF(Table3[[#This Row],[Parcours choisi]]<>\"\",(VLOOKUP(Table356[[#Headers],[Epreuve CAO]],'Def. Prix & Parcours'!$I$6:$M$28,5,FALSE)*Table3[[#This Row],[Points Epreuve CAO]]),\"\")","v":0},{"$f":"IF(Table3[[#This Row],[Parcours choisi]]<>\"\",(VLOOKUP(Table356[[#Headers],[Temps Réaction]],'Def. Prix & Parcours'!$I$6:$M$28,5,FALSE)*Table3[[#This Row],[Points Temps Réaction]]),\"\")","v":0},{"$f":"IF(Table3[[#This Row],[Parcours choisi]]<>\"\",(VLOOKUP(Table356[[#Headers],[Temps Course]],'Def. Prix & Parcours'!$I$6:$M$28,5,FALSE)*Table3[[#This Row],[Points Temps Course]]),\"\")","v":50},{"$f":"IF(Table3[[#This Row],[Parcours choisi]]<>\"\",(VLOOKUP(Table356[[#Headers],[Epreuve arrêt au stand]],'Def. Prix & Parcours'!$I$6:$M$28,5,FALSE)*Table3[[#This Row],[Points Epreuve arrêt au stand]]),\"\")","v":0},null,{"$f":"IF(Table3[[#This Row],[Parcours choisi]]<>\"\",SUM(Table356781011[[#This Row],[Ingénierie et conception]:[1]]),\"\")","v":841},{"$f":"IF(Table3[[#This Row],[Parcours choisi]]<>\"\",_xlfn.RANK.EQ(Table356781011[[#This Row],[Total Numérique]],Table356781011[Total Numérique],0),\"\")","v":9}]
[8,{"$f":"IF(Table3[[#This Row],[Nom équipe]]<>\"\",Table3[[#This Row],[Nom équipe]],\"\")","v":"Les Daltram"},{"$f":"IF(Table3[[#This Row],[Etablissement]]<>\"\",Table3[[#This Row],[Etablissement]],\"\")","v":"Jean Lamour Nancy"},{"$f":"IF(Table3[[#This Row],[Type établissement]]<>\"\",Table3[[#This Row],[Type établissement]],\"\")","v":"C"},{"$f":"IF(Table3[[#This Row],[Académie]]<>\"\",Table3[[#This Row],[Académie]],\"\")","v":"Nancy-Metz"},{"$f":"IF(Table3[[#This Row],[Parcours choisi]]<>\"\",Table3[[#This Row],[Parcours choisi]],\"\")","v":"G"},{"$f":"IF(Table3[[#This Row],[Parcours choisi]]<>\"\",(VLOOKUP(Table356[[#Headers],[Ingénierie et conception]],'Def. Prix & Parcours'!$I$6:$M$28,5,FALSE)*Table3[[#This Row],[Points Ingénierie et conception]]),\"\")","v":30},{"$f":"IF(Table3[[#This Row],[Parcours choisi]]<>\"\",(VLOOKUP(Table356[[#Headers],[Innovation mécanique]],'Def. Prix & Parcours'!$I$6:$M$28,5,FALSE)*Table3[[#This Row],[Points Innovation mécanique]]),\"\")","v":39},{"$f":"IF(Table3[[#This Row],[Parcours choisi]]<>\"\",(VLOOKUP(Table356[[#Headers],[Développement Durable]],'Def. Prix & Parcours'!$I$6:$M$28,5,FALSE)*Table3[[#This Row],[Points Développement Durable]]),\"\")","v":72},{"$f":"IF(Table3[[#This Row],[Parcours choisi]]<>\"\",(VLOOKUP(Table356[[#Headers],[Ingénierie de fabrication]],'Def. Prix & Parcours'!$I$6:$M$28,5,FALSE)*Table3[[#This Row],[Points Ingénierie de fabrication]]),\"\")","v":0},{"$f":"IF(Table3[[#This Row],[Parcours choisi]]<>\"\",(VLOOKUP(Table356[[#Headers],[Gestion de projet et collaborations]],'Def. Prix & Parcours'!$I$6:$M$28,5,FALSE)*Table3[[#This Row],[Points Gestion de projet et \ncollaborations]]),\"\")","v":70},{"$f":"IF(Table3[[#This Row],[Parcours choisi]]<>\"\",(VLOOKUP(Table356[[#Headers],[Présentation Orale]],'Def. Prix & Parcours'!$I$6:$M$28,5,FALSE)*Table3[[#This Row],[Points Présentation Orale]]),\"\")","v":68},{"$f":"IF(Table3[[#This Row],[Parcours choisi]]<>\"\",(VLOOKUP(Table356[[#Headers],[Identité Equipe]],'Def. Prix & Parcours'!$I$6:$M$28,5,FALSE)*Table3[[#This Row],[Points Identité Equipe]]),\"\")","v":72},{"$f":"IF(Table3[[#This Row],[Parcours choisi]]<>\"\",(VLOOKUP(Table356[[#Headers],[Design du Stand]],'Def. Prix & Parcours'!$I$6:$M$28,5,FALSE)*Table3[[#This Row],[Points Design du Stand]]),\"\")","v":0},{"$f":"IF(Table3[[#This Row],[Parcours choisi]]<>\"\",(VLOOKUP(Table356[[#Headers],[Portfolio]],'Def. Prix & Parcours'!$I$6:$M$28,5,FALSE)*Table3[[#This Row],[Points Portfolio]]),\"\")","v":56},{"$f":"IF(Table3[[#This Row],[Parcours choisi]]<>\"\",(VLOOKUP(Table356[[#Headers],[Marketing et Sponsoring]],'Def. Prix & Parcours'!$I$6:$M$28,5,FALSE)*Table3[[#This Row],[Points Marketing et Sponsoring]]),\"\")","v":0},{"$f":"IF(Table3[[#This Row],[Parcours choisi]]<>\"\",(VLOOKUP(Table356[[#Headers],[Budget]],'Def. Prix & Parcours'!$I$6:$M$28,5,FALSE)*Table3[[#This Row],[Points Budget]]),\"\")","v":0},{"$f":"IF(Table3[[#This Row],[Parcours choisi]]<>\"\",(VLOOKUP(Table356[[#Headers],[Design du Véhicule]],'Def. Prix & Parcours'!$I$6:$M$28,5,FALSE)*Table3[[#This Row],[Points Design du Véhicule]]),\"\")","v":34},{"$f":"IF(Table3[[#This Row],[Parcours choisi]]<>\"\",(VLOOKUP(Table356[[#Headers],[Innovation numérique]],'Def. Prix & Parcours'!$I$6:$M$28,5,FALSE)*Table3[[#This Row],[Points Innovation numérique]]),\"\")","v":225},{"$f":"IF(Table3[[#This Row],[Parcours choisi]]<>\"\",(VLOOKUP(Table356[[#Headers],[Programmation]],'Def. Prix & Parcours'!$I$6:$M$28,5,FALSE)*Table3[[#This Row],[Points Programmation]]),\"\")","v":255},{"$f":"IF(Table3[[#This Row],[Parcours choisi]]<>\"\",(VLOOKUP(Table356[[#Headers],[Respect du règlement]],'Def. Prix & Parcours'!$I$6:$M$28,5,FALSE)*Table3[[#This Row],[Points Respect du règlement]]),\"\")","v":100},{"$f":"IF(Table3[[#This Row],[Parcours choisi]]<>\"\",(VLOOKUP(Table356[[#Headers],[Communication : vidéo]],'Def. Prix & Parcours'!$I$6:$M$28,5,FALSE)*Table3[[#This Row],[Points Communication : vidéo]]),\"\")","v":0},{"$f":"IF(Table3[[#This Row],[Parcours choisi]]<>\"\",(VLOOKUP(Table356[[#Headers],[Epreuve CAO]],'Def. Prix & Parcours'!$I$6:$M$28,5,FALSE)*Table3[[#This Row],[Points Epreuve CAO]]),\"\")","v":0},{"$f":"IF(Table3[[#This Row],[Parcours choisi]]<>\"\",(VLOOKUP(Table356[[#Headers],[Temps Réaction]],'Def. Prix & Parcours'!$I$6:$M$28,5,FALSE)*Table3[[#This Row],[Points Temps Réaction]]),\"\")","v":0},{"$f":"IF(Table3[[#This Row],[Parcours choisi]]<>\"\",(VLOOKUP(Table356[[#Headers],[Temps Course]],'Def. Prix & Parcours'!$I$6:$M$28,5,FALSE)*Table3[[#This Row],[Points Temps Course]]),\"\")","v":100},{"$f":"IF(Table3[[#This Row],[Parcours choisi]]<>\"\",(VLOOKUP(Table356[[#Headers],[Epreuve arrêt au stand]],'Def. Prix & Parcours'!$I$6:$M$28,5,FALSE)*Table3[[#This Row],[Points Epreuve arrêt au stand]]),\"\")","v":0},null,{"$f":"IF(Table3[[#This Row],[Parcours choisi]]<>\"\",SUM(Table356781011[[#This Row],[Ingénierie et conception]:[1]]),\"\")","v":1121},{"$f":"IF(Table3[[#This Row],[Parcours choisi]]<>\"\",_xlfn.RANK.EQ(Table356781011[[#This Row],[Total Numérique]],Table356781011[Total Numérique],0),\"\")","v":4}]
[9,{"$f":"IF(Table3[[#This Row],[Nom équipe]]<>\"\",Table3[[#This Row],[Nom équipe]],\"\")","v":"Droit devant"},{"$f":"IF(Table3[[#This Row],[Etablissement]]<>\"\",Table3[[#This Row],[Etablissement]],\"\")","v":"Boutet Lunéville"},{"$f":"IF(Table3[[#This Row],[Type établissement]]<>\"\",Table3[[#This Row],[Type établissement]],\"\")","v":"L"},{"$f":"IF(Table3[[#This Row],[Académie]]<>\"\",Table3[[#This Row],[Académie]],\"\")","v":"Nancy-Metz"},{"$f":"IF(Table3[[#This Row],[Parcours choisi]]<>\"\",Table3[[#This Row],[Parcours choisi]],\"\")","v":"T"},{"$f":"IF(Table3[[#This Row],[Parcours choisi]]<>\"\",(VLOOKUP(Table356[[#Headers],[Ingénierie et conception]],'Def. Prix & Parcours'!$I$6:$M$28,5,FALSE)*Table3[[#This Row],[Points Ingénierie et conception]]),\"\")","v":0},{"$f":"IF(Table3[[#This Row],[Parcours choisi]]<>\"\",(VLOOKUP(Table356[[#Headers],[Innovation mécanique]],'Def. Prix & Parcours'!$I$6:$M$28,5,FALSE)*Table3[[#This Row],[Points Innovation mécanique]]),\"\")","v":0},{"$f":"IF(Table3[[#This Row],[Parcours choisi]]<>\"\",(VLOOKUP(Table356[[#Headers],[Développement Durable]],'Def. Prix & Parcours'!$I$6:$M$28,5,FALSE)*Table3[[#This Row],[Points Développement Durable]]),\"\")","v":0},{"$f":"IF(Table3[[#This Row],[Parcours choisi]]<>\"\",(VLOOKUP(Table356[[#Headers],[Ingénierie de fabrication]],'Def. Prix & Parcours'!$I$6:$M$28,5,FALSE)*Table3[[#This Row],[Points Ingénierie de fabrication]]),\"\")","v":0},{"$f":"IF(Table3[[#This Row],[Parcours choisi]]<>\"\",(VLOOKUP(Table356[[#Headers],[Gestion de projet et collaborations]],'Def. Prix & Parcours'!$I$6:$M$28,5,FALSE)*Table3[[#This Row],[Points Gestion de projet et \ncollaborations]]),\"\")","v":0},{"$f":"IF(Table3[[#This Row],[Parcours choisi]]<>\"\",(VLOOKUP(Table356[[#Headers],[Présentation Orale]],'Def. Prix & Parcours'!$I$6:$M$28,5,FALSE)*Table3[[#This Row],[Points Présentation Orale]]),\"\")","v":0},{"$f":"IF(Table3[[#This Row],[Parcours choisi]]<>\"\",(VLOOKUP(Table356[[#Headers],[Identité Equipe]],'Def. Prix & Parcours'!$I$6:$M$28,5,FALSE)*Table3[[#This Row],[Points Identité Equipe]]),\"\")","v":0},{"$f":"IF(Table3[[#This Row],[Parcours choisi]]<>\"\",(VLOOKUP(Table356[[#Headers],[Design du Stand]],'Def. Prix & Parcours'!$I$6:$M$28,5,FALSE)*Table3[[#This Row],[Points Design du Stand]]),\"\")","v":0},{"$f":"IF(Table3[[#This Row],[Parcours choisi]]<>\"\",(VLOOKUP(Table356[[#Headers],[Portfolio]],'Def. Prix & Parcours'!$I$6:$M$28,5,FALSE)*Table3[[#This Row],[Points Portfolio]]),\"\")","v":0},{"$f":"IF(Table3[[#This Row],[Parcours choisi]]<>\"\",(VLOOKUP(Table356[[#Headers],[Marketing et Sponsoring]],'Def. Prix & Parcours'!$I$6:$M$28,5,FALSE)*Table3[[#This Row],[Points Marketing et Sponsoring]]),\"\")","v":0},{"$f":"IF(Table3[[#This Row],[Parcours choisi]]<>\"\",(VLOOKUP(Table356[[#Headers],[Budget]],'Def. Prix & Parcours'!$I$6:$M$28,5,FALSE)*Table3[[#This Row],[Points Budget]]),\"\")","v":0},{"$f":"IF(Table3[[#This Row],[Parcours choisi]]<>\"\",(VLOOKUP(Table356[[#Headers],[Design du Véhicule]],'Def. Prix & Parcours'!$I$6:$M$28,5,FALSE)*Table3[[#This Row],[Points Design du Véhicule]]),\"\")","v":0},{"$f":"IF(Table3[[#This Row],[Parcours choisi]]<>\"\",(VLOOKUP(Table356[[#Headers],[Innovation numérique]],'Def. Prix & Parcours'!$I$6:$M$28,5,FALSE)*Table3[[#This Row],[Points Innovation numérique]]),\"\")","v":0},{"$f":"IF(Table3[[#This Row],[Parcours choisi]]<>\"\",(VLOOKUP(Table356[[#Headers],[Programmation]],'Def. Prix & Parcours'!$I$6:$M$28,5,FALSE)*Table3[[#This Row],[Points Programmation]]),\"\")","v":0},{"$f":"IF(Table3[[#This Row],[Parcours choisi]]<>\"\",(VLOOKUP(Table356[[#Headers],[Respect du règlement]],'Def. Prix & Parcours'!$I$6:$M$28,5,FALSE)*Table3[[#This Row],[Points Respect du règlement]]),\"\")","v":0},{"$f":"IF(Table3[[#This Row],[Parcours choisi]]<>\"\",(VLOOKUP(Table356[[#Headers],[Communication : vidéo]],'Def. Prix & Parcours'!$I$6:$M$28,5,FALSE)*Table3[[#This Row],[Points Communication : vidéo]]),\"\")","v":0},{"$f":"IF(Table3[[#This Row],[Parcours choisi]]<>\"\",(VLOOKUP(Table356[[#Headers],[Epreuve CAO]],'Def. Prix & Parcours'!$I$6:$M$28,5,FALSE)*Table3[[#This Row],[Points Epreuve CAO]]),\"\")","v":0},{"$f":"IF(Table3[[#This Row],[Parcours choisi]]<>\"\",(VLOOKUP(Table356[[#Headers],[Temps Réaction]],'Def. Prix & Parcours'!$I$6:$M$28,5,FALSE)*Table3[[#This Row],[Points Temps Réaction]]),\"\")","v":0},{"$f":"IF(Table3[[#This Row],[Parcours choisi]]<>\"\",(VLOOKUP(Table356[[#Headers],[Temps Course]],'Def. Prix & Parcours'!$I$6:$M$28,5,FALSE)*Table3[[#This Row],[Points Temps Course]]),\"\")","v":40},{"$f":"IF(Table3[[#This Row],[Parcours choisi]]<>\"\",(VLOOKUP(Table356[[#Headers],[Epreuve arrêt au stand]],'Def. Prix & Parcours'!$I$6:$M$28,5,FALSE)*Table3[[#This Row],[Points Epreuve arrêt au stand]]),\"\")","v":0},null,{"$f":"IF(Table3[[#This Row],[Parcours choisi]]<>\"\",SUM(Table356781011[[#This Row],[Ingénierie et conception]:[1]]),\"\")","v":40},{"$f":"IF(Table3[[#This Row],[Parcours choisi]]<>\"\",_xlfn.RANK.EQ(Table356781011[[#This Row],[Total Numérique]],Table356781011[Total Numérique],0),\"\")","v":26}]
[10,{"$f":"IF(Table3[[#This Row],[Nom équipe]]<>\"\",Table3[[#This Row],[Nom équipe]],\"\")","v":"Space-hat"},{"$f":"IF(Table3[[#This Row],[Etablissement]]<>\"\",Table3[[#This Row],[Etablissement]],\"\")","v":"Boutet Lunéville"},{"$f":"IF(Table3[[#This Row],[Type établissement]]<>\"\",Table3[[#This Row],[Type établissement]],\"\")","v":"L"},{"$f":"IF(Table3[[#This Row],[Académie]]<>\"\",Table3[[#This Row],[Académie]],\"\")","v":"Nancy-Metz"},{"$f":"IF(Table3[[#This Row],[Parcours choisi]]<>\"\",Table3[[#This Row],[Parcours choisi]],\"\")","v":"T"},{"$f":"IF(Table3[[#This Row],[Parcours choisi]]<>\"\",(VLOOKUP(Table356[[#Headers],[Ingénierie et conception]],'Def. Prix & Parcours'!$I$6:$M$28,5,FALSE)*Table3[[#This Row],[Points Ingénierie et conception]]),\"\")","v":26},{"$f":"IF(Table3[[#This Row],[Parcours choisi]]<>\"\",(VLOOKUP(Table356[[#Headers],[Innovation mécanique]],'Def. Prix & Parcours'!$I$6:$M$28,5,FALSE)*Table3[[#This Row],[Points Innovation mécanique]]),\"\")","v":42},{"$f":"IF(Table3[[#This Row],[Parcours choisi]]<>\"\",(VLOOKUP(Table356[[#Headers],[Développement Durable]],'Def. Prix & Parcours'!$I$6:$M$28,5,FALSE)*Table3[[#This Row],[Points Développement Durable]]),\"\")","v":96},{"$f":"IF(Table3[[#This Row],[Parcours choisi]]<>\"\",(VLOOKUP(Table356[[#Headers],[Ingénierie de fabrication]],'Def. Prix & Parcours'!$I$6:$M$28,5,FALSE)*Table3[[#This Row],[Points Ingénierie de fabrication]]),\"\")","v":0},{"$f":"IF(Table3[[#This Row],[Parcours choisi]]<>\"\",(VLOOKUP(Table356[[#Headers],[Gestion de projet et collaborations]],'Def. Prix & Parcours'!$I$6:$M$28,5,FALSE)*Table3[[#This Row],[Points Gestion de projet et \ncollaborations]]),\"\")","v":60},{"$f":"IF(Table3[[#This Row],[Parcours choisi]]<>\"\",(VLOOKUP(Table356[[#Headers],[Présentation Orale]],'Def. Prix & Parcours'!$I$6:$M$28,5,FALSE)*Table3[[#This Row],[Points Présentation Orale]]),\"\")","v":48},{"$f":"IF(Table3[[#This Row],[Parcours choisi]]<>\"\",(VLOOKUP(Table356[[#Headers],[Identité Equipe]],'Def. Prix & Parcours'!$I$6:$M$28,5,FALSE)*Table3[[#This Row],[Points Identité Equipe]]),\"\")","v":68},{"$f":"IF(Table3[[#This Row],[Parcours choisi]]<>\"\",(VLOOKUP(Table356[[#Headers],[Design du Stand]],'Def. Prix & Parcours'!$I$6:$M$28,5,FALSE)*Table3[[#This Row],[Points Design du Stand]]),\"\")","v":0},{"$f":"IF(Table3[[#This Row],[Parcours choisi]]<>\"\",(VLOOKUP(Table356[[#Headers],[Portfolio]],'Def. Prix & Parcours'!$I$6:$M$28,5,FALSE)*Table3[[#This Row],[Points Portfolio]]),\"\")","v":52},{"$f":"IF(Table3[[#This Row],[Parcours choisi]]<>\"\",(VLOOKUP(Table356[[#Headers],[Marketing et Sponsoring]],'Def. Prix & Parcours'!$I$6:$M$28,5,FALSE)*Table3[[#This Row],[Points Marketing et Sponsoring]]),\"\")","v":0},{"$f":"IF(Table3[[#This Row],[Parcours choisi]]<>\"\",(VLOOKUP(Table356[[#Headers],[Budget]],'Def. Prix & Parcours'!$I$6:$M$28,5,FALSE)*Table3[[#This Row],[Points Budget]]),\"\")","v":0},{"$f":"IF(Table3[[#This Row],[Parcours choisi]]<>\"\",(VLOOKUP(Table356[[#Headers],[Design du Véhicule]],'Def. Prix & Parcours'!$I$6:$M$28,5,FALSE)*Table3[[#This Row],[Points Design du Véhicule]]),\"\")","v":30},{"$f":"IF(Table3[[#This Row],[Parcours choisi]]<>\"\",(VLOOKUP(Table356[[#Headers],[Innovation numérique]],'Def. Prix & Parcours'!$I$6:$M$28,5,FALSE)*Table3[[#This Row],[Points Innovation numérique]]),\"\")","v":0},{"$f":"IF(Table3[[#This Row],[Parcours choisi]]<>\"\",(VLOOKUP(Table356[[#Headers],[Programmation]],'Def. Prix & Parcours'!$I$6:$M$28,5,FALSE)*Table3[[#This Row],[Points Programmation]]),\"\")","v":0},{"$f":"IF(Table3[[#This Row],[Parcours choisi]]<>\"\",(VLOOKUP(Table356[[#Headers],[Respect du règlement]],'Def. Prix & Parcours'!$I$6:$M$28,5,FALSE)*Table3[[#This Row],[Points Respect du règlement]]),\"\")","v":95},{"$f":"IF(Table3[[#This Row],[Parcours choisi]]<>\"\",(VLOOKUP(Table356[[#Headers],[Communication : vidéo]],'Def. Prix & Parcours'!$I$6:$M$28,5,FALSE)*Table3[[#This Row],[Points Communication : vidéo]]),\"\")","v":0},{"$f":"IF(Table3[[#This Row],[Parcours choisi]]<>\"\",(VLOOKUP(Table356[[#Headers],[Epreuve CAO]],'Def. Prix & Parcours'!$I$6:$M$28,5,FALSE)*Table3[[#This Row],[Points Epreuve CAO]]),\"\")","v":0},{"$f":"IF(Table3[[#This Row],[Parcours choisi]]<>\"\",(VLOOKUP(Table356[[#Headers],[Temps Réaction]],'Def. Prix & Parcours'!$I$6:$M$28,5,FALSE)*Table3[[#This Row],[Points Temps Réaction]]),\"\")","v":0},{"$f":"IF(Table3[[#This Row],[Parcours choisi]]<>\"\",(VLOOKUP(Table356[[#Headers],[Temps Course]],'Def. Prix & Parcours'!$I$6:$M$28,5,FALSE)*Table3[[#This Row],[Points Temps Course]]),\"\")","v":90},{"$f":"IF(Table3[[#This Row],[Parcours choisi]]<>\"\",(VLOOKUP(Table356[[#Headers],[Epreuve arrêt au stand]],'Def. Prix & Parcours'!$I$6:$M$28,5,FALSE)*Table3[[#This Row],[Points Epreuve arrêt au stand]]),\"\")","v":0},null,{"$f":"IF(Table3[[#This Row],[Parcours choisi]]<>\"\",SUM(Table356781011[[#This Row],[Ingénierie et conception]:[1]]),\"\")","v":607},{"$f":"IF(Table3[[#This Row],[Parcours choisi]]<>\"\",_xlfn.RANK.EQ(Table356781011[[#This Row],[Total Numérique]],Table356781011[Total Numérique],0),\"\")","v":17}]
[11,{"$f":"IF(Table3[[#This Row],[Nom équipe]]<>\"\",Table3[[#This Row],[Nom équipe]],\"\")","v":"Molécuisto"},{"$f":"IF(Table3[[#This Row],[Etablissement]]<>\"\",Table3[[#This Row],[Etablissement]],\"\")","v":"Bichat Lunéville"},{"$f":"IF(Table3[[#This Row],[Type établissement]]<>\"\",Table3[[#This Row],[Type établissement]],\"\")","v":"C"},{"$f":"IF(Table3[[#This Row],[Académie]]<>\"\",Table3[[#This Row],[Académie]],\"\")","v":"Nancy-Metz"},{"$f":"IF(Table3[[#This Row],[Parcours choisi]]<>\"\",Table3[[#This Row],[Parcours choisi]],\"\")","v":"G"},{"$f":"IF(Table3[[#This Row],[Parcours choisi]]<>\"\",(VLOOKUP(Table356[[#Headers],[Ingénierie et conception]],'Def. Prix & Parcours'!$I$6:$M$28,5,FALSE)*Table3[[#This Row],[Points Ingénierie et conception]]),\"\")","v":26},{"$f":"IF(Table3[[#This Row],[Parcours choisi]]<>\"\",(VLOOKUP(Table356[[#Headers],[Innovation mécanique]],'Def. Prix & Parcours'!$I$6:$M$28,5,FALSE)*Table3[[#This Row],[Points Innovation mécanique]]),\"\")","v":42},{"$f":"IF(Table3[[#This Row],[Parcours choisi]]<>\"\",(VLOOKUP(Table356[[#Headers],[Développement Durable]],'Def. Prix & Parcours'!$I$6:$M$28,5,FALSE)*Table3[[#This Row],[Points Développement Durable]]),\"\")","v":66},{"$f":"IF(Table3[[#This Row],[Parcours choisi]]<>\"\",(VLOOKUP(Table356[[#Headers],[Ingénierie de fabrication]],'Def. Prix & Parcours'!$I$6:$M$28,5,FALSE)*Table3[[#This Row],[Points Ingénierie de fabrication]]),\"\")","v":0},{"$f":"IF(Table3[[#This Row],[Parcours choisi]]<>\"\",(VLOOKUP(Table356[[#Headers],[Gestion de projet et collaborations]],'Def. Prix & Parcours'!$I$6:$M$28,5,FALSE)*Table3[[#This Row],[Points Gestion de projet et \ncollaborations]]),\"\")","v":65},{"$f":"IF(Table3[[#This Row],[Parcours choisi]]<>\"\",(VLOOKUP(Table356[[#Headers],[Présentation Orale]],'Def. Prix & Parcours'!$I$6:$M$28,5,FALSE)*Table3[[#This Row],[Points Présentation Orale]]),\"\")","v":52},{"$f":"IF(Table3[[#This Row],[Parcours choisi]]<>\"\",(VLOOKUP(Table356[[#Headers],[Identité Equipe]],'Def. Prix & Parcours'!$I$6:$M$28,5,FALSE)*Table3[[#This Row],[Points Identité Equipe]]),\"\")","v":64},{"$f":"IF(Table3[[#This Row],[Parcours choisi]]<>\"\",(VLOOKUP(Table356[[#Headers],[Design du Stand]],'Def. Prix & Parcours'!$I$6:$M$28,5,FALSE)*Table3[[#This Row],[Points Design du Stand]]),\"\")","v":0},{"$f":"IF(Table3[[#This Row],[Parcours choisi]]<>\"\",(VLOOKUP(Table356[[#Headers],[Portfolio]],'Def. Prix & Parcours'!$I$6:$M$28,5,FALSE)*Table3[[#This Row],[Points Portfolio]]),\"\")","v":40},{"$f":"IF(Table3[[#This Row],[Parcours choisi]]<>\"\",(VLOOKUP(Table356[[#Headers],[Marketing et Sponsoring]],'Def. Prix & Parcours'!$I$6:$M$28,5,FALSE)*Table3[[#This Row],[Points Marketing et Sponsoring]]),\"\")","v":0},{"$f":"IF(Table3[[#This Row],[Parcours choisi]]<>\"\",(VLOOKUP(Table356[[#Headers],[Budget]],'Def. Prix & Parcours'!$I$6:$M$28,5,FALSE)*Table3[[#This Row],[Points Budget]]),\"\")","v":0},{"$f":"IF(Table3[[#This Row],[Parcours choisi]]<>\"\",(VLOOKUP(Table356[[#Headers],[Design du Véhicule]],'Def. Prix & Parcours'!$I$6:$M$28,5,FALSE)*Table3[[#This Row],[Points Design du Véhicule]]),\"\")","v":22},{"$f":"IF(Table3[[#This Row],[Parcours choisi]]<>\"\",(VLOOKUP(Table356[[#Headers],[Innovation numérique]],'Def. Prix & Parcours'!$I$6:$M$28,5,FALSE)*Table3[[#This Row],[Points Innovation numérique]]),\"\")","v":255},{"$f":"IF(Table3[[#This Row],[Parcours choisi]]<>\"\",(VLOOKUP(Table356[[#Headers],[Programmation]],'Def. Prix & Parcours'!$I$6:$M$28,5,FALSE)*Table3[[#This Row],[Points Programmation]]),\"\")","v":285},{"$f":"IF(Table3[[#This Row],[Parcours choisi]]<>\"\",(VLOOKUP(Table356[[#Headers],[Respect du règlement]],'Def. Prix & Parcours'!$I$6:$M$28,5,FALSE)*Table3[[#This Row],[Points Respect du règlement]]),\"\")","v":100},{"$f":"IF(Table3[[#This Row],[Parcours choisi]]<>\"\",(VLOOKUP(Table356[[#Headers],[Communication : vidéo]],'Def. Prix & Parcours'!$I$6:$M$28,5,FALSE)*Table3[[#This Row],[Points Communication : vidéo]]),\"\")","v":0},{"$f":"IF(Table3[[#This Row],[Parcours choisi]]<>\"\",(VLOOKUP(Table356[[#Headers],[Epreuve CAO]],'Def. Prix & Parcours'!$I$6:$M$28,5,FALSE)*Table3[[#This Row],[Points Epreuve CAO]]),\"\")","v":0},{"$f":"IF(Table3[[#This Row],[Parcours choisi]]<>\"\",(VLOOKUP(Table356[[#Headers],[Temps Réaction]],'Def. Prix & Parcours'!$I$6:$M$28,5,FALSE)*Table3[[#This Row],[Points Temps Réaction]]),\"\")","v":0},{"$f":"IF(Table3[[#This Row],[Parcours choisi]]<>\"\",(VLOOKUP(Table356[[#Headers],[Temps Course]],'Def. Prix & Parcours'!$I$6:$M$28,5,FALSE)*Table3[[#This Row],[Points Temps Course]]),\"\")","v":85},{"$f":"IF(Table3[[#This Row],[Parcours choisi]]<>\"\",(VLOOKUP(Table356[[#Headers],[Epreuve arrêt au stand]],'Def. Prix & Parcours'!$I$6:$M$28,5,FALSE)*Table3[[#This Row],[Points Epreuve arrêt au stand]]),\"\")","v":0},null,{"$f":"IF(Table3[[#This Row],[Parcours choisi]]<>\"\",SUM(Table356781011[[#This Row],[Ingénierie et conception]:[1]]),\"\")","v":1102},{"$f":"IF(Table3[[#This Row],[Parcours choisi]]<>\"\",_xlfn.RANK.EQ(Table356781011[[#This Row],[Total Numérique]],Table356781011[Total Numérique],0),\"\")","v":5}]
[12,{"$f":"IF(Table3[[#This Row],[Nom équipe]]<>\"\",Table3[[#This Row],[Nom équipe]],\"\")","v":"Six divergents"},{"$f":"IF(Table3[[#This Row],[Etablissement]]<>\"\",Table3[[#This Row],[Etablissement]],\"\")","v":"Bichat Lunéville"},{"$f":"IF(Table3[[#This Row],[Type établissement]]<>\"\",Table3[[#This Row],[Type établissement]],\"\")","v":"C"},{"$f":"IF(Table3[[#This Row],[Académie]]<>\"\",Table3[[#This Row],[Académie]],\"\")","v":"Nancy-Metz"},{"$f":"IF(Table3[[#This Row],[Parcours choisi]]<>\"\",Table3[[#This Row],[Parcours choisi]],\"\")","v":"G"},{"$f":"IF(Table3[[#This Row],[Parcours choisi]]<>\"\",(VLOOKUP(Table356[[#Headers],[Ingénierie et conception]],'Def. Prix & Parcours'!$I$6:$M$28,5,FALSE)*Table3[[#This Row],[Points Ingénierie et conception]]),\"\")","v":32},{"$f":"IF(Table3[[#This Row],[Parcours choisi]]<>\"\",(VLOOKUP(Table356[[#Headers],[Innovation mécanique]],'Def. Prix & Parcours'!$I$6:$M$28,5,FALSE)*Table3[[#This Row],[Points Innovation mécanique]]),\"\")","v":48},{"$f":"IF(Table3[[#This Row],[Parcours choisi]]<>\"\",(VLOOKUP(Table356[[#Headers],[Développement Durable]],'Def. Prix & Parcours'!$I$6:$M$28,5,FALSE)*Table3[[#This Row],[Points Développement Durable]]),\"\")","v":72},{"$f":"IF(Table3[[#This Row],[Parcours choisi]]<>\"\",(VLOOKUP(Table356[[#Headers],[Ingénierie de fabrication]],'Def. Prix & Parcours'!$I$6:$M$28,5,FALSE)*Table3[[#This Row],[Points Ingénierie de fabrication]]),\"\")","v":0},{"$f":"IF(Table3[[#This Row],[Parcours choisi]]<>\"\",(VLOOKUP(Table356[[#Headers],[Gestion de projet et collaborations]],'Def. Prix & Parcours'!$I$6:$M$28,5,FALSE)*Table3[[#This Row],[Points Gestion de projet et \ncollaborations]]),\"\")","v":90},{"$f":"IF(Table3[[#This Row],[Parcours choisi]]<>\"\",(VLOOKUP(Table356[[#Headers],[Présentation Orale]],'Def. Prix & Parcours'!$I$6:$M$28,5,FALSE)*Table3[[#This Row],[Points Présentation Orale]]),\"\")","v":56},{"$f":"IF(Table3[[#This Row],[Parcours choisi]]<>\"\",(VLOOKUP(Table356[[#Headers],[Identité Equipe]],'Def. Prix & Parcours'!$I$6:$M$28,5,FALSE)*Table3[[#This Row],[Points Identité Equipe]]),\"\")","v":64},{"$f":"IF(Table3[[#This Row],[Parcours choisi]]<>\"\",(VLOOKUP(Table356[[#Headers],[Design du Stand]],'Def. Prix & Parcours'!$I$6:$M$28,5,FALSE)*Table3[[#This Row],[Points Design du Stand]]),\"\")","v":0},{"$f":"IF(Table3[[#This Row],[Parcours choisi]]<>\"\",(VLOOKUP(Table356[[#Headers],[Portfolio]],'Def. Prix & Parcours'!$I$6:$M$28,5,FALSE)*Table3[[#This Row],[Points Portfolio]]),\"\")","v":68},{"$f":"IF(Table3[[#This Row],[Parcours choisi]]<>\"\",(VLOOKUP(Table356[[#Headers],[Marketing et Sponsoring]],'Def. Prix & Parcours'!$I$6:$M$28,5,FALSE)*Table3[[#This Row],[Points Marketing et Sponsoring]]),\"\")","v":0},{"$f":"IF(Table3[[#This Row],[Parcours choisi]]<>\"\",(VLOOKUP(Table356[[#Headers],[Budget]],'Def. Prix & Parcours'!$I$6:$M$28,5,FALSE)*Table3[[#This Row],[Points Budget]]),\"\")","v":0},{"$f":"IF(Table3[[#This Row],[Parcours choisi]]<>\"\",(VLOOKUP(Table356[[#Headers],[Design du Véhicule]],'Def. Prix & Parcours'!$I$6:$M$28,5,FALSE)*Table3[[#This Row],[Points Design du Véhicule]]),\"\")","v":36},{"$f":"IF(Table3[[#This Row],[Parcours choisi]]<>\"\",(VLOOKUP(Table356[[#Headers],[Innovation numérique]],'Def. Prix & Parcours'!$I$6:$M$28,5,FALSE)*Table3[[#This Row],[Points Innovation numérique]]),\"\")","v":135},{"$f":"IF(Table3[[#This Row],[Parcours choisi]]<>\"\",(VLOOKUP(Table356[[#Headers],[Programmation]],'Def. Prix & Parcours'!$I$6:$M$28,5,FALSE)*Table3[[#This Row],[Points Programmation]]),\"\")","v":225},{"$f":"IF(Table3[[#This Row],[Parcours choisi]]<>\"\",(VLOOKUP(Table356[[#Headers],[Respect du règlement]],'Def. Prix & Parcours'!$I$6:$M$28,5,FALSE)*Table3[[#This Row],[Points Respect du règlement]]),\"\")","v":100},{"$f":"IF(Table3[[#This Row],[Parcours choisi]]<>\"\",(VLOOKUP(Table356[[#Headers],[Communication : vidéo]],'Def. Prix & Parcours'!$I$6:$M$28,5,FALSE)*Table3[[#This Row],[Points Communication : vidéo]]),\"\")","v":0},{"$f":"IF(Table3[[#This Row],[Parcours choisi]]<>\"\",(VLOOKUP(Table356[[#Headers],[Epreuve CAO]],'Def. Prix & Parcours'!$I$6:$M$28,5,FALSE)*Table3[[#This Row],[Points Epreuve CAO]]),\"\")","v":0},{"$f":"IF(Table3[[#This Row],[Parcours choisi]]<>\"\",(VLOOKUP(Table356[[#Headers],[Temps Réaction]],'Def. Prix & Parcours'!$I$6:$M$28,5,FALSE)*Table3[[#This Row],[Points Temps Réaction]]),\"\")","v":0},{"$f":"IF(Table3[[#This Row],[Parcours choisi]]<>\"\",(VLOOKUP(Table356[[#Headers],[Temps Course]],'Def. Prix & Parcours'!$I$6:$M$28,5,FALSE)*Table3[[#This Row],[Points Temps Course]]),\"\")","v":80},{"$f":"IF(Table3[[#This Row],[Parcours choisi]]<>\"\",(VLOOKUP(Table356[[#Headers],[Epreuve arrêt au stand]],'Def. Prix & Parcours'!$I$6:$M$28,5,FALSE)*Table3[[#This Row],[Points Epreuve arrêt au stand]]),\"\")","v":0},null,{"$f":"IF(Table3[[#This Row],[Parcours choisi]]<>\"\",SUM(Table356781011[[#This Row],[Ingénierie et conception]:[1]]),\"\")","v":1006},{"$f":"IF(Table3[[#This Row],[Parcours choisi]]<>\"\",_xlfn.RANK.EQ(Table356781011[[#This Row],[Total Numérique]],Table356781011[Total Numérique],0),\"\")","v":6}]
[13,{"$f":"IF(Table3[[#This Row],[Nom équipe]]<>\"\",Table3[[#This Row],[Nom équipe]],\"\")","v":"Andromeda"},{"$f":"IF(Table3[[#This Row],[Etablissement]]<>\"\",Table3[[#This Row],[Etablissement]],\"\")","v":"Duvivier Einville"},{"$f":"IF(Table3[[#This Row],[Type établissement]]<>\"\",Table3[[#This Row],[Type établissement]],\"\")","v":"C"},{"$f":"IF(Table3[[#This Row],[Académie]]<>\"\",Table3[[#This Row],[Académie]],\"\")","v":"Nancy-Metz"},{"$f":"IF(Table3[[#This Row],[Parcours choisi]]<>\"\",Table3[[#This Row],[Parcours choisi]],\"\")","v":"G"},{"$f":"IF(Table3[[#This Row],[Parcours choisi]]<>\"\",(VLOOKUP(Table356[[#Headers],[Ingénierie et conception]],'Def. Prix & Parcours'!$I$6:$M$28,5,FALSE)*Table3[[#This Row],[Points Ingénierie et conception]]),\"\")","v":34},{"$f":"IF(Table3[[#This Row],[Parcours choisi]]<>\"\",(VLOOKUP(Table356[[#Headers],[Innovation mécanique]],'Def. Prix & Parcours'!$I$6:$M$28,5,FALSE)*Table3[[#This Row],[Points Innovation mécanique]]),\"\")","v":45},{"$f":"IF(Table3[[#This Row],[Parcours choisi]]<>\"\",(VLOOKUP(Table356[[#Headers],[Développement Durable]],'Def. Prix & Parcours'!$I$6:$M$28,5,FALSE)*Table3[[#This Row],[Points Développement Durable]]),\"\")","v":90},{"$f":"IF(Table3[[#This Row],[Parcours choisi]]<>\"\",(VLOOKUP(Table356[[#Headers],[Ingénierie de fabrication]],'Def. Prix & Parcours'!$I$6:$M$28,5,FALSE)*Table3[[#This Row],[Points Ingénierie de fabrication]]),\"\")","v":0},{"$f":"IF(Table3[[#This Row],[Parcours choisi]]<>\"\",(VLOOKUP(Table356[[#Headers],[Gestion de projet et collaborations]],'Def. Prix & Parcours'!$I$6:$M$28,5,FALSE)*Table3[[#This Row],[Points Gestion de projet et \ncollaborations]]),\"\")","v":85},{"$f":"IF(Table3[[#This Row],[Parcours choisi]]<>\"\",(VLOOKUP(Table356[[#Headers],[Présentation Orale]],'Def. Prix & Parcours'!$I$6:$M$28,5,FALSE)*Table3[[#This Row],[Points Présentation Orale]]),\"\")","v":68},{"$f":"IF(Table3[[#This Row],[Parcours choisi]]<>\"\",(VLOOKUP(Table356[[#Headers],[Identité Equipe]],'Def. Prix & Parcours'!$I$6:$M$28,5,FALSE)*Table3[[#This Row],[Points Identité Equipe]]),\"\")","v":68},{"$f":"IF(Table3[[#This Row],[Parcours choisi]]<>\"\",(VLOOKUP(Table356[[#Headers],[Design du Stand]],'Def. Prix & Parcours'!$I$6:$M$28,5,FALSE)*Table3[[#This Row],[Points Design du Stand]]),\"\")","v":0},{"$f":"IF(Table3[[#This Row],[Parcours choisi]]<>\"\",(VLOOKUP(Table356[[#Headers],[Portfolio]],'Def. Prix & Parcours'!$I$6:$M$28,5,FALSE)*Table3[[#This Row],[Points Portfolio]]),\"\")","v":72},{"$f":"IF(Table3[[#This Row],[Parcours choisi]]<>\"\",(VLOOKUP(Table356[[#Headers],[Marketing et Sponsoring]],'Def. Prix & Parcours'!$I$6:$M$28,5,FALSE)*Table3[[#This Row],[Points Marketing et Sponsoring]]),\"\")","v":0},{"$f":"IF(Table3[[#This Row],[Parcours choisi]]<>\"\",(VLOOKUP(Table356[[#Headers],[Budget]],'Def. Prix & Parcours'!$I$6:$M$28,5,FALSE)*Table3[[#This Row],[Points Budget]]),\"\")","v":0},{"$f":"IF(Table3[[#This Row],[Parcours choisi]]<>\"\",(VLOOKUP(Table356[[#Headers],[Design du Véhicule]],'Def. Prix & Parcours'!$I$6:$M$28,5,FALSE)*Table3[[#This Row],[Points Design du Véhicule]]),\"\")","v":26},{"$f":"IF(Table3[[#This Row],[Parcours choisi]]<>\"\",(VLOOKUP(Table356[[#Headers],[Innovation numérique]],'Def. Prix & Parcours'!$I$6:$M$28,5,FALSE)*Table3[[#This Row],[Points Innovation numérique]]),\"\")","v":270},{"$f":"IF(Table3[[#This Row],[Parcours choisi]]<>\"\",(VLOOKUP(Table356[[#Headers],[Programmation]],'Def. Prix & Parcours'!$I$6:$M$28,5,FALSE)*Table3[[#This Row],[Points Programmation]]),\"\")","v":225},{"$f":"IF(Table3[[#This Row],[Parcours choisi]]<>\"\",(VLOOKUP(Table356[[#Headers],[Respect du règlement]],'Def. Prix & Parcours'!$I$6:$M$28,5,FALSE)*Table3[[#This Row],[Points Respect du règlement]]),\"\")","v":100},{"$f":"IF(Table3[[#This Row],[Parcours choisi]]<>\"\",(VLOOKUP(Table356[[#Headers],[Communication : vidéo]],'Def. Prix & Parcours'!$I$6:$M$28,5,FALSE)*Table3[[#This Row],[Points Communication : vidéo]]),\"\")","v":0},{"$f":"IF(Table3[[#This Row],[Parcours choisi]]<>\"\",(VLOOKUP(Table356[[#Headers],[Epreuve CAO]],'Def. Prix & Parcours'!$I$6:$M$28,5,FALSE)*Table3[[#This Row],[Points Epreuve CAO]]),\"\")","v":0},{"$f":"IF(Table3[[#This Row],[Parcours choisi]]<>\"\",(VLOOKUP(Table356[[#Headers],[Temps Réaction]],'Def. Prix & Parcours'!$I$6:$M$28,5,FALSE)*Table3[[#This Row],[Points Temps Réaction]]),\"\")","v":0},{"$f":"IF(Table3[[#This Row],[Parcours choisi]]<>\"\",(VLOOKUP(Table356[[#Headers],[Temps Course]],'Def. Prix & Parcours'!$I$6:$M$28,5,FALSE)*Table3[[#This Row],[Points Temps Course]]),\"\")","v":50},{"$f":"IF(Table3[[#This Row],[Parcours choisi]]<>\"\",(VLOOKUP(Table356[[#Headers],[Epreuve arrêt au stand]],'Def. Prix & Parcours'!$I$6:$M$28,5,FALSE)*Table3[[#This Row],[Points Epreuve arrêt au stand]]),\"\")","v":0},null,{"$f":"IF(Table3[[#This Row],[Parcours choisi]]<>\"\",SUM(Table356781011[[#This Row],[Ingénierie et conception]:[1]]),\"\")","v":1133},{"$f":"IF(Table3[[#This Row],[Parcours choisi]]<>\"\",_xlfn.RANK.EQ(Table356781011[[#This Row],[Total Numérique]],Table356781011[Total Numérique],0),\"\")","v":3}]
[14,{"$f":"IF(Table3[[#This Row],[Nom équipe]]<>\"\",Table3[[#This Row],[Nom équipe]],\"\")","v":"Fifties"},{"$f":"IF(Table3[[#This Row],[Etablissement]]<>\"\",Table3[[#This Row],[Etablissement]],\"\")","v":"Duvivier Einville"},{"$f":"IF(Table3[[#This Row],[Type établissement]]<>\"\",Table3[[#This Row],[Type établissement]],\"\")","v":"C"},{"$f":"IF(Table3[[#This Row],[Académie]]<>\"\",Table3[[#This Row],[Académie]],\"\")","v":"Nancy-Metz"},{"$f":"IF(Table3[[#This Row],[Parcours choisi]]<>\"\",Table3[[#This Row],[Parcours choisi]],\"\")","v":"G"},{"$f":"IF(Table3[[#This Row],[Parcours choisi]]<>\"\",(VLOOKUP(Table356[[#Headers],[Ingénierie et conception]],'Def. Prix & Parcours'!$I$6:$M$28,5,FALSE)*Table3[[#This Row],[Points Ingénierie et conception]]),\"\")","v":32},{"$f":"IF(Table3[[#This Row],[Parcours choisi]]<>\"\",(VLOOKUP(Table356[[#Headers],[Innovation mécanique]],'Def. Prix & Parcours'!$I$6:$M$28,5,FALSE)*Table3[[#This Row],[Points Innovation mécanique]]),\"\")","v":48},{"$f":"IF(Table3[[#This Row],[Parcours choisi]]<>\"\",(VLOOKUP(Table356[[#Headers],[Développement Durable]],'Def. Prix & Parcours'!$I$6:$M$28,5,FALSE)*Table3[[#This Row],[Points Développement Durable]]),\"\")","v":78},{"$f":"IF(Table3[[#This Row],[Parcours choisi]]<>\"\",(VLOOKUP(Table356[[#Headers],[Ingénierie de fabrication]],'Def. Prix & Parcours'!$I$6:$M$28,5,FALSE)*Table3[[#This Row],[Points Ingénierie de fabrication]]),\"\")","v":0},{"$f":"IF(Table3[[#This Row],[Parcours choisi]]<>\"\",(VLOOKUP(Table356[[#Headers],[Gestion de projet et collaborations]],'Def. Prix & Parcours'!$I$6:$M$28,5,FALSE)*Table3[[#This Row],[Points Gestion de projet et \ncollaborations]]),\"\")","v":90},{"$f":"IF(Table3[[#This Row],[Parcours choisi]]<>\"\",(VLOOKUP(Table356[[#Headers],[Présentation Orale]],'Def. Prix & Parcours'!$I$6:$M$28,5,FALSE)*Table3[[#This Row],[Points Présentation Orale]]),\"\")","v":64},{"$f":"IF(Table3[[#This Row],[Parcours choisi]]<>\"\",(VLOOKUP(Table356[[#Headers],[Identité Equipe]],'Def. Prix & Parcours'!$I$6:$M$28,5,FALSE)*Table3[[#This Row],[Points Identité Equipe]]),\"\")","v":80},{"$f":"IF(Table3[[#This Row],[Parcours choisi]]<>\"\",(VLOOKUP(Table356[[#Headers],[Design du Stand]],'Def. Prix & Parcours'!$I$6:$M$28,5,FALSE)*Table3[[#This Row],[Points Design du Stand]]),\"\")","v":0},{"$f":"IF(Table3[[#This Row],[Parcours choisi]]<>\"\",(VLOOKUP(Table356[[#Headers],[Portfolio]],'Def. Prix & Parcours'!$I$6:$M$28,5,FALSE)*Table3[[#This Row],[Points Portfolio]]),\"\")","v":80},{"$f":"IF(Table3[[#This Row],[Parcours choisi]]<>\"\",(VLOOKUP(Table356[[#Headers],[Marketing et Sponsoring]],'Def. Prix & Parcours'!$I$6:$M$28,5,FALSE)*Table3[[#This Row],[Points Marketing et Sponsoring]]),\"\")","v":0},{"$f":"IF(Table3[[#This Row],[Parcours choisi]]<>\"\",(VLOOKUP(Table356[[#Headers],[Budget]],'Def. Prix & Parcours'!$I$6:$M$28,5,FALSE)*Table3[[#This Row],[Points Budget]]),\"\")","v":0},{"$f":"IF(Table3[[#This Row],[Parcours choisi]]<>\"\",(VLOOKUP(Table356[[#Headers],[Design du Véhicule]],'Def. Prix & Parcours'!$I$6:$M$28,5,FALSE)*Table3[[#This Row],[Points Design du Véhicule]]),\"\")","v":38},{"$f":"IF(Table3[[#This Row],[Parcours choisi]]<>\"\",(VLOOKUP(Table356[[#Headers],[Innovation numérique]],'Def. Prix & Parcours'!$I$6:$M$28,5,FALSE)*Table3[[#This Row],[Points Innovation numérique]]),\"\")","v":225},{"$f":"IF(Table3[[#This Row],[Parcours choisi]]<>\"\",(VLOOKUP(Table356[[#Headers],[Programmation]],'Def. Prix & Parcours'!$I$6:$M$28,5,FALSE)*Table3[[#This Row],[Points Programmation]]),\"\")","v":285},{"$f":"IF(Table3[[#This Row],[Parcours choisi]]<>\"\",(VLOOKUP(Table356[[#Headers],[Respect du règlement]],'Def. Prix & Parcours'!$I$6:$M$28,5,FALSE)*Table3[[#This Row],[Points Respect du règlement]]),\"\")","v":100},{"$f":"IF(Table3[[#This Row],[Parcours choisi]]<>\"\",(VLOOKUP(Table356[[#Headers],[Communication : vidéo]],'Def. Prix & Parcours'!$I$6:$M$28,5,FALSE)*Table3[[#This Row],[Points Communication : vidéo]]),\"\")","v":0},{"$f":"IF(Table3[[#This Row],[Parcours choisi]]<>\"\",(VLOOKUP(Table356[[#Headers],[Epreuve CAO]],'Def. Prix & Parcours'!$I$6:$M$28,5,FALSE)*Table3[[#This Row],[Points Epreuve CAO]]),\"\")","v":0},{"$f":"IF(Table3[[#This Row],[Parcours choisi]]<>\"\",(VLOOKUP(Table356[[#Headers],[Temps Réaction]],'Def. Prix & Parcours'!$I$6:$M$28,5,FALSE)*Table3[[#This Row],[Points Temps Réaction]]),\"\")","v":0},{"$f":"IF(Table3[[#This Row],[Parcours choisi]]<>\"\",(VLOOKUP(Table356[[#Headers],[Temps Course]],'Def. Prix & Parcours'!$I$6:$M$28,5,FALSE)*Table3[[#This Row],[Points Temps Course]]),\"\")","v":45},{"$f":"IF(Table3[[#This Row],[Parcours choisi]]<>\"\",(VLOOKUP(Table356[[#Headers],[Epreuve arrêt au stand]],'Def. Prix & Parcours'!$I$6:$M$28,5,FALSE)*Table3[[#This Row],[Points Epreuve arrêt au stand]]),\"\")","v":0},null,{"$f":"IF(Table3[[#This Row],[Parcours choisi]]<>\"\",SUM(Table356781011[[#This Row],[Ingénierie et conception]:[1]]),\"\")","v":1165},{"$f":"IF(Table3[[#This Row],[Parcours choisi]]<>\"\",_xlfn.RANK.EQ(Table356781011[[#This Row],[Total Numérique]],Table356781011[Total Numérique],0),\"\")","v":2}]
[15,{"$f":"IF(Table3[[#This Row],[Nom équipe]]<>\"\",Table3[[#This Row],[Nom équipe]],\"\")","v":"SharkAttack"},{"$f":"IF(Table3[[#This Row],[Etablissement]]<>\"\",Table3[[#This Row],[Etablissement]],\"\")","v":"Vogt Commercy"},{"$f":"IF(Table3[[#This Row],[Type établissement]]<>\"\",Table3[[#This Row],[Type établissement]],\"\")","v":"L"},{"$f":"IF(Table3[[#This Row],[Académie]]<>\"\",Table3[[#This Row],[Académie]],\"\")","v":"Nancy-Metz"},{"$f":"IF(Table3[[#This Row],[Parcours choisi]]<>\"\",Table3[[#This Row],[Parcours choisi]],\"\")","v":"G"},{"$f":"IF(Table3[[#This Row],[Parcours choisi]]<>\"\",(VLOOKUP(Table356[[#Headers],[Ingénierie et conception]],'Def. Prix & Parcours'!$I$6:$M$28,5,FALSE)*Table3[[#This Row],[Points Ingénierie et conception]]),\"\")","v":34},{"$f":"IF(Table3[[#This Row],[Parcours choisi]]<>\"\",(VLOOKUP(Table356[[#Headers],[Innovation mécanique]],'Def. Prix & Parcours'!$I$6:$M$28,5,FALSE)*Table3[[#This Row],[Points Innovation mécanique]]),\"\")","v":42},{"$f":"IF(Table3[[#This Row],[Parcours choisi]]<>\"\",(VLOOKUP(Table356[[#Headers],[Développement Durable]],'Def. Prix & Parcours'!$I$6:$M$28,5,FALSE)*Table3[[#This Row],[Points Développement Durable]]),\"\")","v":42},{"$f":"IF(Table3[[#This Row],[Parcours choisi]]<>\"\",(VLOOKUP(Table356[[#Headers],[Ingénierie de fabrication]],'Def. Prix & Parcours'!$I$6:$M$28,5,FALSE)*Table3[[#This Row],[Points Ingénierie de fabrication]]),\"\")","v":0},{"$f":"IF(Table3[[#This Row],[Parcours choisi]]<>\"\",(VLOOKUP(Table356[[#Headers],[Gestion de projet et collaborations]],'Def. Prix & Parcours'!$I$6:$M$28,5,FALSE)*Table3[[#This Row],[Points Gestion de projet et \ncollaborations]]),\"\")","v":75},{"$f":"IF(Table3[[#This Row],[Parcours choisi]]<>\"\",(VLOOKUP(Table356[[#Headers],[Présentation Orale]],'Def. Prix & Parcours'!$I$6:$M$28,5,FALSE)*Table3[[#This Row],[Points Présentation Orale]]),\"\")","v":52},{"$f":"IF(Table3[[#This Row],[Parcours choisi]]<>\"\",(VLOOKUP(Table356[[#Headers],[Identité Equipe]],'Def. Prix & Parcours'!$I$6:$M$28,5,FALSE)*Table3[[#This Row],[Points Identité Equipe]]),\"\")","v":52},{"$f":"IF(Table3[[#This Row],[Parcours choisi]]<>\"\",(VLOOKUP(Table356[[#Headers],[Design du Stand]],'Def. Prix & Parcours'!$I$6:$M$28,5,FALSE)*Table3[[#This Row],[Points Design du Stand]]),\"\")","v":0},{"$f":"IF(Table3[[#This Row],[Parcours choisi]]<>\"\",(VLOOKUP(Table356[[#Headers],[Portfolio]],'Def. Prix & Parcours'!$I$6:$M$28,5,FALSE)*Table3[[#This Row],[Points Portfolio]]),\"\")","v":48},{"$f":"IF(Table3[[#This Row],[Parcours choisi]]<>\"\",(VLOOKUP(Table356[[#Headers],[Marketing et Sponsoring]],'Def. Prix & Parcours'!$I$6:$M$28,5,FALSE)*Table3[[#This Row],[Points Marketing et Sponsoring]]),\"\")","v":0},{"$f":"IF(Table3[[#This Row],[Parcours choisi]]<>\"\",(VLOOKUP(Table356[[#Headers],[Budget]],'Def. Prix & Parcours'!$I$6:$M$28,5,FALSE)*Table3[[#This Row],[Points Budget]]),\"\")","v":0},{"$f":"IF(Table3[[#This Row],[Parcours choisi]]<>\"\",(VLOOKUP(Table356[[#Headers],[Design du Véhicule]],'Def. Prix & Parcours'!$I$6:$M$28,5,FALSE)*Table3[[#This Row],[Points Design du Véhicule]]),\"\")","v":26},{"$f":"IF(Table3[[#This Row],[Parcours choisi]]<>\"\",(VLOOKUP(Table356[[#Headers],[Innovation numérique]],'Def. Prix & Parcours'!$I$6:$M$28,5,FALSE)*Table3[[#This Row],[Points Innovation numérique]]),\"\")","v":120},{"$f":"IF(Table3[[#This Row],[Parcours choisi]]<>\"\",(VLOOKUP(Table356[[#Headers],[Programmation]],'Def. Prix & Parcours'!$I$6:$M$28,5,FALSE)*Table3[[#This Row],[Points Programmation]]),\"\")","v":255},{"$f":"IF(Table3[[#This Row],[Parcours choisi]]<>\"\",(VLOOKUP(Table356[[#Headers],[Respect du règlement]],'Def. Prix & Parcours'!$I$6:$M$28,5,FALSE)*Table3[[#This Row],[Points Respect du règlement]]),\"\")","v":95},{"$f":"IF(Table3[[#This Row],[Parcours choisi]]<>\"\",(VLOOKUP(Table356[[#Headers],[Communication : vidéo]],'Def. Prix & Parcours'!$I$6:$M$28,5,FALSE)*Table3[[#This Row],[Points Communication : vidéo]]),\"\")","v":0},{"$f":"IF(Table3[[#This Row],[Parcours choisi]]<>\"\",(VLOOKUP(Table356[[#Headers],[Epreuve CAO]],'Def. Prix & Parcours'!$I$6:$M$28,5,FALSE)*Table3[[#This Row],[Points Epreuve CAO]]),\"\")","v":0},{"$f":"IF(Table3[[#This Row],[Parcours choisi]]<>\"\",(VLOOKUP(Table356[[#Headers],[Temps Réaction]],'Def. Prix & Parcours'!$I$6:$M$28,5,FALSE)*Table3[[#This Row],[Points Temps Réaction]]),\"\")","v":0},{"$f":"IF(Table3[[#This Row],[Parcours choisi]]<>\"\",(VLOOKUP(Table356[[#Headers],[Temps Course]],'Def. Prix & Parcours'!$I$6:$M$28,5,FALSE)*Table3[[#This Row],[Points Temps Course]]),\"\")","v":75},{"$f":"IF(Table3[[#This Row],[Parcours choisi]]<>\"\",(VLOOKUP(Table356[[#Headers],[Epreuve arrêt au stand]],'Def. Prix & Parcours'!$I$6:$M$28,5,FALSE)*Table3[[#This Row],[Points Epreuve arrêt au stand]]),\"\")","v":0},null,{"$f":"IF(Table3[[#This Row],[Parcours choisi]]<>\"\",SUM(Table356781011[[#This Row],[Ingénierie et conception]:[1]]),\"\")","v":916},{"$f":"IF(Table3[[#This Row],[Parcours choisi]]<>\"\",_xlfn.RANK.EQ(Table356781011[[#This Row],[Total Numérique]],Table356781011[Total Numérique],0),\"\")","v":8}]
[16,{"$f":"IF(Table3[[#This Row],[Nom équipe]]<>\"\",Table3[[#This Row],[Nom équipe]],\"\")","v":"Green Tiger"},{"$f":"IF(Table3[[#This Row],[Etablissement]]<>\"\",Table3[[#This Row],[Etablissement]],\"\")","v":"Hauts de Blémont Metz"},{"$f":"IF(Table3[[#This Row],[Type établissement]]<>\"\",Table3[[#This Row],[Type établissement]],\"\")","v":"C"},{"$f":"IF(Table3[[#This Row],[Académie]]<>\"\",Table3[[#This Row],[Académie]],\"\")","v":"Nancy-Metz"},{"$f":"IF(Table3[[#This Row],[Parcours choisi]]<>\"\",Table3[[#This Row],[Parcours choisi]],\"\")","v":"G"},{"$f":"IF(Table3[[#This Row],[Parcours choisi]]<>\"\",(VLOOKUP(Table356[[#Headers],[Ingénierie et conception]],'Def. Prix & Parcours'!$I$6:$M$28,5,FALSE)*Table3[[#This Row],[Points Ingénierie et conception]]),\"\")","v":22},{"$f":"IF(Table3[[#This Row],[Parcours choisi]]<>\"\",(VLOOKUP(Table356[[#Headers],[Innovation mécanique]],'Def. Prix & Parcours'!$I$6:$M$28,5,FALSE)*Table3[[#This Row],[Points Innovation mécanique]]),\"\")","v":39},{"$f":"IF(Table3[[#This Row],[Parcours choisi]]<>\"\",(VLOOKUP(Table356[[#Headers],[Développement Durable]],'Def. Prix & Parcours'!$I$6:$M$28,5,FALSE)*Table3[[#This Row],[Points Développement Durable]]),\"\")","v":120},{"$f":"IF(Table3[[#This Row],[Parcours choisi]]<>\"\",(VLOOKUP(Table356[[#Headers],[Ingénierie de fabrication]],'Def. Prix & Parcours'!$I$6:$M$28,5,FALSE)*Table3[[#This Row],[Points Ingénierie de fabrication]]),\"\")","v":0},{"$f":"IF(Table3[[#This Row],[Parcours choisi]]<>\"\",(VLOOKUP(Table356[[#Headers],[Gestion de projet et collaborations]],'Def. Prix & Parcours'!$I$6:$M$28,5,FALSE)*Table3[[#This Row],[Points Gestion de projet et \ncollaborations]]),\"\")","v":85},{"$f":"IF(Table3[[#This Row],[Parcours choisi]]<>\"\",(VLOOKUP(Table356[[#Headers],[Présentation Orale]],'Def. Prix & Parcours'!$I$6:$M$28,5,FALSE)*Table3[[#This Row],[Points Présentation Orale]]),\"\")","v":40},{"$f":"IF(Table3[[#This Row],[Parcours choisi]]<>\"\",(VLOOKUP(Table356[[#Headers],[Identité Equipe]],'Def. Prix & Parcours'!$I$6:$M$28,5,FALSE)*Table3[[#This Row],[Points Identité Equipe]]),\"\")","v":48},{"$f":"IF(Table3[[#This Row],[Parcours choisi]]<>\"\",(VLOOKUP(Table356[[#Headers],[Design du Stand]],'Def. Prix & Parcours'!$I$6:$M$28,5,FALSE)*Table3[[#This Row],[Points Design du Stand]]),\"\")","v":0},{"$f":"IF(Table3[[#This Row],[Parcours choisi]]<>\"\",(VLOOKUP(Table356[[#Headers],[Portfolio]],'Def. Prix & Parcours'!$I$6:$M$28,5,FALSE)*Table3[[#This Row],[Points Portfolio]]),\"\")","v":48},{"$f":"IF(Table3[[#This Row],[Parcours choisi]]<>\"\",(VLOOKUP(Table356[[#Headers],[Marketing et Sponsoring]],'Def. Prix & Parcours'!$I$6:$M$28,5,FALSE)*Table3[[#This Row],[Points Marketing et Sponsoring]]),\"\")","v":0},{"$f":"IF(Table3[[#This Row],[Parcours choisi]]<>\"\",(VLOOKUP(Table356[[#Headers],[Budget]],'Def. Prix & Parcours'!$I$6:$M$28,5,FALSE)*Table3[[#This Row],[Points Budget]]),\"\")","v":0},{"$f":"IF(Table3[[#This Row],[Parcours choisi]]<>\"\",(VLOOKUP(Table356[[#Headers],[Design du Véhicule]],'Def. Prix & Parcours'!$I$6:$M$28,5,FALSE)*Table3[[#This Row],[Points Design du Véhicule]]),\"\")","v":24},{"$f":"IF(Table3[[#This Row],[Parcours choisi]]<>\"\",(VLOOKUP(Table356[[#Headers],[Innovation numérique]],'Def. Prix & Parcours'!$I$6:$M$28,5,FALSE)*Table3[[#This Row],[Points Innovation numérique]]),\"\")","v":0},{"$f":"IF(Table3[[#This Row],[Parcours choisi]]<>\"\",(VLOOKUP(Table356[[#Headers],[Programmation]],'Def. Prix & Parcours'!$I$6:$M$28,5,FALSE)*Table3[[#This Row],[Points Programmation]]),\"\")","v":0},{"$f":"IF(Table3[[#This Row],[Parcours choisi]]<>\"\",(VLOOKUP(Table356[[#Headers],[Respect du règlement]],'Def. Prix & Parcours'!$I$6:$M$28,5,FALSE)*Table3[[#This Row],[Points Respect du règlement]]),\"\")","v":90},{"$f":"IF(Table3[[#This Row],[Parcours choisi]]<>\"\",(VLOOKUP(Table356[[#Headers],[Communication : vidéo]],'Def. Prix & Parcours'!$I$6:$M$28,5,FALSE)*Table3[[#This Row],[Points Communication : vidéo]]),\"\")","v":0},{"$f":"IF(Table3[[#This Row],[Parcours choisi]]<>\"\",(VLOOKUP(Table356[[#Headers],[Epreuve CAO]],'Def. Prix & Parcours'!$I$6:$M$28,5,FALSE)*Table3[[#This Row],[Points Epreuve CAO]]),\"\")","v":0},{"$f":"IF(Table3[[#This Row],[Parcours choisi]]<>\"\",(VLOOKUP(Table356[[#Headers],[Temps Réaction]],'Def. Prix & Parcours'!$I$6:$M$28,5,FALSE)*Table3[[#This Row],[Points Temps Réaction]]),\"\")","v":0},{"$f":"IF(Table3[[#This Row],[Parcours choisi]]<>\"\",(VLOOKUP(Table356[[#Headers],[Temps Course]],'Def. Prix & Parcours'!$I$6:$M$28,5,FALSE)*Table3[[#This Row],[Points Temps Course]]),\"\")","v":95},{"$f":"IF(Table3[[#This Row],[Parcours choisi]]<>\"\",(VLOOKUP(Table356[[#Headers],[Epreuve arrêt au stand]],'Def. Prix & Parcours'!$I$6:$M$28,5,FALSE)*Table3[[#This Row],[Points Epreuve arrêt au stand]]),\"\")","v":0},null,{"$f":"IF(Table3[[#This Row],[Parcours choisi]]<>\"\",SUM(Table356781011[[#This Row],[Ingénierie et conception]:[1]]),\"\")","v":611},{"$f":"IF(Table3[[#This Row],[Parcours choisi]]<>\"\",_xlfn.RANK.EQ(Table356781011[[#This Row],[Total Numérique]],Table356781011[Total Numérique],0),\"\")","v":16}]
[17,{"$f":"IF(Table3[[#This Row],[Nom équipe]]<>\"\",Table3[[#This Row],[Nom équipe]],\"\")","v":"Grey"},{"$f":"IF(Table3[[#This Row],[Etablissement]]<>\"\",Table3[[#This Row],[Etablissement]],\"\")","v":"Hauts de Blémont Metz"},{"$f":"IF(Table3[[#This Row],[Type établissement]]<>\"\",Table3[[#This Row],[Type établissement]],\"\")","v":"C"},{"$f":"IF(Table3[[#This Row],[Académie]]<>\"\",Table3[[#This Row],[Académie]],\"\")","v":"Nancy-Metz"},{"$f":"IF(Table3[[#This Row],[Parcours choisi]]<>\"\",Table3[[#This Row],[Parcours choisi]],\"\")","v":"G"},{"$f":"IF(Table3[[#This Row],[Parcours choisi]]<>\"\",(VLOOKUP(Table356[[#Headers],[Ingénierie et conception]],'Def. Prix & Parcours'!$I$6:$M$28,5,FALSE)*Table3[[#This Row],[Points Ingénierie et conception]]),\"\")","v":20},{"$f":"IF(Table3[[#This Row],[Parcours choisi]]<>\"\",(VLOOKUP(Table356[[#Headers],[Innovation mécanique]],'Def. Prix & Parcours'!$I$6:$M$28,5,FALSE)*Table3[[#This Row],[Points Innovation mécanique]]),\"\")","v":24},{"$f":"IF(Table3[[#This Row],[Parcours choisi]]<>\"\",(VLOOKUP(Table356[[#Headers],[Développement Durable]],'Def. Prix & Parcours'!$I$6:$M$28,5,FALSE)*Table3[[#This Row],[Points Développement Durable]]),\"\")","v":66},{"$f":"IF(Table3[[#This Row],[Parcours choisi]]<>\"\",(VLOOKUP(Table356[[#Headers],[Ingénierie de fabrication]],'Def. Prix & Parcours'!$I$6:$M$28,5,FALSE)*Table3[[#This Row],[Points Ingénierie de fabrication]]),\"\")","v":0},{"$f":"IF(Table3[[#This Row],[Parcours choisi]]<>\"\",(VLOOKUP(Table356[[#Headers],[Gestion de projet et collaborations]],'Def. Prix & Parcours'!$I$6:$M$28,5,FALSE)*Table3[[#This Row],[Points Gestion de projet et \ncollaborations]]),\"\")","v":75},{"$f":"IF(Table3[[#This Row],[Parcours choisi]]<>\"\",(VLOOKUP(Table356[[#Headers],[Présentation Orale]],'Def. Prix & Parcours'!$I$6:$M$28,5,FALSE)*Table3[[#This Row],[Points Présentation Orale]]),\"\")","v":44},{"$f":"IF(Table3[[#This Row],[Parcours choisi]]<>\"\",(VLOOKUP(Table356[[#Headers],[Identité Equipe]],'Def. Prix & Parcours'!$I$6:$M$28,5,FALSE)*Table3[[#This Row],[Points Identité Equipe]]),\"\")","v":64},{"$f":"IF(Table3[[#This Row],[Parcours choisi]]<>\"\",(VLOOKUP(Table356[[#Headers],[Design du Stand]],'Def. Prix & Parcours'!$I$6:$M$28,5,FALSE)*Table3[[#This Row],[Points Design du Stand]]),\"\")","v":0},{"$f":"IF(Table3[[#This Row],[Parcours choisi]]<>\"\",(VLOOKUP(Table356[[#Headers],[Portfolio]],'Def. Prix & Parcours'!$I$6:$M$28,5,FALSE)*Table3[[#This Row],[Points Portfolio]]),\"\")","v":52},{"$f":"IF(Table3[[#This Row],[Parcours choisi]]<>\"\",(VLOOKUP(Table356[[#Headers],[Marketing et Sponsoring]],'Def. Prix & Parcours'!$I$6:$M$28,5,FALSE)*Table3[[#This Row],[Points Marketing et Sponsoring]]),\"\")","v":0},{"$f":"IF(Table3[[#This Row],[Parcours choisi]]<>\"\",(VLOOKUP(Table356[[#Headers],[Budget]],'Def. Prix & Parcours'!$I$6:$M$28,5,FALSE)*Table3[[#This Row],[Points Budget]]),\"\")","v":0},{"$f":"IF(Table3[[#This Row],[Parcours choisi]]<>\"\",(VLOOKUP(Table356[[#Headers],[Design du Véhicule]],'Def. Prix & Parcours'!$I$6:$M$28,5,FALSE)*Table3[[#This Row],[Points Design du Véhicule]]),\"\")","v":26},{"$f":"IF(Table3[[#This Row],[Parcours choisi]]<>\"\",(VLOOKUP(Table356[[#Headers],[Innovation numérique]],'Def. Prix & Parcours'!$I$6:$M$28,5,FALSE)*Table3[[#This Row],[Points Innovation numérique]]),\"\")","v":0},{"$f":"IF(Table3[[#This Row],[Parcours choisi]]<>\"\",(VLOOKUP(Table356[[#Headers],[Programmation]],'Def. Prix & Parcours'!$I$6:$M$28,5,FALSE)*Table3[[#This Row],[Points Programmation]]),\"\")","v":0},{"$f":"IF(Table3[[#This Row],[Parcours choisi]]<>\"\",(VLOOKUP(Table356[[#Headers],[Respect du règlement]],'Def. Prix & Parcours'!$I$6:$M$28,5,FALSE)*Table3[[#This Row],[Points Respect du règlement]]),\"\")","v":80},{"$f":"IF(Table3[[#This Row],[Parcours choisi]]<>\"\",(VLOOKUP(Table356[[#Headers],[Communication : vidéo]],'Def. Prix & Parcours'!$I$6:$M$28,5,FALSE)*Table3[[#This Row],[Points Communication : vidéo]]),\"\")","v":0},{"$f":"IF(Table3[[#This Row],[Parcours choisi]]<>\"\",(VLOOKUP(Table356[[#Headers],[Epreuve CAO]],'Def. Prix & Parcours'!$I$6:$M$28,5,FALSE)*Table3[[#This Row],[Points Epreuve CAO]]),\"\")","v":0},{"$f":"IF(Table3[[#This Row],[Parcours choisi]]<>\"\",(VLOOKUP(Table356[[#Headers],[Temps Réaction]],'Def. Prix & Parcours'!$I$6:$M$28,5,FALSE)*Table3[[#This Row],[Points Temps Réaction]]),\"\")","v":0},{"$f":"IF(Table3[[#This Row],[Parcours choisi]]<>\"\",(VLOOKUP(Table356[[#Headers],[Temps Course]],'Def. Prix & Parcours'!$I$6:$M$28,5,FALSE)*Table3[[#This Row],[Points Temps Course]]),\"\")","v":65},{"$f":"IF(Table3[[#This Row],[Parcours choisi]]<>\"\",(VLOOKUP(Table356[[#Headers],[Epreuve arrêt au stand]],'Def. Prix & Parcours'!$I$6:$M$28,5,FALSE)*Table3[[#This Row],[Points Epreuve arrêt au stand]]),\"\")","v":0},null,{"$f":"IF(Table3[[#This Row],[Parcours choisi]]<>\"\",SUM(Table356781011[[#This Row],[Ingénierie et conception]:[1]]),\"\")","v":516},{"$f":"IF(Table3[[#This Row],[Parcours choisi]]<>\"\",_xlfn.RANK.EQ(Table356781011[[#This Row],[Total Numérique]],Table356781011[Total Numérique],0),\"\")","v":23}]
[18,{"$f":"IF(Table3[[#This Row],[Nom équipe]]<>\"\",Table3[[#This Row],[Nom équipe]],\"\")","v":"Danger"},{"$f":"IF(Table3[[#This Row],[Etablissement]]<>\"\",Table3[[#This Row],[Etablissement]],\"\")","v":"Hauts de Blémont Metz"},{"$f":"IF(Table3[[#This Row],[Type établissement]]<>\"\",Table3[[#This Row],[Type établissement]],\"\")","v":"C"},{"$f":"IF(Table3[[#This Row],[Académie]]<>\"\",Table3[[#This Row],[Académie]],\"\")","v":"Nancy-Metz"},{"$f":"IF(Table3[[#This Row],[Parcours choisi]]<>\"\",Table3[[#This Row],[Parcours choisi]],\"\")","v":"G"},{"$f":"IF(Table3[[#This Row],[Parcours choisi]]<>\"\",(VLOOKUP(Table356[[#Headers],[Ingénierie et conception]],'Def. Prix & Parcours'!$I$6:$M$28,5,FALSE)*Table3[[#This Row],[Points Ingénierie et conception]]),\"\")","v":18},{"$f":"IF(Table3[[#This Row],[Parcours choisi]]<>\"\",(VLOOKUP(Table356[[#Headers],[Innovation mécanique]],'Def. Prix & Parcours'!$I$6:$M$28,5,FALSE)*Table3[[#This Row],[Points Innovation mécanique]]),\"\")","v":27},{"$f":"IF(Table3[[#This Row],[Parcours choisi]]<>\"\",(VLOOKUP(Table356[[#Headers],[Développement Durable]],'Def. Prix & Parcours'!$I$6:$M$28,5,FALSE)*Table3[[#This Row],[Points Développement Durable]]),\"\")","v":84},{"$f":"IF(Table3[[#This Row],[Parcours choisi]]<>\"\",(VLOOKUP(Table356[[#Headers],[Ingénierie de fabrication]],'Def. Prix & Parcours'!$I$6:$M$28,5,FALSE)*Table3[[#This Row],[Points Ingénierie de fabrication]]),\"\")","v":0},{"$f":"IF(Table3[[#This Row],[Parcours choisi]]<>\"\",(VLOOKUP(Table356[[#Headers],[Gestion de projet et collaborations]],'Def. Prix & Parcours'!$I$6:$M$28,5,FALSE)*Table3[[#This Row],[Points Gestion de projet et \ncollaborations]]),\"\")","v":35},{"$f":"IF(Table3[[#This Row],[Parcours choisi]]<>\"\",(VLOOKUP(Table356[[#Headers],[Présentation Orale]],'Def. Prix & Parcours'!$I$6:$M$28,5,FALSE)*Table3[[#This Row],[Points Présentation Orale]]),\"\")","v":56},{"$f":"IF(Table3[[#This Row],[Parcours choisi]]<>\"\",(VLOOKUP(Table356[[#Headers],[Identité Equipe]],'Def. Prix & Parcours'!$I$6:$M$28,5,FALSE)*Table3[[#This Row],[Points Identité Equipe]]),\"\")","v":68},{"$f":"IF(Table3[[#This Row],[Parcours choisi]]<>\"\",(VLOOKUP(Table356[[#Headers],[Design du Stand]],'Def. Prix & Parcours'!$I$6:$M$28,5,FALSE)*Table3[[#This Row],[Points Design du Stand]]),\"\")","v":0},{"$f":"IF(Table3[[#This Row],[Parcours choisi]]<>\"\",(VLOOKUP(Table356[[#Headers],[Portfolio]],'Def. Prix & Parcours'!$I$6:$M$28,5,FALSE)*Table3[[#This Row],[Points Portfolio]]),\"\")","v":56},{"$f":"IF(Table3[[#This Row],[Parcours choisi]]<>\"\",(VLOOKUP(Table356[[#Headers],[Marketing et Sponsoring]],'Def. Prix & Parcours'!$I$6:$M$28,5,FALSE)*Table3[[#This Row],[Points Marketing et Sponsoring]]),\"\")","v":0},{"$f":"IF(Table3[[#This Row],[Parcours choisi]]<>\"\",(VLOOKUP(Table356[[#Headers],[Budget]],'Def. Prix & Parcours'!$I$6:$M$28,5,FALSE)*Table3[[#This Row],[Points Budget]]),\"\")","v":0},{"$f":"IF(Table3[[#This Row],[Parcours choisi]]<>\"\",(VLOOKUP(Table356[[#Headers],[Design du Véhicule]],'Def. Prix & Parcours'!$I$6:$M$28,5,FALSE)*Table3[[#This Row],[Points Design du Véhicule]]),\"\")","v":28},{"$f":"IF(Table3[[#This Row],[Parcours choisi]]<>\"\",(VLOOKUP(Table356[[#Headers],[Innovation numérique]],'Def. Prix & Parcours'!$I$6:$M$28,5,FALSE)*Table3[[#This Row],[Points Innovation numérique]]),\"\")","v":105},{"$f":"IF(Table3[[#This Row],[Parcours choisi]]<>\"\",(VLOOKUP(Table356[[#Headers],[Programmation]],'Def. Prix & Parcours'!$I$6:$M$28,5,FALSE)*Table3[[#This Row],[Points Programmation]]),\"\")","v":60},{"$f":"IF(Table3[[#This Row],[Parcours choisi]]<>\"\",(VLOOKUP(Table356[[#Headers],[Respect du règlement]],'Def. Prix & Parcours'!$I$6:$M$28,5,FALSE)*Table3[[#This Row],[Points Respect du règlement]]),\"\")","v":80},{"$f":"IF(Table3[[#This Row],[Parcours choisi]]<>\"\",(VLOOKUP(Table356[[#Headers],[Communication : vidéo]],'Def. Prix & Parcours'!$I$6:$M$28,5,FALSE)*Table3[[#This Row],[Points Communication : vidéo]]),\"\")","v":0},{"$f":"IF(Table3[[#This Row],[Parcours choisi]]<>\"\",(VLOOKUP(Table356[[#Headers],[Epreuve CAO]],'Def. Prix & Parcours'!$I$6:$M$28,5,FALSE)*Table3[[#This Row],[Points Epreuve CAO]]),\"\")","v":0},{"$f":"IF(Table3[[#This Row],[Parcours choisi]]<>\"\",(VLOOKUP(Table356[[#Headers],[Temps Réaction]],'Def. Prix & Parcours'!$I$6:$M$28,5,FALSE)*Table3[[#This Row],[Points Temps Réaction]]),\"\")","v":0},{"$f":"IF(Table3[[#This Row],[Parcours choisi]]<>\"\",(VLOOKUP(Table356[[#Headers],[Temps Course]],'Def. Prix & Parcours'!$I$6:$M$28,5,FALSE)*Table3[[#This Row],[Points Temps Course]]),\"\")","v":40},{"$f":"IF(Table3[[#This Row],[Parcours choisi]]<>\"\",(VLOOKUP(Table356[[#Headers],[Epreuve arrêt au stand]],'Def. Prix & Parcours'!$I$6:$M$28,5,FALSE)*Table3[[#This Row],[Points Epreuve arrêt au stand]]),\"\")","v":0},null,{"$f":"IF(Table3[[#This Row],[Parcours choisi]]<>\"\",SUM(Table356781011[[#This Row],[Ingénierie et conception]:[1]]),\"\")","v":657},{"$f":"IF(Table3[[#This Row],[Parcours choisi]]<>\"\",_xlfn.RANK.EQ(Table356781011[[#This Row],[Total Numérique]],Table356781011[Total Numérique],0),\"\")","v":15}]
[19,{"$f":"IF(Table3[[#This Row],[Nom équipe]]<>\"\",Table3[[#This Row],[Nom équipe]],\"\")","v":"Scott"},{"$f":"IF(Table3[[#This Row],[Etablissement]]<>\"\",Table3[[#This Row],[Etablissement]],\"\")","v":"Hauts de Blémont Metz"},{"$f":"IF(Table3[[#This Row],[Type établissement]]<>\"\",Table3[[#This Row],[Type établissement]],\"\")","v":"C"},{"$f":"IF(Table3[[#This Row],[Académie]]<>\"\",Table3[[#This Row],[Académie]],\"\")","v":"Nancy-Metz"},{"$f":"IF(Table3[[#This Row],[Parcours choisi]]<>\"\",Table3[[#This Row],[Parcours choisi]],\"\")","v":"G"},{"$f":"IF(Table3[[#This Row],[Parcours choisi]]<>\"\",(VLOOKUP(Table356[[#Headers],[Ingénierie et conception]],'Def. Prix & Parcours'!$I$6:$M$28,5,FALSE)*Table3[[#This Row],[Points Ingénierie et conception]]),\"\")","v":22},{"$f":"IF(Table3[[#This Row],[Parcours choisi]]<>\"\",(VLOOKUP(Table356[[#Headers],[Innovation mécanique]],'Def. Prix & Parcours'!$I$6:$M$28,5,FALSE)*Table3[[#This Row],[Points Innovation mécanique]]),\"\")","v":42},{"$f":"IF(Table3[[#This Row],[Parcours choisi]]<>\"\",(VLOOKUP(Table356[[#Headers],[Développement Durable]],'Def. Prix & Parcours'!$I$6:$M$28,5,FALSE)*Table3[[#This Row],[Points Développement Durable]]),\"\")","v":66},{"$f":"IF(Table3[[#This Row],[Parcours choisi]]<>\"\",(VLOOKUP(Table356[[#Headers],[Ingénierie de fabrication]],'Def. Prix & Parcours'!$I$6:$M$28,5,FALSE)*Table3[[#This Row],[Points Ingénierie de fabrication]]),\"\")","v":0},{"$f":"IF(Table3[[#This Row],[Parcours choisi]]<>\"\",(VLOOKUP(Table356[[#Headers],[Gestion de projet et collaborations]],'Def. Prix & Parcours'!$I$6:$M$28,5,FALSE)*Table3[[#This Row],[Points Gestion de projet et \ncollaborations]]),\"\")","v":75},{"$f":"IF(Table3[[#This Row],[Parcours choisi]]<>\"\",(VLOOKUP(Table356[[#Headers],[Présentation Orale]],'Def. Prix & Parcours'!$I$6:$M$28,5,FALSE)*Table3[[#This Row],[Points Présentation Orale]]),\"\")","v":36},{"$f":"IF(Table3[[#This Row],[Parcours choisi]]<>\"\",(VLOOKUP(Table356[[#Headers],[Identité Equipe]],'Def. Prix & Parcours'!$I$6:$M$28,5,FALSE)*Table3[[#This Row],[Points Identité Equipe]]),\"\")","v":72},{"$f":"IF(Table3[[#This Row],[Parcours choisi]]<>\"\",(VLOOKUP(Table356[[#Headers],[Design du Stand]],'Def. Prix & Parcours'!$I$6:$M$28,5,FALSE)*Table3[[#This Row],[Points Design du Stand]]),\"\")","v":0},{"$f":"IF(Table3[[#This Row],[Parcours choisi]]<>\"\",(VLOOKUP(Table356[[#Headers],[Portfolio]],'Def. Prix & Parcours'!$I$6:$M$28,5,FALSE)*Table3[[#This Row],[Points Portfolio]]),\"\")","v":72},{"$f":"IF(Table3[[#This Row],[Parcours choisi]]<>\"\",(VLOOKUP(Table356[[#Headers],[Marketing et Sponsoring]],'Def. Prix & Parcours'!$I$6:$M$28,5,FALSE)*Table3[[#This Row],[Points Marketing et Sponsoring]]),\"\")","v":0},{"$f":"IF(Table3[[#This Row],[Parcours choisi]]<>\"\",(VLOOKUP(Table356[[#Headers],[Budget]],'Def. Prix & Parcours'!$I$6:$M$28,5,FALSE)*Table3[[#This Row],[Points Budget]]),\"\")","v":0},{"$f":"IF(Table3[[#This Row],[Parcours choisi]]<>\"\",(VLOOKUP(Table356[[#Headers],[Design du Véhicule]],'Def. Prix & Parcours'!$I$6:$M$28,5,FALSE)*Table3[[#This Row],[Points Design du Véhicule]]),\"\")","v":36},{"$f":"IF(Table3[[#This Row],[Parcours choisi]]<>\"\",(VLOOKUP(Table356[[#Headers],[Innovation numérique]],'Def. Prix & Parcours'!$I$6:$M$28,5,FALSE)*Table3[[#This Row],[Points Innovation numérique]]),\"\")","v":0},{"$f":"IF(Table3[[#This Row],[Parcours choisi]]<>\"\",(VLOOKUP(Table356[[#Headers],[Programmation]],'Def. Prix & Parcours'!$I$6:$M$28,5,FALSE)*Table3[[#This Row],[Points Programmation]]),\"\")","v":0},{"$f":"IF(Table3[[#This Row],[Parcours choisi]]<>\"\",(VLOOKUP(Table356[[#Headers],[Respect du règlement]],'Def. Prix & Parcours'!$I$6:$M$28,5,FALSE)*Table3[[#This Row],[Points Respect du règlement]]),\"\")","v":80},{"$f":"IF(Table3[[#This Row],[Parcours choisi]]<>\"\",(VLOOKUP(Table356[[#Headers],[Communication : vidéo]],'Def. Prix & Parcours'!$I$6:$M$28,5,FALSE)*Table3[[#This Row],[Points Communication : vidéo]]),\"\")","v":0},{"$f":"IF(Table3[[#This Row],[Parcours choisi]]<>\"\",(VLOOKUP(Table356[[#Headers],[Epreuve CAO]],'Def. Prix & Parcours'!$I$6:$M$28,5,FALSE)*Table3[[#This Row],[Points Epreuve CAO]]),\"\")","v":0},{"$f":"IF(Table3[[#This Row],[Parcours choisi]]<>\"\",(VLOOKUP(Table356[[#Headers],[Temps Réaction]],'Def. Prix & Parcours'!$I$6:$M$28,5,FALSE)*Table3[[#This Row],[Points Temps Réaction]]),\"\")","v":0},{"$f":"IF(Table3[[#This Row],[Parcours choisi]]<>\"\",(VLOOKUP(Table356[[#Headers],[Temps Course]],'Def. Prix & Parcours'!$I$6:$M$28,5,FALSE)*Table3[[#This Row],[Points Temps Course]]),\"\")","v":45},{"$f":"IF(Table3[[#This Row],[Parcours choisi]]<>\"\",(VLOOKUP(Table356[[#Headers],[Epreuve arrêt au stand]],'Def. Prix & Parcours'!$I$6:$M$28,5,FALSE)*Table3[[#This Row],[Points Epreuve arrêt au stand]]),\"\")","v":0},null,{"$f":"IF(Table3[[#This Row],[Parcours choisi]]<>\"\",SUM(Table356781011[[#This Row],[Ingénierie et conception]:[1]]),\"\")","v":546},{"$f":"IF(Table3[[#This Row],[Parcours choisi]]<>\"\",_xlfn.RANK.EQ(Table356781011[[#This Row],[Total Numérique]],Table356781011[Total Numérique],0),\"\")","v":20}]
[20,{"$f":"IF(Table3[[#This Row],[Nom équipe]]<>\"\",Table3[[#This Row],[Nom équipe]],\"\")","v":"Amercan's 70"},{"$f":"IF(Table3[[#This Row],[Etablissement]]<>\"\",Table3[[#This Row],[Etablissement]],\"\")","v":"A. Dreux Folschviller"},{"$f":"IF(Table3[[#This Row],[Type établissement]]<>\"\",Table3[[#This Row],[Type établissement]],\"\")","v":"C"},{"$f":"IF(Table3[[#This Row],[Académie]]<>\"\",Table3[[#This Row],[Académie]],\"\")","v":"Nancy-Metz"},{"$f":"IF(Table3[[#This Row],[Parcours choisi]]<>\"\",Table3[[#This Row],[Parcours choisi]],\"\")","v":"G"},{"$f":"IF(Table3[[#This Row],[Parcours choisi]]<>\"\",(VLOOKUP(Table356[[#Headers],[Ingénierie et conception]],'Def. Prix & Parcours'!$I$6:$M$28,5,FALSE)*Table3[[#This Row],[Points Ingénierie et conception]]),\"\")","v":26},{"$f":"IF(Table3[[#This Row],[Parcours choisi]]<>\"\",(VLOOKUP(Table356[[#Headers],[Innovation mécanique]],'Def. Prix & Parcours'!$I$6:$M$28,5,FALSE)*Table3[[#This Row],[Points Innovation mécanique]]),\"\")","v":39},{"$f":"IF(Table3[[#This Row],[Parcours choisi]]<>\"\",(VLOOKUP(Table356[[#Headers],[Développement Durable]],'Def. Prix & Parcours'!$I$6:$M$28,5,FALSE)*Table3[[#This Row],[Points Développement Durable]]),\"\")","v":96},{"$f":"IF(Table3[[#This Row],[Parcours choisi]]<>\"\",(VLOOKUP(Table356[[#Headers],[Ingénierie de fabrication]],'Def. Prix & Parcours'!$I$6:$M$28,5,FALSE)*Table3[[#This Row],[Points Ingénierie de fabrication]]),\"\")","v":0},{"$f":"IF(Table3[[#This Row],[Parcours choisi]]<>\"\",(VLOOKUP(Table356[[#Headers],[Gestion de projet et collaborations]],'Def. Prix & Parcours'!$I$6:$M$28,5,FALSE)*Table3[[#This Row],[Points Gestion de projet et \ncollaborations]]),\"\")","v":70},{"$f":"IF(Table3[[#This Row],[Parcours choisi]]<>\"\",(VLOOKUP(Table356[[#Headers],[Présentation Orale]],'Def. Prix & Parcours'!$I$6:$M$28,5,FALSE)*Table3[[#This Row],[Points Présentation Orale]]),\"\")","v":48},{"$f":"IF(Table3[[#This Row],[Parcours choisi]]<>\"\",(VLOOKUP(Table356[[#Headers],[Identité Equipe]],'Def. Prix & Parcours'!$I$6:$M$28,5,FALSE)*Table3[[#This Row],[Points Identité Equipe]]),\"\")","v":48},{"$f":"IF(Table3[[#This Row],[Parcours choisi]]<>\"\",(VLOOKUP(Table356[[#Headers],[Design du Stand]],'Def. Prix & Parcours'!$I$6:$M$28,5,FALSE)*Table3[[#This Row],[Points Design du Stand]]),\"\")","v":0},{"$f":"IF(Table3[[#This Row],[Parcours choisi]]<>\"\",(VLOOKUP(Table356[[#Headers],[Portfolio]],'Def. Prix & Parcours'!$I$6:$M$28,5,FALSE)*Table3[[#This Row],[Points Portfolio]]),\"\")","v":40},{"$f":"IF(Table3[[#This Row],[Parcours choisi]]<>\"\",(VLOOKUP(Table356[[#Headers],[Marketing et Sponsoring]],'Def. Prix & Parcours'!$I$6:$M$28,5,FALSE)*Table3[[#This Row],[Points Marketing et Sponsoring]]),\"\")","v":0},{"$f":"IF(Table3[[#This Row],[Parcours choisi]]<>\"\",(VLOOKUP(Table356[[#Headers],[Budget]],'Def. Prix & Parcours'!$I$6:$M$28,5,FALSE)*Table3[[#This Row],[Points Budget]]),\"\")","v":0},{"$f":"IF(Table3[[#This Row],[Parcours choisi]]<>\"\",(VLOOKUP(Table356[[#Headers],[Design du Véhicule]],'Def. Prix & Parcours'!$I$6:$M$28,5,FALSE)*Table3[[#This Row],[Points Design du Véhicule]]),\"\")","v":24},{"$f":"IF(Table3[[#This Row],[Parcours choisi]]<>\"\",(VLOOKUP(Table356[[#Headers],[Innovation numérique]],'Def. Prix & Parcours'!$I$6:$M$28,5,FALSE)*Table3[[#This Row],[Points Innovation numérique]]),\"\")","v":45},{"$f":"IF(Table3[[#This Row],[Parcours choisi]]<>\"\",(VLOOKUP(Table356[[#Headers],[Programmation]],'Def. Prix & Parcours'!$I$6:$M$28,5,FALSE)*Table3[[#This Row],[Points Programmation]]),\"\")","v":0},{"$f":"IF(Table3[[#This Row],[Parcours choisi]]<>\"\",(VLOOKUP(Table356[[#Headers],[Respect du règlement]],'Def. Prix & Parcours'!$I$6:$M$28,5,FALSE)*Table3[[#This Row],[Points Respect du règlement]]),\"\")","v":70},{"$f":"IF(Table3[[#This Row],[Parcours choisi]]<>\"\",(VLOOKUP(Table356[[#Headers],[Communication : vidéo]],'Def. Prix & Parcours'!$I$6:$M$28,5,FALSE)*Table3[[#This Row],[Points Communication : vidéo]]),\"\")","v":0},{"$f":"IF(Table3[[#This Row],[Parcours choisi]]<>\"\",(VLOOKUP(Table356[[#Headers],[Epreuve CAO]],'Def. Prix & Parcours'!$I$6:$M$28,5,FALSE)*Table3[[#This Row],[Points Epreuve CAO]]),\"\")","v":0},{"$f":"IF(Table3[[#This Row],[Parcours choisi]]<>\"\",(VLOOKUP(Table356[[#Headers],[Temps Réaction]],'Def. Prix & Parcours'!$I$6:$M$28,5,FALSE)*Table3[[#This Row],[Points Temps Réaction]]),\"\")","v":0},{"$f":"IF(Table3[[#This Row],[Parcours choisi]]<>\"\",(VLOOKUP(Table356[[#Headers],[Temps Course]],'Def. Prix & Parcours'!$I$6:$M$28,5,FALSE)*Table3[[#This Row],[Points Temps Course]]),\"\")","v":40},{"$f":"IF(Table3[[#This Row],[Parcours choisi]]<>\"\",(VLOOKUP(Table356[[#Headers],[Epreuve arrêt au stand]],'Def. Prix & Parcours'!$I$6:$M$28,5,FALSE)*Table3[[#This Row],[Points Epreuve arrêt au stand]]),\"\")","v":0},null,{"$f":"IF(Table3[[#This Row],[Parcours choisi]]<>\"\",SUM(Table356781011[[#This Row],[Ingénierie et conception]:[1]]),\"\")","v":546},{"$f":"IF(Table3[[#This Row],[Parcours choisi]]<>\"\",_xlfn.RANK.EQ(Table356781011[[#This Row],[Total Numérique]],Table356781011[Total Numérique],0),\"\")","v":20}]
[21,{"$f":"IF(Table3[[#This Row],[Nom équipe]]<>\"\",Table3[[#This Row],[Nom équipe]],\"\")","v":"Les 80's"},{"$f":"IF(Table3[[#This Row],[Etablissement]]<>\"\",Table3[[#This Row],[Etablissement]],\"\")","v":"A. Dreux Folschviller"},{"$f":"IF(Table3[[#This Row],[Type établissement]]<>\"\",Table3[[#This Row],[Type établissement]],\"\")","v":"C"},{"$f":"IF(Table3[[#This Row],[Académie]]<>\"\",Table3[[#This Row],[Académie]],\"\")","v":"Nancy-Metz"},{"$f":"IF(Table3[[#This Row],[Parcours choisi]]<>\"\",Table3[[#This Row],[Parcours choisi]],\"\")","v":"G"},{"$f":"IF(Table3[[#This Row],[Parcours choisi]]<>\"\",(VLOOKUP(Table356[[#Headers],[Ingénierie et conception]],'Def. Prix & Parcours'!$I$6:$M$28,5,FALSE)*Table3[[#This Row],[Points Ingénierie et conception]]),\"\")","v":28},{"$f":"IF(Table3[[#This Row],[Parcours choisi]]<>\"\",(VLOOKUP(Table356[[#Headers],[Innovation mécanique]],'Def. Prix & Parcours'!$I$6:$M$28,5,FALSE)*Table3[[#This Row],[Points Innovation mécanique]]),\"\")","v":36},{"$f":"IF(Table3[[#This Row],[Parcours choisi]]<>\"\",(VLOOKUP(Table356[[#Headers],[Développement Durable]],'Def. Prix & Parcours'!$I$6:$M$28,5,FALSE)*Table3[[#This Row],[Points Développement Durable]]),\"\")","v":54},{"$f":"IF(Table3[[#This Row],[Parcours choisi]]<>\"\",(VLOOKUP(Table356[[#Headers],[Ingénierie de fabrication]],'Def. Prix & Parcours'!$I$6:$M$28,5,FALSE)*Table3[[#This Row],[Points Ingénierie de fabrication]]),\"\")","v":0},{"$f":"IF(Table3[[#This Row],[Parcours choisi]]<>\"\",(VLOOKUP(Table356[[#Headers],[Gestion de projet et collaborations]],'Def. Prix & Parcours'!$I$6:$M$28,5,FALSE)*Table3[[#This Row],[Points Gestion de projet et \ncollaborations]]),\"\")","v":50},{"$f":"IF(Table3[[#This Row],[Parcours choisi]]<>\"\",(VLOOKUP(Table356[[#Headers],[Présentation Orale]],'Def. Prix & Parcours'!$I$6:$M$28,5,FALSE)*Table3[[#This Row],[Points Présentation Orale]]),\"\")","v":56},{"$f":"IF(Table3[[#This Row],[Parcours choisi]]<>\"\",(VLOOKUP(Table356[[#Headers],[Identité Equipe]],'Def. Prix & Parcours'!$I$6:$M$28,5,FALSE)*Table3[[#This Row],[Points Identité Equipe]]),\"\")","v":60},{"$f":"IF(Table3[[#This Row],[Parcours choisi]]<>\"\",(VLOOKUP(Table356[[#Headers],[Design du Stand]],'Def. Prix & Parcours'!$I$6:$M$28,5,FALSE)*Table3[[#This Row],[Points Design du Stand]]),\"\")","v":0},{"$f":"IF(Table3[[#This Row],[Parcours choisi]]<>\"\",(VLOOKUP(Table356[[#Headers],[Portfolio]],'Def. Prix & Parcours'!$I$6:$M$28,5,FALSE)*Table3[[#This Row],[Points Portfolio]]),\"\")","v":56},{"$f":"IF(Table3[[#This Row],[Parcours choisi]]<>\"\",(VLOOKUP(Table356[[#Headers],[Marketing et Sponsoring]],'Def. Prix & Parcours'!$I$6:$M$28,5,FALSE)*Table3[[#This Row],[Points Marketing et Sponsoring]]),\"\")","v":0},{"$f":"IF(Table3[[#This Row],[Parcours choisi]]<>\"\",(VLOOKUP(Table356[[#Headers],[Budget]],'Def. Prix & Parcours'!$I$6:$M$28,5,FALSE)*Table3[[#This Row],[Points Budget]]),\"\")","v":0},{"$f":"IF(Table3[[#This Row],[Parcours choisi]]<>\"\",(VLOOKUP(Table356[[#Headers],[Design du Véhicule]],'Def. Prix & Parcours'!$I$6:$M$28,5,FALSE)*Table3[[#This Row],[Points Design du Véhicule]]),\"\")","v":30},{"$f":"IF(Table3[[#This Row],[Parcours choisi]]<>\"\",(VLOOKUP(Table356[[#Headers],[Innovation numérique]],'Def. Prix & Parcours'!$I$6:$M$28,5,FALSE)*Table3[[#This Row],[Points Innovation numérique]]),\"\")","v":45},{"$f":"IF(Table3[[#This Row],[Parcours choisi]]<>\"\",(VLOOKUP(Table356[[#Headers],[Programmation]],'Def. Prix & Parcours'!$I$6:$M$28,5,FALSE)*Table3[[#This Row],[Points Programmation]]),\"\")","v":45},{"$f":"IF(Table3[[#This Row],[Parcours choisi]]<>\"\",(VLOOKUP(Table356[[#Headers],[Respect du règlement]],'Def. Prix & Parcours'!$I$6:$M$28,5,FALSE)*Table3[[#This Row],[Points Respect du règlement]]),\"\")","v":75},{"$f":"IF(Table3[[#This Row],[Parcours choisi]]<>\"\",(VLOOKUP(Table356[[#Headers],[Communication : vidéo]],'Def. Prix & Parcours'!$I$6:$M$28,5,FALSE)*Table3[[#This Row],[Points Communication : vidéo]]),\"\")","v":0},{"$f":"IF(Table3[[#This Row],[Parcours choisi]]<>\"\",(VLOOKUP(Table356[[#Headers],[Epreuve CAO]],'Def. Prix & Parcours'!$I$6:$M$28,5,FALSE)*Table3[[#This Row],[Points Epreuve CAO]]),\"\")","v":0},{"$f":"IF(Table3[[#This Row],[Parcours choisi]]<>\"\",(VLOOKUP(Table356[[#Headers],[Temps Réaction]],'Def. Prix & Parcours'!$I$6:$M$28,5,FALSE)*Table3[[#This Row],[Points Temps Réaction]]),\"\")","v":0},{"$f":"IF(Table3[[#This Row],[Parcours choisi]]<>\"\",(VLOOKUP(Table356[[#Headers],[Temps Course]],'Def. Prix & Parcours'!$I$6:$M$28,5,FALSE)*Table3[[#This Row],[Points Temps Course]]),\"\")","v":40},{"$f":"IF(Table3[[#This Row],[Parcours choisi]]<>\"\",(VLOOKUP(Table356[[#Headers],[Epreuve arrêt au stand]],'Def. Prix & Parcours'!$I$6:$M$28,5,FALSE)*Table3[[#This Row],[Points Epreuve arrêt au stand]]),\"\")","v":0},null,{"$f":"IF(Table3[[#This Row],[Parcours choisi]]<>\"\",SUM(Table356781011[[#This Row],[Ingénierie et conception]:[1]]),\"\")","v":575},{"$f":"IF(Table3[[#This Row],[Parcours choisi]]<>\"\",_xlfn.RANK.EQ(Table356781011[[#This Row],[Total Numérique]],Table356781011[Total Numérique],0),\"\")","v":18}]
[22,{"$f":"IF(Table3[[#This Row],[Nom équipe]]<>\"\",Table3[[#This Row],[Nom équipe]],\"\")","v":"E-magie-nation"},{"$f":"IF(Table3[[#This Row],[Etablissement]]<>\"\",Table3[[#This Row],[Etablissement]],\"\")","v":"A. Dreux Folschviller"},{"$f":"IF(Table3[[#This Row],[Type établissement]]<>\"\",Table3[[#This Row],[Type établissement]],\"\")","v":"C"},{"$f":"IF(Table3[[#This Row],[Académie]]<>\"\",Table3[[#This Row],[Académie]],\"\")","v":"Nancy-Metz"},{"$f":"IF(Table3[[#This Row],[Parcours choisi]]<>\"\",Table3[[#This Row],[Parcours choisi]],\"\")","v":"G"},{"$f":"IF(Table3[[#This Row],[Parcours choisi]]<>\"\",(VLOOKUP(Table356[[#Headers],[Ingénierie et conception]],'Def. Prix & Parcours'!$I$6:$M$28,5,FALSE)*Table3[[#This Row],[Points Ingénierie et conception]]),\"\")","v":26},{"$f":"IF(Table3[[#This Row],[Parcours choisi]]<>\"\",(VLOOKUP(Table356[[#Headers],[Innovation mécanique]],'Def. Prix & Parcours'!$I$6:$M$28,5,FALSE)*Table3[[#This Row],[Points Innovation mécanique]]),\"\")","v":42},{"$f":"IF(Table3[[#This Row],[Parcours choisi]]<>\"\",(VLOOKUP(Table356[[#Headers],[Développement Durable]],'Def. Prix & Parcours'!$I$6:$M$28,5,FALSE)*Table3[[#This Row],[Points Développement Durable]]),\"\")","v":72},{"$f":"IF(Table3[[#This Row],[Parcours choisi]]<>\"\",(VLOOKUP(Table356[[#Headers],[Ingénierie de fabrication]],'Def. Prix & Parcours'!$I$6:$M$28,5,FALSE)*Table3[[#This Row],[Points Ingénierie de fabrication]]),\"\")","v":0},{"$f":"IF(Table3[[#This Row],[Parcours choisi]]<>\"\",(VLOOKUP(Table356[[#Headers],[Gestion de projet et collaborations]],'Def. Prix & Parcours'!$I$6:$M$28,5,FALSE)*Table3[[#This Row],[Points Gestion de projet et \ncollaborations]]),\"\")","v":70},{"$f":"IF(Table3[[#This Row],[Parcours choisi]]<>\"\",(VLOOKUP(Table356[[#Headers],[Présentation Orale]],'Def. Prix & Parcours'!$I$6:$M$28,5,FALSE)*Table3[[#This Row],[Points Présentation Orale]]),\"\")","v":52},{"$f":"IF(Table3[[#This Row],[Parcours choisi]]<>\"\",(VLOOKUP(Table356[[#Headers],[Identité Equipe]],'Def. Prix & Parcours'!$I$6:$M$28,5,FALSE)*Table3[[#This Row],[Points Identité Equipe]]),\"\")","v":56},{"$f":"IF(Table3[[#This Row],[Parcours choisi]]<>\"\",(VLOOKUP(Table356[[#Headers],[Design du Stand]],'Def. Prix & Parcours'!$I$6:$M$28,5,FALSE)*Table3[[#This Row],[Points Design du Stand]]),\"\")","v":0},{"$f":"IF(Table3[[#This Row],[Parcours choisi]]<>\"\",(VLOOKUP(Table356[[#Headers],[Portfolio]],'Def. Prix & Parcours'!$I$6:$M$28,5,FALSE)*Table3[[#This Row],[Points Portfolio]]),\"\")","v":72},{"$f":"IF(Table3[[#This Row],[Parcours choisi]]<>\"\",(VLOOKUP(Table356[[#Headers],[Marketing et Sponsoring]],'Def. Prix & Parcours'!$I$6:$M$28,5,FALSE)*Table3[[#This Row],[Points Marketing et Sponsoring]]),\"\")","v":0},{"$f":"IF(Table3[[#This Row],[Parcours choisi]]<>\"\",(VLOOKUP(Table356[[#Headers],[Budget]],'Def. Prix & Parcours'!$I$6:$M$28,5,FALSE)*Table3[[#This Row],[Points Budget]]),\"\")","v":0},{"$f":"IF(Table3[[#This Row],[Parcours choisi]]<>\"\",(VLOOKUP(Table356[[#Headers],[Design du Véhicule]],'Def. Prix & Parcours'!$I$6:$M$28,5,FALSE)*Table3[[#This Row],[Points Design du Véhicule]]),\"\")","v":30},{"$f":"IF(Table3[[#This Row],[Parcours choisi]]<>\"\",(VLOOKUP(Table356[[#Headers],[Innovation numérique]],'Def. Prix & Parcours'!$I$6:$M$28,5,FALSE)*Table3[[#This Row],[Points Innovation numérique]]),\"\")","v":255},{"$f":"IF(Table3[[#This Row],[Parcours choisi]]<>\"\",(VLOOKUP(Table356[[#Headers],[Programmation]],'Def. Prix & Parcours'!$I$6:$M$28,5,FALSE)*Table3[[#This Row],[Points Programmation]]),\"\")","v":0},{"$f":"IF(Table3[[#This Row],[Parcours choisi]]<>\"\",(VLOOKUP(Table356[[#Headers],[Respect du règlement]],'Def. Prix & Parcours'!$I$6:$M$28,5,FALSE)*Table3[[#This Row],[Points Respect du règlement]]),\"\")","v":100},{"$f":"IF(Table3[[#This Row],[Parcours choisi]]<>\"\",(VLOOKUP(Table356[[#Headers],[Communication : vidéo]],'Def. Prix & Parcours'!$I$6:$M$28,5,FALSE)*Table3[[#This Row],[Points Communication : vidéo]]),\"\")","v":0},{"$f":"IF(Table3[[#This Row],[Parcours choisi]]<>\"\",(VLOOKUP(Table356[[#Headers],[Epreuve CAO]],'Def. Prix & Parcours'!$I$6:$M$28,5,FALSE)*Table3[[#This Row],[Points Epreuve CAO]]),\"\")","v":0},{"$f":"IF(Table3[[#This Row],[Parcours choisi]]<>\"\",(VLOOKUP(Table356[[#Headers],[Temps Réaction]],'Def. Prix & Parcours'!$I$6:$M$28,5,FALSE)*Table3[[#This Row],[Points Temps Réaction]]),\"\")","v":0},{"$f":"IF(Table3[[#This Row],[Parcours choisi]]<>\"\",(VLOOKUP(Table356[[#Headers],[Temps Course]],'Def. Prix & Parcours'!$I$6:$M$28,5,FALSE)*Table3[[#This Row],[Points Temps Course]]),\"\")","v":50},{"$f":"IF(Table3[[#This Row],[Parcours choisi]]<>\"\",(VLOOKUP(Table356[[#Headers],[Epreuve arrêt au stand]],'Def. Prix & Parcours'!$I$6:$M$28,5,FALSE)*Table3[[#This Row],[Points Epreuve arrêt au stand]]),\"\")","v":0},null,{"$f":"IF(Table3[[#This Row],[Parcours choisi]]<>\"\",SUM(Table356781011[[#This Row],[Ingénierie et conception]:[1]]),\"\")","v":825},{"$f":"IF(Table3[[#This Row],[Parcours choisi]]<>\"\",_xlfn.RANK.EQ(Table356781011[[#This Row],[Total Numérique]],Table356781011[Total Numérique],0),\"\")","v":10}]
[23,{"$f":"IF(Table3[[#This Row],[Nom équipe]]<>\"\",Table3[[#This Row],[Nom équipe]],\"\")","v":"Gol'o Team"},{"$f":"IF(Table3[[#This Row],[Etablissement]]<>\"\",Table3[[#This Row],[Etablissement]],\"\")","v":"A. Dreux Folschviller"},{"$f":"IF(Table3[[#This Row],[Type établissement]]<>\"\",Table3[[#This Row],[Type établissement]],\"\")","v":"C"},{"$f":"IF(Table3[[#This Row],[Académie]]<>\"\",Table3[[#This Row],[Académie]],\"\")","v":"Nancy-Metz"},{"$f":"IF(Table3[[#This Row],[Parcours choisi]]<>\"\",Table3[[#This Row],[Parcours choisi]],\"\")","v":"G"},{"$f":"IF(Table3[[#This Row],[Parcours choisi]]<>\"\",(VLOOKUP(Table356[[#Headers],[Ingénierie et conception]],'Def. Prix & Parcours'!$I$6:$M$28,5,FALSE)*Table3[[#This Row],[Points Ingénierie et conception]]),\"\")","v":30},{"$f":"IF(Table3[[#This Row],[Parcours choisi]]<>\"\",(VLOOKUP(Table356[[#Headers],[Innovation mécanique]],'Def. Prix & Parcours'!$I$6:$M$28,5,FALSE)*Table3[[#This Row],[Points Innovation mécanique]]),\"\")","v":48},{"$f":"IF(Table3[[#This Row],[Parcours choisi]]<>\"\",(VLOOKUP(Table356[[#Headers],[Développement Durable]],'Def. Prix & Parcours'!$I$6:$M$28,5,FALSE)*Table3[[#This Row],[Points Développement Durable]]),\"\")","v":78},{"$f":"IF(Table3[[#This Row],[Parcours choisi]]<>\"\",(VLOOKUP(Table356[[#Headers],[Ingénierie de fabrication]],'Def. Prix & Parcours'!$I$6:$M$28,5,FALSE)*Table3[[#This Row],[Points Ingénierie de fabrication]]),\"\")","v":0},{"$f":"IF(Table3[[#This Row],[Parcours choisi]]<>\"\",(VLOOKUP(Table356[[#Headers],[Gestion de projet et collaborations]],'Def. Prix & Parcours'!$I$6:$M$28,5,FALSE)*Table3[[#This Row],[Points Gestion de projet et \ncollaborations]]),\"\")","v":85},{"$f":"IF(Table3[[#This Row],[Parcours choisi]]<>\"\",(VLOOKUP(Table356[[#Headers],[Présentation Orale]],'Def. Prix & Parcours'!$I$6:$M$28,5,FALSE)*Table3[[#This Row],[Points Présentation Orale]]),\"\")","v":72},{"$f":"IF(Table3[[#This Row],[Parcours choisi]]<>\"\",(VLOOKUP(Table356[[#Headers],[Identité Equipe]],'Def. Prix & Parcours'!$I$6:$M$28,5,FALSE)*Table3[[#This Row],[Points Identité Equipe]]),\"\")","v":64},{"$f":"IF(Table3[[#This Row],[Parcours choisi]]<>\"\",(VLOOKUP(Table356[[#Headers],[Design du Stand]],'Def. Prix & Parcours'!$I$6:$M$28,5,FALSE)*Table3[[#This Row],[Points Design du Stand]]),\"\")","v":0},{"$f":"IF(Table3[[#This Row],[Parcours choisi]]<>\"\",(VLOOKUP(Table356[[#Headers],[Portfolio]],'Def. Prix & Parcours'!$I$6:$M$28,5,FALSE)*Table3[[#This Row],[Points Portfolio]]),\"\")","v":44},{"$f":"IF(Table3[[#This Row],[Parcours choisi]]<>\"\",(VLOOKUP(Table356[[#Headers],[Marketing et Sponsoring]],'Def. Prix & Parcours'!$I$6:$M$28,5,FALSE)*Table3[[#This Row],[Points Marketing et Sponsoring]]),\"\")","v":0},{"$f":"IF(Table3[[#This Row],[Parcours choisi]]<>\"\",(VLOOKUP(Table356[[#Headers],[Budget]],'Def. Prix & Parcours'!$I$6:$M$28,5,FALSE)*Table3[[#This Row],[Points Budget]]),\"\")","v":0},{"$f":"IF(Table3[[#This Row],[Parcours choisi]]<>\"\",(VLOOKUP(Table356[[#Headers],[Design du Véhicule]],'Def. Prix & Parcours'!$I$6:$M$28,5,FALSE)*Table3[[#This Row],[Points Design du Véhicule]]),\"\")","v":30},{"$f":"IF(Table3[[#This Row],[Parcours choisi]]<>\"\",(VLOOKUP(Table356[[#Headers],[Innovation numérique]],'Def. Prix & Parcours'!$I$6:$M$28,5,FALSE)*Table3[[#This Row],[Points Innovation numérique]]),\"\")","v":0},{"$f":"IF(Table3[[#This Row],[Parcours choisi]]<>\"\",(VLOOKUP(Table356[[#Headers],[Programmation]],'Def. Prix & Parcours'!$I$6:$M$28,5,FALSE)*Table3[[#This Row],[Points Programmation]]),\"\")","v":0},{"$f":"IF(Table3[[#This Row],[Parcours choisi]]<>\"\",(VLOOKUP(Table356[[#Headers],[Respect du règlement]],'Def. Prix & Parcours'!$I$6:$M$28,5,FALSE)*Table3[[#This Row],[Points Respect du règlement]]),\"\")","v":75},{"$f":"IF(Table3[[#This Row],[Parcours choisi]]<>\"\",(VLOOKUP(Table356[[#Headers],[Communication : vidéo]],'Def. Prix & Parcours'!$I$6:$M$28,5,FALSE)*Table3[[#This Row],[Points Communication : vidéo]]),\"\")","v":0},{"$f":"IF(Table3[[#This Row],[Parcours choisi]]<>\"\",(VLOOKUP(Table356[[#Headers],[Epreuve CAO]],'Def. Prix & Parcours'!$I$6:$M$28,5,FALSE)*Table3[[#This Row],[Points Epreuve CAO]]),\"\")","v":0},{"$f":"IF(Table3[[#This Row],[Parcours choisi]]<>\"\",(VLOOKUP(Table356[[#Headers],[Temps Réaction]],'Def. Prix & Parcours'!$I$6:$M$28,5,FALSE)*Table3[[#This Row],[Points Temps Réaction]]),\"\")","v":0},{"$f":"IF(Table3[[#This Row],[Parcours choisi]]<>\"\",(VLOOKUP(Table356[[#Headers],[Temps Course]],'Def. Prix & Parcours'!$I$6:$M$28,5,FALSE)*Table3[[#This Row],[Points Temps Course]]),\"\")","v":40},{"$f":"IF(Table3[[#This Row],[Parcours choisi]]<>\"\",(VLOOKUP(Table356[[#Headers],[Epreuve arrêt au stand]],'Def. Prix & Parcours'!$I$6:$M$28,5,FALSE)*Table3[[#This Row],[Points Epreuve arrêt au stand]]),\"\")","v":0},null,{"$f":"IF(Table3[[#This Row],[Parcours choisi]]<>\"\",SUM(Table356781011[[#This Row],[Ingénierie et conception]:[1]]),\"\")","v":566},{"$f":"IF(Table3[[#This Row],[Parcours choisi]]<>\"\",_xlfn.RANK.EQ(Table356781011[[#This Row],[Total Numérique]],Table356781011[Total Numérique],0),\"\")","v":19}]
[24,{"$f":"IF(Table3[[#This Row],[Nom équipe]]<>\"\",Table3[[#This Row],[Nom équipe]],\"\")","v":"Serpent"},{"$f":"IF(Table3[[#This Row],[Etablissement]]<>\"\",Table3[[#This Row],[Etablissement]],\"\")","v":"A. Dreux Folschviller"},{"$f":"IF(Table3[[#This Row],[Type établissement]]<>\"\",Table3[[#This Row],[Type établissement]],\"\")","v":"C"},{"$f":"IF(Table3[[#This Row],[Académie]]<>\"\",Table3[[#This Row],[Académie]],\"\")","v":"Nancy-Metz"},{"$f":"IF(Table3[[#This Row],[Parcours choisi]]<>\"\",Table3[[#This Row],[Parcours choisi]],\"\")","v":"G"},{"$f":"IF(Table3[[#This Row],[Parcours choisi]]<>\"\",(VLOOKUP(Table356[[#Headers],[Ingénierie et conception]],'Def. Prix & Parcours'!$I$6:$M$28,5,FALSE)*Table3[[#This Row],[Points Ingénierie et conception]]),\"\")","v":16},{"$f":"IF(Table3[[#This Row],[Parcours choisi]]<>\"\",(VLOOKUP(Table356[[#Headers],[Innovation mécanique]],'Def. Prix & Parcours'!$I$6:$M$28,5,FALSE)*Table3[[#This Row],[Points Innovation mécanique]]),\"\")","v":33},{"$f":"IF(Table3[[#This Row],[Parcours choisi]]<>\"\",(VLOOKUP(Table356[[#Headers],[Développement Durable]],'Def. Prix & Parcours'!$I$6:$M$28,5,FALSE)*Table3[[#This Row],[Points Développement Durable]]),\"\")","v":48},{"$f":"IF(Table3[[#This Row],[Parcours choisi]]<>\"\",(VLOOKUP(Table356[[#Headers],[Ingénierie de fabrication]],'Def. Prix & Parcours'!$I$6:$M$28,5,FALSE)*Table3[[#This Row],[Points Ingénierie de fabrication]]),\"\")","v":0},{"$f":"IF(Table3[[#This Row],[Parcours choisi]]<>\"\",(VLOOKUP(Table356[[#Headers],[Gestion de projet et collaborations]],'Def. Prix & Parcours'!$I$6:$M$28,5,FALSE)*Table3[[#This Row],[Points Gestion de projet et \ncollaborations]]),\"\")","v":25},{"$f":"IF(Table3[[#This Row],[Parcours choisi]]<>\"\",(VLOOKUP(Table356[[#Headers],[Présentation Orale]],'Def. Prix & Parcours'!$I$6:$M$28,5,FALSE)*Table3[[#This Row],[Points Présentation Orale]]),\"\")","v":16},{"$f":"IF(Table3[[#This Row],[Parcours choisi]]<>\"\",(VLOOKUP(Table356[[#Headers],[Identité Equipe]],'Def. Prix & Parcours'!$I$6:$M$28,5,FALSE)*Table3[[#This Row],[Points Identité Equipe]]),\"\")","v":52},{"$f":"IF(Table3[[#This Row],[Parcours choisi]]<>\"\",(VLOOKUP(Table356[[#Headers],[Design du Stand]],'Def. Prix & Parcours'!$I$6:$M$28,5,FALSE)*Table3[[#This Row],[Points Design du Stand]]),\"\")","v":0},{"$f":"IF(Table3[[#This Row],[Parcours choisi]]<>\"\",(VLOOKUP(Table356[[#Headers],[Portfolio]],'Def. Prix & Parcours'!$I$6:$M$28,5,FALSE)*Table3[[#This Row],[Points Portfolio]]),\"\")","v":52},{"$f":"IF(Table3[[#This Row],[Parcours choisi]]<>\"\",(VLOOKUP(Table356[[#Headers],[Marketing et Sponsoring]],'Def. Prix & Parcours'!$I$6:$M$28,5,FALSE)*Table3[[#This Row],[Points Marketing et Sponsoring]]),\"\")","v":0},{"$f":"IF(Table3[[#This Row],[Parcours choisi]]<>\"\",(VLOOKUP(Table356[[#Headers],[Budget]],'Def. Prix & Parcours'!$I$6:$M$28,5,FALSE)*Table3[[#This Row],[Points Budget]]),\"\")","v":0},{"$f":"IF(Table3[[#This Row],[Parcours choisi]]<>\"\",(VLOOKUP(Table356[[#Headers],[Design du Véhicule]],'Def. Prix & Parcours'!$I$6:$M$28,5,FALSE)*Table3[[#This Row],[Points Design du Véhicule]]),\"\")","v":22},{"$f":"IF(Table3[[#This Row],[Parcours choisi]]<>\"\",(VLOOKUP(Table356[[#Headers],[Innovation numérique]],'Def. Prix & Parcours'!$I$6:$M$28,5,FALSE)*Table3[[#This Row],[Points Innovation numérique]]),\"\")","v":105},{"$f":"IF(Table3[[#This Row],[Parcours choisi]]<>\"\",(VLOOKUP(Table356[[#Headers],[Programmation]],'Def. Prix & Parcours'!$I$6:$M$28,5,FALSE)*Table3[[#This Row],[Points Programmation]]),\"\")","v":0},{"$f":"IF(Table3[[#This Row],[Parcours choisi]]<>\"\",(VLOOKUP(Table356[[#Headers],[Respect du règlement]],'Def. Prix & Parcours'!$I$6:$M$28,5,FALSE)*Table3[[#This Row],[Points Respect du règlement]]),\"\")","v":75},{"$f":"IF(Table3[[#This Row],[Parcours choisi]]<>\"\",(VLOOKUP(Table356[[#Headers],[Communication : vidéo]],'Def. Prix & Parcours'!$I$6:$M$28,5,FALSE)*Table3[[#This Row],[Points Communication : vidéo]]),\"\")","v":0},{"$f":"IF(Table3[[#This Row],[Parcours choisi]]<>\"\",(VLOOKUP(Table356[[#Headers],[Epreuve CAO]],'Def. Prix & Parcours'!$I$6:$M$28,5,FALSE)*Table3[[#This Row],[Points Epreuve CAO]]),\"\")","v":0},{"$f":"IF(Table3[[#This Row],[Parcours choisi]]<>\"\",(VLOOKUP(Table356[[#Headers],[Temps Réaction]],'Def. Prix & Parcours'!$I$6:$M$28,5,FALSE)*Table3[[#This Row],[Points Temps Réaction]]),\"\")","v":0},{"$f":"IF(Table3[[#This Row],[Parcours choisi]]<>\"\",(VLOOKUP(Table356[[#Headers],[Temps Course]],'Def. Prix & Parcours'!$I$6:$M$28,5,FALSE)*Table3[[#This Row],[Points Temps Course]]),\"\")","v":45},{"$f":"IF(Table3[[#This Row],[Parcours choisi]]<>\"\",(VLOOKUP(Table356[[#Headers],[Epreuve arrêt au stand]],'Def. Prix & Parcours'!$I$6:$M$28,5,FALSE)*Table3[[#This Row],[Points Epreuve arrêt au stand]]),\"\")","v":0},null,{"$f":"IF(Table3[[#This Row],[Parcours choisi]]<>\"\",SUM(Table356781011[[#This Row],[Ingénierie et conception]:[1]]),\"\")","v":489},{"$f":"IF(Table3[[#This Row],[Parcours choisi]]<>\"\",_xlfn.RANK.EQ(Table356781011[[#This Row],[Total Numérique]],Table356781011[Total Numérique],0),\"\")","v":24}]
[25,{"$f":"IF(Table3[[#This Row],[Nom équipe]]<>\"\",Table3[[#This Row],[Nom équipe]],\"\")","v":"The Peaky's"},{"$f":"IF(Table3[[#This Row],[Etablissement]]<>\"\",Table3[[#This Row],[Etablissement]],\"\")","v":"La Fontaine St Avold"},{"$f":"IF(Table3[[#This Row],[Type établissement]]<>\"\",Table3[[#This Row],[Type établissement]],\"\")","v":"C"},{"$f":"IF(Table3[[#This Row],[Académie]]<>\"\",Table3[[#This Row],[Académie]],\"\")","v":"Nancy-Metz"},{"$f":"IF(Table3[[#This Row],[Parcours choisi]]<>\"\",Table3[[#This Row],[Parcours choisi]],\"\")","v":"G"},{"$f":"IF(Table3[[#This Row],[Parcours choisi]]<>\"\",(VLOOKUP(Table356[[#Headers],[Ingénierie et conception]],'Def. Prix & Parcours'!$I$6:$M$28,5,FALSE)*Table3[[#This Row],[Points Ingénierie et conception]]),\"\")","v":40},{"$f":"IF(Table3[[#This Row],[Parcours choisi]]<>\"\",(VLOOKUP(Table356[[#Headers],[Innovation mécanique]],'Def. Prix & Parcours'!$I$6:$M$28,5,FALSE)*Table3[[#This Row],[Points Innovation mécanique]]),\"\")","v":60},{"$f":"IF(Table3[[#This Row],[Parcours choisi]]<>\"\",(VLOOKUP(Table356[[#Headers],[Développement Durable]],'Def. Prix & Parcours'!$I$6:$M$28,5,FALSE)*Table3[[#This Row],[Points Développement Durable]]),\"\")","v":96},{"$f":"IF(Table3[[#This Row],[Parcours choisi]]<>\"\",(VLOOKUP(Table356[[#Headers],[Ingénierie de fabrication]],'Def. Prix & Parcours'!$I$6:$M$28,5,FALSE)*Table3[[#This Row],[Points Ingénierie de fabrication]]),\"\")","v":0},{"$f":"IF(Table3[[#This Row],[Parcours choisi]]<>\"\",(VLOOKUP(Table356[[#Headers],[Gestion de projet et collaborations]],'Def. Prix & Parcours'!$I$6:$M$28,5,FALSE)*Table3[[#This Row],[Points Gestion de projet et \ncollaborations]]),\"\")","v":95},{"$f":"IF(Table3[[#This Row],[Parcours choisi]]<>\"\",(VLOOKUP(Table356[[#Headers],[Présentation Orale]],'Def. Prix & Parcours'!$I$6:$M$28,5,FALSE)*Table3[[#This Row],[Points Présentation Orale]]),\"\")","v":68},{"$f":"IF(Table3[[#This Row],[Parcours choisi]]<>\"\",(VLOOKUP(Table356[[#Headers],[Identité Equipe]],'Def. Prix & Parcours'!$I$6:$M$28,5,FALSE)*Table3[[#This Row],[Points Identité Equipe]]),\"\")","v":68},{"$f":"IF(Table3[[#This Row],[Parcours choisi]]<>\"\",(VLOOKUP(Table356[[#Headers],[Design du Stand]],'Def. Prix & Parcours'!$I$6:$M$28,5,FALSE)*Table3[[#This Row],[Points Design du Stand]]),\"\")","v":0},{"$f":"IF(Table3[[#This Row],[Parcours choisi]]<>\"\",(VLOOKUP(Table356[[#Headers],[Portfolio]],'Def. Prix & Parcours'!$I$6:$M$28,5,FALSE)*Table3[[#This Row],[Points Portfolio]]),\"\")","v":72},{"$f":"IF(Table3[[#This Row],[Parcours choisi]]<>\"\",(VLOOKUP(Table356[[#Headers],[Marketing et Sponsoring]],'Def. Prix & Parcours'!$I$6:$M$28,5,FALSE)*Table3[[#This Row],[Points Marketing et Sponsoring]]),\"\")","v":0},{"$f":"IF(Table3[[#This Row],[Parcours choisi]]<>\"\",(VLOOKUP(Table356[[#Headers],[Budget]],'Def. Prix & Parcours'!$I$6:$M$28,5,FALSE)*Table3[[#This Row],[Points Budget]]),\"\")","v":0},{"$f":"IF(Table3[[#This Row],[Parcours choisi]]<>\"\",(VLOOKUP(Table356[[#Headers],[Design du Véhicule]],'Def. Prix & Parcours'!$I$6:$M$28,5,FALSE)*Table3[[#This Row],[Points Design du Véhicule]]),\"\")","v":38},{"$f":"IF(Table3[[#This Row],[Parcours choisi]]<>\"\",(VLOOKUP(Table356[[#Headers],[Innovation numérique]],'Def. Prix & Parcours'!$I$6:$M$28,5,FALSE)*Table3[[#This Row],[Points Innovation numérique]]),\"\")","v":255},{"$f":"IF(Table3[[#This Row],[Parcours choisi]]<>\"\",(VLOOKUP(Table356[[#Headers],[Programmation]],'Def. Prix & Parcours'!$I$6:$M$28,5,FALSE)*Table3[[#This Row],[Points Programmation]]),\"\")","v":285},{"$f":"IF(Table3[[#This Row],[Parcours choisi]]<>\"\",(VLOOKUP(Table356[[#Headers],[Respect du règlement]],'Def. Prix & Parcours'!$I$6:$M$28,5,FALSE)*Table3[[#This Row],[Points Respect du règlement]]),\"\")","v":95},{"$f":"IF(Table3[[#This Row],[Parcours choisi]]<>\"\",(VLOOKUP(Table356[[#Headers],[Communication : vidéo]],'Def. Prix & Parcours'!$I$6:$M$28,5,FALSE)*Table3[[#This Row],[Points Communication : vidéo]]),\"\")","v":0},{"$f":"IF(Table3[[#This Row],[Parcours choisi]]<>\"\",(VLOOKUP(Table356[[#Headers],[Epreuve CAO]],'Def. Prix & Parcours'!$I$6:$M$28,5,FALSE)*Table3[[#This Row],[Points Epreuve CAO]]),\"\")","v":0},{"$f":"IF(Table3[[#This Row],[Parcours choisi]]<>\"\",(VLOOKUP(Table356[[#Headers],[Temps Réaction]],'Def. Prix & Parcours'!$I$6:$M$28,5,FALSE)*Table3[[#This Row],[Points Temps Réaction]]),\"\")","v":0},{"$f":"IF(Table3[[#This Row],[Parcours choisi]]<>\"\",(VLOOKUP(Table356[[#Headers],[Temps Course]],'Def. Prix & Parcours'!$I$6:$M$28,5,FALSE)*Table3[[#This Row],[Points Temps Course]]),\"\")","v":55},{"$f":"IF(Table3[[#This Row],[Parcours choisi]]<>\"\",(VLOOKUP(Table356[[#Headers],[Epreuve arrêt au stand]],'Def. Prix & Parcours'!$I$6:$M$28,5,FALSE)*Table3[[#This Row],[Points Epreuve arrêt au stand]]),\"\")","v":0},null,{"$f":"IF(Table3[[#This Row],[Parcours choisi]]<>\"\",SUM(Table356781011[[#This Row],[Ingénierie et conception]:[1]]),\"\")","v":1227},{"$f":"IF(Table3[[#This Row],[Parcours choisi]]<>\"\",_xlfn.RANK.EQ(Table356781011[[#This Row],[Total Numérique]],Table356781011[Total Numérique],0),\"\")","v":1}]
[26,{"$f":"IF(Table3[[#This Row],[Nom équipe]]<>\"\",Table3[[#This Row],[Nom équipe]],\"\")","v":"Cosmos"},{"$f":"IF(Table3[[#This Row],[Etablissement]]<>\"\",Table3[[#This Row],[Etablissement]],\"\")","v":"La Fontaine St Avold"},{"$f":"IF(Table3[[#This Row],[Type établissement]]<>\"\",Table3[[#This Row],[Type établissement]],\"\")","v":"C"},{"$f":"IF(Table3[[#This Row],[Académie]]<>\"\",Table3[[#This Row],[Académie]],\"\")","v":"Nancy-Metz"},{"$f":"IF(Table3[[#This Row],[Parcours choisi]]<>\"\",Table3[[#This Row],[Parcours choisi]],\"\")","v":"G"},{"$f":"IF(Table3[[#This Row],[Parcours choisi]]<>\"\",(VLOOKUP(Table356[[#Headers],[Ingénierie et conception]],'Def. Prix & Parcours'!$I$6:$M$28,5,FALSE)*Table3[[#This Row],[Points Ingénierie et conception]]),\"\")","v":30},{"$f":"IF(Table3[[#This Row],[Parcours choisi]]<>\"\",(VLOOKUP(Table356[[#Headers],[Innovation mécanique]],'Def. Prix & Parcours'!$I$6:$M$28,5,FALSE)*Table3[[#This Row],[Points Innovation mécanique]]),\"\")","v":42},{"$f":"IF(Table3[[#This Row],[Parcours choisi]]<>\"\",(VLOOKUP(Table356[[#Headers],[Développement Durable]],'Def. Prix & Parcours'!$I$6:$M$28,5,FALSE)*Table3[[#This Row],[Points Développement Durable]]),\"\")","v":42},{"$f":"IF(Table3[[#This Row],[Parcours choisi]]<>\"\",(VLOOKUP(Table356[[#Headers],[Ingénierie de fabrication]],'Def. Prix & Parcours'!$I$6:$M$28,5,FALSE)*Table3[[#This Row],[Points Ingénierie de fabrication]]),\"\")","v":0},{"$f":"IF(Table3[[#This Row],[Parcours choisi]]<>\"\",(VLOOKUP(Table356[[#Headers],[Gestion de projet et collaborations]],'Def. Prix & Parcours'!$I$6:$M$28,5,FALSE)*Table3[[#This Row],[Points Gestion de projet et \ncollaborations]]),\"\")","v":75},{"$f":"IF(Table3[[#This Row],[Parcours choisi]]<>\"\",(VLOOKUP(Table356[[#Headers],[Présentation Orale]],'Def. Prix & Parcours'!$I$6:$M$28,5,FALSE)*Table3[[#This Row],[Points Présentation Orale]]),\"\")","v":32},{"$f":"IF(Table3[[#This Row],[Parcours choisi]]<>\"\",(VLOOKUP(Table356[[#Headers],[Identité Equipe]],'Def. Prix & Parcours'!$I$6:$M$28,5,FALSE)*Table3[[#This Row],[Points Identité Equipe]]),\"\")","v":72},{"$f":"IF(Table3[[#This Row],[Parcours choisi]]<>\"\",(VLOOKUP(Table356[[#Headers],[Design du Stand]],'Def. Prix & Parcours'!$I$6:$M$28,5,FALSE)*Table3[[#This Row],[Points Design du Stand]]),\"\")","v":0},{"$f":"IF(Table3[[#This Row],[Parcours choisi]]<>\"\",(VLOOKUP(Table356[[#Headers],[Portfolio]],'Def. Prix & Parcours'!$I$6:$M$28,5,FALSE)*Table3[[#This Row],[Points Portfolio]]),\"\")","v":76},{"$f":"IF(Table3[[#This Row],[Parcours choisi]]<>\"\",(VLOOKUP(Table356[[#Headers],[Marketing et Sponsoring]],'Def. Prix & Parcours'!$I$6:$M$28,5,FALSE)*Table3[[#This Row],[Points Marketing et Sponsoring]]),\"\")","v":0},{"$f":"IF(Table3[[#This Row],[Parcours choisi]]<>\"\",(VLOOKUP(Table356[[#Headers],[Budget]],'Def. Prix & Parcours'!$I$6:$M$28,5,FALSE)*Table3[[#This Row],[Points Budget]]),\"\")","v":0},{"$f":"IF(Table3[[#This Row],[Parcours choisi]]<>\"\",(VLOOKUP(Table356[[#Headers],[Design du Véhicule]],'Def. Prix & Parcours'!$I$6:$M$28,5,FALSE)*Table3[[#This Row],[Points Design du Véhicule]]),\"\")","v":36},{"$f":"IF(Table3[[#This Row],[Parcours choisi]]<>\"\",(VLOOKUP(Table356[[#Headers],[Innovation numérique]],'Def. Prix & Parcours'!$I$6:$M$28,5,FALSE)*Table3[[#This Row],[Points Innovation numérique]]),\"\")","v":150},{"$f":"IF(Table3[[#This Row],[Parcours choisi]]<>\"\",(VLOOKUP(Table356[[#Headers],[Programmation]],'Def. Prix & Parcours'!$I$6:$M$28,5,FALSE)*Table3[[#This Row],[Points Programmation]]),\"\")","v":0},{"$f":"IF(Table3[[#This Row],[Parcours choisi]]<>\"\",(VLOOKUP(Table356[[#Headers],[Respect du règlement]],'Def. Prix & Parcours'!$I$6:$M$28,5,FALSE)*Table3[[#This Row],[Points Respect du règlement]]),\"\")","v":100},{"$f":"IF(Table3[[#This Row],[Parcours choisi]]<>\"\",(VLOOKUP(Table356[[#Headers],[Communication : vidéo]],'Def. Prix & Parcours'!$I$6:$M$28,5,FALSE)*Table3[[#This Row],[Points Communication : vidéo]]),\"\")","v":0},{"$f":"IF(Table3[[#This Row],[Parcours choisi]]<>\"\",(VLOOKUP(Table356[[#Headers],[Epreuve CAO]],'Def. Prix & Parcours'!$I$6:$M$28,5,FALSE)*Table3[[#This Row],[Points Epreuve CAO]]),\"\")","v":0},{"$f":"IF(Table3[[#This Row],[Parcours choisi]]<>\"\",(VLOOKUP(Table356[[#Headers],[Temps Réaction]],'Def. Prix & Parcours'!$I$6:$M$28,5,FALSE)*Table3[[#This Row],[Points Temps Réaction]]),\"\")","v":0},{"$f":"IF(Table3[[#This Row],[Parcours choisi]]<>\"\",(VLOOKUP(Table356[[#Headers],[Temps Course]],'Def. Prix & Parcours'!$I$6:$M$28,5,FALSE)*Table3[[#This Row],[Points Temps Course]]),\"\")","v":70},{"$f":"IF(Table3[[#This Row],[Parcours choisi]]<>\"\",(VLOOKUP(Table356[[#Headers],[Epreuve arrêt au stand]],'Def. Prix & Parcours'!$I$6:$M$28,5,FALSE)*Table3[[#This Row],[Points Epreuve arrêt au stand]]),\"\")","v":0},null,{"$f":"IF(Table3[[#This Row],[Parcours choisi]]<>\"\",SUM(Table356781011[[#This Row],[Ingénierie et conception]:[1]]),\"\")","v":725},{"$f":"IF(Table3[[#This Row],[Parcours choisi]]<>\"\",_xlfn.RANK.EQ(Table356781011[[#This Row],[Total Numérique]],Table356781011[Total Numérique],0),\"\")","v":12}]
[27,{"$f":"IF(Table3[[#This Row],[Nom équipe]]<>\"\",Table3[[#This Row],[Nom équipe]],\"\")","v":"Otaku"},{"$f":"IF(Table3[[#This Row],[Etablissement]]<>\"\",Table3[[#This Row],[Etablissement]],\"\")","v":"La Fontaine St Avold"},{"$f":"IF(Table3[[#This Row],[Type établissement]]<>\"\",Table3[[#This Row],[Type établissement]],\"\")","v":"C"},{"$f":"IF(Table3[[#This Row],[Académie]]<>\"\",Table3[[#This Row],[Académie]],\"\")","v":"Nancy-Metz"},{"$f":"IF(Table3[[#This Row],[Parcours choisi]]<>\"\",Table3[[#This Row],[Parcours choisi]],\"\")","v":"G"},{"$f":"IF(Table3[[#This Row],[Parcours choisi]]<>\"\",(VLOOKUP(Table356[[#Headers],[Ingénierie et conception]],'Def. Prix & Parcours'!$I$6:$M$28,5,FALSE)*Table3[[#This Row],[Points Ingénierie et conception]]),\"\")","v":24},{"$f":"IF(Table3[[#This Row],[Parcours choisi]]<>\"\",(VLOOKUP(Table356[[#Headers],[Innovation mécanique]],'Def. Prix & Parcours'!$I$6:$M$28,5,FALSE)*Table3[[#This Row],[Points Innovation mécanique]]),\"\")","v":42},{"$f":"IF(Table3[[#This Row],[Parcours choisi]]<>\"\",(VLOOKUP(Table356[[#Headers],[Développement Durable]],'Def. Prix & Parcours'!$I$6:$M$28,5,FALSE)*Table3[[#This Row],[Points Développement Durable]]),\"\")","v":66},{"$f":"IF(Table3[[#This Row],[Parcours choisi]]<>\"\",(VLOOKUP(Table356[[#Headers],[Ingénierie de fabrication]],'Def. Prix & Parcours'!$I$6:$M$28,5,FALSE)*Table3[[#This Row],[Points Ingénierie de fabrication]]),\"\")","v":0},{"$f":"IF(Table3[[#This Row],[Parcours choisi]]<>\"\",(VLOOKUP(Table356[[#Headers],[Gestion de projet et collaborations]],'Def. Prix & Parcours'!$I$6:$M$28,5,FALSE)*Table3[[#This Row],[Points Gestion de projet et \ncollaborations]]),\"\")","v":85},{"$f":"IF(Table3[[#This Row],[Parcours choisi]]<>\"\",(VLOOKUP(Table356[[#Headers],[Présentation Orale]],'Def. Prix & Parcours'!$I$6:$M$28,5,FALSE)*Table3[[#This Row],[Points Présentation Orale]]),\"\")","v":56},{"$f":"IF(Table3[[#This Row],[Parcours choisi]]<>\"\",(VLOOKUP(Table356[[#Headers],[Identité Equipe]],'Def. Prix & Parcours'!$I$6:$M$28,5,FALSE)*Table3[[#This Row],[Points Identité Equipe]]),\"\")","v":72},{"$f":"IF(Table3[[#This Row],[Parcours choisi]]<>\"\",(VLOOKUP(Table356[[#Headers],[Design du Stand]],'Def. Prix & Parcours'!$I$6:$M$28,5,FALSE)*Table3[[#This Row],[Points Design du Stand]]),\"\")","v":0},{"$f":"IF(Table3[[#This Row],[Parcours choisi]]<>\"\",(VLOOKUP(Table356[[#Headers],[Portfolio]],'Def. Prix & Parcours'!$I$6:$M$28,5,FALSE)*Table3[[#This Row],[Points Portfolio]]),\"\")","v":72},{"$f":"IF(Table3[[#This Row],[Parcours choisi]]<>\"\",(VLOOKUP(Table356[[#Headers],[Marketing et Sponsoring]],'Def. Prix & Parcours'!$I$6:$M$28,5,FALSE)*Table3[[#This Row],[Points Marketing et Sponsoring]]),\"\")","v":0},{"$f":"IF(Table3[[#This Row],[Parcours choisi]]<>\"\",(VLOOKUP(Table356[[#Headers],[Budget]],'Def. Prix & Parcours'!$I$6:$M$28,5,FALSE)*Table3[[#This Row],[Points Budget]]),\"\")","v":0},{"$f":"IF(Table3[[#This Row],[Parcours choisi]]<>\"\",(VLOOKUP(Table356[[#Headers],[Design du Véhicule]],'Def. Prix & Parcours'!$I$6:$M$28,5,FALSE)*Table3[[#This Row],[Points Design du Véhicule]]),\"\")","v":30},{"$f":"IF(Table3[[#This Row],[Parcours choisi]]<>\"\",(VLOOKUP(Table356[[#Headers],[Innovation numérique]],'Def. Prix & Parcours'!$I$6:$M$28,5,FALSE)*Table3[[#This Row],[Points Innovation numérique]]),\"\")","v":225},{"$f":"IF(Table3[[#This Row],[Parcours choisi]]<>\"\",(VLOOKUP(Table356[[#Headers],[Programmation]],'Def. Prix & Parcours'!$I$6:$M$28,5,FALSE)*Table3[[#This Row],[Points Programmation]]),\"\")","v":150},{"$f":"IF(Table3[[#This Row],[Parcours choisi]]<>\"\",(VLOOKUP(Table356[[#Headers],[Respect du règlement]],'Def. Prix & Parcours'!$I$6:$M$28,5,FALSE)*Table3[[#This Row],[Points Respect du règlement]]),\"\")","v":95},{"$f":"IF(Table3[[#This Row],[Parcours choisi]]<>\"\",(VLOOKUP(Table356[[#Headers],[Communication : vidéo]],'Def. Prix & Parcours'!$I$6:$M$28,5,FALSE)*Table3[[#This Row],[Points Communication : vidéo]]),\"\")","v":0},{"$f":"IF(Table3[[#This Row],[Parcours choisi]]<>\"\",(VLOOKUP(Table356[[#Headers],[Epreuve CAO]],'Def. Prix & Parcours'!$I$6:$M$28,5,FALSE)*Table3[[#This Row],[Points Epreuve CAO]]),\"\")","v":0},{"$f":"IF(Table3[[#This Row],[Parcours choisi]]<>\"\",(VLOOKUP(Table356[[#Headers],[Temps Réaction]],'Def. Prix & Parcours'!$I$6:$M$28,5,FALSE)*Table3[[#This Row],[Points Temps Réaction]]),\"\")","v":0},{"$f":"IF(Table3[[#This Row],[Parcours choisi]]<>\"\",(VLOOKUP(Table356[[#Headers],[Temps Course]],'Def. Prix & Parcours'!$I$6:$M$28,5,FALSE)*Table3[[#This Row],[Points Temps Course]]),\"\")","v":50},{"$f":"IF(Table3[[#This Row],[Parcours choisi]]<>\"\",(VLOOKUP(Table356[[#Headers],[Epreuve arrêt au stand]],'Def. Prix & Parcours'!$I$6:$M$28,5,FALSE)*Table3[[#This Row],[Points Epreuve arrêt au stand]]),\"\")","v":0},null,{"$f":"IF(Table3[[#This Row],[Parcours choisi]]<>\"\",SUM(Table356781011[[#This Row],[Ingénierie et conception]:[1]]),\"\")","v":967},{"$f":"IF(Table3[[#This Row],[Parcours choisi]]<>\"\",_xlfn.RANK.EQ(Table356781011[[#This Row],[Total Numérique]],Table356781011[Total Numérique],0),\"\")","v":7}]
[28,{"$f":"IF(Table3[[#This Row],[Nom équipe]]<>\"\",Table3[[#This Row],[Nom équipe]],\"\")","v":"Bal'eau"},{"$f":"IF(Table3[[#This Row],[Etablissement]]<>\"\",Table3[[#This Row],[Etablissement]],\"\")","v":"La Fontaine St Avold"},{"$f":"IF(Table3[[#This Row],[Type établissement]]<>\"\",Table3[[#This Row],[Type établissement]],\"\")","v":"C"},{"$f":"IF(Table3[[#This Row],[Académie]]<>\"\",Table3[[#This Row],[Académie]],\"\")","v":"Nancy-Metz"},{"$f":"IF(Table3[[#This Row],[Parcours choisi]]<>\"\",Table3[[#This Row],[Parcours choisi]],\"\")","v":"G"},{"$f":"IF(Table3[[#This Row],[Parcours choisi]]<>\"\",(VLOOKUP(Table356[[#Headers],[Ingénierie et conception]],'Def. Prix & Parcours'!$I$6:$M$28,5,FALSE)*Table3[[#This Row],[Points Ingénierie et conception]]),\"\")","v":34},{"$f":"IF(Table3[[#This Row],[Parcours choisi]]<>\"\",(VLOOKUP(Table356[[#Headers],[Innovation mécanique]],'Def. Prix & Parcours'!$I$6:$M$28,5,FALSE)*Table3[[#This Row],[Points Innovation mécanique]]),\"\")","v":45},{"$f":"IF(Table3[[#This Row],[Parcours choisi]]<>\"\",(VLOOKUP(Table356[[#Headers],[Développement Durable]],'Def. Prix & Parcours'!$I$6:$M$28,5,FALSE)*Table3[[#This Row],[Points Développement Durable]]),\"\")","v":120},{"$f":"IF(Table3[[#This Row],[Parcours choisi]]<>\"\",(VLOOKUP(Table356[[#Headers],[Ingénierie de fabrication]],'Def. Prix & Parcours'!$I$6:$M$28,5,FALSE)*Table3[[#This Row],[Points Ingénierie de fabrication]]),\"\")","v":0},{"$f":"IF(Table3[[#This Row],[Parcours choisi]]<>\"\",(VLOOKUP(Table356[[#Headers],[Gestion de projet et collaborations]],'Def. Prix & Parcours'!$I$6:$M$28,5,FALSE)*Table3[[#This Row],[Points Gestion de projet et \ncollaborations]]),\"\")","v":90},{"$f":"IF(Table3[[#This Row],[Parcours choisi]]<>\"\",(VLOOKUP(Table356[[#Headers],[Présentation Orale]],'Def. Prix & Parcours'!$I$6:$M$28,5,FALSE)*Table3[[#This Row],[Points Présentation Orale]]),\"\")","v":52},{"$f":"IF(Table3[[#This Row],[Parcours choisi]]<>\"\",(VLOOKUP(Table356[[#Headers],[Identité Equipe]],'Def. Prix & Parcours'!$I$6:$M$28,5,FALSE)*Table3[[#This Row],[Points Identité Equipe]]),\"\")","v":68},{"$f":"IF(Table3[[#This Row],[Parcours choisi]]<>\"\",(VLOOKUP(Table356[[#Headers],[Design du Stand]],'Def. Prix & Parcours'!$I$6:$M$28,5,FALSE)*Table3[[#This Row],[Points Design du Stand]]),\"\")","v":0},{"$f":"IF(Table3[[#This Row],[Parcours choisi]]<>\"\",(VLOOKUP(Table356[[#Headers],[Portfolio]],'Def. Prix & Parcours'!$I$6:$M$28,5,FALSE)*Table3[[#This Row],[Points Portfolio]]),\"\")","v":72},{"$f":"IF(Table3[[#This Row],[Parcours choisi]]<>\"\",(VLOOKUP(Table356[[#Headers],[Marketing et Sponsoring]],'Def. Prix & Parcours'!$I$6:$M$28,5,FALSE)*Table3[[#This Row],[Points Marketing et Sponsoring]]),\"\")","v":0},{"$f":"IF(Table3[[#This Row],[Parcours choisi]]<>\"\",(VLOOKUP(Table356[[#Headers],[Budget]],'Def. Prix & Parcours'!$I$6:$M$28,5,FALSE)*Table3[[#This Row],[Points Budget]]),\"\")","v":0},{"$f":"IF(Table3[[#This Row],[Parcours choisi]]<>\"\",(VLOOKUP(Table356[[#Headers],[Design du Véhicule]],'Def. Prix & Parcours'!$I$6:$M$28,5,FALSE)*Table3[[#This Row],[Points Design du Véhicule]]),\"\")","v":36},{"$f":"IF(Table3[[#This Row],[Parcours choisi]]<>\"\",(VLOOKUP(Table356[[#Headers],[Innovation numérique]],'Def. Prix & Parcours'!$I$6:$M$28,5,FALSE)*Table3[[#This Row],[Points Innovation numérique]]),\"\")","v":105},{"$f":"IF(Table3[[#This Row],[Parcours choisi]]<>\"\",(VLOOKUP(Table356[[#Headers],[Programmation]],'Def. Prix & Parcours'!$I$6:$M$28,5,FALSE)*Table3[[#This Row],[Points Programmation]]),\"\")","v":0},{"$f":"IF(Table3[[#This Row],[Parcours choisi]]<>\"\",(VLOOKUP(Table356[[#Headers],[Respect du règlement]],'Def. Prix & Parcours'!$I$6:$M$28,5,FALSE)*Table3[[#This Row],[Points Respect du règlement]]),\"\")","v":95},{"$f":"IF(Table3[[#This Row],[Parcours choisi]]<>\"\",(VLOOKUP(Table356[[#Headers],[Communication : vidéo]],'Def. Prix & Parcours'!$I$6:$M$28,5,FALSE)*Table3[[#This Row],[Points Communication : vidéo]]),\"\")","v":0},{"$f":"IF(Table3[[#This Row],[Parcours choisi]]<>\"\",(VLOOKUP(Table356[[#Headers],[Epreuve CAO]],'Def. Prix & Parcours'!$I$6:$M$28,5,FALSE)*Table3[[#This Row],[Points Epreuve CAO]]),\"\")","v":0},{"$f":"IF(Table3[[#This Row],[Parcours choisi]]<>\"\",(VLOOKUP(Table356[[#Headers],[Temps Réaction]],'Def. Prix & Parcours'!$I$6:$M$28,5,FALSE)*Table3[[#This Row],[Points Temps Réaction]]),\"\")","v":0},{"$f":"IF(Table3[[#This Row],[Parcours choisi]]<>\"\",(VLOOKUP(Table356[[#Headers],[Temps Course]],'Def. Prix & Parcours'!$I$6:$M$28,5,FALSE)*Table3[[#This Row],[Points Temps Course]]),\"\")","v":60},{"$f":"IF(Table3[[#This Row],[Parcours choisi]]<>\"\",(VLOOKUP(Table356[[#Headers],[Epreuve arrêt au stand]],'Def. Prix & Parcours'!$I$6:$M$28,5,FALSE)*Table3[[#This Row],[Points Epreuve arrêt au stand]]),\"\")","v":0},null,{"$f":"IF(Table3[[#This Row],[Parcours choisi]]<>\"\",SUM(Table356781011[[#This Row],[Ingénierie et conception]:[1]]),\"\")","v":777},{"$f":"IF(Table3[[#This Row],[Parcours choisi]]<>\"\",_xlfn.RANK.EQ(Table356781011[[#This Row],[Total Numérique]],Table356781011[Total Numérique],0),\"\")","v":11}]
[29,{"$f":"IF(Table3[[#This Row],[Nom équipe]]<>\"\",Table3[[#This Row],[Nom équipe]],\"\")","v":"Team Lambo"},{"$f":"IF(Table3[[#This Row],[Etablissement]]<>\"\",Table3[[#This Row],[Etablissement]],\"\")","v":"La Fontaine St Avold"},{"$f":"IF(Table3[[#This Row],[Type établissement]]<>\"\",Table3[[#This Row],[Type établissement]],\"\")","v":"C"},{"$f":"IF(Table3[[#This Row],[Académie]]<>\"\",Table3[[#This Row],[Académie]],\"\")","v":"Nancy-Metz"},{"$f":"IF(Table3[[#This Row],[Parcours choisi]]<>\"\",Table3[[#This Row],[Parcours choisi]],\"\")","v":"G"},{"$f":"IF(Table3[[#This Row],[Parcours choisi]]<>\"\",(VLOOKUP(Table356[[#Headers],[Ingénierie et conception]],'Def. Prix & Parcours'!$I$6:$M$28,5,FALSE)*Table3[[#This Row],[Points Ingénierie et conception]]),\"\")","v":30},{"$f":"IF(Table3[[#This Row],[Parcours choisi]]<>\"\",(VLOOKUP(Table356[[#Headers],[Innovation mécanique]],'Def. Prix & Parcours'!$I$6:$M$28,5,FALSE)*Table3[[#This Row],[Points Innovation mécanique]]),\"\")","v":39},{"$f":"IF(Table3[[#This Row],[Parcours choisi]]<>\"\",(VLOOKUP(Table356[[#Headers],[Développement Durable]],'Def. Prix & Parcours'!$I$6:$M$28,5,FALSE)*Table3[[#This Row],[Points Développement Durable]]),\"\")","v":84},{"$f":"IF(Table3[[#This Row],[Parcours choisi]]<>\"\",(VLOOKUP(Table356[[#Headers],[Ingénierie de fabrication]],'Def. Prix & Parcours'!$I$6:$M$28,5,FALSE)*Table3[[#This Row],[Points Ingénierie de fabrication]]),\"\")","v":0},{"$f":"IF(Table3[[#This Row],[Parcours choisi]]<>\"\",(VLOOKUP(Table356[[#Headers],[Gestion de projet et collaborations]],'Def. Prix & Parcours'!$I$6:$M$28,5,FALSE)*Table3[[#This Row],[Points Gestion de projet et \ncollaborations]]),\"\")","v":55},{"$f":"IF(Table3[[#This Row],[Parcours choisi]]<>\"\",(VLOOKUP(Table356[[#Headers],[Présentation Orale]],'Def. Prix & Parcours'!$I$6:$M$28,5,FALSE)*Table3[[#This Row],[Points Présentation Orale]]),\"\")","v":48},{"$f":"IF(Table3[[#This Row],[Parcours choisi]]<>\"\",(VLOOKUP(Table356[[#Headers],[Identité Equipe]],'Def. Prix & Parcours'!$I$6:$M$28,5,FALSE)*Table3[[#This Row],[Points Identité Equipe]]),\"\")","v":28},{"$f":"IF(Table3[[#This Row],[Parcours choisi]]<>\"\",(VLOOKUP(Table356[[#Headers],[Design du Stand]],'Def. Prix & Parcours'!$I$6:$M$28,5,FALSE)*Table3[[#This Row],[Points Design du Stand]]),\"\")","v":0},{"$f":"IF(Table3[[#This Row],[Parcours choisi]]<>\"\",(VLOOKUP(Table356[[#Headers],[Portfolio]],'Def. Prix & Parcours'!$I$6:$M$28,5,FALSE)*Table3[[#This Row],[Points Portfolio]]),\"\")","v":40},{"$f":"IF(Table3[[#This Row],[Parcours choisi]]<>\"\",(VLOOKUP(Table356[[#Headers],[Marketing et Sponsoring]],'Def. Prix & Parcours'!$I$6:$M$28,5,FALSE)*Table3[[#This Row],[Points Marketing et Sponsoring]]),\"\")","v":0},{"$f":"IF(Table3[[#This Row],[Parcours choisi]]<>\"\",(VLOOKUP(Table356[[#Headers],[Budget]],'Def. Prix & Parcours'!$I$6:$M$28,5,FALSE)*Table3[[#This Row],[Points Budget]]),\"\")","v":0},{"$f":"IF(Table3[[#This Row],[Parcours choisi]]<>\"\",(VLOOKUP(Table356[[#Headers],[Design du Véhicule]],'Def. Prix & Parcours'!$I$6:$M$28,5,FALSE)*Table3[[#This Row],[Points Design du Véhicule]]),\"\")","v":16},{"$f":"IF(Table3[[#This Row],[Parcours choisi]]<>\"\",(VLOOKUP(Table356[[#Headers],[Innovation numérique]],'Def. Prix & Parcours'!$I$6:$M$28,5,FALSE)*Table3[[#This Row],[Points Innovation numérique]]),\"\")","v":45},{"$f":"IF(Table3[[#This Row],[Parcours choisi]]<>\"\",(VLOOKUP(Table356[[#Headers],[Programmation]],'Def. Prix & Parcours'!$I$6:$M$28,5,FALSE)*Table3[[#This Row],[Points Programmation]]),\"\")","v":45},{"$f":"IF(Table3[[#This Row],[Parcours choisi]]<>\"\",(VLOOKUP(Table356[[#Headers],[Respect du règlement]],'Def. Prix & Parcours'!$I$6:$M$28,5,FALSE)*Table3[[#This Row],[Points Respect du règlement]]),\"\")","v":70},{"$f":"IF(Table3[[#This Row],[Parcours choisi]]<>\"\",(VLOOKUP(Table356[[#Headers],[Communication : vidéo]],'Def. Prix & Parcours'!$I$6:$M$28,5,FALSE)*Table3[[#This Row],[Points Communication : vidéo]]),\"\")","v":0},{"$f":"IF(Table3[[#This Row],[Parcours choisi]]<>\"\",(VLOOKUP(Table356[[#Headers],[Epreuve CAO]],'Def. Prix & Parcours'!$I$6:$M$28,5,FALSE)*Table3[[#This Row],[Points Epreuve CAO]]),\"\")","v":0},{"$f":"IF(Table3[[#This Row],[Parcours choisi]]<>\"\",(VLOOKUP(Table356[[#Headers],[Temps Réaction]],'Def. Prix & Parcours'!$I$6:$M$28,5,FALSE)*Table3[[#This Row],[Points Temps Réaction]]),\"\")","v":0},{"$f":"IF(Table3[[#This Row],[Parcours choisi]]<>\"\",(VLOOKUP(Table356[[#Headers],[Temps Course]],'Def. Prix & Parcours'!$I$6:$M$28,5,FALSE)*Table3[[#This Row],[Points Temps Course]]),\"\")","v":40},{"$f":"IF(Table3[[#This Row],[Parcours choisi]]<>\"\",(VLOOKUP(Table356[[#Headers],[Epreuve arrêt au stand]],'Def. Prix & Parcours'!$I$6:$M$28,5,FALSE)*Table3[[#This Row],[Points Epreuve arrêt au stand]]),\"\")","v":0},null,{"$f":"IF(Table3[[#This Row],[Parcours choisi]]<>\"\",SUM(Table356781011[[#This Row],[Ingénierie et conception]:[1]]),\"\")","v":540},{"$f":"IF(Table3[[#This Row],[Parcours choisi]]<>\"\",_xlfn.RANK.EQ(Table356781011[[#This Row],[Total Numérique]],Table356781011[Total Numérique],0),\"\")","v":22}]
[30,{"$f":"IF(Table3[[#This Row],[Nom équipe]]<>\"\",Table3[[#This Row],[Nom équipe]],\"\")","v":""},{"$f":"IF(Table3[[#This Row],[Etablissement]]<>\"\",Table3[[#This Row],[Etablissement]],\"\")","v":""},{"$f":"IF(Table3[[#This Row],[Type établissement]]<>\"\",Table3[[#This Row],[Type établissement]],\"\")","v":""},{"$f":"IF(Table3[[#This Row],[Académie]]<>\"\",Table3[[#This Row],[Académie]],\"\")","v":""},{"$f":"IF(Table3[[#This Row],[Parcours choisi]]<>\"\",Table3[[#This Row],[Parcours choisi]],\"\")","v":""},{"$f":"IF(Table3[[#This Row],[Parcours choisi]]<>\"\",(VLOOKUP(Table356[[#Headers],[Ingénierie et conception]],'Def. Prix & Parcours'!$I$6:$M$28,5,FALSE)*Table3[[#This Row],[Points Ingénierie et conception]]),\"\")","v":""},{"$f":"IF(Table3[[#This Row],[Parcours choisi]]<>\"\",(VLOOKUP(Table356[[#Headers],[Innovation mécanique]],'Def. Prix & Parcours'!$I$6:$M$28,5,FALSE)*Table3[[#This Row],[Points Innovation mécanique]]),\"\")","v":""},{"$f":"IF(Table3[[#This Row],[Parcours choisi]]<>\"\",(VLOOKUP(Table356[[#Headers],[Développement Durable]],'Def. Prix & Parcours'!$I$6:$M$28,5,FALSE)*Table3[[#This Row],[Points Développement Durable]]),\"\")","v":""},{"$f":"IF(Table3[[#This Row],[Parcours choisi]]<>\"\",(VLOOKUP(Table356[[#Headers],[Ingénierie de fabrication]],'Def. Prix & Parcours'!$I$6:$M$28,5,FALSE)*Table3[[#This Row],[Points Ingénierie de fabrication]]),\"\")","v":""},{"$f":"IF(Table3[[#This Row],[Parcours choisi]]<>\"\",(VLOOKUP(Table356[[#Headers],[Gestion de projet et collaborations]],'Def. Prix & Parcours'!$I$6:$M$28,5,FALSE)*Table3[[#This Row],[Points Gestion de projet et \ncollaborations]]),\"\")","v":""},{"$f":"IF(Table3[[#This Row],[Parcours choisi]]<>\"\",(VLOOKUP(Table356[[#Headers],[Présentation Orale]],'Def. Prix & Parcours'!$I$6:$M$28,5,FALSE)*Table3[[#This Row],[Points Présentation Orale]]),\"\")","v":""},{"$f":"IF(Table3[[#This Row],[Parcours choisi]]<>\"\",(VLOOKUP(Table356[[#Headers],[Identité Equipe]],'Def. Prix & Parcours'!$I$6:$M$28,5,FALSE)*Table3[[#This Row],[Points Identité Equipe]]),\"\")","v":""},{"$f":"IF(Table3[[#This Row],[Parcours choisi]]<>\"\",(VLOOKUP(Table356[[#Headers],[Design du Stand]],'Def. Prix & Parcours'!$I$6:$M$28,5,FALSE)*Table3[[#This Row],[Points Design du Stand]]),\"\")","v":""},{"$f":"IF(Table3[[#This Row],[Parcours choisi]]<>\"\",(VLOOKUP(Table356[[#Headers],[Portfolio]],'Def. Prix & Parcours'!$I$6:$M$28,5,FALSE)*Table3[[#This Row],[Points Portfolio]]),\"\")","v":""},{"$f":"IF(Table3[[#This Row],[Parcours choisi]]<>\"\",(VLOOKUP(Table356[[#Headers],[Marketing et Sponsoring]],'Def. Prix & Parcours'!$I$6:$M$28,5,FALSE)*Table3[[#This Row],[Points Marketing et Sponsoring]]),\"\")","v":""},{"$f":"IF(Table3[[#This Row],[Parcours choisi]]<>\"\",(VLOOKUP(Table356[[#Headers],[Budget]],'Def. Prix & Parcours'!$I$6:$M$28,5,FALSE)*Table3[[#This Row],[Points Budget]]),\"\")","v":""},{"$f":"IF(Table3[[#This Row],[Parcours choisi]]<>\"\",(VLOOKUP(Table356[[#Headers],[Design du Véhicule]],'Def. Prix & Parcours'!$I$6:$M$28,5,FALSE)*Table3[[#This Row],[Points Design du Véhicule]]),\"\")","v":""},{"$f":"IF(Table3[[#This Row],[Parcours choisi]]<>\"\",(VLOOKUP(Table356[[#Headers],[Innovation numérique]],'Def. Prix & Parcours'!$I$6:$M$28,5,FALSE)*Table3[[#This Row],[Points Innovation numérique]]),\"\")","v":""},{"$f":"IF(Table3[[#This Row],[Parcours choisi]]<>\"\",(VLOOKUP(Table356[[#Headers],[Programmation]],'Def. Prix & Parcours'!$I$6:$M$28,5,FALSE)*Table3[[#This Row],[Points Programmation]]),\"\")","v":""},{"$f":"IF(Table3[[#This Row],[Parcours choisi]]<>\"\",(VLOOKUP(Table356[[#Headers],[Respect du règlement]],'Def. Prix & Parcours'!$I$6:$M$28,5,FALSE)*Table3[[#This Row],[Points Respect du règlement]]),\"\")","v":""},{"$f":"IF(Table3[[#This Row],[Parcours choisi]]<>\"\",(VLOOKUP(Table356[[#Headers],[Communication : vidéo]],'Def. Prix & Parcours'!$I$6:$M$28,5,FALSE)*Table3[[#This Row],[Points Communication : vidéo]]),\"\")","v":""},{"$f":"IF(Table3[[#This Row],[Parcours choisi]]<>\"\",(VLOOKUP(Table356[[#Headers],[Epreuve CAO]],'Def. Prix & Parcours'!$I$6:$M$28,5,FALSE)*Table3[[#This Row],[Points Epreuve CAO]]),\"\")","v":""},{"$f":"IF(Table3[[#This Row],[Parcours choisi]]<>\"\",(VLOOKUP(Table356[[#Headers],[Temps Réaction]],'Def. Prix & Parcours'!$I$6:$M$28,5,FALSE)*Table3[[#This Row],[Points Temps Réaction]]),\"\")","v":""},{"$f":"IF(Table3[[#This Row],[Parcours choisi]]<>\"\",(VLOOKUP(Table356[[#Headers],[Temps Course]],'Def. Prix & Parcours'!$I$6:$M$28,5,FALSE)*Table3[[#This Row],[Points Temps Course]]),\"\")","v":""},{"$f":"IF(Table3[[#This Row],[Parcours choisi]]<>\"\",(VLOOKUP(Table356[[#Headers],[Epreuve arrêt au stand]],'Def. Prix & Parcours'!$I$6:$M$28,5,FALSE)*Table3[[#This Row],[Points Epreuve arrêt au stand]]),\"\")","v":""},null,{"$f":"IF(Table3[[#This Row],[Parcours choisi]]<>\"\",SUM(Table356781011[[#This Row],[Ingénierie et conception]:[1]]),\"\")","v":""},{"$f":"IF(Table3[[#This Row],[Parcours choisi]]<>\"\",_xlfn.RANK.EQ(Table356781011[[#This Row],[Total Numérique]],Table356781011[Total Numérique],0),\"\")","v":""}]

{"sheet":"Trophées","index":6,"n_rows":36,"n_cols":12,"rows_kept":36,"cut":false,"hidden":false,"merged":[[1,6,1,17]]}
[]
[null,null,null,null,null,null,"FINALE FRANCE / ACADEMIQUES COURSE EN COURS"]
[]
[null,null,null,null,"Attention: ","Ne pas modifier les célulles grises ",null,null,null,null,"elles sont calculées automatiquement"]
[]
["N° équipe","Nom équipe","établissement","Type établissement","Académie","Parcours","1","Coup de cœur du jury","CAO","Elles Bougent","KO","Design"]
[1,{"$f":"IF(Table3[[#This Row],[Nom équipe]]<>\"\",Table3[[#This Row],[Nom équipe]],\"\")","v":"Star Car"},{"$f":"IF(Table3[[#This Row],[Etablissement]]<>\"\",Table3[[#This Row],[Etablissement]],\"\")","v":"AVEC"},{"$f":"IF(Table3[[#This Row],[Type établissement]]<>\"\",Table3[[#This Row],[Type établissement]],\"\")","v":"C"},{"$f":"IF(Table3[[#This Row],[Académie]]<>\"\",Table3[[#This Row],[Académie]],\"\")","v":"Nancy-Metz"},{"$f":"IF(Table3[[#This Row],[Parcours choisi]]<>\"\",Table3[[#This Row],[Parcours choisi]],\"G\")","v":"G"},null,1,{"$f":"IF(Table3[[#This Row],[Class. Epreuve CAO]]<>\"\",Table3[[#This Row],[Class. Epreuve CAO]],\"\")","v":1}]
[2,{"$f":"IF(Table3[[#This Row],[Nom équipe]]<>\"\",Table3[[#This Row],[Nom équipe]],\"\")","v":"Les industriels"},{"$f":"IF(Table3[[#This Row],[Etablissement]]<>\"\",Table3[[#This Row],[Etablissement]],\"\")","v":"Loritz Nancy"},{"$f":"IF(Table3[[#This Row],[Type établissement]]<>\"\",Table3[[#This Row],[Type établissement]],\"\")","v":"L"},{"$f":"IF(Table3[[#This Row],[Académie]]<>\"\",Table3[[#This Row],[Académie]],\"\")","v":"Nancy-Metz"},{"$f":"IF(Table3[[#This Row],[Parcours choisi]]<>\"\",Table3[[#This Row],[Parcours choisi]],\"G\")","v":"T"},null,null,{"$f":"IF(Table3[[#This Row],[Class. Epreuve CAO]]<>\"\",Table3[[#This Row],[Class. Epreuve CAO]],\"\")","v":1}]
[3,{"$f":"IF(Table3[[#This Row],[Nom équipe]]<>\"\",Table3[[#This Row],[Nom équipe]],\"\")","v":" S1 motor sport"},{"$f":"IF(Table3[[#This Row],[Etablissement]]<>\"\",Table3[[#This Row],[Etablissement]],\"\")","v":"Lotitz Nancy"},{"$f":"IF(Table3[[#This Row],[Type établissement]]<>\"\",Table3[[#This Row],[Type établissement]],\"\")","v":"L"},{"$f":"IF(Table3[[#This Row],[Académie]]<>\"\",Table3[[#This Row],[Académie]],\"\")","v":"Nancy-Metz"},{"$f":"IF(Table3[[#This Row],[Parcours choisi]]<>\"\",Table3[[#This Row],[Parcours choisi]],\"G\")","v":"T"},null,null,{"$f":"IF(Table3[[#This Row],[Class. Epreuve CAO]]<>\"\",Table3[[#This Row],[Class. Epreuve CAO]],\"\")","v":1}]
[4,{"$f":"IF(Table3[[#This Row],[Nom équipe]]<>\"\",Table3[[#This Row],[Nom équipe]],\"\")","v":"Back to the past"},{"$f":"IF(Table3[[#This Row],[Etablissement]]<>\"\",Table3[[#This Row],[Etablissement]],\"\")","v":"Loritz Nancy"},{"$f":"IF(Table3[[#This Row],[Type établissement]]<>\"\",Table3[[#This Row],[Type établissement]],\"\")","v":"L"},{"$f":"IF(Table3[[#This Row],[Académie]]<>\"\",Table3[[#This Row],[Académie]],\"\")","v":"Nancy-Metz"},{"$f":"IF(Table3[[#This Row],[Parcours choisi]]<>\"\",Table3[[#This Row],[Parcours choisi]],\"G\")","v":"T"},null,null,{"$f":"IF(Table3[[#This Row],[Class. Epreuve CAO]]<>\"\",Table3[[#This Row],[Class. Epreuve CAO]],\"\")","v":1}]
[5,{"$f":"IF(Table3[[#This Row],[Nom équipe]]<>\"\",Table3[[#This Row],[Nom équipe]],\"\")","v":"Ionix"},{"$f":"IF(Table3[[#This Row],[Etablissement]]<>\"\",Table3[[#This Row],[Etablissement]],\"\")","v":"Loritz Nancy"},{"$f":"IF(Table3[[#This Row],[Type établissement]]<>\"\",Table3[[#This Row],[Type établissement]],\"\")","v":"L"},{"$f":"IF(Table3[[#This Row],[Académie]]<>\"\",Table3[[#This Row],[Académie]],\"\")","v":"Nancy-Metz"},{"$f":"IF(Table3[[#This Row],[Parcours choisi]]<>\"\",Table3[[#This Row],[Parcours choisi]],\"G\")","v":"T"},null,null,{"$f":"IF(Table3[[#This Row],[Class. Epreuve CAO]]<>\"\",Table3[[#This Row],[Class. Epreuve CAO]],\"\")","v":1}]
[6,{"$f":"IF(Table3[[#This Row],[Nom équipe]]<>\"\",Table3[[#This Row],[Nom équipe]],\"\")","v":"Pavisado"},{"$f":"IF(Table3[[#This Row],[Etablissement]]<>\"\",Table3[[#This Row],[Etablissement]],\"\")","v":"Loritz Nancy"},{"$f":"IF(Table3[[#This Row],[Type établissement]]<>\"\",Table3[[#This Row],[Type établissement]],\"\")","v":"L"},{"$f":"IF(Table3[[#This Row],[Académie]]<>\"\",Table3[[#This Row],[Académie]],\"\")","v":"Nancy-Metz"},{"$f":"IF(Table3[[#This Row],[Parcours choisi]]<>\"\",Table3[[#This Row],[Parcours choisi]],\"G\")","v":"T"},null,null,{"$f":"IF(Table3[[#This Row],[Class. Epreuve CAO]]<>\"\",Table3[[#This Row],[Class. Epreuve CAO]],\"\")","v":1}]
[7,{"$f":"IF(Table3[[#This Row],[Nom équipe]]<>\"\",Table3[[#This Row],[Nom équipe]],\"\")","v":"Les Toucaninos"},{"$f":"IF(Table3[[#This Row],[Etablissement]]<>\"\",Table3[[#This Row],[Etablissement]],\"\")","v":"Jean Lamour Nancy"},{"$f":"IF(Table3[[#This Row],[Type établissement]]<>\"\",Table3[[#This Row],[Type établissement]],\"\")","v":"C"},{"$f":"IF(Table3[[#This Row],[Académie]]<>\"\",Table3[[#This Row],[Académie]],\"\")","v":"Nancy-Metz"},{"$f":"IF(Table3[[#This Row],[Parcours choisi]]<>\"\",Table3[[#This Row],[Parcours choisi]],\"G\")","v":"G"},null,null,{"$f":"IF(Table3[[#This Row],[Class. Epreuve CAO]]<>\"\",Table3[[#This Row],[Class. Epreuve CAO]],\"\")","v":1},1]
[8,{"$f":"IF(Table3[[#This Row],[Nom équipe]]<>\"\",Table3[[#This Row],[Nom équipe]],\"\")","v":"Les Daltram"},{"$f":"IF(Table3[[#This Row],[Etablissement]]<>\"\",Table3[[#This Row],[Etablissement]],\"\")","v":"Jean Lamour Nancy"},{"$f":"IF(Table3[[#This Row],[Type établissement]]<>\"\",Table3[[#This Row],[Type établissement]],\"\")","v":"C"},{"$f":"IF(Table3[[#This Row],[Académie]]<>\"\",Table3[[#This Row],[Académie]],\"\")","v":"Nancy-Metz"},{"$f":"IF(Table3[[#This Row],[Parcours choisi]]<>\"\",Table3[[#This Row],[Parcours choisi]],\"G\")","v":"G"},null,null,{"$f":"IF(Table3[[#This Row],[Class. Epreuve CAO]]<>\"\",Table3[[#This Row],[Class. Epreuve CAO]],\"\")","v":1}]
[9,{"$f":"IF(Table3[[#This Row],[Nom équipe]]<>\"\",Table3[[#This Row],[Nom équipe]],\"\")","v":"Droit devant"},{"$f":"IF(Table3[[#This Row],[Etablissement]]<>\"\",Table3[[#This Row],[Etablissement]],\"\")","v":"Boutet Lunéville"},{"$f":"IF(Table3[[#This Row],[Type établissement]]<>\"\",Table3[[#This Row],[Type établissement]],\"\")","v":"L"},{"$f":"IF(Table3[[#This Row],[Académie]]<>\"\",Table3[[#This Row],[Académie]],\"\")","v":"Nancy-Metz"},{"$f":"IF(Table3[[#This Row],[Parcours choisi]]<>\"\",Table3[[#This Row],[Parcours choisi]],\"G\")","v":"T"},null,null,{"$f":"IF(Table3[[#This Row],[Class. Epreuve CAO]]<>\"\",Table3[[#This Row],[Class. Epreuve CAO]],\"\")","v":1}]
[10,{"$f":"IF(Table3[[#This Row],[Nom équipe]]<>\"\",Table3[[#This Row],[Nom équipe]],\"\")","v":"Space-hat"},{"$f":"IF(Table3[[#This Row],[Etablissement]]<>\"\",Table3[[#This Row],[Etablissement]],\"\")","v":"Boutet Lunéville"},{"$f":"IF(Table3[[#This Row],[Type établissement]]<>\"\",Table3[[#This Row],[Type établissement]],\"\")","v":"L"},{"$f":"IF(Table3[[#This Row],[Académie]]<>\"\",Table3[[#This Row],[Académie]],\"\")","v":"Nancy-Metz"},{"$f":"IF(Table3[[#This Row],[Parcours choisi]]<>\"\",Table3[[#This Row],[Parcours choisi]],\"G\")","v":"T"},null,null,{"$f":"IF(Table3[[#This Row],[Class. Epreuve CAO]]<>\"\",Table3[[#This Row],[Class. Epreuve CAO]],\"\")","v":1}]
[11,{"$f":"IF(Table3[[#This Row],[Nom équipe]]<>\"\",Table3[[#This Row],[Nom équipe]],\"\")","v":"Molécuisto"},{"$f":"IF(Table3[[#This Row],[Etablissement]]<>\"\",Table3[[#This Row],[Etablissement]],\"\")","v":"Bichat Lunéville"},{"$f":"IF(Table3[[#This Row],[Type établissement]]<>\"\",Table3[[#This Row],[Type établissement]],\"\")","v":"C"},{"$f":"IF(Table3[[#This Row],[Académie]]<>\"\",Table3[[#This Row],[Académie]],\"\")","v":"Nancy-Metz"},{"$f":"IF(Table3[[#This Row],[Parcours choisi]]<>\"\",Table3[[#This Row],[Parcours choisi]],\"G\")","v":"G"},null,null,{"$f":"IF(Table3[[#This Row],[Class. Epreuve CAO]]<>\"\",Table3[[#This Row],[Class. Epreuve CAO]],\"\")","v":1}]
[12,{"$f":"IF(Table3[[#This Row],[Nom équipe]]<>\"\",Table3[[#This Row],[Nom équipe]],\"\")","v":"Six divergents"},{"$f":"IF(Table3[[#This Row],[Etablissement]]<>\"\",Table3[[#This Row],[Etablissement]],\"\")","v":"Bichat Lunéville"},{"$f":"IF(Table3[[#This Row],[Type établissement]]<>\"\",Table3[[#This Row],[Type établissement]],\"\")","v":"C"},{"$f":"IF(Table3[[#This Row],[Académie]]<>\"\",Table3[[#This Row],[Académie]],\"\")","v":"Nancy-Metz"},{"$f":"IF(Table3[[#This Row],[Parcours choisi]]<>\"\",Table3[[#This Row],[Parcours choisi]],\"G\")","v":"G"},null,null,{"$f":"IF(Table3[[#This Row],[Class. Epreuve CAO]]<>\"\",Table3[[#This Row],[Class. Epreuve CAO]],\"\")","v":1}]
[13,{"$f":"IF(Table3[[#This Row],[Nom équipe]]<>\"\",Table3[[#This Row],[Nom équipe]],\"\")","v":"Andromeda"},{"$f":"IF(Table3[[#This Row],[Etablissement]]<>\"\",Table3[[#This Row],[Etablissement]],\"\")","v":"Duvivier Einville"},{"$f":"IF(Table3[[#This Row],[Type établissement]]<>\"\",Table3[[#This Row],[Type établissement]],\"\")","v":"C"},{"$f":"IF(Table3[[#This Row],[Académie]]<>\"\",Table3[[#This Row],[Académie]],\"\")","v":"Nancy-Metz"},{"$f":"IF(Table3[[#This Row],[Parcours choisi]]<>\"\",Table3[[#This Row],[Parcours choisi]],\"G\")","v":"G"},null,null,{"$f":"IF(Table3[[#This Row],[Class. Epreuve CAO]]<>\"\",Table3[[#This Row],[Class. Epreuve CAO]],\"\")","v":1}]
[14,{"$f":"IF(Table3[[#This Row],[Nom équipe]]<>\"\",Table3[[#This Row],[Nom équipe]],\"\")","v":"Fifties"},{"$f":"IF(Table3[[#This Row],[Etablissement]]<>\"\",Table3[[#This Row],[Etablissement]],\"\")","v":"Duvivier Einville"},{"$f":"IF(Table3[[#This Row],[Type établissement]]<>\"\",Table3[[#This Row],[Type établissement]],\"\")","v":"C"},{"$f":"IF(Table3[[#This Row],[Académie]]<>\"\",Table3[[#This Row],[Académie]],\"\")","v":"Nancy-Metz"},{"$f":"IF(Table3[[#This Row],[Parcours choisi]]<>\"\",Table3[[#This Row],[Parcours choisi]],\"G\")","v":"G"},null,null,{"$f":"IF(Table3[[#This Row],[Class. Epreuve CAO]]<>\"\",Table3[[#This Row],[Class. Epreuve CAO]],\"\")","v":1}]
[15,{"$f":"IF(Table3[[#This Row],[Nom équipe]]<>\"\",Table3[[#This Row],[Nom équipe]],\"\")","v":"SharkAttack"},{"$f":"IF(Table3[[#This Row],[Etablissement]]<>\"\",Table3[[#This Row],[Etablissement]],\"\")","v":"Vogt Commercy"},{"$f":"IF(Table3[[#This Row],[Type établissement]]<>\"\",Table3[[#This Row],[Type établissement]],\"\")","v":"L"},{"$f":"IF(Table3[[#This Row],[Académie]]<>\"\",Table3[[#This Row],[Académie]],\"\")","v":"Nancy-Metz"},{"$f":"IF(Table3[[#This Row],[Parcours choisi]]<>\"\",Table3[[#This Row],[Parcours choisi]],\"G\")","v":"G"},null,null,{"$f":"IF(Table3[[#This Row],[Class. Epreuve CAO]]<>\"\",Table3[[#This Row],[Class. Epreuve CAO]],\"\")","v":1}]
[16,{"$f":"IF(Table3[[#This Row],[Nom équipe]]<>\"\",Table3[[#This Row],[Nom équipe]],\"\")","v":"Green Tiger"},{"$f":"IF(Table3[[#This Row],[Etablissement]]<>\"\",Table3[[#This Row],[Etablissement]],\"\")","v":"Hauts de Blémont Metz"},{"$f":"IF(Table3[[#This Row],[Type établissement]]<>\"\",Table3[[#This Row],[Type établissement]],\"\")","v":"C"},{"$f":"IF(Table3[[#This Row],[Académie]]<>\"\",Table3[[#This Row],[Académie]],\"\")","v":"Nancy-Metz"},{"$f":"IF(Table3[[#This Row],[Parcours choisi]]<>\"\",Table3[[#This Row],[Parcours choisi]],\"G\")","v":"G"},null,null,{"$f":"IF(Table3[[#This Row],[Class. Epreuve CAO]]<>\"\",Table3[[#This Row],[Class. Epreuve CAO]],\"\")","v":1}]
[17,{"$f":"IF(Table3[[#This Row],[Nom équipe]]<>\"\",Table3[[#This Row],[Nom équipe]],\"\")","v":"Grey"},{"$f":"IF(Table3[[#This Row],[Etablissement]]<>\"\",Table3[[#This Row],[Etablissement]],\"\")","v":"Hauts de Blémont Metz"},{"$f":"IF(Table3[[#This Row],[Type établissement]]<>\"\",Table3[[#This Row],[Type établissement]],\"\")","v":"C"},{"$f":"IF(Table3[[#This Row],[Académie]]<>\"\",Table3[[#This Row],[Académie]],\"\")","v":"Nancy-Metz"},{"$f":"IF(Table3[[#This Row],[Parcours choisi]]<>\"\",Table3[[#This Row],[Parcours choisi]],\"G\")","v":"G"},null,null,{"$f":"IF(Table3[[#This Row],[Class. Epreuve CAO]]<>\"\",Table3[[#This Row],[Class. Epreuve CAO]],\"\")","v":1}]
[18,{"$f":"IF(Table3[[#This Row],[Nom équipe]]<>\"\",Table3[[#This Row],[Nom équipe]],\"\")","v":"Danger"},{"$f":"IF(Table3[[#This Row],[Etablissement]]<>\"\",Table3[[#This Row],[Etablissement]],\"\")","v":"Hauts de Blémont Metz"},{"$f":"IF(Table3[[#This Row],[Type établissement]]<>\"\",Table3[[#This Row],[Type établissement]],\"\")","v":"C"},{"$f":"IF(Table3[[#This Row],[Académie]]<>\"\",Table3[[#This Row],[Académie]],\"\")","v":"Nancy-Metz"},{"$f":"IF(Table3[[#This Row],[Parcours choisi]]<>\"\",Table3[[#This Row],[Parcours choisi]],\"G\")","v":"G"},null,null,{"$f":"IF(Table3[[#This Row],[Class. Epreuve CAO]]<>\"\",Table3[[#This Row],[Class. Epreuve CAO]],\"\")","v":1}]
[19,{"$f":"IF(Table3[[#This Row],[Nom équipe]]<>\"\",Table3[[#This Row],[Nom équipe]],\"\")","v":"Scott"},{"$f":"IF(Table3[[#This Row],[Etablissement]]<>\"\",Table3[[#This Row],[Etablissement]],\"\")","v":"Hauts de Blémont Metz"},{"$f":"IF(Table3[[#This Row],[Type établissement]]<>\"\",Table3[[#This Row],[Type établissement]],\"\")","v":"C"},{"$f":"IF(Table3[[#This Row],[Académie]]<>\"\",Table3[[#This Row],[Académie]],\"\")","v":"Nancy-Metz"},{"$f":"IF(Table3[[#This Row],[Parcours choisi]]<>\"\",Table3[[#This Row],[Parcours choisi]],\"G\")","v":"G"},null,null,{"$f":"IF(Table3[[#This Row],[Class. Epreuve CAO]]<>\"\",Table3[[#This Row],[Class. Epreuve CAO]],\"\")","v":1}]
[20,{"$f":"IF(Table3[[#This Row],[Nom équipe]]<>\"\",Table3[[#This Row],[Nom équipe]],\"\")","v":"Amercan's 70"},{"$f":"IF(Table3[[#This Row],[Etablissement]]<>\"\",Table3[[#This Row],[Etablissement]],\"\")","v":"A. Dreux Folschviller"},{"$f":"IF(Table3[[#This Row],[Type établissement]]<>\"\",Table3[[#This Row],[Type établissement]],\"\")","v":"C"},{"$f":"IF(Table3[[#This Row],[Académie]]<>\"\",Table3[[#This Row],[Académie]],\"\")","v":"Nancy-Metz"},{"$f":"IF(Table3[[#This Row],[Parcours choisi]]<>\"\",Table3[[#This Row],[Parcours choisi]],\"G\")","v":"G"},null,null,{"$f":"IF(Table3[[#This Row],[Class. Epreuve CAO]]<>\"\",Table3[[#This Row],[Class. Epreuve CAO]],\"\")","v":1}]
[21,{"$f":"IF(Table3[[#This Row],[Nom équipe]]<>\"\",Table3[[#This Row],[Nom équipe]],\"\")","v":"Les 80's"},{"$f":"IF(Table3[[#This Row],[Etablissement]]<>\"\",Table3[[#This Row],[Etablissement]],\"\")","v":"A. Dreux Folschviller"},{"$f":"IF(Table3[[#This Row],[Type établissement]]<>\"\",Table3[[#This Row],[Type établissement]],\"\")","v":"C"},{"$f":"IF(Table3[[#This Row],[Académie]]<>\"\",Table3[[#This Row],[Académie]],\"\")","v":"Nancy-Metz"},{"$f":"IF(Table3[[#This Row],[Parcours choisi]]<>\"\",Table3[[#This Row],[Parcours choisi]],\"G\")","v":"G"},null,null,{"$f":"IF(Table3[[#This Row],[Class. Epreuve CAO]]<>\"\",Table3[[#This Row],[Class. Epreuve CAO]],\"\")","v":1}]
[22,{"$f":"IF(Table3[[#This Row],[Nom équipe]]<>\"\",Table3[[#This Row],[Nom équipe]],\"\")","v":"E-magie-nation"},{"$f":"IF(Table3[[#This Row],[Etablissement]]<>\"\",Table3[[#This Row],[Etablissement]],\"\")","v":"A. Dreux Folschviller"},{"$f":"IF(Table3[[#This Row],[Type établissement]]<>\"\",Table3[[#This Row],[Type établissement]],\"\")","v":"C"},{"$f":"IF(Table3[[#This Row],[Académie]]<>\"\",Table3[[#This Row],[Académie]],\"\")","v":"Nancy-Metz"},{"$f":"IF(Table3[[#This Row],[Parcours choisi]]<>\"\",Table3[[#This Row],[Parcours choisi]],\"G\")","v":"G"},null,null,{"$f":"IF(Table3[[#This Row],[Class. Epreuve CAO]]<>\"\",Table3[[#This Row],[Class. Epreuve CAO]],\"\")","v":1}]
[23,{"$f":"IF(Table3[[#This Row],[Nom équipe]]<>\"\",Table3[[#This Row],[Nom équipe]],\"\")","v":"Gol'o Team"},{"$f":"IF(Table3[[#This Row],[Etablissement]]<>\"\",Table3[[#This Row],[Etablissement]],\"\")","v":"A. Dreux Folschviller"},{"$f":"IF(Table3[[#This Row],[Type établissement]]<>\"\",Table3[[#This Row],[Type établissement]],\"\")","v":"C"},{"$f":"IF(Table3[[#This Row],[Académie]]<>\"\",Table3[[#This Row],[Académie]],\"\")","v":"Nancy-Metz"},{"$f":"IF(Table3[[#This Row],[Parcours choisi]]<>\"\",Table3[[#This Row],[Parcours choisi]],\"G\")","v":"G"},null,null,{"$f":"IF(Table3[[#This Row],[Class. Epreuve CAO]]<>\"\",Table3[[#This Row],[Class. Epreuve CAO]],\"\")","v":1}]
[24,{"$f":"IF(Table3[[#This Row],[Nom équipe]]<>\"\",Table3[[#This Row],[Nom équipe]],\"\")","v":"Serpent"},{"$f":"IF(Table3[[#This Row],[Etablissement]]<>\"\",Table3[[#This Row],[Etablissement]],\"\")","v":"A. Dreux Folschviller"},{"$f":"IF(Table3[[#This Row],[Type établissement]]<>\"\",Table3[[#This Row],[Type établissement]],\"\")","v":"C"},{"$f":"IF(Table3[[#This Row],[Académie]]<>\"\",Table3[[#This Row],[Académie]],\"\")","v":"Nancy-Metz"},{"$f":"IF(Table3[[#This Row],[Parcours choisi]]<>\"\",Table3[[#This Row],[Parcours choisi]],\"G\")","v":"G"},null,null,{"$f":"IF(Table3[[#This Row],[Class. Epreuve CAO]]<>\"\",Table3[[#This Row],[Class. Epreuve CAO]],\"\")","v":1}]
[25,{"$f":"IF(Table3[[#This Row],[Nom équipe]]<>\"\",Table3[[#This Row],[Nom équipe]],\"\")","v":"The Peaky's"},{"$f":"IF(Table3[[#This Row],[Etablissement]]<>\"\",Table3[[#This Row],[Etablissement]],\"\")","v":"La Fontaine St Avold"},{"$f":"IF(Table3[[#This Row],[Type établissement]]<>\"\",Table3[[#This Row],[Type établissement]],\"\")","v":"C"},{"$f":"IF(Table3[[#This Row],[Académie]]<>\"\",Table3[[#This Row],[Académie]],\"\")","v":"Nancy-Metz"},{"$f":"IF(Table3[[#This Row],[Parcours choisi]]<>\"\",Table3[[#This Row],[Parcours choisi]],\"G\")","v":"G"},null,null,{"$f":"IF(Table3[[#This Row],[Class. Epreuve CAO]]<>\"\",Table3[[#This Row],[Class. Epreuve CAO]],\"\")","v":1}]
[26,{"$f":"IF(Table3[[#This Row],[Nom équipe]]<>\"\",Table3[[#This Row],[Nom équipe]],\"\")","v":"Cosmos"},{"$f":"IF(Table3[[#This Row],[Etablissement]]<>\"\",Table3[[#This Row],[Etablissement]],\"\")","v":"La Fontaine St Avold"},{"$f":"IF(Table3[[#This Row],[Type établissement]]<>\"\",Table3[[#This Row],[Type établissement]],\"\")","v":"C"},{"$f":"IF(Table3[[#This Row],[Académie]]<>\"\",Table3[[#This Row],[Académie]],\"\")","v":"Nancy-Metz"},{"$f":"IF(Table3[[#This Row],[Parcours choisi]]<>\"\",Table3[[#This Row],[Parcours choisi]],\"G\")","v":"G"},null,null,{"$f":"IF(Table3[[#This Row],[Class. Epreuve CAO]]<>\"\",Table3[[#This Row],[Class. Epreuve CAO]],\"\")","v":1},null,null,1]
[27,{"$f":"IF(Table3[[#This Row],[Nom équipe]]<>\"\",Table3[[#This Row],[Nom équipe]],\"\")","v":"Otaku"},{"$f":"IF(Table3[[#This Row],[Etablissement]]<>\"\",Table3[[#This Row],[Etablissement]],\"\")","v":"La Fontaine St Avold"},{"$f":"IF(Table3[[#This Row],[Type établissement]]<>\"\",Table3[[#This Row],[Type établissement]],\"\")","v":"C"},{"$f":"IF(Table3[[#This Row],[Académie]]<>\"\",Table3[[#This Row],[Académie]],\"\")","v":"Nancy-Metz"},{"$f":"IF(Table3[[#This Row],[Parcours choisi]]<>\"\",Table3[[#This Row],[Parcours choisi]],\"G\")","v":"G"},null,null,{"$f":"IF(Table3[[#This Row],[Class. Epreuve CAO]]<>\"\",Table3[[#This Row],[Class. Epreuve CAO]],\"\")","v":1}]
[28,{"$f":"IF(Table3[[#This Row],[Nom équipe]]<>\"\",Table3[[#This Row],[Nom équipe]],\"\")","v":"Bal'eau"},{"$f":"IF(Table3[[#This Row],[Etablissement]]<>\"\",Table3[[#This Row],[Etablissement]],\"\")","v":"La Fontaine St Avold"},{"$f":"IF(Table3[[#This Row],[Type établissement]]<>\"\",Table3[[#This Row],[Type établissement]],\"\")","v":"C"},{"$f":"IF(Table3[[#This Row],[Académie]]<>\"\",Table3[[#This Row],[Académie]],\"\")","v":"Nancy-Metz"},{"$f":"IF(Table3[[#This Row],[Parcours choisi]]<>\"\",Table3[[#This Row],[Parcours choisi]],\"G\")","v":"G"},null,null,{"$f":"IF(Table3[[#This Row],[Class. Epreuve CAO]]<>\"\",Table3[[#This Row],[Class. Epreuve CAO]],\"\")","v":1}]
[29,{"$f":"IF(Table3[[#This Row],[Nom équipe]]<>\"\",Table3[[#This Row],[Nom équipe]],\"\")","v":"Team Lambo"},{"$f":"IF(Table3[[#This Row],[Etablissement]]<>\"\",Table3[[#This Row],[Etablissement]],\"\")","v":"La Fontaine St Avold"},{"$f":"IF(Table3[[#This Row],[Type établissement]]<>\"\",Table3[[#This Row],[Type établissement]],\"\")","v":"C"},{"$f":"IF(Table3[[#This Row],[Académie]]<>\"\",Table3[[#This Row],[Académie]],\"\")","v":"Nancy-Metz"},{"$f":"IF(Table3[[#This Row],[Parcours choisi]]<>\"\",Table3[[#This Row],[Parcours choisi]],\"G\")","v":"G"},null,null,{"$f":"IF(Table3[[#This Row],[Class. Epreuve CAO]]<>\"\",Table3[[#This Row],[Class. Epreuve CAO]],\"\")","v":1}]
[30,{"$f":"IF(Table3[[#This Row],[Nom équipe]]<>\"\",Table3[[#This Row],[Nom équipe]],\"\")","v":""},{"$f":"IF(Table3[[#This Row],[Etablissement]]<>\"\",Table3[[#This Row],[Etablissement]],\"\")","v":""},{"$f":"IF(Table3[[#This Row],[Type établissement]]<>\"\",Table3[[#This Row],[Type établissement]],\"\")","v":""},{"$f":"IF(Table3[[#This Row],[Académie]]<>\"\",Table3[[#This Row],[Académie]],\"\")","v":""},{"$f":"IF(Table3[[#This Row],[Parcours choisi]]<>\"\",Table3[[#This Row],[Parcours choisi]],\"G\")","v":"G"},null,null,{"$f":"IF(Table3[[#This Row],[Class. Epreuve CAO]]<>\"\",Table3[[#This Row],[Class. Epreuve CAO]],\"\")","v":""}]

{"sheet":"Prix Avenir","index":7,"n_rows":36,"n_cols":30,"rows_kept":36,"cut":false,"hidden":false,"merged":[[1,6,1,17],[3,4,3,19]]}
[]
[null,null,null,null,null,null,"FINALE FRANCE / ACADEMIQUES COURSE EN COURS"]
[]
[null,null,null,null,"Attention: Ne rien saisir sur cette feuille est calculée automatiquement"]
[]
["N° équipe","Nom équipe","établissement","Type établissement","Académie","Parcours","Ingénierie et conception","Innovation mécanique","Développement Durable","Ingénierie de fabrication","Gestion de projet et collaborations","Présentation Orale","Identité Equipe","Design du Stand","Portfolio","Marketing et Sponsoring","Budget","Design du Véhicule","Innovation numérique","Programmation","Respect du règlement","Communication : vidéo","Epreuve CAO","Temps Réaction","Temps Course","Epreuve arrêt au stand","Coup de Cœur","1","Total Prix Avenir","Class. Prix Avenir"]
[1,{"$f":"Table3[[#This Row],[Nom équipe]]","v":"Star Car"},{"$f":"Table3[[#This Row],[Etablissement]]","v":"AVEC"},{"$f":"Table3[[#This Row],[Type établissement]]","v":"C"},{"$f":"Table3[[#This Row],[Académie]]","v":"Nancy-Metz"},{"$f":"IF(Table3[[#This Row],[Parcours choisi]]<>\"\",Table3[[#This Row],[Parcours choisi]],\"\")","v":"G"},{"$f":"IF(Table3[[#This Row],[Parcours choisi]]<>\"\",(VLOOKUP(Table356[[#Headers],[Ingénierie et conception]],'Def. Prix & Parcours'!$I$6:$M$28,2,FALSE)*Table3[[#This Row],[Points Ingénierie et conception]]),\"\")","v":84},{"$f":"IF(Table3[[#This Row],[Parcours choisi]]<>\"\",(VLOOKUP(Table356[[#Headers],[Innovation mécanique]],'Def. Prix & Parcours'!$I$6:$M$28,2,FALSE)*Table3[[#This Row],[Points Innovation mécanique]]),\"\")","v":0},{"$f":"IF(Table3[[#This Row],[Parcours choisi]]<>\"\",(VLOOKUP(Table356[[#Headers],[Développement Durable]],'Def. Prix & Parcours'!$I$6:$M$28,2,FALSE)*Table3[[#This Row],[Points Développement Durable]]),\"\")","v":0},{"$f":"IF(Table3[[#This Row],[Parcours choisi]]<>\"\",(VLOOKUP(Table356[[#Headers],[Ingénierie de fabrication]],'Def. Prix & Parcours'!$I$6:$M$28,2,FALSE)*Table3[[#This Row],[Points Ingénierie de fabrication]]),\"\")","v":0},{"$f":"IF(Table3[[#This Row],[Parcours choisi]]<>\"\",(VLOOKUP(Table356[[#Headers],[Gestion de projet et collaborations]],'Def. Prix & Parcours'!$I$6:$M$28,2,FALSE)*Table3[[#This Row],[Points Gestion de projet et \ncollaborations]]),\"\")","v":85},{"$f":"IF(Table3[[#This Row],[Parcours choisi]]<>\"\",(VLOOKUP(Table356[[#Headers],[Présentation Orale]],'Def. Prix & Parcours'!$I$6:$M$28,2,FALSE)*Table3[[#This Row],[Points Présentation Orale]]),\"\")","v":70},{"$f":"IF(Table3[[#This Row],[Parcours choisi]]<>\"\",(VLOOKUP(Table356[[#Headers],[Identité Equipe]],'Def. Prix & Parcours'!$I$6:$M$28,2,FALSE)*Table3[[#This Row],[Points Identité Equipe]]),\"\")","v":65},{"$f":"IF(Table3[[#This Row],[Parcours choisi]]<>\"\",(VLOOKUP(Table356[[#Headers],[Design du Stand]],'Def. Prix & Parcours'!$I$6:$M$28,2,FALSE)*Table3[[#This Row],[Points Design du Stand]]),\"\")","v":0},{"$f":"IF(Table3[[#This Row],[Parcours choisi]]<>\"\",(VLOOKUP(Table356[[#Headers],[Portfolio]],'Def. Prix & Parcours'!$I$6:$M$28,2,FALSE)*Table3[[#This Row],[Points Portfolio]]),\"\")","v":0},{"$f":"IF(Table3[[#This Row],[Parcours choisi]]<>\"\",(VLOOKUP(Table356[[#Headers],[Marketing et Sponsoring]],'Def. Prix & Parcours'!$I$6:$M$28,2,FALSE)*Table3[[#This Row],[Points Marketing et Sponsoring]]),\"\")","v":0},{"$f":"IF(Table3[[#This Row],[Parcours choisi]]<>\"\",(VLOOKUP(Table356[[#Headers],[Budget]],'Def. Prix & Parcours'!$I$6:$M$28,2,FALSE)*Table3[[#This Row],[Points Budget]]),\"\")","v":0},{"$f":"IF(Table3[[#This Row],[Parcours choisi]]<>\"\",(VLOOKUP(Table356[[#Headers],[Design du Véhicule]],'Def. Prix & Parcours'!$I$6:$M$28,2,FALSE)*Table3[[#This Row],[Points Design du Véhicule]]),\"\")","v":0},{"$f":"IF(Table3[[#This Row],[Parcours choisi]]<>\"\",(VLOOKUP(Table356[[#Headers],[Innovation numérique]],'Def. Prix & Parcours'!$I$6:$M$28,2,FALSE)*Table3[[#This Row],[Points Innovation numérique]]),\"\")","v":0},{"$f":"IF(Table3[[#This Row],[Parcours choisi]]<>\"\",(VLOOKUP(Table356[[#Headers],[Programmation]],'Def. Prix & Parcours'!$I$6:$M$28,2,FALSE)*Table3[[#This Row],[Points Programmation]]),\"\")","v":0},{"$f":"IF(Table3[[#This Row],[Parcours choisi]]<>\"\",(VLOOKUP(Table356[[#Headers],[Respect du règlement]],'Def. Prix & Parcours'!$I$6:$M$28,2,FALSE)*Table3[[#This Row],[Points Respect du règlement]]),\"\")","v":45},{"$f":"IF(Table3[[#This Row],[Parcours choisi]]<>\"\",(VLOOKUP(Table356[[#Headers],[Communication : vidéo]],'Def. Prix & Parcours'!$I$6:$M$28,2,FALSE)*Table3[[#This Row],[Points Communication : vidéo]]),\"\")","v":39},{"$f":"IF(Table3[[#This Row],[Parcours choisi]]<>\"\",(VLOOKUP(Table356[[#Headers],[Epreuve CAO]],'Def. Prix & Parcours'!$I$6:$M$28,2,FALSE)*Table3[[#This Row],[Points Epreuve CAO]]),\"\")","v":80},{"$f":"IF(Table3[[#This Row],[Parcours choisi]]<>\"\",(VLOOKUP(Table356[[#Headers],[Temps Réaction]],'Def. Prix & Parcours'!$I$6:$M$28,2,FALSE)*Table3[[#This Row],[Points Temps Réaction]]),\"\")","v":6},{"$f":"IF(Table3[[#This Row],[Parcours choisi]]<>\"\",(VLOOKUP(Table356[[#Headers],[Temps Course]],'Def. Prix & Parcours'!$I$6:$M$28,2,FALSE)*Table3[[#This Row],[Points Temps Course]]),\"\")","v":90},{"$f":"IF(Table3[[#This Row],[Parcours choisi]]<>\"\",(VLOOKUP(Table356[[#Headers],[Epreuve arrêt au stand]],'Def. Prix & Parcours'!$I$6:$M$28,2,FALSE)*Table3[[#This Row],[Points Epreuve arrêt au stand]]),\"\")","v":80},{"$f":"IF(Table3[[#This Row],[Parcours choisi]]<>\"\",(VLOOKUP(Table356[[#Headers],[Coup de Cœur]],'Def. Prix & Parcours'!$I$6:$M$28,2,FALSE)*Table3[[#This Row],[Points Coup de cœur]]),\"\")","v":0},null,{"$f":"IF(Table3[[#This Row],[Parcours choisi]]<>\"\",SUM(Table356[[#This Row],[Ingénierie et conception]:[1]]),\"\")","v":644},{"$f":"IF(Table3[[#This Row],[Parcours choisi]]<>\"\",_xlfn.RANK.EQ(Table356[[#This Row],[Total Prix Avenir]],Table356[Total Prix Avenir],0),\"\")","v":22}]
[2,{"$f":"Table3[[#This Row],[Nom équipe]]","v":"Les industriels"},{"$f":"Table3[[#This Row],[Etablissement]]","v":"Loritz Nancy"},{"$f":"Table3[[#This Row],[Type établissement]]","v":"L"},{"$f":"Table3[[#This Row],[Académie]]","v":"Nancy-Metz"},{"$f":"IF(Table3[[#This Row],[Parcours choisi]]<>\"\",Table3[[#This Row],[Parcours choisi]],\"\")","v":"T"},{"$f":"IF(Table3[[#This Row],[Parcours choisi]]<>\"\",(VLOOKUP(Table356[[#Headers],[Ingénierie et conception]],'Def. Prix & Parcours'!$I$6:$M$28,2,FALSE)*Table3[[#This Row],[Points Ingénierie et conception]]),\"\")","v":0},{"$f":"IF(Table3[[#This Row],[Parcours choisi]]<>\"\",(VLOOKUP(Table356[[#Headers],[Innovation mécanique]],'Def. Prix & Parcours'!$I$6:$M$28,2,FALSE)*Table3[[#This Row],[Points Innovation mécanique]]),\"\")","v":0},{"$f":"IF(Table3[[#This Row],[Parcours choisi]]<>\"\",(VLOOKUP(Table356[[#Headers],[Développement Durable]],'Def. Prix & Parcours'!$I$6:$M$28,2,FALSE)*Table3[[#This Row],[Points Développement Durable]]),\"\")","v":0},{"$f":"IF(Table3[[#This Row],[Parcours choisi]]<>\"\",(VLOOKUP(Table356[[#Headers],[Ingénierie de fabrication]],'Def. Prix & Parcours'!$I$6:$M$28,2,FALSE)*Table3[[#This Row],[Points Ingénierie de fabrication]]),\"\")","v":0},{"$f":"IF(Table3[[#This Row],[Parcours choisi]]<>\"\",(VLOOKUP(Table356[[#Headers],[Gestion de projet et collaborations]],'Def. Prix & Parcours'!$I$6:$M$28,2,FALSE)*Table3[[#This Row],[Points Gestion de projet et \ncollaborations]]),\"\")","v":0},{"$f":"IF(Table3[[#This Row],[Parcours choisi]]<>\"\",(VLOOKUP(Table356[[#Headers],[Présentation Orale]],'Def. Prix & Parcours'!$I$6:$M$28,2,FALSE)*Table3[[#This Row],[Points Présentation Orale]]),\"\")","v":0},{"$f":"IF(Table3[[#This Row],[Parcours choisi]]<>\"\",(VLOOKUP(Table356[[#Headers],[Identité Equipe]],'Def. Prix & Parcours'!$I$6:$M$28,2,FALSE)*Table3[[#This Row],[Points Identité Equipe]]),\"\")","v":0},{"$f":"IF(Table3[[#This Row],[Parcours choisi]]<>\"\",(VLOOKUP(Table356[[#Headers],[Design du Stand]],'Def. Prix & Parcours'!$I$6:$M$28,2,FALSE)*Table3[[#This Row],[Points Design du Stand]]),\"\")","v":0},{"$f":"IF(Table3[[#This Row],[Parcours choisi]]<>\"\",(VLOOKUP(Table356[[#Headers],[Portfolio]],'Def. Prix & Parcours'!$I$6:$M$28,2,FALSE)*Table3[[#This Row],[Points Portfolio]]),\"\")","v":0},{"$f":"IF(Table3[[#This Row],[Parcours choisi]]<>\"\",(VLOOKUP(Table356[[#Headers],[Marketing et Sponsoring]],'Def. Prix & Parcours'!$I$6:$M$28,2,FALSE)*Table3[[#This Row],[Points Marketing et Sponsoring]]),\"\")","v":0},{"$f":"IF(Table3[[#This Row],[Parcours choisi]]<>\"\",(VLOOKUP(Table356[[#Headers],[Budget]],'Def. Prix & Parcours'!$I$6:$M$28,2,FALSE)*Table3[[#This Row],[Points Budget]]),\"\")","v":0},{"$f":"IF(Table3[[#This Row],[Parcours choisi]]<>\"\",(VLOOKUP(Table356[[#Headers],[Design du Véhicule]],'Def. Prix & Parcours'!$I$6:$M$28,2,FALSE)*Table3[[#This Row],[Points Design du Véhicule]]),\"\")","v":0},{"$f":"IF(Table3[[#This Row],[Parcours choisi]]<>\"\",(VLOOKUP(Table356[[#Headers],[Innovation numérique]],'Def. Prix & Parcours'!$I$6:$M$28,2,FALSE)*Table3[[#This Row],[Points Innovation numérique]]),\"\")","v":0},{"$f":"IF(Table3[[#This Row],[Parcours choisi]]<>\"\",(VLOOKUP(Table356[[#Headers],[Programmation]],'Def. Prix & Parcours'!$I$6:$M$28,2,FALSE)*Table3[[#This Row],[Points Programmation]]),\"\")","v":0},{"$f":"IF(Table3[[#This Row],[Parcours choisi]]<>\"\",(VLOOKUP(Table356[[#Headers],[Respect du règlement]],'Def. Prix & Parcours'!$I$6:$M$28,2,FALSE)*Table3[[#This Row],[Points Respect du règlement]]),\"\")","v":0},{"$f":"IF(Table3[[#This Row],[Parcours choisi]]<>\"\",(VLOOKUP(Table356[[#Headers],[Communication : vidéo]],'Def. Prix & Parcours'!$I$6:$M$28,2,FALSE)*Table3[[#This Row],[Points Communication : vidéo]]),\"\")","v":0},{"$f":"IF(Table3[[#This Row],[Parcours choisi]]<>\"\",(VLOOKUP(Table356[[#Headers],[Epreuve CAO]],'Def. Prix & Parcours'!$I$6:$M$28,2,FALSE)*Table3[[#This Row],[Points Epreuve CAO]]),\"\")","v":80},{"$f":"IF(Table3[[#This Row],[Parcours choisi]]<>\"\",(VLOOKUP(Table356[[#Headers],[Temps Réaction]],'Def. Prix & Parcours'!$I$6:$M$28,2,FALSE)*Table3[[#This Row],[Points Temps Réaction]]),\"\")","v":6},{"$f":"IF(Table3[[#This Row],[Parcours choisi]]<>\"\",(VLOOKUP(Table356[[#Headers],[Temps Course]],'Def. Prix & Parcours'!$I$6:$M$28,2,FALSE)*Table3[[#This Row],[Points Temps Course]]),\"\")","v":80},{"$f":"IF(Table3[[#This Row],[Parcours choisi]]<>\"\",(VLOOKUP(Table356[[#Headers],[Epreuve arrêt au stand]],'Def. Prix & Parcours'!$I$6:$M$28,2,FALSE)*Table3[[#This Row],[Points Epreuve arrêt au stand]]),\"\")","v":80},{"$f":"IF(Table3[[#This Row],[Parcours choisi]]<>\"\",(VLOOKUP(Table356[[#Headers],[Coup de Cœur]],'Def. Prix & Parcours'!$I$6:$M$28,2,FALSE)*Table3[[#This Row],[Points Coup de cœur]]),\"\")","v":0},null,{"$f":"IF(Table3[[#This Row],[Parcours choisi]]<>\"\",SUM(Table356[[#This Row],[Ingénierie et conception]:[1]]),\"\")","v":246},{"$f":"IF(Table3[[#This Row],[Parcours choisi]]<>\"\",_xlfn.RANK.EQ(Table356[[#This Row],[Total Prix Avenir]],Table356[Total Prix Avenir],0),\"\")","v":26}]
[3,{"$f":"Table3[[#This Row],[Nom équipe]]","v":" S1 motor sport"},{"$f":"Table3[[#This Row],[Etablissement]]","v":"Lotitz Nancy"},{"$f":"Table3[[#This Row],[Type établissement]]","v":"L"},{"$f":"Table3[[#This Row],[Académie]]","v":"Nancy-Metz"},{"$f":"IF(Table3[[#This Row],[Parcours choisi]]<>\"\",Table3[[#This Row],[Parcours choisi]],\"\")","v":"T"},{"$f":"IF(Table3[[#This Row],[Parcours choisi]]<>\"\",(VLOOKUP(Table356[[#Headers],[Ingénierie et conception]],'Def. Prix & Parcours'!$I$6:$M$28,2,FALSE)*Table3[[#This Row],[Points Ingénierie et conception]]),\"\")","v":0},{"$f":"IF(Table3[[#This Row],[Parcours choisi]]<>\"\",(VLOOKUP(Table356[[#Headers],[Innovation mécanique]],'Def. Prix & Parcours'!$I$6:$M$28,2,FALSE)*Table3[[#This Row],[Points Innovation mécanique]]),\"\")","v":0},{"$f":"IF(Table3[[#This Row],[Parcours choisi]]<>\"\",(VLOOKUP(Table356[[#Headers],[Développement Durable]],'Def. Prix & Parcours'!$I$6:$M$28,2,FALSE)*Table3[[#This Row],[Points Développement Durable]]),\"\")","v":0},{"$f":"IF(Table3[[#This Row],[Parcours choisi]]<>\"\",(VLOOKUP(Table356[[#Headers],[Ingénierie de fabrication]],'Def. Prix & Parcours'!$I$6:$M$28,2,FALSE)*Table3[[#This Row],[Points Ingénierie de fabrication]]),\"\")","v":0},{"$f":"IF(Table3[[#This Row],[Parcours choisi]]<>\"\",(VLOOKUP(Table356[[#Headers],[Gestion de projet et collaborations]],'Def. Prix & Parcours'!$I$6:$M$28,2,FALSE)*Table3[[#This Row],[Points Gestion de projet et \ncollaborations]]),\"\")","v":0},{"$f":"IF(Table3[[#This Row],[Parcours choisi]]<>\"\",(VLOOKUP(Table356[[#Headers],[Présentation Orale]],'Def. Prix & Parcours'!$I$6:$M$28,2,FALSE)*Table3[[#This Row],[Points Présentation Orale]]),\"\")","v":0},{"$f":"IF(Table3[[#This Row],[Parcours choisi]]<>\"\",(VLOOKUP(Table356[[#Headers],[Identité Equipe]],'Def. Prix & Parcours'!$I$6:$M$28,2,FALSE)*Table3[[#This Row],[Points Identité Equipe]]),\"\")","v":0},{"$f":"IF(Table3[[#This Row],[Parcours choisi]]<>\"\",(VLOOKUP(Table356[[#Headers],[Design du Stand]],'Def. Prix & Parcours'!$I$6:$M$28,2,FALSE)*Table3[[#This Row],[Points Design du Stand]]),\"\")","v":0},{"$f":"IF(Table3[[#This Row],[Parcours choisi]]<>\"\",(VLOOKUP(Table356[[#Headers],[Portfolio]],'Def. Prix & Parcours'!$I$6:$M$28,2,FALSE)*Table3[[#This Row],[Points Portfolio]]),\"\")","v":0},{"$f":"IF(Table3[[#This Row],[Parcours choisi]]<>\"\",(VLOOKUP(Table356[[#Headers],[Marketing et Sponsoring]],'Def. Prix & Parcours'!$I$6:$M$28,2,FALSE)*Table3[[#This Row],[Points Marketing et Sponsoring]]),\"\")","v":0},{"$f":"IF(Table3[[#This Row],[Parcours choisi]]<>\"\",(VLOOKUP(Table356[[#Headers],[Budget]],'Def. Prix & Parcours'!$I$6:$M$28,2,FALSE)*Table3[[#This Row],[Points Budget]]),\"\")","v":0},{"$f":"IF(Table3[[#This Row],[Parcours choisi]]<>\"\",(VLOOKUP(Table356[[#Headers],[Design du Véhicule]],'Def. Prix & Parcours'!$I$6:$M$28,2,FALSE)*Table3[[#This Row],[Points Design du Véhicule]]),\"\")","v":0},{"$f":"IF(Table3[[#This Row],[Parcours choisi]]<>\"\",(VLOOKUP(Table356[[#Headers],[Innovation numérique]],'Def. Prix & Parcours'!$I$6:$M$28,2,FALSE)*Table3[[#This Row],[Points Innovation numérique]]),\"\")","v":0},{"$f":"IF(Table3[[#This Row],[Parcours choisi]]<>\"\",(VLOOKUP(Table356[[#Headers],[Programmation]],'Def. Prix & Parcours'!$I$6:$M$28,2,FALSE)*Table3[[#This Row],[Points Programmation]]),\"\")","v":0},{"$f":"IF(Table3[[#This Row],[Parcours choisi]]<>\"\",(VLOOKUP(Table356[[#Headers],[Respect du règlement]],'Def. Prix & Parcours'!$I$6:$M$28,2,FALSE)*Table3[[#This Row],[Points Respect du règlement]]),\"\")","v":0},{"$f":"IF(Table3[[#This Row],[Parcours choisi]]<>\"\",(VLOOKUP(Table356[[#Headers],[Communication : vidéo]],'Def. Prix & Parcours'!$I$6:$M$28,2,FALSE)*Table3[[#This Row],[Points Communication : vidéo]]),\"\")","v":0},{"$f":"IF(Table3[[#This Row],[Parcours choisi]]<>\"\",(VLOOKUP(Table356[[#Headers],[Epreuve CAO]],'Def. Prix & Parcours'!$I$6:$M$28,2,FALSE)*Table3[[#This Row],[Points Epreuve CAO]]),\"\")","v":80},{"$f":"IF(Table3[[#This Row],[Parcours choisi]]<>\"\",(VLOOKUP(Table356[[#Headers],[Temps Réaction]],'Def. Prix & Parcours'!$I$6:$M$28,2,FALSE)*Table3[[#This Row],[Points Temps Réaction]]),\"\")","v":6},{"$f":"IF(Table3[[#This Row],[Parcours choisi]]<>\"\",(VLOOKUP(Table356[[#Headers],[Temps Course]],'Def. Prix & Parcours'!$I$6:$M$28,2,FALSE)*Table3[[#This Row],[Points Temps Course]]),\"\")","v":80},{"$f":"IF(Table3[[#This Row],[Parcours choisi]]<>\"\",(VLOOKUP(Table356[[#Headers],[Epreuve arrêt au stand]],'Def. Prix & Parcours'!$I$6:$M$28,2,FALSE)*Table3[[#This Row],[Points Epreuve arrêt au stand]]),\"\")","v":80},{"$f":"IF(Table3[[#This Row],[Parcours choisi]]<>\"\",(VLOOKUP(Table356[[#Headers],[Coup de Cœur]],'Def. Prix & Parcours'!$I$6:$M$28,2,FALSE)*Table3[[#This Row],[Points Coup de cœur]]),\"\")","v":0},null,{"$f":"IF(Table3[[#This Row],[Parcours choisi]]<>\"\",SUM(Table356[[#This Row],[Ingénierie et conception]:[1]]),\"\")","v":246},{"$f":"IF(Table3[[#This Row],[Parcours choisi]]<>\"\",_xlfn.RANK.EQ(Table356[[#This Row],[Total Prix Avenir]],Table356[Total Prix Avenir],0),\"\")","v":26}]
[4,{"$f":"Table3[[#This Row],[Nom équipe]]","v":"Back to the past"},{"$f":"Table3[[#This Row],[Etablissement]]","v":"Loritz Nancy"},{"$f":"Table3[[#This Row],[Type établissement]]","v":"L"},{"$f":"Table3[[#This Row],[Académie]]","v":"Nancy-Metz"},{"$f":"IF(Table3[[#This Row],[Parcours choisi]]<>\"\",Table3[[#This Row],[Parcours choisi]],\"\")","v":"T"},{"$f":"IF(Table3[[#This Row],[Parcours choisi]]<>\"\",(VLOOKUP(Table356[[#Headers],[Ingénierie et conception]],'Def. Prix & Parcours'!$I$6:$M$28,2,FALSE)*Table3[[#This Row],[Points Ingénierie et conception]]),\"\")","v":102},{"$f":"IF(Table3[[#This Row],[Parcours choisi]]<>\"\",(VLOOKUP(Table356[[#Headers],[Innovation mécanique]],'Def. Prix & Parcours'!$I$6:$M$28,2,FALSE)*Table3[[#This Row],[Points Innovation mécanique]]),\"\")","v":0},{"$f":"IF(Table3[[#This Row],[Parcours choisi]]<>\"\",(VLOOKUP(Table356[[#Headers],[Développement Durable]],'Def. Prix & Parcours'!$I$6:$M$28,2,FALSE)*Table3[[#This Row],[Points Développement Durable]]),\"\")","v":0},{"$f":"IF(Table3[[#This Row],[Parcours choisi]]<>\"\",(VLOOKUP(Table356[[#Headers],[Ingénierie de fabrication]],'Def. Prix & Parcours'!$I$6:$M$28,2,FALSE)*Table3[[#This Row],[Points Ingénierie de fabrication]]),\"\")","v":0},{"$f":"IF(Table3[[#This Row],[Parcours choisi]]<>\"\",(VLOOKUP(Table356[[#Headers],[Gestion de projet et collaborations]],'Def. Prix & Parcours'!$I$6:$M$28,2,FALSE)*Table3[[#This Row],[Points Gestion de projet et \ncollaborations]]),\"\")","v":70},{"$f":"IF(Table3[[#This Row],[Parcours choisi]]<>\"\",(VLOOKUP(Table356[[#Headers],[Présentation Orale]],'Def. Prix & Parcours'!$I$6:$M$28,2,FALSE)*Table3[[#This Row],[Points Présentation Orale]]),\"\")","v":70},{"$f":"IF(Table3[[#This Row],[Parcours choisi]]<>\"\",(VLOOKUP(Table356[[#Headers],[Identité Equipe]],'Def. Prix & Parcours'!$I$6:$M$28,2,FALSE)*Table3[[#This Row],[Points Identité Equipe]]),\"\")","v":80},{"$f":"IF(Table3[[#This Row],[Parcours choisi]]<>\"\",(VLOOKUP(Table356[[#Headers],[Design du Stand]],'Def. Prix & Parcours'!$I$6:$M$28,2,FALSE)*Table3[[#This Row],[Points Design du Stand]]),\"\")","v":0},{"$f":"IF(Table3[[#This Row],[Parcours choisi]]<>\"\",(VLOOKUP(Table356[[#Headers],[Portfolio]],'Def. Prix & Parcours'!$I$6:$M$28,2,FALSE)*Table3[[#This Row],[Points Portfolio]]),\"\")","v":0},{"$f":"IF(Table3[[#This Row],[Parcours choisi]]<>\"\",(VLOOKUP(Table356[[#Headers],[Marketing et Sponsoring]],'Def. Prix & Parcours'!$I$6:$M$28,2,FALSE)*Table3[[#This Row],[Points Marketing et Sponsoring]]),\"\")","v":0},{"$f":"IF(Table3[[#This Row],[Parcours choisi]]<>\"\",(VLOOKUP(Table356[[#Headers],[Budget]],'Def. Prix & Parcours'!$I$6:$M$28,2,FALSE)*Table3[[#This Row],[Points Budget]]),\"\")","v":0},{"$f":"IF(Table3[[#This Row],[Parcours choisi]]<>\"\",(VLOOKUP(Table356[[#Headers],[Design du Véhicule]],'Def. Prix & Parcours'!$I$6:$M$28,2,FALSE)*Table3[[#This Row],[Points Design du Véhicule]]),\"\")","v":0},{"$f":"IF(Table3[[#This Row],[Parcours choisi]]<>\"\",(VLOOKUP(Table356[[#Headers],[Innovation numérique]],'Def. Prix & Parcours'!$I$6:$M$28,2,FALSE)*Table3[[#This Row],[Points Innovation numérique]]),\"\")","v":0},{"$f":"IF(Table3[[#This Row],[Parcours choisi]]<>\"\",(VLOOKUP(Table356[[#Headers],[Programmation]],'Def. Prix & Parcours'!$I$6:$M$28,2,FALSE)*Table3[[#This Row],[Points Programmation]]),\"\")","v":0},{"$f":"IF(Table3[[#This Row],[Parcours choisi]]<>\"\",(VLOOKUP(Table356[[#Headers],[Respect du règlement]],'Def. Prix & Parcours'!$I$6:$M$28,2,FALSE)*Table3[[#This Row],[Points Respect du règlement]]),\"\")","v":90},{"$f":"IF(Table3[[#This Row],[Parcours choisi]]<>\"\",(VLOOKUP(Table356[[#Headers],[Communication : vidéo]],'Def. Prix & Parcours'!$I$6:$M$28,2,FALSE)*Table3[[#This Row],[Points Communication : vidéo]]),\"\")","v":51},{"$f":"IF(Table3[[#This Row],[Parcours choisi]]<>\"\",(VLOOKUP(Table356[[#Headers],[Epreuve CAO]],'Def. Prix & Parcours'!$I$6:$M$28,2,FALSE)*Table3[[#This Row],[Points Epreuve CAO]]),\"\")","v":80},{"$f":"IF(Table3[[#This Row],[Parcours choisi]]<>\"\",(VLOOKUP(Table356[[#Headers],[Temps Réaction]],'Def. Prix & Parcours'!$I$6:$M$28,2,FALSE)*Table3[[#This Row],[Points Temps Réaction]]),\"\")","v":6},{"$f":"IF(Table3[[#This Row],[Parcours choisi]]<>\"\",(VLOOKUP(Table356[[#Headers],[Temps Course]],'Def. Prix & Parcours'!$I$6:$M$28,2,FALSE)*Table3[[#This Row],[Points Temps Course]]),\"\")","v":100},{"$f":"IF(Table3[[#This Row],[Parcours choisi]]<>\"\",(VLOOKUP(Table356[[#Headers],[Epreuve arrêt au stand]],'Def. Prix & Parcours'!$I$6:$M$28,2,FALSE)*Table3[[#This Row],[Points Epreuve arrêt au stand]]),\"\")","v":80},{"$f":"IF(Table3[[#This Row],[Parcours choisi]]<>\"\",(VLOOKUP(Table356[[#Headers],[Coup de Cœur]],'Def. Prix & Parcours'!$I$6:$M$28,2,FALSE)*Table3[[#This Row],[Points Coup de cœur]]),\"\")","v":0},null,{"$f":"IF(Table3[[#This Row],[Parcours choisi]]<>\"\",SUM(Table356[[#This Row],[Ingénierie et conception]:[1]]),\"\")","v":729},{"$f":"IF(Table3[[#This Row],[Parcours choisi]]<>\"\",_xlfn.RANK.EQ(Table356[[#This Row],[Total Prix Avenir]],Table356[Total Prix Avenir],0),\"\")","v":16}]
[5,{"$f":"Table3[[#This Row],[Nom équipe]]","v":"Ionix"},{"$f":"Table3[[#This Row],[Etablissement]]","v":"Loritz Nancy"},{"$f":"Table3[[#This Row],[Type établissement]]","v":"L"},{"$f":"Table3[[#This Row],[Académie]]","v":"Nancy-Metz"},{"$f":"IF(Table3[[#This Row],[Parcours choisi]]<>\"\",Table3[[#This Row],[Parcours choisi]],\"\")","v":"T"},{"$f":"IF(Table3[[#This Row],[Parcours choisi]]<>\"\",(VLOOKUP(Table356[[#Headers],[Ingénierie et conception]],'Def. Prix & Parcours'!$I$6:$M$28,2,FALSE)*Table3[[#This Row],[Points Ingénierie et conception]]),\"\")","v":84},{"$f":"IF(Table3[[#This Row],[Parcours choisi]]<>\"\",(VLOOKUP(Table356[[#Headers],[Innovation mécanique]],'Def. Prix & Parcours'!$I$6:$M$28,2,FALSE)*Table3[[#This Row],[Points Innovation mécanique]]),\"\")","v":0},{"$f":"IF(Table3[[#This Row],[Parcours choisi]]<>\"\",(VLOOKUP(Table356[[#Headers],[Développement Durable]],'Def. Prix & Parcours'!$I$6:$M$28,2,FALSE)*Table3[[#This Row],[Points Développement Durable]]),\"\")","v":0},{"$f":"IF(Table3[[#This Row],[Parcours choisi]]<>\"\",(VLOOKUP(Table356[[#Headers],[Ingénierie de fabrication]],'Def. Prix & Parcours'!$I$6:$M$28,2,FALSE)*Table3[[#This Row],[Points Ingénierie de fabrication]]),\"\")","v":0},{"$f":"IF(Table3[[#This Row],[Parcours choisi]]<>\"\",(VLOOKUP(Table356[[#Headers],[Gestion de projet et collaborations]],'Def. Prix & Parcours'!$I$6:$M$28,2,FALSE)*Table3[[#This Row],[Points Gestion de projet et \ncollaborations]]),\"\")","v":80},{"$f":"IF(Table3[[#This Row],[Parcours choisi]]<>\"\",(VLOOKUP(Table356[[#Headers],[Présentation Orale]],'Def. Prix & Parcours'!$I$6:$M$28,2,FALSE)*Table3[[#This Row],[Points Présentation Orale]]),\"\")","v":65},{"$f":"IF(Table3[[#This Row],[Parcours choisi]]<>\"\",(VLOOKUP(Table356[[#Headers],[Identité Equipe]],'Def. Prix & Parcours'!$I$6:$M$28,2,FALSE)*Table3[[#This Row],[Points Identité Equipe]]),\"\")","v":55},{"$f":"IF(Table3[[#This Row],[Parcours choisi]]<>\"\",(VLOOKUP(Table356[[#Headers],[Design du Stand]],'Def. Prix & Parcours'!$I$6:$M$28,2,FALSE)*Table3[[#This Row],[Points Design du Stand]]),\"\")","v":0},{"$f":"IF(Table3[[#This Row],[Parcours choisi]]<>\"\",(VLOOKUP(Table356[[#Headers],[Portfolio]],'Def. Prix & Parcours'!$I$6:$M$28,2,FALSE)*Table3[[#This Row],[Points Portfolio]]),\"\")","v":0},{"$f":"IF(Table3[[#This Row],[Parcours choisi]]<>\"\",(VLOOKUP(Table356[[#Headers],[Marketing et Sponsoring]],'Def. Prix & Parcours'!$I$6:$M$28,2,FALSE)*Table3[[#This Row],[Points Marketing et Sponsoring]]),\"\")","v":0},{"$f":"IF(Table3[[#This Row],[Parcours choisi]]<>\"\",(VLOOKUP(Table356[[#Headers],[Budget]],'Def. Prix & Parcours'!$I$6:$M$28,2,FALSE)*Table3[[#This Row],[Points Budget]]),\"\")","v":0},{"$f":"IF(Table3[[#This Row],[Parcours choisi]]<>\"\",(VLOOKUP(Table356[[#Headers],[Design du Véhicule]],'Def. Prix & Parcours'!$I$6:$M$28,2,FALSE)*Table3[[#This Row],[Points Design du Véhicule]]),\"\")","v":0},{"$f":"IF(Table3[[#This Row],[Parcours choisi]]<>\"\",(VLOOKUP(Table356[[#Headers],[Innovation numérique]],'Def. Prix & Parcours'!$I$6:$M$28,2,FALSE)*Table3[[#This Row],[Points Innovation numérique]]),\"\")","v":0},{"$f":"IF(Table3[[#This Row],[Parcours choisi]]<>\"\",(VLOOKUP(Table356[[#Headers],[Programmation]],'Def. Prix & Parcours'!$I$6:$M$28,2,FALSE)*Table3[[#This Row],[Points Programmation]]),\"\")","v":0},{"$f":"IF(Table3[[#This Row],[Parcours choisi]]<>\"\",(VLOOKUP(Table356[[#Headers],[Respect du règlement]],'Def. Prix & Parcours'!$I$6:$M$28,2,FALSE)*Table3[[#This Row],[Points Respect du règlement]]),\"\")","v":100},{"$f":"IF(Table3[[#This Row],[Parcours choisi]]<>\"\",(VLOOKUP(Table356[[#Headers],[Communication : vidéo]],'Def. Prix & Parcours'!$I$6:$M$28,2,FALSE)*Table3[[#This Row],[Points Communication : vidéo]]),\"\")","v":48},{"$f":"IF(Table3[[#This Row],[Parcours choisi]]<>\"\",(VLOOKUP(Table356[[#Headers],[Epreuve CAO]],'Def. Prix & Parcours'!$I$6:$M$28,2,FALSE)*Table3[[#This Row],[Points Epreuve CAO]]),\"\")","v":80},{"$f":"IF(Table3[[#This Row],[Parcours choisi]]<>\"\",(VLOOKUP(Table356[[#Headers],[Temps Réaction]],'Def. Prix & Parcours'!$I$6:$M$28,2,FALSE)*Table3[[#This Row],[Points Temps Réaction]]),\"\")","v":18},{"$f":"IF(Table3[[#This Row],[Parcours choisi]]<>\"\",(VLOOKUP(Table356[[#Headers],[Temps Course]],'Def. Prix & Parcours'!$I$6:$M$28,2,FALSE)*Table3[[#This Row],[Points Temps Course]]),\"\")","v":90},{"$f":"IF(Table3[[#This Row],[Parcours choisi]]<>\"\",(VLOOKUP(Table356[[#Headers],[Epreuve arrêt au stand]],'Def. Prix & Parcours'!$I$6:$M$28,2,FALSE)*Table3[[#This Row],[Points Epreuve arrêt au stand]]),\"\")","v":80},{"$f":"IF(Table3[[#This Row],[Parcours choisi]]<>\"\",(VLOOKUP(Table356[[#Headers],[Coup de Cœur]],'Def. Prix & Parcours'!$I$6:$M$28,2,FALSE)*Table3[[#This Row],[Points Coup de cœur]]),\"\")","v":0},null,{"$f":"IF(Table3[[#This Row],[Parcours choisi]]<>\"\",SUM(Table356[[#This Row],[Ingénierie et conception]:[1]]),\"\")","v":700},{"$f":"IF(Table3[[#This Row],[Parcours choisi]]<>\"\",_xlfn.RANK.EQ(Table356[[#This Row],[Total Prix Avenir]],Table356[Total Prix Avenir],0),\"\")","v":18}]
[6,{"$f":"Table3[[#This Row],[Nom équipe]]","v":"Pavisado"},{"$f":"Table3[[#This Row],[Etablissement]]","v":"Loritz Nancy"},{"$f":"Table3[[#This Row],[Type établissement]]","v":"L"},{"$f":"Table3[[#This Row],[Académie]]","v":"Nancy-Metz"},{"$f":"IF(Table3[[#This Row],[Parcours choisi]]<>\"\",Table3[[#This Row],[Parcours choisi]],\"\")","v":"T"},{"$f":"IF(Table3[[#This Row],[Parcours choisi]]<>\"\",(VLOOKUP(Table356[[#Headers],[Ingénierie et conception]],'Def. Prix & Parcours'!$I$6:$M$28,2,FALSE)*Table3[[#This Row],[Points Ingénierie et conception]]),\"\")","v":0},{"$f":"IF(Table3[[#This Row],[Parcours choisi]]<>\"\",(VLOOKUP(Table356[[#Headers],[Innovation mécanique]],'Def. Prix & Parcours'!$I$6:$M$28,2,FALSE)*Table3[[#This Row],[Points Innovation mécanique]]),\"\")","v":0},{"$f":"IF(Table3[[#This Row],[Parcours choisi]]<>\"\",(VLOOKUP(Table356[[#Headers],[Développement Durable]],'Def. Prix & Parcours'!$I$6:$M$28,2,FALSE)*Table3[[#This Row],[Points Développement Durable]]),\"\")","v":0},{"$f":"IF(Table3[[#This Row],[Parcours choisi]]<>\"\",(VLOOKUP(Table356[[#Headers],[Ingénierie de fabrication]],'Def. Prix & Parcours'!$I$6:$M$28,2,FALSE)*Table3[[#This Row],[Points Ingénierie de fabrication]]),\"\")","v":0},{"$f":"IF(Table3[[#This Row],[Parcours choisi]]<>\"\",(VLOOKUP(Table356[[#Headers],[Gestion de projet et collaborations]],'Def. Prix & Parcours'!$I$6:$M$28,2,FALSE)*Table3[[#This Row],[Points Gestion de projet et \ncollaborations]]),\"\")","v":0},{"$f":"IF(Table3[[#This Row],[Parcours choisi]]<>\"\",(VLOOKUP(Table356[[#Headers],[Présentation Orale]],'Def. Prix & Parcours'!$I$6:$M$28,2,FALSE)*Table3[[#This Row],[Points Présentation Orale]]),\"\")","v":0},{"$f":"IF(Table3[[#This Row],[Parcours choisi]]<>\"\",(VLOOKUP(Table356[[#Headers],[Identité Equipe]],'Def. Prix & Parcours'!$I$6:$M$28,2,FALSE)*Table3[[#This Row],[Points Identité Equipe]]),\"\")","v":0},{"$f":"IF(Table3[[#This Row],[Parcours choisi]]<>\"\",(VLOOKUP(Table356[[#Headers],[Design du Stand]],'Def. Prix & Parcours'!$I$6:$M$28,2,FALSE)*Table3[[#This Row],[Points Design du Stand]]),\"\")","v":0},{"$f":"IF(Table3[[#This Row],[Parcours choisi]]<>\"\",(VLOOKUP(Table356[[#Headers],[Portfolio]],'Def. Prix & Parcours'!$I$6:$M$28,2,FALSE)*Table3[[#This Row],[Points Portfolio]]),\"\")","v":0},{"$f":"IF(Table3[[#This Row],[Parcours choisi]]<>\"\",(VLOOKUP(Table356[[#Headers],[Marketing et Sponsoring]],'Def. Prix & Parcours'!$I$6:$M$28,2,FALSE)*Table3[[#This Row],[Points Marketing et Sponsoring]]),\"\")","v":0},{"$f":"IF(Table3[[#This Row],[Parcours choisi]]<>\"\",(VLOOKUP(Table356[[#Headers],[Budget]],'Def. Prix & Parcours'!$I$6:$M$28,2,FALSE)*Table3[[#This Row],[Points Budget]]),\"\")","v":0},{"$f":"IF(Table3[[#This Row],[Parcours choisi]]<>\"\",(VLOOKUP(Table356[[#Headers],[Design du Véhicule]],'Def. Prix & Parcours'!$I$6:$M$28,2,FALSE)*Table3[[#This Row],[Points Design du Véhicule]]),\"\")","v":0},{"$f":"IF(Table3[[#This Row],[Parcours choisi]]<>\"\",(VLOOKUP(Table356[[#Headers],[Innovation numérique]],'Def. Prix & Parcours'!$I$6:$M$28,2,FALSE)*Table3[[#This Row],[Points Innovation numérique]]),\"\")","v":0},{"$f":"IF(Table3[[#This Row],[Parcours choisi]]<>\"\",(VLOOKUP(Table356[[#Headers],[Programmation]],'Def. Prix & Parcours'!$I$6:$M$28,2,FALSE)*Table3[[#This Row],[Points Programmation]]),\"\")","v":0},{"$f":"IF(Table3[[#This Row],[Parcours choisi]]<>\"\",(VLOOKUP(Table356[[#Headers],[Respect du règlement]],'Def. Prix & Parcours'!$I$6:$M$28,2,FALSE)*Table3[[#This Row],[Points Respect du règlement]]),\"\")","v":0},{"$f":"IF(Table3[[#This Row],[Parcours choisi]]<>\"\",(VLOOKUP(Table356[[#Headers],[Communication : vidéo]],'Def. Prix & Parcours'!$I$6:$M$28,2,FALSE)*Table3[[#This Row],[Points Communication : vidéo]]),\"\")","v":0},{"$f":"IF(Table3[[#This Row],[Parcours choisi]]<>\"\",(VLOOKUP(Table356[[#Headers],[Epreuve CAO]],'Def. Prix & Parcours'!$I$6:$M$28,2,FALSE)*Table3[[#This Row],[Points Epreuve CAO]]),\"\")","v":80},{"$f":"IF(Table3[[#This Row],[Parcours choisi]]<>\"\",(VLOOKUP(Table356[[#Headers],[Temps Réaction]],'Def. Prix & Parcours'!$I$6:$M$28,2,FALSE)*Table3[[#This Row],[Points Temps Réaction]]),\"\")","v":6},{"$f":"IF(Table3[[#This Row],[Parcours choisi]]<>\"\",(VLOOKUP(Table356[[#Headers],[Temps Course]],'Def. Prix & Parcours'!$I$6:$M$28,2,FALSE)*Table3[[#This Row],[Points Temps Course]]),\"\")","v":80},{"$f":"IF(Table3[[#This Row],[Parcours choisi]]<>\"\",(VLOOKUP(Table356[[#Headers],[Epreuve arrêt au stand]],'Def. Prix & Parcours'!$I$6:$M$28,2,FALSE)*Table3[[#This Row],[Points Epreuve arrêt au stand]]),\"\")","v":80},{"$f":"IF(Table3[[#This Row],[Parcours choisi]]<>\"\",(VLOOKUP(Table356[[#Headers],[Coup de Cœur]],'Def. Prix & Parcours'!$I$6:$M$28,2,FALSE)*Table3[[#This Row],[Points Coup de cœur]]),\"\")","v":0},null,{"$f":"IF(Table3[[#This Row],[Parcours choisi]]<>\"\",SUM(Table356[[#This Row],[Ingénierie et conception]:[1]]),\"\")","v":246},{"$f":"IF(Table3[[#This Row],[Parcours choisi]]<>\"\",_xlfn.RANK.EQ(Table356[[#This Row],[Total Prix Avenir]],Table356[Total Prix Avenir],0),\"\")","v":26}]
[7,{"$f":"Table3[[#This Row],[Nom équipe]]","v":"Les Toucaninos"},{"$f":"Table3[[#This Row],[Etablissement]]","v":"Jean Lamour Nancy"},{"$f":"Table3[[#This Row],[Type établissement]]","v":"C"},{"$f":"Table3[[#This Row],[Académie]]","v":"Nancy-Metz"},{"$f":"IF(Table3[[#This Row],[Parcours choisi]]<>\"\",Table3[[#This Row],[Parcours choisi]],\"\")","v":"G"},{"$f":"IF(Table3[[#This Row],[Parcours choisi]]<>\"\",(VLOOKUP(Table356[[#Headers],[Ingénierie et conception]],'Def. Prix & Parcours'!$I$6:$M$28,2,FALSE)*Table3[[#This Row],[Points Ingénierie et conception]]),\"\")","v":108},{"$f":"IF(Table3[[#This Row],[Parcours choisi]]<>\"\",(VLOOKUP(Table356[[#Headers],[Innovation mécanique]],'Def. Prix & Parcours'!$I$6:$M$28,2,FALSE)*Table3[[#This Row],[Points Innovation mécanique]]),\"\")","v":0},{"$f":"IF(Table3[[#This Row],[Parcours choisi]]<>\"\",(VLOOKUP(Table356[[#Headers],[Développement Durable]],'Def. Prix & Parcours'!$I$6:$M$28,2,FALSE)*Table3[[#This Row],[Points Développement Durable]]),\"\")","v":0},{"$f":"IF(Table3[[#This Row],[Parcours choisi]]<>\"\",(VLOOKUP(Table356[[#Headers],[Ingénierie de fabrication]],'Def. Prix & Parcours'!$I$6:$M$28,2,FALSE)*Table3[[#This Row],[Points Ingénierie de fabrication]]),\"\")","v":0},{"$f":"IF(Table3[[#This Row],[Parcours choisi]]<>\"\",(VLOOKUP(Table356[[#Headers],[Gestion de projet et collaborations]],'Def. Prix & Parcours'!$I$6:$M$28,2,FALSE)*Table3[[#This Row],[Points Gestion de projet et \ncollaborations]]),\"\")","v":95},{"$f":"IF(Table3[[#This Row],[Parcours choisi]]<>\"\",(VLOOKUP(Table356[[#Headers],[Présentation Orale]],'Def. Prix & Parcours'!$I$6:$M$28,2,FALSE)*Table3[[#This Row],[Points Présentation Orale]]),\"\")","v":95},{"$f":"IF(Table3[[#This Row],[Parcours choisi]]<>\"\",(VLOOKUP(Table356[[#Headers],[Identité Equipe]],'Def. Prix & Parcours'!$I$6:$M$28,2,FALSE)*Table3[[#This Row],[Points Identité Equipe]]),\"\")","v":75},{"$f":"IF(Table3[[#This Row],[Parcours choisi]]<>\"\",(VLOOKUP(Table356[[#Headers],[Design du Stand]],'Def. Prix & Parcours'!$I$6:$M$28,2,FALSE)*Table3[[#This Row],[Points Design du Stand]]),\"\")","v":0},{"$f":"IF(Table3[[#This Row],[Parcours choisi]]<>\"\",(VLOOKUP(Table356[[#Headers],[Portfolio]],'Def. Prix & Parcours'!$I$6:$M$28,2,FALSE)*Table3[[#This Row],[Points Portfolio]]),\"\")","v":0},{"$f":"IF(Table3[[#This Row],[Parcours choisi]]<>\"\",(VLOOKUP(Table356[[#Headers],[Marketing et Sponsoring]],'Def. Prix & Parcours'!$I$6:$M$28,2,FALSE)*Table3[[#This Row],[Points Marketing et Sponsoring]]),\"\")","v":0},{"$f":"IF(Table3[[#This Row],[Parcours choisi]]<>\"\",(VLOOKUP(Table356[[#Headers],[Budget]],'Def. Prix & Parcours'!$I$6:$M$28,2,FALSE)*Table3[[#This Row],[Points Budget]]),\"\")","v":0},{"$f":"IF(Table3[[#This Row],[Parcours choisi]]<>\"\",(VLOOKUP(Table356[[#Headers],[Design du Véhicule]],'Def. Prix & Parcours'!$I$6:$M$28,2,FALSE)*Table3[[#This Row],[Points Design du Véhicule]]),\"\")","v":0},{"$f":"IF(Table3[[#This Row],[Parcours choisi]]<>\"\",(VLOOKUP(Table356[[#Headers],[Innovation numérique]],'Def. Prix & Parcours'!$I$6:$M$28,2,FALSE)*Table3[[#This Row],[Points Innovation numérique]]),\"\")","v":0},{"$f":"IF(Table3[[#This Row],[Parcours choisi]]<>\"\",(VLOOKUP(Table356[[#Headers],[Programmation]],'Def. Prix & Parcours'!$I$6:$M$28,2,FALSE)*Table3[[#This Row],[Points Programmation]]),\"\")","v":0},{"$f":"IF(Table3[[#This Row],[Parcours choisi]]<>\"\",(VLOOKUP(Table356[[#Headers],[Respect du règlement]],'Def. Prix & Parcours'!$I$6:$M$28,2,FALSE)*Table3[[#This Row],[Points Respect du règlement]]),\"\")","v":70},{"$f":"IF(Table3[[#This Row],[Parcours choisi]]<>\"\",(VLOOKUP(Table356[[#Headers],[Communication : vidéo]],'Def. Prix & Parcours'!$I$6:$M$28,2,FALSE)*Table3[[#This Row],[Points Communication : vidéo]]),\"\")","v":42},{"$f":"IF(Table3[[#This Row],[Parcours choisi]]<>\"\",(VLOOKUP(Table356[[#Headers],[Epreuve CAO]],'Def. Prix & Parcours'!$I$6:$M$28,2,FALSE)*Table3[[#This Row],[Points Epreuve CAO]]),\"\")","v":80},{"$f":"IF(Table3[[#This Row],[Parcours choisi]]<>\"\",(VLOOKUP(Table356[[#Headers],[Temps Réaction]],'Def. Prix & Parcours'!$I$6:$M$28,2,FALSE)*Table3[[#This Row],[Points Temps Réaction]]),\"\")","v":6},{"$f":"IF(Table3[[#This Row],[Parcours choisi]]<>\"\",(VLOOKUP(Table356[[#Headers],[Temps Course]],'Def. Prix & Parcours'!$I$6:$M$28,2,FALSE)*Table3[[#This Row],[Points Temps Course]]),\"\")","v":100},{"$f":"IF(Table3[[#This Row],[Parcours choisi]]<>\"\",(VLOOKUP(Table356[[#Headers],[Epreuve arrêt au stand]],'Def. Prix & Parcours'!$I$6:$M$28,2,FALSE)*Table3[[#This Row],[Points Epreuve arrêt au stand]]),\"\")","v":80},{"$f":"IF(Table3[[#This Row],[Parcours choisi]]<>\"\",(VLOOKUP(Table356[[#Headers],[Coup de Cœur]],'Def. Prix & Parcours'!$I$6:$M$28,2,FALSE)*Table3[[#This Row],[Points Coup de cœur]]),\"\")","v":0},null,{"$f":"IF(Table3[[#This Row],[Parcours choisi]]<>\"\",SUM(Table356[[#This Row],[Ingénierie et conception]:[1]]),\"\")","v":751},{"$f":"IF(Table3[[#This Row],[Parcours choisi]]<>\"\",_xlfn.RANK.EQ(Table356[[#This Row],[Total Prix Avenir]],Table356[Total Prix Avenir],0),\"\")","v":13}]
[8,{"$f":"Table3[[#This Row],[Nom équipe]]","v":"Les Daltram"},{"$f":"Table3[[#This Row],[Etablissement]]","v":"Jean Lamour Nancy"},{"$f":"Table3[[#This Row],[Type établissement]]","v":"C"},{"$f":"Table3[[#This Row],[Académie]]","v":"Nancy-Metz"},{"$f":"IF(Table3[[#This Row],[Parcours choisi]]<>\"\",Table3[[#This Row],[Parcours choisi]],\"\")","v":"G"},{"$f":"IF(Table3[[#This Row],[Parcours choisi]]<>\"\",(VLOOKUP(Table356[[#Headers],[Ingénierie et conception]],'Def. Prix & Parcours'!$I$6:$M$28,2,FALSE)*Table3[[#This Row],[Points Ingénierie et conception]]),\"\")","v":90},{"$f":"IF(Table3[[#This Row],[Parcours choisi]]<>\"\",(VLOOKUP(Table356[[#Headers],[Innovation mécanique]],'Def. Prix & Parcours'!$I$6:$M$28,2,FALSE)*Table3[[#This Row],[Points Innovation mécanique]]),\"\")","v":0},{"$f":"IF(Table3[[#This Row],[Parcours choisi]]<>\"\",(VLOOKUP(Table356[[#Headers],[Développement Durable]],'Def. Prix & Parcours'!$I$6:$M$28,2,FALSE)*Table3[[#This Row],[Points Développement Durable]]),\"\")","v":0},{"$f":"IF(Table3[[#This Row],[Parcours choisi]]<>\"\",(VLOOKUP(Table356[[#Headers],[Ingénierie de fabrication]],'Def. Prix & Parcours'!$I$6:$M$28,2,FALSE)*Table3[[#This Row],[Points Ingénierie de fabrication]]),\"\")","v":0},{"$f":"IF(Table3[[#This Row],[Parcours choisi]]<>\"\",(VLOOKUP(Table356[[#Headers],[Gestion de projet et collaborations]],'Def. Prix & Parcours'!$I$6:$M$28,2,FALSE)*Table3[[#This Row],[Points Gestion de projet et \ncollaborations]]),\"\")","v":70},{"$f":"IF(Table3[[#This Row],[Parcours choisi]]<>\"\",(VLOOKUP(Table356[[#Headers],[Présentation Orale]],'Def. Prix & Parcours'!$I$6:$M$28,2,FALSE)*Table3[[#This Row],[Points Présentation Orale]]),\"\")","v":85},{"$f":"IF(Table3[[#This Row],[Parcours choisi]]<>\"\",(VLOOKUP(Table356[[#Headers],[Identité Equipe]],'Def. Prix & Parcours'!$I$6:$M$28,2,FALSE)*Table3[[#This Row],[Points Identité Equipe]]),\"\")","v":90},{"$f":"IF(Table3[[#This Row],[Parcours choisi]]<>\"\",(VLOOKUP(Table356[[#Headers],[Design du Stand]],'Def. Prix & Parcours'!$I$6:$M$28,2,FALSE)*Table3[[#This Row],[Points Design du Stand]]),\"\")","v":0},{"$f":"IF(Table3[[#This Row],[Parcours choisi]]<>\"\",(VLOOKUP(Table356[[#Headers],[Portfolio]],'Def. Prix & Parcours'!$I$6:$M$28,2,FALSE)*Table3[[#This Row],[Points Portfolio]]),\"\")","v":0},{"$f":"IF(Table3[[#This Row],[Parcours choisi]]<>\"\",(VLOOKUP(Table356[[#Headers],[Marketing et Sponsoring]],'Def. Prix & Parcours'!$I$6:$M$28,2,FALSE)*Table3[[#This Row],[Points Marketing et Sponsoring]]),\"\")","v":0},{"$f":"IF(Table3[[#This Row],[Parcours choisi]]<>\"\",(VLOOKUP(Table356[[#Headers],[Budget]],'Def. Prix & Parcours'!$I$6:$M$28,2,FALSE)*Table3[[#This Row],[Points Budget]]),\"\")","v":0},{"$f":"IF(Table3[[#This Row],[Parcours choisi]]<>\"\",(VLOOKUP(Table356[[#Headers],[Design du Véhicule]],'Def. Prix & Parcours'!$I$6:$M$28,2,FALSE)*Table3[[#This Row],[Points Design du Véhicule]]),\"\")","v":0},{"$f":"IF(Table3[[#This Row],[Parcours choisi]]<>\"\",(VLOOKUP(Table356[[#Headers],[Innovation numérique]],'Def. Prix & Parcours'!$I$6:$M$28,2,FALSE)*Table3[[#This Row],[Points Innovation numérique]]),\"\")","v":0},{"$f":"IF(Table3[[#This Row],[Parcours choisi]]<>\"\",(VLOOKUP(Table356[[#Headers],[Programmation]],'Def. Prix & Parcours'!$I$6:$M$28,2,FALSE)*Table3[[#This Row],[Points Programmation]]),\"\")","v":0},{"$f":"IF(Table3[[#This Row],[Parcours choisi]]<>\"\",(VLOOKUP(Table356[[#Headers],[Respect du règlement]],'Def. Prix & Parcours'!$I$6:$M$28,2,FALSE)*Table3[[#This Row],[Points Respect du règlement]]),\"\")","v":100},{"$f":"IF(Table3[[#This Row],[Parcours choisi]]<>\"\",(VLOOKUP(Table356[[#Headers],[Communication : vidéo]],'Def. Prix & Parcours'!$I$6:$M$28,2,FALSE)*Table3[[#This Row],[Points Communication : vidéo]]),\"\")","v":51},{"$f":"IF(Table3[[#This Row],[Parcours choisi]]<>\"\",(VLOOKUP(Table356[[#Headers],[Epreuve CAO]],'Def. Prix & Parcours'!$I$6:$M$28,2,FALSE)*Table3[[#This Row],[Points Epreuve CAO]]),\"\")","v":80},{"$f":"IF(Table3[[#This Row],[Parcours choisi]]<>\"\",(VLOOKUP(Table356[[#Headers],[Temps Réaction]],'Def. Prix & Parcours'!$I$6:$M$28,2,FALSE)*Table3[[#This Row],[Points Temps Réaction]]),\"\")","v":18},{"$f":"IF(Table3[[#This Row],[Parcours choisi]]<>\"\",(VLOOKUP(Table356[[#Headers],[Temps Course]],'Def. Prix & Parcours'!$I$6:$M$28,2,FALSE)*Table3[[#This Row],[Points Temps Course]]),\"\")","v":200},{"$f":"IF(Table3[[#This Row],[Parcours choisi]]<>\"\",(VLOOKUP(Table356[[#Headers],[Epreuve arrêt au stand]],'Def. Prix & Parcours'!$I$6:$M$28,2,FALSE)*Table3[[#This Row],[Points Epreuve arrêt au stand]]),\"\")","v":80},{"$f":"IF(Table3[[#This Row],[Parcours choisi]]<>\"\",(VLOOKUP(Table356[[#Headers],[Coup de Cœur]],'Def. Prix & Parcours'!$I$6:$M$28,2,FALSE)*Table3[[#This Row],[Points Coup de cœur]]),\"\")","v":0},null,{"$f":"IF(Table3[[#This Row],[Parcours choisi]]<>\"\",SUM(Table356[[#This Row],[Ingénierie et conception]:[1]]),\"\")","v":864},{"$f":"IF(Table3[[#This Row],[Parcours choisi]]<>\"\",_xlfn.RANK.EQ(Table356[[#This Row],[Total Prix Avenir]],Table356[Total Prix Avenir],0),\"\")","v":1}]
[9,{"$f":"Table3[[#This Row],[Nom équipe]]","v":"Droit devant"},{"$f":"Table3[[#This Row],[Etablissement]]","v":"Boutet Lunéville"},{"$f":"Table3[[#This Row],[Type établissement]]","v":"L"},{"$f":"Table3[[#This Row],[Académie]]","v":"Nancy-Metz"},{"$f":"IF(Table3[[#This Row],[Parcours choisi]]<>\"\",Table3[[#This Row],[Parcours choisi]],\"\")","v":"T"},{"$f":"IF(Table3[[#This Row],[Parcours choisi]]<>\"\",(VLOOKUP(Table356[[#Headers],[Ingénierie et conception]],'Def. Prix & Parcours'!$I$6:$M$28,2,FALSE)*Table3[[#This Row],[Points Ingénierie et conception]]),\"\")","v":0},{"$f":"IF(Table3[[#This Row],[Parcours choisi]]<>\"\",(VLOOKUP(Table356[[#Headers],[Innovation mécanique]],'Def. Prix & Parcours'!$I$6:$M$28,2,FALSE)*Table3[[#This Row],[Points Innovation mécanique]]),\"\")","v":0},{"$f":"IF(Table3[[#This Row],[Parcours choisi]]<>\"\",(VLOOKUP(Table356[[#Headers],[Développement Durable]],'Def. Prix & Parcours'!$I$6:$M$28,2,FALSE)*Table3[[#This Row],[Points Développement Durable]]),\"\")","v":0},{"$f":"IF(Table3[[#This Row],[Parcours choisi]]<>\"\",(VLOOKUP(Table356[[#Headers],[Ingénierie de fabrication]],'Def. Prix & Parcours'!$I$6:$M$28,2,FALSE)*Table3[[#This Row],[Points Ingénierie de fabrication]]),\"\")","v":0},{"$f":"IF(Table3[[#This Row],[Parcours choisi]]<>\"\",(VLOOKUP(Table356[[#Headers],[Gestion de projet et collaborations]],'Def. Prix & Parcours'!$I$6:$M$28,2,FALSE)*Table3[[#This Row],[Points Gestion de projet et \ncollaborations]]),\"\")","v":0},{"$f":"IF(Table3[[#This Row],[Parcours choisi]]<>\"\",(VLOOKUP(Table356[[#Headers],[Présentation Orale]],'Def. Prix & Parcours'!$I$6:$M$28,2,FALSE)*Table3[[#This Row],[Points Présentation Orale]]),\"\")","v":0},{"$f":"IF(Table3[[#This Row],[Parcours choisi]]<>\"\",(VLOOKUP(Table356[[#Headers],[Identité Equipe]],'Def. Prix & Parcours'!$I$6:$M$28,2,FALSE)*Table3[[#This Row],[Points Identité Equipe]]),\"\")","v":0},{"$f":"IF(Table3[[#This Row],[Parcours choisi]]<>\"\",(VLOOKUP(Table356[[#Headers],[Design du Stand]],'Def. Prix & Parcours'!$I$6:$M$28,2,FALSE)*Table3[[#This Row],[Points Design du Stand]]),\"\")","v":0},{"$f":"IF(Table3[[#This Row],[Parcours choisi]]<>\"\",(VLOOKUP(Table356[[#Headers],[Portfolio]],'Def. Prix & Parcours'!$I$6:$M$28,2,FALSE)*Table3[[#This Row],[Points Portfolio]]),\"\")","v":0},{"$f":"IF(Table3[[#This Row],[Parcours choisi]]<>\"\",(VLOOKUP(Table356[[#Headers],[Marketing et Sponsoring]],'Def. Prix & Parcours'!$I$6:$M$28,2,FALSE)*Table3[[#This Row],[Points Marketing et Sponsoring]]),\"\")","v":0},{"$f":"IF(Table3[[#This Row],[Parcours choisi]]<>\"\",(VLOOKUP(Table356[[#Headers],[Budget]],'Def. Prix & Parcours'!$I$6:$M$28,2,FALSE)*Table3[[#This Row],[Points Budget]]),\"\")","v":0},{"$f":"IF(Table3[[#This Row],[Parcours choisi]]<>\"\",(VLOOKUP(Table356[[#Headers],[Design du Véhicule]],'Def. Prix & Parcours'!$I$6:$M$28,2,FALSE)*Table3[[#This Row],[Points Design du Véhicule]]),\"\")","v":0},{"$f":"IF(Table3[[#This Row],[Parcours choisi]]<>\"\",(VLOOKUP(Table356[[#Headers],[Innovation numérique]],'Def. Prix & Parcours'!$I$6:$M$28,2,FALSE)*Table3[[#This Row],[Points Innovation numérique]]),\"\")","v":0},{"$f":"IF(Table3[[#This Row],[Parcours choisi]]<>\"\",(VLOOKUP(Table356[[#Headers],[Programmation]],'Def. Prix & Parcours'!$I$6:$M$28,2,FALSE)*Table3[[#This Row],[Points Programmation]]),\"\")","v":0},{"$f":"IF(Table3[[#This Row],[Parcours choisi]]<>\"\",(VLOOKUP(Table356[[#Headers],[Respect du règlement]],'Def. Prix & Parcours'!$I$6:$M$28,2,FALSE)*Table3[[#This Row],[Points Respect du règlement]]),\"\")","v":0},{"$f":"IF(Table3[[#This Row],[Parcours choisi]]<>\"\",(VLOOKUP(Table356[[#Headers],[Communication : vidéo]],'Def. Prix & Parcours'!$I$6:$M$28,2,FALSE)*Table3[[#This Row],[Points Communication : vidéo]]),\"\")","v":0},{"$f":"IF(Table3[[#This Row],[Parcours choisi]]<>\"\",(VLOOKUP(Table356[[#Headers],[Epreuve CAO]],'Def. Prix & Parcours'!$I$6:$M$28,2,FALSE)*Table3[[#This Row],[Points Epreuve CAO]]),\"\")","v":80},{"$f":"IF(Table3[[#This Row],[Parcours choisi]]<>\"\",(VLOOKUP(Table356[[#Headers],[Temps Réaction]],'Def. Prix & Parcours'!$I$6:$M$28,2,FALSE)*Table3[[#This Row],[Points Temps Réaction]]),\"\")","v":6},{"$f":"IF(Table3[[#This Row],[Parcours choisi]]<>\"\",(VLOOKUP(Table356[[#Headers],[Temps Course]],'Def. Prix & Parcours'!$I$6:$M$28,2,FALSE)*Table3[[#This Row],[Points Temps Course]]),\"\")","v":80},{"$f":"IF(Table3[[#This Row],[Parcours choisi]]<>\"\",(VLOOKUP(Table356[[#Headers],[Epreuve arrêt au stand]],'Def. Prix & Parcours'!$I$6:$M$28,2,FALSE)*Table3[[#This Row],[Points Epreuve arrêt au stand]]),\"\")","v":80},{"$f":"IF(Table3[[#This Row],[Parcours choisi]]<>\"\",(VLOOKUP(Table356[[#Headers],[Coup de Cœur]],'Def. Prix & Parcours'!$I$6:$M$28,2,FALSE)*Table3[[#This Row],[Points Coup de cœur]]),\"\")","v":0},null,{"$f":"IF(Table3[[#This Row],[Parcours choisi]]<>\"\",SUM(Table356[[#This Row],[Ingénierie et conception]:[1]]),\"\")","v":246},{"$f":"IF(Table3[[#This Row],[Parcours choisi]]<>\"\",_xlfn.RANK.EQ(Table356[[#This Row],[Total Prix Avenir]],Table356[Total Prix Avenir],0),\"\")","v":26}]
[10,{"$f":"Table3[[#This Row],[Nom équipe]]","v":"Space-hat"},{"$f":"Table3[[#This Row],[Etablissement]]","v":"Boutet Lunéville"},{"$f":"Table3[[#This Row],[Type établissement]]","v":"L"},{"$f":"Table3[[#This Row],[Académie]]","v":"Nancy-Metz"},{"$f":"IF(Table3[[#This Row],[Parcours choisi]]<>\"\",Table3[[#This Row],[Parcours choisi]],\"\")","v":"T"},{"$f":"IF(Table3[[#This Row],[Parcours choisi]]<>\"\",(VLOOKUP(Table356[[#Headers],[Ingénierie et conception]],'Def. Prix & Parcours'!$I$6:$M$28,2,FALSE)*Table3[[#This Row],[Points Ingénierie et conception]]),\"\")","v":78},{"$f":"IF(Table3[[#This Row],[Parcours choisi]]<>\"\",(VLOOKUP(Table356[[#Headers],[Innovation mécanique]],'Def. Prix & Parcours'!$I$6:$M$28,2,FALSE)*Table3[[#This Row],[Points Innovation mécanique]]),\"\")","v":0},{"$f":"IF(Table3[[#This Row],[Parcours choisi]]<>\"\",(VLOOKUP(Table356[[#Headers],[Développement Durable]],'Def. Prix & Parcours'!$I$6:$M$28,2,FALSE)*Table3[[#This Row],[Points Développement Durable]]),\"\")","v":0},{"$f":"IF(Table3[[#This Row],[Parcours choisi]]<>\"\",(VLOOKUP(Table356[[#Headers],[Ingénierie de fabrication]],'Def. Prix & Parcours'!$I$6:$M$28,2,FALSE)*Table3[[#This Row],[Points Ingénierie de fabrication]]),\"\")","v":0},{"$f":"IF(Table3[[#This Row],[Parcours choisi]]<>\"\",(VLOOKUP(Table356[[#Headers],[Gestion de projet et collaborations]],'Def. Prix & Parcours'!$I$6:$M$28,2,FALSE)*Table3[[#This Row],[Points Gestion de projet et \ncollaborations]]),\"\")","v":60},{"$f":"IF(Table3[[#This Row],[Parcours choisi]]<>\"\",(VLOOKUP(Table356[[#Headers],[Présentation Orale]],'Def. Prix & Parcours'!$I$6:$M$28,2,FALSE)*Table3[[#This Row],[Points Présentation Orale]]),\"\")","v":60},{"$f":"IF(Table3[[#This Row],[Parcours choisi]]<>\"\",(VLOOKUP(Table356[[#Headers],[Identité Equipe]],'Def. Prix & Parcours'!$I$6:$M$28,2,FALSE)*Table3[[#This Row],[Points Identité Equipe]]),\"\")","v":85},{"$f":"IF(Table3[[#This Row],[Parcours choisi]]<>\"\",(VLOOKUP(Table356[[#Headers],[Design du Stand]],'Def. Prix & Parcours'!$I$6:$M$28,2,FALSE)*Table3[[#This Row],[Points Design du Stand]]),\"\")","v":0},{"$f":"IF(Table3[[#This Row],[Parcours choisi]]<>\"\",(VLOOKUP(Table356[[#Headers],[Portfolio]],'Def. Prix & Parcours'!$I$6:$M$28,2,FALSE)*Table3[[#This Row],[Points Portfolio]]),\"\")","v":0},{"$f":"IF(Table3[[#This Row],[Parcours choisi]]<>\"\",(VLOOKUP(Table356[[#Headers],[Marketing et Sponsoring]],'Def. Prix & Parcours'!$I$6:$M$28,2,FALSE)*Table3[[#This Row],[Points Marketing et Sponsoring]]),\"\")","v":0},{"$f":"IF(Table3[[#This Row],[Parcours choisi]]<>\"\",(VLOOKUP(Table356[[#Headers],[Budget]],'Def. Prix & Parcours'!$I$6:$M$28,2,FALSE)*Table3[[#This Row],[Points Budget]]),\"\")","v":0},{"$f":"IF(Table3[[#This Row],[Parcours choisi]]<>\"\",(VLOOKUP(Table356[[#Headers],[Design du Véhicule]],'Def. Prix & Parcours'!$I$6:$M$28,2,FALSE)*Table3[[#This Row],[Points Design du Véhicule]]),\"\")","v":0},{"$f":"IF(Table3[[#This Row],[Parcours choisi]]<>\"\",(VLOOKUP(Table356[[#Headers],[Innovation numérique]],'Def. Prix & Parcours'!$I$6:$M$28,2,FALSE)*Table3[[#This Row],[Points Innovation numérique]]),\"\")","v":0},{"$f":"IF(Table3[[#This Row],[Parcours choisi]]<>\"\",(VLOOKUP(Table356[[#Headers],[Programmation]],'Def. Prix & Parcours'!$I$6:$M$28,2,FALSE)*Table3[[#This Row],[Points Programmation]]),\"\")","v":0},{"$f":"IF(Table3[[#This Row],[Parcours choisi]]<>\"\",(VLOOKUP(Table356[[#Headers],[Respect du règlement]],'Def. Prix & Parcours'!$I$6:$M$28,2,FALSE)*Table3[[#This Row],[Points Respect du règlement]]),\"\")","v":95},{"$f":"IF(Table3[[#This Row],[Parcours choisi]]<>\"\",(VLOOKUP(Table356[[#Headers],[Communication : vidéo]],'Def. Prix & Parcours'!$I$6:$M$28,2,FALSE)*Table3[[#This Row],[Points Communication : vidéo]]),\"\")","v":45},{"$f":"IF(Table3[[#This Row],[Parcours choisi]]<>\"\",(VLOOKUP(Table356[[#Headers],[Epreuve CAO]],'Def. Prix & Parcours'!$I$6:$M$28,2,FALSE)*Table3[[#This Row],[Points Epreuve CAO]]),\"\")","v":80},{"$f":"IF(Table3[[#This Row],[Parcours choisi]]<>\"\",(VLOOKUP(Table356[[#Headers],[Temps Réaction]],'Def. Prix & Parcours'!$I$6:$M$28,2,FALSE)*Table3[[#This Row],[Points Temps Réaction]]),\"\")","v":24},{"$f":"IF(Table3[[#This Row],[Parcours choisi]]<>\"\",(VLOOKUP(Table356[[#Headers],[Temps Course]],'Def. Prix & Parcours'!$I$6:$M$28,2,FALSE)*Table3[[#This Row],[Points Temps Course]]),\"\")","v":180},{"$f":"IF(Table3[[#This Row],[Parcours choisi]]<>\"\",(VLOOKUP(Table356[[#Headers],[Epreuve arrêt au stand]],'Def. Prix & Parcours'!$I$6:$M$28,2,FALSE)*Table3[[#This Row],[Points Epreuve arrêt au stand]]),\"\")","v":80},{"$f":"IF(Table3[[#This Row],[Parcours choisi]]<>\"\",(VLOOKUP(Table356[[#Headers],[Coup de Cœur]],'Def. Prix & Parcours'!$I$6:$M$28,2,FALSE)*Table3[[#This Row],[Points Coup de cœur]]),\"\")","v":0},null,{"$f":"IF(Table3[[#This Row],[Parcours choisi]]<>\"\",SUM(Table356[[#This Row],[Ingénierie et conception]:[1]]),\"\")","v":787},{"$f":"IF(Table3[[#This Row],[Parcours choisi]]<>\"\",_xlfn.RANK.EQ(Table356[[#This Row],[Total Prix Avenir]],Table356[Total Prix Avenir],0),\"\")","v":8}]
[11,{"$f":"Table3[[#This Row],[Nom équipe]]","v":"Molécuisto"},{"$f":"Table3[[#This Row],[Etablissement]]","v":"Bichat Lunéville"},{"$f":"Table3[[#This Row],[Type établissement]]","v":"C"},{"$f":"Table3[[#This Row],[Académie]]","v":"Nancy-Metz"},{"$f":"IF(Table3[[#This Row],[Parcours choisi]]<>\"\",Table3[[#This Row],[Parcours choisi]],\"\")","v":"G"},{"$f":"IF(Table3[[#This Row],[Parcours choisi]]<>\"\",(VLOOKUP(Table356[[#Headers],[Ingénierie et conception]],'Def. Prix & Parcours'!$I$6:$M$28,2,FALSE)*Table3[[#This Row],[Points Ingénierie et conception]]),\"\")","v":78},{"$f":"IF(Table3[[#This Row],[Parcours choisi]]<>\"\",(VLOOKUP(Table356[[#Headers],[Innovation mécanique]],'Def. Prix & Parcours'!$I$6:$M$28,2,FALSE)*Table3[[#This Row],[Points Innovation mécanique]]),\"\")","v":0},{"$f":"IF(Table3[[#This Row],[Parcours choisi]]<>\"\",(VLOOKUP(Table356[[#Headers],[Développement Durable]],'Def. Prix & Parcours'!$I$6:$M$28,2,FALSE)*Table3[[#This Row],[Points Développement Durable]]),\"\")","v":0},{"$f":"IF(Table3[[#This Row],[Parcours choisi]]<>\"\",(VLOOKUP(Table356[[#Headers],[Ingénierie de fabrication]],'Def. Prix & Parcours'!$I$6:$M$28,2,FALSE)*Table3[[#This Row],[Points Ingénierie de fabrication]]),\"\")","v":0},{"$f":"IF(Table3[[#This Row],[Parcours choisi]]<>\"\",(VLOOKUP(Table356[[#Headers],[Gestion de projet et collaborations]],'Def. Prix & Parcours'!$I$6:$M$28,2,FALSE)*Table3[[#This Row],[Points Gestion de projet et \ncollaborations]]),\"\")","v":65},{"$f":"IF(Table3[[#This Row],[Parcours choisi]]<>\"\",(VLOOKUP(Table356[[#Headers],[Présentation Orale]],'Def. Prix & Parcours'!$I$6:$M$28,2,FALSE)*Table3[[#This Row],[Points Présentation Orale]]),\"\")","v":65},{"$f":"IF(Table3[[#This Row],[Parcours choisi]]<>\"\",(VLOOKUP(Table356[[#Headers],[Identité Equipe]],'Def. Prix & Parcours'!$I$6:$M$28,2,FALSE)*Table3[[#This Row],[Points Identité Equipe]]),\"\")","v":80},{"$f":"IF(Table3[[#This Row],[Parcours choisi]]<>\"\",(VLOOKUP(Table356[[#Headers],[Design du Stand]],'Def. Prix & Parcours'!$I$6:$M$28,2,FALSE)*Table3[[#This Row],[Points Design du Stand]]),\"\")","v":0},{"$f":"IF(Table3[[#This Row],[Parcours choisi]]<>\"\",(VLOOKUP(Table356[[#Headers],[Portfolio]],'Def. Prix & Parcours'!$I$6:$M$28,2,FALSE)*Table3[[#This Row],[Points Portfolio]]),\"\")","v":0},{"$f":"IF(Table3[[#This Row],[Parcours choisi]]<>\"\",(VLOOKUP(Table356[[#Headers],[Marketing et Sponsoring]],'Def. Prix & Parcours'!$I$6:$M$28,2,FALSE)*Table3[[#This Row],[Points Marketing et Sponsoring]]),\"\")","v":0},{"$f":"IF(Table3[[#This Row],[Parcours choisi]]<>\"\",(VLOOKUP(Table356[[#Headers],[Budget]],'Def. Prix & Parcours'!$I$6:$M$28,2,FALSE)*Table3[[#This Row],[Points Budget]]),\"\")","v":0},{"$f":"IF(Table3[[#This Row],[Parcours choisi]]<>\"\",(VLOOKUP(Table356[[#Headers],[Design du Véhicule]],'Def. Prix & Parcours'!$I$6:$M$28,2,FALSE)*Table3[[#This Row],[Points Design du Véhicule]]),\"\")","v":0},{"$f":"IF(Table3[[#This Row],[Parcours choisi]]<>\"\",(VLOOKUP(Table356[[#Headers],[Innovation numérique]],'Def. Prix & Parcours'!$I$6:$M$28,2,FALSE)*Table3[[#This Row],[Points Innovation numérique]]),\"\")","v":0},{"$f":"IF(Table3[[#This Row],[Parcours choisi]]<>\"\",(VLOOKUP(Table356[[#Headers],[Programmation]],'Def. Prix & Parcours'!$I$6:$M$28,2,FALSE)*Table3[[#This Row],[Points Programmation]]),\"\")","v":0},{"$f":"IF(Table3[[#This Row],[Parcours choisi]]<>\"\",(VLOOKUP(Table356[[#Headers],[Respect du règlement]],'Def. Prix & Parcours'!$I$6:$M$28,2,FALSE)*Table3[[#This Row],[Points Respect du règlement]]),\"\")","v":100},{"$f":"IF(Table3[[#This Row],[Parcours choisi]]<>\"\",(VLOOKUP(Table356[[#Headers],[Communication : vidéo]],'Def. Prix & Parcours'!$I$6:$M$28,2,FALSE)*Table3[[#This Row],[Points Communication : vidéo]]),\"\")","v":27},{"$f":"IF(Table3[[#This Row],[Parcours choisi]]<>\"\",(VLOOKUP(Table356[[#Headers],[Epreuve CAO]],'Def. Prix & Parcours'!$I$6:$M$28,2,FALSE)*Table3[[#This Row],[Points Epreuve CAO]]),\"\")","v":80},{"$f":"IF(Table3[[#This Row],[Parcours choisi]]<>\"\",(VLOOKUP(Table356[[#Headers],[Temps Réaction]],'Def. Prix & Parcours'!$I$6:$M$28,2,FALSE)*Table3[[#This Row],[Points Temps Réaction]]),\"\")","v":12},{"$f":"IF(Table3[[#This Row],[Parcours choisi]]<>\"\",(VLOOKUP(Table356[[#Headers],[Temps Course]],'Def. Prix & Parcours'!$I$6:$M$28,2,FALSE)*Table3[[#This Row],[Points Temps Course]]),\"\")","v":170},{"$f":"IF(Table3[[#This Row],[Parcours choisi]]<>\"\",(VLOOKUP(Table356[[#Headers],[Epreuve arrêt au stand]],'Def. Prix & Parcours'!$I$6:$M$28,2,FALSE)*Table3[[#This Row],[Points Epreuve arrêt au stand]]),\"\")","v":80},{"$f":"IF(Table3[[#This Row],[Parcours choisi]]<>\"\",(VLOOKUP(Table356[[#Headers],[Coup de Cœur]],'Def. Prix & Parcours'!$I$6:$M$28,2,FALSE)*Table3[[#This Row],[Points Coup de cœur]]),\"\")","v":0},null,{"$f":"IF(Table3[[#This Row],[Parcours choisi]]<>\"\",SUM(Table356[[#This Row],[Ingénierie et conception]:[1]]),\"\")","v":757},{"$f":"IF(Table3[[#This Row],[Parcours choisi]]<>\"\",_xlfn.RANK.EQ(Table356[[#This Row],[Total Prix Avenir]],Table356[Total Prix Avenir],0),\"\")","v":11}]
[12,{"$f":"Table3[[#This Row],[Nom équipe]]","v":"Six divergents"},{"$f":"Table3[[#This Row],[Etablissement]]","v":"Bichat Lunéville"},{"$f":"Table3[[#This Row],[Type établissement]]","v":"C"},{"$f":"Table3[[#This Row],[Académie]]","v":"Nancy-Metz"},{"$f":"IF(Table3[[#This Row],[Parcours choisi]]<>\"\",Table3[[#This Row],[Parcours choisi]],\"\")","v":"G"},{"$f":"IF(Table3[[#This Row],[Parcours choisi]]<>\"\",(VLOOKUP(Table356[[#Headers],[Ingénierie et conception]],'Def. Prix & Parcours'!$I$6:$M$28,2,FALSE)*Table3[[#This Row],[Points Ingénierie et conception]]),\"\")","v":96},{"$f":"IF(Table3[[#This Row],[Parcours choisi]]<>\"\",(VLOOKUP(Table356[[#Headers],[Innovation mécanique]],'Def. Prix & Parcours'!$I$6:$M$28,2,FALSE)*Table3[[#This Row],[Points Innovation mécanique]]),\"\")","v":0},{"$f":"IF(Table3[[#This Row],[Parcours choisi]]<>\"\",(VLOOKUP(Table356[[#Headers],[Développement Durable]],'Def. Prix & Parcours'!$I$6:$M$28,2,FALSE)*Table3[[#This Row],[Points Développement Durable]]),\"\")","v":0},{"$f":"IF(Table3[[#This Row],[Parcours choisi]]<>\"\",(VLOOKUP(Table356[[#Headers],[Ingénierie de fabrication]],'Def. Prix & Parcours'!$I$6:$M$28,2,FALSE)*Table3[[#This Row],[Points Ingénierie de fabrication]]),\"\")","v":0},{"$f":"IF(Table3[[#This Row],[Parcours choisi]]<>\"\",(VLOOKUP(Table356[[#Headers],[Gestion de projet et collaborations]],'Def. Prix & Parcours'!$I$6:$M$28,2,FALSE)*Table3[[#This Row],[Points Gestion de projet et \ncollaborations]]),\"\")","v":90},{"$f":"IF(Table3[[#This Row],[Parcours choisi]]<>\"\",(VLOOKUP(Table356[[#Headers],[Présentation Orale]],'Def. Prix & Parcours'!$I$6:$M$28,2,FALSE)*Table3[[#This Row],[Points Présentation Orale]]),\"\")","v":70},{"$f":"IF(Table3[[#This Row],[Parcours choisi]]<>\"\",(VLOOKUP(Table356[[#Headers],[Identité Equipe]],'Def. Prix & Parcours'!$I$6:$M$28,2,FALSE)*Table3[[#This Row],[Points Identité Equipe]]),\"\")","v":80},{"$f":"IF(Table3[[#This Row],[Parcours choisi]]<>\"\",(VLOOKUP(Table356[[#Headers],[Design du Stand]],'Def. Prix & Parcours'!$I$6:$M$28,2,FALSE)*Table3[[#This Row],[Points Design du Stand]]),\"\")","v":0},{"$f":"IF(Table3[[#This Row],[Parcours choisi]]<>\"\",(VLOOKUP(Table356[[#Headers],[Portfolio]],'Def. Prix & Parcours'!$I$6:$M$28,2,FALSE)*Table3[[#This Row],[Points Portfolio]]),\"\")","v":0},{"$f":"IF(Table3[[#This Row],[Parcours choisi]]<>\"\",(VLOOKUP(Table356[[#Headers],[Marketing et Sponsoring]],'Def. Prix & Parcours'!$I$6:$M$28,2,FALSE)*Table3[[#This Row],[Points Marketing et Sponsoring]]),\"\")","v":0},{"$f":"IF(Table3[[#This Row],[Parcours choisi]]<>\"\",(VLOOKUP(Table356[[#Headers],[Budget]],'Def. Prix & Parcours'!$I$6:$M$28,2,FALSE)*Table3[[#This Row],[Points Budget]]),\"\")","v":0},{"$f":"IF(Table3[[#This Row],[Parcours choisi]]<>\"\",(VLOOKUP(Table356[[#Headers],[Design du Véhicule]],'Def. Prix & Parcours'!$I$6:$M$28,2,FALSE)*Table3[[#This Row],[Points Design du Véhicule]]),\"\")","v":0},{"$f":"IF(Table3[[#This Row],[Parcours choisi]]<>\"\",(VLOOKUP(Table356[[#Headers],[Innovation numérique]],'Def. Prix & Parcours'!$I$6:$M$28,2,FALSE)*Table3[[#This Row],[Points Innovation numérique]]),\"\")","v":0},{"$f":"IF(Table3[[#This Row],[Parcours choisi]]<>\"\",(VLOOKUP(Table356[[#Headers],[Programmation]],'Def. Prix & Parcours'!$I$6:$M$28,2,FALSE)*Table3[[#This Row],[Points Programmation]]),\"\")","v":0},{"$f":"IF(Table3[[#This Row],[Parcours choisi]]<>\"\",(VLOOKUP(Table356[[#Headers],[Respect du règlement]],'Def. Prix & Parcours'!$I$6:$M$28,2,FALSE)*Table3[[#This Row],[Points Respect du règlement]]),\"\")","v":100},{"$f":"IF(Table3[[#This Row],[Parcours choisi]]<>\"\",(VLOOKUP(Table356[[#Headers],[Communication : vidéo]],'Def. Prix & Parcours'!$I$6:$M$28,2,FALSE)*Table3[[#This Row],[Points Communication : vidéo]]),\"\")","v":48},{"$f":"IF(Table3[[#This Row],[Parcours choisi]]<>\"\",(VLOOKUP(Table356[[#Headers],[Epreuve CAO]],'Def. Prix & Parcours'!$I$6:$M$28,2,FALSE)*Table3[[#This Row],[Points Epreuve CAO]]),\"\")","v":80},{"$f":"IF(Table3[[#This Row],[Parcours choisi]]<>\"\",(VLOOKUP(Table356[[#Headers],[Temps Réaction]],'Def. Prix & Parcours'!$I$6:$M$28,2,FALSE)*Table3[[#This Row],[Points Temps Réaction]]),\"\")","v":12},{"$f":"IF(Table3[[#This Row],[Parcours choisi]]<>\"\",(VLOOKUP(Table356[[#Headers],[Temps Course]],'Def. Prix & Parcours'!$I$6:$M$28,2,FALSE)*Table3[[#This Row],[Points Temps Course]]),\"\")","v":160},{"$f":"IF(Table3[[#This Row],[Parcours choisi]]<>\"\",(VLOOKUP(Table356[[#Headers],[Epreuve arrêt au stand]],'Def. Prix & Parcours'!$I$6:$M$28,2,FALSE)*Table3[[#This Row],[Points Epreuve arrêt au stand]]),\"\")","v":80},{"$f":"IF(Table3[[#This Row],[Parcours choisi]]<>\"\",(VLOOKUP(Table356[[#Headers],[Coup de Cœur]],'Def. Prix & Parcours'!$I$6:$M$28,2,FALSE)*Table3[[#This Row],[Points Coup de cœur]]),\"\")","v":0},null,{"$f":"IF(Table3[[#This Row],[Parcours choisi]]<>\"\",SUM(Table356[[#This Row],[Ingénierie et conception]:[1]]),\"\")","v":816},{"$f":"IF(Table3[[#This Row],[Parcours choisi]]<>\"\",_xlfn.RANK.EQ(Table356[[#This Row],[Total Prix Avenir]],Table356[Total Prix Avenir],0),\"\")","v":3}]
[13,{"$f":"Table3[[#This Row],[Nom équipe]]","v":"Andromeda"},{"$f":"Table3[[#This Row],[Etablissement]]","v":"Duvivier Einville"},{"$f":"Table3[[#This Row],[Type établissement]]","v":"C"},{"$f":"Table3[[#This Row],[Académie]]","v":"Nancy-Metz"},{"$f":"IF(Table3[[#This Row],[Parcours choisi]]<>\"\",Table3[[#This Row],[Parcours choisi]],\"\")","v":"G"},{"$f":"IF(Table3[[#This Row],[Parcours choisi]]<>\"\",(VLOOKUP(Table356[[#Headers],[Ingénierie et conception]],'Def. Prix & Parcours'!$I$6:$M$28,2,FALSE)*Table3[[#This Row],[Points Ingénierie et conception]]),\"\")","v":102},{"$f":"IF(Table3[[#This Row],[Parcours choisi]]<>\"\",(VLOOKUP(Table356[[#Headers],[Innovation mécanique]],'Def. Prix & Parcours'!$I$6:$M$28,2,FALSE)*Table3[[#This Row],[Points Innovation mécanique]]),\"\")","v":0},{"$f":"IF(Table3[[#This Row],[Parcours choisi]]<>\"\",(VLOOKUP(Table356[[#Headers],[Développement Durable]],'Def. Prix & Parcours'!$I$6:$M$28,2,FALSE)*Table3[[#This Row],[Points Développement Durable]]),\"\")","v":0},{"$f":"IF(Table3[[#This Row],[Parcours choisi]]<>\"\",(VLOOKUP(Table356[[#Headers],[Ingénierie de fabrication]],'Def. Prix & Parcours'!$I$6:$M$28,2,FALSE)*Table3[[#This Row],[Points Ingénierie de fabrication]]),\"\")","v":0},{"$f":"IF(Table3[[#This Row],[Parcours choisi]]<>\"\",(VLOOKUP(Table356[[#Headers],[Gestion de projet et collaborations]],'Def. Prix & Parcours'!$I$6:$M$28,2,FALSE)*Table3[[#This Row],[Points Gestion de projet et \ncollaborations]]),\"\")","v":85},{"$f":"IF(Table3[[#This Row],[Parcours choisi]]<>\"\",(VLOOKUP(Table356[[#Headers],[Présentation Orale]],'Def. Prix & Parcours'!$I$6:$M$28,2,FALSE)*Table3[[#This Row],[Points Présentation Orale]]),\"\")","v":85},{"$f":"IF(Table3[[#This Row],[Parcours choisi]]<>\"\",(VLOOKUP(Table356[[#Headers],[Identité Equipe]],'Def. Prix & Parcours'!$I$6:$M$28,2,FALSE)*Table3[[#This Row],[Points Identité Equipe]]),\"\")","v":85},{"$f":"IF(Table3[[#This Row],[Parcours choisi]]<>\"\",(VLOOKUP(Table356[[#Headers],[Design du Stand]],'Def. Prix & Parcours'!$I$6:$M$28,2,FALSE)*Table3[[#This Row],[Points Design du Stand]]),\"\")","v":0},{"$f":"IF(Table3[[#This Row],[Parcours choisi]]<>\"\",(VLOOKUP(Table356[[#Headers],[Portfolio]],'Def. Prix & Parcours'!$I$6:$M$28,2,FALSE)*Table3[[#This Row],[Points Portfolio]]),\"\")","v":0},{"$f":"IF(Table3[[#This Row],[Parcours choisi]]<>\"\",(VLOOKUP(Table356[[#Headers],[Marketing et Sponsoring]],'Def. Prix & Parcours'!$I$6:$M$28,2,FALSE)*Table3[[#This Row],[Points Marketing et Sponsoring]]),\"\")","v":0},{"$f":"IF(Table3[[#This Row],[Parcours choisi]]<>\"\",(VLOOKUP(Table356[[#Headers],[Budget]],'Def. Prix & Parcours'!$I$6:$M$28,2,FALSE)*Table3[[#This Row],[Points Budget]]),\"\")","v":0},{"$f":"IF(Table3[[#This Row],[Parcours choisi]]<>\"\",(VLOOKUP(Table356[[#Headers],[Design du Véhicule]],'Def. Prix & Parcours'!$I$6:$M$28,2,FALSE)*Table3[[#This Row],[Points Design du Véhicule]]),\"\")","v":0},{"$f":"IF(Table3[[#This Row],[Parcours choisi]]<>\"\",(VLOOKUP(Table356[[#Headers],[Innovation numérique]],'Def. Prix & Parcours'!$I$6:$M$28,2,FALSE)*Table3[[#This Row],[Points Innovation numérique]]),\"\")","v":0},{"$f":"IF(Table3[[#This Row],[Parcours choisi]]<>\"\",(VLOOKUP(Table356[[#Headers],[Programmation]],'Def. Prix & Parcours'!$I$6:$M$28,2,FALSE)*Table3[[#This Row],[Points Programmation]]),\"\")","v":0},{"$f":"IF(Table3[[#This Row],[Parcours choisi]]<>\"\",(VLOOKUP(Table356[[#Headers],[Respect du règlement]],'Def. Prix & Parcours'!$I$6:$M$28,2,FALSE)*Table3[[#This Row],[Points Respect du règlement]]),\"\")","v":100},{"$f":"IF(Table3[[#This Row],[Parcours choisi]]<>\"\",(VLOOKUP(Table356[[#Headers],[Communication : vidéo]],'Def. Prix & Parcours'!$I$6:$M$28,2,FALSE)*Table3[[#This Row],[Points Communication : vidéo]]),\"\")","v":36},{"$f":"IF(Table3[[#This Row],[Parcours choisi]]<>\"\",(VLOOKUP(Table356[[#Headers],[Epreuve CAO]],'Def. Prix & Parcours'!$I$6:$M$28,2,FALSE)*Table3[[#This Row],[Points Epreuve CAO]]),\"\")","v":80},{"$f":"IF(Table3[[#This Row],[Parcours choisi]]<>\"\",(VLOOKUP(Table356[[#Headers],[Temps Réaction]],'Def. Prix & Parcours'!$I$6:$M$28,2,FALSE)*Table3[[#This Row],[Points Temps Réaction]]),\"\")","v":18},{"$f":"IF(Table3[[#This Row],[Parcours choisi]]<>\"\",(VLOOKUP(Table356[[#Headers],[Temps Course]],'Def. Prix & Parcours'!$I$6:$M$28,2,FALSE)*Table3[[#This Row],[Points Temps Course]]),\"\")","v":100},{"$f":"IF(Table3[[#This Row],[Parcours choisi]]<>\"\",(VLOOKUP(Table356[[#Headers],[Epreuve arrêt au stand]],'Def. Prix & Parcours'!$I$6:$M$28,2,FALSE)*Table3[[#This Row],[Points Epreuve arrêt au stand]]),\"\")","v":80},{"$f":"IF(Table3[[#This Row],[Parcours choisi]]<>\"\",(VLOOKUP(Table356[[#Headers],[Coup de Cœur]],'Def. Prix & Parcours'!$I$6:$M$28,2,FALSE)*Table3[[#This Row],[Points Coup de cœur]]),\"\")","v":0},null,{"$f":"IF(Table3[[#This Row],[Parcours choisi]]<>\"\",SUM(Table356[[#This Row],[Ingénierie et conception]:[1]]),\"\")","v":771},{"$f":"IF(Table3[[#This Row],[Parcours choisi]]<>\"\",_xlfn.RANK.EQ(Table356[[#This Row],[Total Prix Avenir]],Table356[Total Prix Avenir],0),\"\")","v":9}]
[14,{"$f":"Table3[[#This Row],[Nom équipe]]","v":"Fifties"},{"$f":"Table3[[#This Row],[Etablissement]]","v":"Duvivier Einville"},{"$f":"Table3[[#This Row],[Type établissement]]","v":"C"},{"$f":"Table3[[#This Row],[Académie]]","v":"Nancy-Metz"},{"$f":"IF(Table3[[#This Row],[Parcours choisi]]<>\"\",Table3[[#This Row],[Parcours choisi]],\"\")","v":"G"},{"$f":"IF(Table3[[#This Row],[Parcours choisi]]<>\"\",(VLOOKUP(Table356[[#Headers],[Ingénierie et conception]],'Def. Prix & Parcours'!$I$6:$M$28,2,FALSE)*Table3[[#This Row],[Points Ingénierie et conception]]),\"\")","v":96},{"$f":"IF(Table3[[#This Row],[Parcours choisi]]<>\"\",(VLOOKUP(Table356[[#Headers],[Innovation mécanique]],'Def. Prix & Parcours'!$I$6:$M$28,2,FALSE)*Table3[[#This Row],[Points Innovation mécanique]]),\"\")","v":0},{"$f":"IF(Table3[[#This Row],[Parcours choisi]]<>\"\",(VLOOKUP(Table356[[#Headers],[Développement Durable]],'Def. Prix & Parcours'!$I$6:$M$28,2,FALSE)*Table3[[#This Row],[Points Développement Durable]]),\"\")","v":0},{"$f":"IF(Table3[[#This Row],[Parcours choisi]]<>\"\",(VLOOKUP(Table356[[#Headers],[Ingénierie de fabrication]],'Def. Prix & Parcours'!$I$6:$M$28,2,FALSE)*Table3[[#This Row],[Points Ingénierie de fabrication]]),\"\")","v":0},{"$f":"IF(Table3[[#This Row],[Parcours choisi]]<>\"\",(VLOOKUP(Table356[[#Headers],[Gestion de projet et collaborations]],'Def. Prix & Parcours'!$I$6:$M$28,2,FALSE)*Table3[[#This Row],[Points Gestion de projet et \ncollaborations]]),\"\")","v":90},{"$f":"IF(Table3[[#This Row],[Parcours choisi]]<>\"\",(VLOOKUP(Table356[[#Headers],[Présentation Orale]],'Def. Prix & Parcours'!$I$6:$M$28,2,FALSE)*Table3[[#This Row],[Points Présentation Orale]]),\"\")","v":80},{"$f":"IF(Table3[[#This Row],[Parcours choisi]]<>\"\",(VLOOKUP(Table356[[#Headers],[Identité Equipe]],'Def. Prix & Parcours'!$I$6:$M$28,2,FALSE)*Table3[[#This Row],[Points Identité Equipe]]),\"\")","v":100},{"$f":"IF(Table3[[#This Row],[Parcours choisi]]<>\"\",(VLOOKUP(Table356[[#Headers],[Design du Stand]],'Def. Prix & Parcours'!$I$6:$M$28,2,FALSE)*Table3[[#This Row],[Points Design du Stand]]),\"\")","v":0},{"$f":"IF(Table3[[#This Row],[Parcours choisi]]<>\"\",(VLOOKUP(Table356[[#Headers],[Portfolio]],'Def. Prix & Parcours'!$I$6:$M$28,2,FALSE)*Table3[[#This Row],[Points Portfolio]]),\"\")","v":0},{"$f":"IF(Table3[[#This Row],[Parcours choisi]]<>\"\",(VLOOKUP(Table356[[#Headers],[Marketing et Sponsoring]],'Def. Prix & Parcours'!$I$6:$M$28,2,FALSE)*Table3[[#This Row],[Points Marketing et Sponsoring]]),\"\")","v":0},{"$f":"IF(Table3[[#This Row],[Parcours choisi]]<>\"\",(VLOOKUP(Table356[[#Headers],[Budget]],'Def. Prix & Parcours'!$I$6:$M$28,2,FALSE)*Table3[[#This Row],[Points Budget]]),\"\")","v":0},{"$f":"IF(Table3[[#This Row],[Parcours choisi]]<>\"\",(VLOOKUP(Table356[[#Headers],[Design du Véhicule]],'Def. Prix & Parcours'!$I$6:$M$28,2,FALSE)*Table3[[#This Row],[Points Design du Véhicule]]),\"\")","v":0},{"$f":"IF(Table3[[#This Row],[Parcours choisi]]<>\"\",(VLOOKUP(Table356[[#Headers],[Innovation numérique]],'Def. Prix & Parcours'!$I$6:$M$28,2,FALSE)*Table3[[#This Row],[Points Innovation numérique]]),\"\")","v":0},{"$f":"IF(Table3[[#This Row],[Parcours choisi]]<>\"\",(VLOOKUP(Table356[[#Headers],[Programmation]],'Def. Prix & Parcours'!$I$6:$M$28,2,FALSE)*Table3[[#This Row],[Points Programmation]]),\"\")","v":0},{"$f":"IF(Table3[[#This Row],[Parcours choisi]]<>\"\",(VLOOKUP(Table356[[#Headers],[Respect du règlement]],'Def. Prix & Parcours'!$I$6:$M$28,2,FALSE)*Table3[[#This Row],[Points Respect du règlement]]),\"\")","v":100},{"$f":"IF(Table3[[#This Row],[Parcours choisi]]<>\"\",(VLOOKUP(Table356[[#Headers],[Communication : vidéo]],'Def. Prix & Parcours'!$I$6:$M$28,2,FALSE)*Table3[[#This Row],[Points Communication : vidéo]]),\"\")","v":48},{"$f":"IF(Table3[[#This Row],[Parcours choisi]]<>\"\",(VLOOKUP(Table356[[#Headers],[Epreuve CAO]],'Def. Prix & Parcours'!$I$6:$M$28,2,FALSE)*Table3[[#This Row],[Points Epreuve CAO]]),\"\")","v":80},{"$f":"IF(Table3[[#This Row],[Parcours choisi]]<>\"\",(VLOOKUP(Table356[[#Headers],[Temps Réaction]],'Def. Prix & Parcours'!$I$6:$M$28,2,FALSE)*Table3[[#This Row],[Points Temps Réaction]]),\"\")","v":24},{"$f":"IF(Table3[[#This Row],[Parcours choisi]]<>\"\",(VLOOKUP(Table356[[#Headers],[Temps Course]],'Def. Prix & Parcours'!$I$6:$M$28,2,FALSE)*Table3[[#This Row],[Points Temps Course]]),\"\")","v":90},{"$f":"IF(Table3[[#This Row],[Parcours choisi]]<>\"\",(VLOOKUP(Table356[[#Headers],[Epreuve arrêt au stand]],'Def. Prix & Parcours'!$I$6:$M$28,2,FALSE)*Table3[[#This Row],[Points Epreuve arrêt au stand]]),\"\")","v":80},{"$f":"IF(Table3[[#This Row],[Parcours choisi]]<>\"\",(VLOOKUP(Table356[[#Headers],[Coup de Cœur]],'Def. Prix & Parcours'!$I$6:$M$28,2,FALSE)*Table3[[#This Row],[Points Coup de cœur]]),\"\")","v":0},null,{"$f":"IF(Table3[[#This Row],[Parcours choisi]]<>\"\",SUM(Table356[[#This Row],[Ingénierie et conception]:[1]]),\"\")","v":788},{"$f":"IF(Table3[[#This Row],[Parcours choisi]]<>\"\",_xlfn.RANK.EQ(Table356[[#This Row],[Total Prix Avenir]],Table356[Total Prix Avenir],0),\"\")","v":7}]
[15,{"$f":"Table3[[#This Row],[Nom équipe]]","v":"SharkAttack"},{"$f":"Table3[[#This Row],[Etablissement]]","v":"Vogt Commercy"},{"$f":"Table3[[#This Row],[Type établissement]]","v":"L"},{"$f":"Table3[[#This Row],[Académie]]","v":"Nancy-Metz"},{"$f":"IF(Table3[[#This Row],[Parcours choisi]]<>\"\",Table3[[#This Row],[Parcours choisi]],\"\")","v":"G"},{"$f":"IF(Table3[[#This Row],[Parcours choisi]]<>\"\",(VLOOKUP(Table356[[#Headers],[Ingénierie et conception]],'Def. Prix & Parcours'!$I$6:$M$28,2,FALSE)*Table3[[#This Row],[Points Ingénierie et conception]]),\"\")","v":102},{"$f":"IF(Table3[[#This Row],[Parcours choisi]]<>\"\",(VLOOKUP(Table356[[#Headers],[Innovation mécanique]],'Def. Prix & Parcours'!$I$6:$M$28,2,FALSE)*Table3[[#This Row],[Points Innovation mécanique]]),\"\")","v":0},{"$f":"IF(Table3[[#This Row],[Parcours choisi]]<>\"\",(VLOOKUP(Table356[[#Headers],[Développement Durable]],'Def. Prix & Parcours'!$I$6:$M$28,2,FALSE)*Table3[[#This Row],[Points Développement Durable]]),\"\")","v":0},{"$f":"IF(Table3[[#This Row],[Parcours choisi]]<>\"\",(VLOOKUP(Table356[[#Headers],[Ingénierie de fabrication]],'Def. Prix & Parcours'!$I$6:$M$28,2,FALSE)*Table3[[#This Row],[Points Ingénierie de fabrication]]),\"\")","v":0},{"$f":"IF(Table3[[#This Row],[Parcours choisi]]<>\"\",(VLOOKUP(Table356[[#Headers],[Gestion de projet et collaborations]],'Def. Prix & Parcours'!$I$6:$M$28,2,FALSE)*Table3[[#This Row],[Points Gestion de projet et \ncollaborations]]),\"\")","v":75},{"$f":"IF(Table3[[#This Row],[Parcours choisi]]<>\"\",(VLOOKUP(Table356[[#Headers],[Présentation Orale]],'Def. Prix & Parcours'!$I$6:$M$28,2,FALSE)*Table3[[#This Row],[Points Présentation Orale]]),\"\")","v":65},{"$f":"IF(Table3[[#This Row],[Parcours choisi]]<>\"\",(VLOOKUP(Table356[[#Headers],[Identité Equipe]],'Def. Prix & Parcours'!$I$6:$M$28,2,FALSE)*Table3[[#This Row],[Points Identité Equipe]]),\"\")","v":65},{"$f":"IF(Table3[[#This Row],[Parcours choisi]]<>\"\",(VLOOKUP(Table356[[#Headers],[Design du Stand]],'Def. Prix & Parcours'!$I$6:$M$28,2,FALSE)*Table3[[#This Row],[Points Design du Stand]]),\"\")","v":0},{"$f":"IF(Table3[[#This Row],[Parcours choisi]]<>\"\",(VLOOKUP(Table356[[#Headers],[Portfolio]],'Def. Prix & Parcours'!$I$6:$M$28,2,FALSE)*Table3[[#This Row],[Points Portfolio]]),\"\")","v":0},{"$f":"IF(Table3[[#This Row],[Parcours choisi]]<>\"\",(VLOOKUP(Table356[[#Headers],[Marketing et Sponsoring]],'Def. Prix & Parcours'!$I$6:$M$28,2,FALSE)*Table3[[#This Row],[Points Marketing et Sponsoring]]),\"\")","v":0},{"$f":"IF(Table3[[#This Row],[Parcours choisi]]<>\"\",(VLOOKUP(Table356[[#Headers],[Budget]],'Def. Prix & Parcours'!$I$6:$M$28,2,FALSE)*Table3[[#This Row],[Points Budget]]),\"\")","v":0},{"$f":"IF(Table3[[#This Row],[Parcours choisi]]<>\"\",(VLOOKUP(Table356[[#Headers],[Design du Véhicule]],'Def. Prix & Parcours'!$I$6:$M$28,2,FALSE)*Table3[[#This Row],[Points Design du Véhicule]]),\"\")","v":0},{"$f":"IF(Table3[[#This Row],[Parcours choisi]]<>\"\",(VLOOKUP(Table356[[#Headers],[Innovation numérique]],'Def. Prix & Parcours'!$I$6:$M$28,2,FALSE)*Table3[[#This Row],[Points Innovation numérique]]),\"\")","v":0},{"$f":"IF(Table3[[#This Row],[Parcours choisi]]<>\"\",(VLOOKUP(Table356[[#Headers],[Programmation]],'Def. Prix & Parcours'!$I$6:$M$28,2,FALSE)*Table3[[#This Row],[Points Programmation]]),\"\")","v":0},{"$f":"IF(Table3[[#This Row],[Parcours choisi]]<>\"\",(VLOOKUP(Table356[[#Headers],[Respect du règlement]],'Def. Prix & Parcours'!$I$6:$M$28,2,FALSE)*Table3[[#This Row],[Points Respect du règlement]]),\"\")","v":95},{"$f":"IF(Table3[[#This Row],[Parcours choisi]]<>\"\",(VLOOKUP(Table356[[#Headers],[Communication : vidéo]],'Def. Prix & Parcours'!$I$6:$M$28,2,FALSE)*Table3[[#This Row],[Points Communication : vidéo]]),\"\")","v":48},{"$f":"IF(Table3[[#This Row],[Parcours choisi]]<>\"\",(VLOOKUP(Table356[[#Headers],[Epreuve CAO]],'Def. Prix & Parcours'!$I$6:$M$28,2,FALSE)*Table3[[#This Row],[Points Epreuve CAO]]),\"\")","v":80},{"$f":"IF(Table3[[#This Row],[Parcours choisi]]<>\"\",(VLOOKUP(Table356[[#Headers],[Temps Réaction]],'Def. Prix & Parcours'!$I$6:$M$28,2,FALSE)*Table3[[#This Row],[Points Temps Réaction]]),\"\")","v":33},{"$f":"IF(Table3[[#This Row],[Parcours choisi]]<>\"\",(VLOOKUP(Table356[[#Headers],[Temps Course]],'Def. Prix & Parcours'!$I$6:$M$28,2,FALSE)*Table3[[#This Row],[Points Temps Course]]),\"\")","v":150},{"$f":"IF(Table3[[#This Row],[Parcours choisi]]<>\"\",(VLOOKUP(Table356[[#Headers],[Epreuve arrêt au stand]],'Def. Prix & Parcours'!$I$6:$M$28,2,FALSE)*Table3[[#This Row],[Points Epreuve arrêt au stand]]),\"\")","v":80},{"$f":"IF(Table3[[#This Row],[Parcours choisi]]<>\"\",(VLOOKUP(Table356[[#Headers],[Coup de Cœur]],'Def. Prix & Parcours'!$I$6:$M$28,2,FALSE)*Table3[[#This Row],[Points Coup de cœur]]),\"\")","v":0},null,{"$f":"IF(Table3[[#This Row],[Parcours choisi]]<>\"\",SUM(Table356[[#This Row],[Ingénierie et conception]:[1]]),\"\")","v":793},{"$f":"IF(Table3[[#This Row],[Parcours choisi]]<>\"\",_xlfn.RANK.EQ(Table356[[#This Row],[Total Prix Avenir]],Table356[Total Prix Avenir],0),\"\")","v":6}]
[16,{"$f":"Table3[[#This Row],[Nom équipe]]","v":"Green Tiger"},{"$f":"Table3[[#This Row],[Etablissement]]","v":"Hauts de Blémont Metz"},{"$f":"Table3[[#This Row],[Type établissement]]","v":"C"},{"$f":"Table3[[#This Row],[Académie]]","v":"Nancy-Metz"},{"$f":"IF(Table3[[#This Row],[Parcours choisi]]<>\"\",Table3[[#This Row],[Parcours choisi]],\"\")","v":"G"},{"$f":"IF(Table3[[#This Row],[Parcours choisi]]<>\"\",(VLOOKUP(Table356[[#Headers],[Ingénierie et conception]],'Def. Prix & Parcours'!$I$6:$M$28,2,FALSE)*Table3[[#This Row],[Points Ingénierie et conception]]),\"\")","v":66},{"$f":"IF(Table3[[#This Row],[Parcours choisi]]<>\"\",(VLOOKUP(Table356[[#Headers],[Innovation mécanique]],'Def. Prix & Parcours'!$I$6:$M$28,2,FALSE)*Table3[[#This Row],[Points Innovation mécanique]]),\"\")","v":0},{"$f":"IF(Table3[[#This Row],[Parcours choisi]]<>\"\",(VLOOKUP(Table356[[#Headers],[Développement Durable]],'Def. Prix & Parcours'!$I$6:$M$28,2,FALSE)*Table3[[#This Row],[Points Développement Durable]]),\"\")","v":0},{"$f":"IF(Table3[[#This Row],[Parcours choisi]]<>\"\",(VLOOKUP(Table356[[#Headers],[Ingénierie de fabrication]],'Def. Prix & Parcours'!$I$6:$M$28,2,FALSE)*Table3[[#This Row],[Points Ingénierie de fabrication]]),\"\")","v":0},{"$f":"IF(Table3[[#This Row],[Parcours choisi]]<>\"\",(VLOOKUP(Table356[[#Headers],[Gestion de projet et collaborations]],'Def. Prix & Parcours'!$I$6:$M$28,2,FALSE)*Table3[[#This Row],[Points Gestion de projet et \ncollaborations]]),\"\")","v":85},{"$f":"IF(Table3[[#This Row],[Parcours choisi]]<>\"\",(VLOOKUP(Table356[[#Headers],[Présentation Orale]],'Def. Prix & Parcours'!$I$6:$M$28,2,FALSE)*Table3[[#This Row],[Points Présentation Orale]]),\"\")","v":50},{"$f":"IF(Table3[[#This Row],[Parcours choisi]]<>\"\",(VLOOKUP(Table356[[#Headers],[Identité Equipe]],'Def. Prix & Parcours'!$I$6:$M$28,2,FALSE)*Table3[[#This Row],[Points Identité Equipe]]),\"\")","v":60},{"$f":"IF(Table3[[#This Row],[Parcours choisi]]<>\"\",(VLOOKUP(Table356[[#Headers],[Design du Stand]],'Def. Prix & Parcours'!$I$6:$M$28,2,FALSE)*Table3[[#This Row],[Points Design du Stand]]),\"\")","v":0},{"$f":"IF(Table3[[#This Row],[Parcours choisi]]<>\"\",(VLOOKUP(Table356[[#Headers],[Portfolio]],'Def. Prix & Parcours'!$I$6:$M$28,2,FALSE)*Table3[[#This Row],[Points Portfolio]]),\"\")","v":0},{"$f":"IF(Table3[[#This Row],[Parcours choisi]]<>\"\",(VLOOKUP(Table356[[#Headers],[Marketing et Sponsoring]],'Def. Prix & Parcours'!$I$6:$M$28,2,FALSE)*Table3[[#This Row],[Points Marketing et Sponsoring]]),\"\")","v":0},{"$f":"IF(Table3[[#This Row],[Parcours choisi]]<>\"\",(VLOOKUP(Table356[[#Headers],[Budget]],'Def. Prix & Parcours'!$I$6:$M$28,2,FALSE)*Table3[[#This Row],[Points Budget]]),\"\")","v":0},{"$f":"IF(Table3[[#This Row],[Parcours choisi]]<>\"\",(VLOOKUP(Table356[[#Headers],[Design du Véhicule]],'Def. Prix & Parcours'!$I$6:$M$28,2,FALSE)*Table3[[#This Row],[Points Design du Véhicule]]),\"\")","v":0},{"$f":"IF(Table3[[#This Row],[Parcours choisi]]<>\"\",(VLOOKUP(Table356[[#Headers],[Innovation numérique]],'Def. Prix & Parcours'!$I$6:$M$28,2,FALSE)*Table3[[#This Row],[Points Innovation numérique]]),\"\")","v":0},{"$f":"IF(Table3[[#This Row],[Parcours choisi]]<>\"\",(VLOOKUP(Table356[[#Headers],[Programmation]],'Def. Prix & Parcours'!$I$6:$M$28,2,FALSE)*Table3[[#This Row],[Points Programmation]]),\"\")","v":0},{"$f":"IF(Table3[[#This Row],[Parcours choisi]]<>\"\",(VLOOKUP(Table356[[#Headers],[Respect du règlement]],'Def. Prix & Parcours'!$I$6:$M$28,2,FALSE)*Table3[[#This Row],[Points Respect du règlement]]),\"\")","v":90},{"$f":"IF(Table3[[#This Row],[Parcours choisi]]<>\"\",(VLOOKUP(Table356[[#Headers],[Communication : vidéo]],'Def. Prix & Parcours'!$I$6:$M$28,2,FALSE)*Table3[[#This Row],[Points Communication : vidéo]]),\"\")","v":60},{"$f":"IF(Table3[[#This Row],[Parcours choisi]]<>\"\",(VLOOKUP(Table356[[#Headers],[Epreuve CAO]],'Def. Prix & Parcours'!$I$6:$M$28,2,FALSE)*Table3[[#This Row],[Points Epreuve CAO]]),\"\")","v":80},{"$f":"IF(Table3[[#This Row],[Parcours choisi]]<>\"\",(VLOOKUP(Table356[[#Headers],[Temps Réaction]],'Def. Prix & Parcours'!$I$6:$M$28,2,FALSE)*Table3[[#This Row],[Points Temps Réaction]]),\"\")","v":33},{"$f":"IF(Table3[[#This Row],[Parcours choisi]]<>\"\",(VLOOKUP(Table356[[#Headers],[Temps Course]],'Def. Prix & Parcours'!$I$6:$M$28,2,FALSE)*Table3[[#This Row],[Points Temps Course]]),\"\")","v":190},{"$f":"IF(Table3[[#This Row],[Parcours choisi]]<>\"\",(VLOOKUP(Table356[[#Headers],[Epreuve arrêt au stand]],'Def. Prix & Parcours'!$I$6:$M$28,2,FALSE)*Table3[[#This Row],[Points Epreuve arrêt au stand]]),\"\")","v":80},{"$f":"IF(Table3[[#This Row],[Parcours choisi]]<>\"\",(VLOOKUP(Table356[[#Headers],[Coup de Cœur]],'Def. Prix & Parcours'!$I$6:$M$28,2,FALSE)*Table3[[#This Row],[Points Coup de cœur]]),\"\")","v":0},null,{"$f":"IF(Table3[[#This Row],[Parcours choisi]]<>\"\",SUM(Table356[[#This Row],[Ingénierie et conception]:[1]]),\"\")","v":794},{"$f":"IF(Table3[[#This Row],[Parcours choisi]]<>\"\",_xlfn.RANK.EQ(Table356[[#This Row],[Total Prix Avenir]],Table356[Total Prix Avenir],0),\"\")","v":5}]
[17,{"$f":"Table3[[#This Row],[Nom équipe]]","v":"Grey"},{"$f":"Table3[[#This Row],[Etablissement]]","v":"Hauts de Blémont Metz"},{"$f":"Table3[[#This Row],[Type établissement]]","v":"C"},{"$f":"Table3[[#This Row],[Académie]]","v":"Nancy-Metz"},{"$f":"IF(Table3[[#This Row],[Parcours choisi]]<>\"\",Table3[[#This Row],[Parcours choisi]],\"\")","v":"G"},{"$f":"IF(Table3[[#This Row],[Parcours choisi]]<>\"\",(VLOOKUP(Table356[[#Headers],[Ingénierie et conception]],'Def. Prix & Parcours'!$I$6:$M$28,2,FALSE)*Table3[[#This Row],[Points Ingénierie et conception]]),\"\")","v":60},{"$f":"IF(Table3[[#This Row],[Parcours choisi]]<>\"\",(VLOOKUP(Table356[[#Headers],[Innovation mécanique]],'Def. Prix & Parcours'!$I$6:$M$28,2,FALSE)*Table3[[#This Row],[Points Innovation mécanique]]),\"\")","v":0},{"$f":"IF(Table3[[#This Row],[Parcours choisi]]<>\"\",(VLOOKUP(Table356[[#Headers],[Développement Durable]],'Def. Prix & Parcours'!$I$6:$M$28,2,FALSE)*Table3[[#This Row],[Points Développement Durable]]),\"\")","v":0},{"$f":"IF(Table3[[#This Row],[Parcours choisi]]<>\"\",(VLOOKUP(Table356[[#Headers],[Ingénierie de fabrication]],'Def. Prix & Parcours'!$I$6:$M$28,2,FALSE)*Table3[[#This Row],[Points Ingénierie de fabrication]]),\"\")","v":0},{"$f":"IF(Table3[[#This Row],[Parcours choisi]]<>\"\",(VLOOKUP(Table356[[#Headers],[Gestion de projet et collaborations]],'Def. Prix & Parcours'!$I$6:$M$28,2,FALSE)*Table3[[#This Row],[Points Gestion de projet et \ncollaborations]]),\"\")","v":75},{"$f":"IF(Table3[[#This Row],[Parcours choisi]]<>\"\",(VLOOKUP(Table356[[#Headers],[Présentation Orale]],'Def. Prix & Parcours'!$I$6:$M$28,2,FALSE)*Table3[[#This Row],[Points Présentation Orale]]),\"\")","v":55},{"$f":"IF(Table3[[#This Row],[Parcours choisi]]<>\"\",(VLOOKUP(Table356[[#Headers],[Identité Equipe]],'Def. Prix & Parcours'!$I$6:$M$28,2,FALSE)*Table3[[#This Row],[Points Identité Equipe]]),\"\")","v":80},{"$f":"IF(Table3[[#This Row],[Parcours choisi]]<>\"\",(VLOOKUP(Table356[[#Headers],[Design du Stand]],'Def. Prix & Parcours'!$I$6:$M$28,2,FALSE)*Table3[[#This Row],[Points Design du Stand]]),\"\")","v":0},{"$f":"IF(Table3[[#This Row],[Parcours choisi]]<>\"\",(VLOOKUP(Table356[[#Headers],[Portfolio]],'Def. Prix & Parcours'!$I$6:$M$28,2,FALSE)*Table3[[#This Row],[Points Portfolio]]),\"\")","v":0},{"$f":"IF(Table3[[#This Row],[Parcours choisi]]<>\"\",(VLOOKUP(Table356[[#Headers],[Marketing et Sponsoring]],'Def. Prix & Parcours'!$I$6:$M$28,2,FALSE)*Table3[[#This Row],[Points Marketing et Sponsoring]]),\"\")","v":0},{"$f":"IF(Table3[[#This Row],[Parcours choisi]]<>\"\",(VLOOKUP(Table356[[#Headers],[Budget]],'Def. Prix & Parcours'!$I$6:$M$28,2,FALSE)*Table3[[#This Row],[Points Budget]]),\"\")","v":0},{"$f":"IF(Table3[[#This Row],[Parcours choisi]]<>\"\",(VLOOKUP(Table356[[#Headers],[Design du Véhicule]],'Def. Prix & Parcours'!$I$6:$M$28,2,FALSE)*Table3[[#This Row],[Points Design du Véhicule]]),\"\")","v":0},{"$f":"IF(Table3[[#This Row],[Parcours choisi]]<>\"\",(VLOOKUP(Table356[[#Headers],[Innovation numérique]],'Def. Prix & Parcours'!$I$6:$M$28,2,FALSE)*Table3[[#This Row],[Points Innovation numérique]]),\"\")","v":0},{"$f":"IF(Table3[[#This Row],[Parcours choisi]]<>\"\",(VLOOKUP(Table356[[#Headers],[Programmation]],'Def. Prix & Parcours'!$I$6:$M$28,2,FALSE)*Table3[[#This Row],[Points Programmation]]),\"\")","v":0},{"$f":"IF(Table3[[#This Row],[Parcours choisi]]<>\"\",(VLOOKUP(Table356[[#Headers],[Respect du règlement]],'Def. Prix & Parcours'!$I$6:$M$28,2,FALSE)*Table3[[#This Row],[Points Respect du règlement]]),\"\")","v":80},{"$f":"IF(Table3[[#This Row],[Parcours choisi]]<>\"\",(VLOOKUP(Table356[[#Headers],[Communication : vidéo]],'Def. Prix & Parcours'!$I$6:$M$28,2,FALSE)*Table3[[#This Row],[Points Communication : vidéo]]),\"\")","v":42},{"$f":"IF(Table3[[#This Row],[Parcours choisi]]<>\"\",(VLOOKUP(Table356[[#Headers],[Epreuve CAO]],'Def. Prix & Parcours'!$I$6:$M$28,2,FALSE)*Table3[[#This Row],[Points Epreuve CAO]]),\"\")","v":80},{"$f":"IF(Table3[[#This Row],[Parcours choisi]]<>\"\",(VLOOKUP(Table356[[#Headers],[Temps Réaction]],'Def. Prix & Parcours'!$I$6:$M$28,2,FALSE)*Table3[[#This Row],[Points Temps Réaction]]),\"\")","v":48},{"$f":"IF(Table3[[#This Row],[Parcours choisi]]<>\"\",(VLOOKUP(Table356[[#Headers],[Temps Course]],'Def. Prix & Parcours'!$I$6:$M$28,2,FALSE)*Table3[[#This Row],[Points Temps Course]]),\"\")","v":130},{"$f":"IF(Table3[[#This Row],[Parcours choisi]]<>\"\",(VLOOKUP(Table356[[#Headers],[Epreuve arrêt au stand]],'Def. Prix & Parcours'!$I$6:$M$28,2,FALSE)*Table3[[#This Row],[Points Epreuve arrêt au stand]]),\"\")","v":80},{"$f":"IF(Table3[[#This Row],[Parcours choisi]]<>\"\",(VLOOKUP(Table356[[#Headers],[Coup de Cœur]],'Def. Prix & Parcours'!$I$6:$M$28,2,FALSE)*Table3[[#This Row],[Points Coup de cœur]]),\"\")","v":0},null,{"$f":"IF(Table3[[#This Row],[Parcours choisi]]<>\"\",SUM(Table356[[#This Row],[Ingénierie et conception]:[1]]),\"\")","v":730},{"$f":"IF(Table3[[#This Row],[Parcours choisi]]<>\"\",_xlfn.RANK.EQ(Table356[[#This Row],[Total Prix Avenir]],Table356[Total Prix Avenir],0),\"\")","v":15}]
[18,{"$f":"Table3[[#This Row],[Nom équipe]]","v":"Danger"},{"$f":"Table3[[#This Row],[Etablissement]]","v":"Hauts de Blémont Metz"},{"$f":"Table3[[#This Row],[Type établissement]]","v":"C"},{"$f":"Table3[[#This Row],[Académie]]","v":"Nancy-Metz"},{"$f":"IF(Table3[[#This Row],[Parcours choisi]]<>\"\",Table3[[#This Row],[Parcours choisi]],\"\")","v":"G"},{"$f":"IF(Table3[[#This Row],[Parcours choisi]]<>\"\",(VLOOKUP(Table356[[#Headers],[Ingénierie et conception]],'Def. Prix & Parcours'!$I$6:$M$28,2,FALSE)*Table3[[#This Row],[Points Ingénierie et conception]]),\"\")","v":54},{"$f":"IF(Table3[[#This Row],[Parcours choisi]]<>\"\",(VLOOKUP(Table356[[#Headers],[Innovation mécanique]],'Def. Prix & Parcours'!$I$6:$M$28,2,FALSE)*Table3[[#This Row],[Points Innovation mécanique]]),\"\")","v":0},{"$f":"IF(Table3[[#This Row],[Parcours choisi]]<>\"\",(VLOOKUP(Table356[[#Headers],[Développement Durable]],'Def. Prix & Parcours'!$I$6:$M$28,2,FALSE)*Table3[[#This Row],[Points Développement Durable]]),\"\")","v":0},{"$f":"IF(Table3[[#This Row],[Parcours choisi]]<>\"\",(VLOOKUP(Table356[[#Headers],[Ingénierie de fabrication]],'Def. Prix & Parcours'!$I$6:$M$28,2,FALSE)*Table3[[#This Row],[Points Ingénierie de fabrication]]),\"\")","v":0},{"$f":"IF(Table3[[#This Row],[Parcours choisi]]<>\"\",(VLOOKUP(Table356[[#Headers],[Gestion de projet et collaborations]],'Def. Prix & Parcours'!$I$6:$M$28,2,FALSE)*Table3[[#This Row],[Points Gestion de projet et \ncollaborations]]),\"\")","v":35},{"$f":"IF(Table3[[#This Row],[Parcours choisi]]<>\"\",(VLOOKUP(Table356[[#Headers],[Présentation Orale]],'Def. Prix & Parcours'!$I$6:$M$28,2,FALSE)*Table3[[#This Row],[Points Présentation Orale]]),\"\")","v":70},{"$f":"IF(Table3[[#This Row],[Parcours choisi]]<>\"\",(VLOOKUP(Table356[[#Headers],[Identité Equipe]],'Def. Prix & Parcours'!$I$6:$M$28,2,FALSE)*Table3[[#This Row],[Points Identité Equipe]]),\"\")","v":85},{"$f":"IF(Table3[[#This Row],[Parcours choisi]]<>\"\",(VLOOKUP(Table356[[#Headers],[Design du Stand]],'Def. Prix & Parcours'!$I$6:$M$28,2,FALSE)*Table3[[#This Row],[Points Design du Stand]]),\"\")","v":0},{"$f":"IF(Table3[[#This Row],[Parcours choisi]]<>\"\",(VLOOKUP(Table356[[#Headers],[Portfolio]],'Def. Prix & Parcours'!$I$6:$M$28,2,FALSE)*Table3[[#This Row],[Points Portfolio]]),\"\")","v":0},{"$f":"IF(Table3[[#This Row],[Parcours choisi]]<>\"\",(VLOOKUP(Table356[[#Headers],[Marketing et Sponsoring]],'Def. Prix & Parcours'!$I$6:$M$28,2,FALSE)*Table3[[#This Row],[Points Marketing et Sponsoring]]),\"\")","v":0},{"$f":"IF(Table3[[#This Row],[Parcours choisi]]<>\"\",(VLOOKUP(Table356[[#Headers],[Budget]],'Def. Prix & Parcours'!$I$6:$M$28,2,FALSE)*Table3[[#This Row],[Points Budget]]),\"\")","v":0},{"$f":"IF(Table3[[#This Row],[Parcours choisi]]<>\"\",(VLOOKUP(Table356[[#Headers],[Design du Véhicule]],'Def. Prix & Parcours'!$I$6:$M$28,2,FALSE)*Table3[[#This Row],[Points Design du Véhicule]]),\"\")","v":0},{"$f":"IF(Table3[[#This Row],[Parcours choisi]]<>\"\",(VLOOKUP(Table356[[#Headers],[Innovation numérique]],'Def. Prix & Parcours'!$I$6:$M$28,2,FALSE)*Table3[[#This Row],[Points Innovation numérique]]),\"\")","v":0},{"$f":"IF(Table3[[#This Row],[Parcours choisi]]<>\"\",(VLOOKUP(Table356[[#Headers],[Programmation]],'Def. Prix & Parcours'!$I$6:$M$28,2,FALSE)*Table3[[#This Row],[Points Programmation]]),\"\")","v":0},{"$f":"IF(Table3[[#This Row],[Parcours choisi]]<>\"\",(VLOOKUP(Table356[[#Headers],[Respect du règlement]],'Def. Prix & Parcours'!$I$6:$M$28,2,FALSE)*Table3[[#This Row],[Points Respect du règlement]]),\"\")","v":80},{"$f":"IF(Table3[[#This Row],[Parcours choisi]]<>\"\",(VLOOKUP(Table356[[#Headers],[Communication : vidéo]],'Def. Prix & Parcours'!$I$6:$M$28,2,FALSE)*Table3[[#This Row],[Points Communication : vidéo]]),\"\")","v":39},{"$f":"IF(Table3[[#This Row],[Parcours choisi]]<>\"\",(VLOOKUP(Table356[[#Headers],[Epreuve CAO]],'Def. Prix & Parcours'!$I$6:$M$28,2,FALSE)*Table3[[#This Row],[Points Epreuve CAO]]),\"\")","v":80},{"$f":"IF(Table3[[#This Row],[Parcours choisi]]<>\"\",(VLOOKUP(Table356[[#Headers],[Temps Réaction]],'Def. Prix & Parcours'!$I$6:$M$28,2,FALSE)*Table3[[#This Row],[Points Temps Réaction]]),\"\")","v":33},{"$f":"IF(Table3[[#This Row],[Parcours choisi]]<>\"\",(VLOOKUP(Table356[[#Headers],[Temps Course]],'Def. Prix & Parcours'!$I$6:$M$28,2,FALSE)*Table3[[#This Row],[Points Temps Course]]),\"\")","v":80},{"$f":"IF(Table3[[#This Row],[Parcours choisi]]<>\"\",(VLOOKUP(Table356[[#Headers],[Epreuve arrêt au stand]],'Def. Prix & Parcours'!$I$6:$M$28,2,FALSE)*Table3[[#This Row],[Points Epreuve arrêt au stand]]),\"\")","v":80},{"$f":"IF(Table3[[#This Row],[Parcours choisi]]<>\"\",(VLOOKUP(Table356[[#Headers],[Coup de Cœur]],'Def. Prix & Parcours'!$I$6:$M$28,2,FALSE)*Table3[[#This Row],[Points Coup de cœur]]),\"\")","v":0},null,{"$f":"IF(Table3[[#This Row],[Parcours choisi]]<>\"\",SUM(Table356[[#This Row],[Ingénierie et conception]:[1]]),\"\")","v":636},{"$f":"IF(Table3[[#This Row],[Parcours choisi]]<>\"\",_xlfn.RANK.EQ(Table356[[#This Row],[Total Prix Avenir]],Table356[Total Prix Avenir],0),\"\")","v":23}]
[19,{"$f":"Table3[[#This Row],[Nom équipe]]","v":"Scott"},{"$f":"Table3[[#This Row],[Etablissement]]","v":"Hauts de Blémont Metz"},{"$f":"Table3[[#This Row],[Type établissement]]","v":"C"},{"$f":"Table3[[#This Row],[Académie]]","v":"Nancy-Metz"},{"$f":"IF(Table3[[#This Row],[Parcours choisi]]<>\"\",Table3[[#This Row],[Parcours choisi]],\"\")","v":"G"},{"$f":"IF(Table3[[#This Row],[Parcours choisi]]<>\"\",(VLOOKUP(Table356[[#Headers],[Ingénierie et conception]],'Def. Prix & Parcours'!$I$6:$M$28,2,FALSE)*Table3[[#This Row],[Points Ingénierie et conception]]),\"\")","v":66},{"$f":"IF(Table3[[#This Row],[Parcours choisi]]<>\"\",(VLOOKUP(Table356[[#Headers],[Innovation mécanique]],'Def. Prix & Parcours'!$I$6:$M$28,2,FALSE)*Table3[[#This Row],[Points Innovation mécanique]]),\"\")","v":0},{"$f":"IF(Table3[[#This Row],[Parcours choisi]]<>\"\",(VLOOKUP(Table356[[#Headers],[Développement Durable]],'Def. Prix & Parcours'!$I$6:$M$28,2,FALSE)*Table3[[#This Row],[Points Développement Durable]]),\"\")","v":0},{"$f":"IF(Table3[[#This Row],[Parcours choisi]]<>\"\",(VLOOKUP(Table356[[#Headers],[Ingénierie de fabrication]],'Def. Prix & Parcours'!$I$6:$M$28,2,FALSE)*Table3[[#This Row],[Points Ingénierie de fabrication]]),\"\")","v":0},{"$f":"IF(Table3[[#This Row],[Parcours choisi]]<>\"\",(VLOOKUP(Table356[[#Headers],[Gestion de projet et collaborations]],'Def. Prix & Parcours'!$I$6:$M$28,2,FALSE)*Table3[[#This Row],[Points Gestion de projet et \ncollaborations]]),\"\")","v":75},{"$f":"IF(Table3[[#This Row],[Parcours choisi]]<>\"\",(VLOOKUP(Table356[[#Headers],[Présentation Orale]],'Def. Prix & Parcours'!$I$6:$M$28,2,FALSE)*Table3[[#This Row],[Points Présentation Orale]]),\"\")","v":45},{"$f":"IF(Table3[[#This Row],[Parcours choisi]]<>\"\",(VLOOKUP(Table356[[#Headers],[Identité Equipe]],'Def. Prix & Parcours'!$I$6:$M$28,2,FALSE)*Table3[[#This Row],[Points Identité Equipe]]),\"\")","v":90},{"$f":"IF(Table3[[#This Row],[Parcours choisi]]<>\"\",(VLOOKUP(Table356[[#Headers],[Design du Stand]],'Def. Prix & Parcours'!$I$6:$M$28,2,FALSE)*Table3[[#This Row],[Points Design du Stand]]),\"\")","v":0},{"$f":"IF(Table3[[#This Row],[Parcours choisi]]<>\"\",(VLOOKUP(Table356[[#Headers],[Portfolio]],'Def. Prix & Parcours'!$I$6:$M$28,2,FALSE)*Table3[[#This Row],[Points Portfolio]]),\"\")","v":0},{"$f":"IF(Table3[[#This Row],[Parcours choisi]]<>\"\",(VLOOKUP(Table356[[#Headers],[Marketing et Sponsoring]],'Def. Prix & Parcours'!$I$6:$M$28,2,FALSE)*Table3[[#This Row],[Points Marketing et Sponsoring]]),\"\")","v":0},{"$f":"IF(Table3[[#This Row],[Parcours choisi]]<>\"\",(VLOOKUP(Table356[[#Headers],[Budget]],'Def. Prix & Parcours'!$I$6:$M$28,2,FALSE)*Table3[[#This Row],[Points Budget]]),\"\")","v":0},{"$f":"IF(Table3[[#This Row],[Parcours choisi]]<>\"\",(VLOOKUP(Table356[[#Headers],[Design du Véhicule]],'Def. Prix & Parcours'!$I$6:$M$28,2,FALSE)*Table3[[#This Row],[Points Design du Véhicule]]),\"\")","v":0},{"$f":"IF(Table3[[#This Row],[Parcours choisi]]<>\"\",(VLOOKUP(Table356[[#Headers],[Innovation numérique]],'Def. Prix & Parcours'!$I$6:$M$28,2,FALSE)*Table3[[#This Row],[Points Innovation numérique]]),\"\")","v":0},{"$f":"IF(Table3[[#This Row],[Parcours choisi]]<>\"\",(VLOOKUP(Table356[[#Headers],[Programmation]],'Def. Prix & Parcours'!$I$6:$M$28,2,FALSE)*Table3[[#This Row],[Points Programmation]]),\"\")","v":0},{"$f":"IF(Table3[[#This Row],[Parcours choisi]]<>\"\",(VLOOKUP(Table356[[#Headers],[Respect du règlement]],'Def. Prix & Parcours'!$I$6:$M$28,2,FALSE)*Table3[[#This Row],[Points Respect du règlement]]),\"\")","v":80},{"$f":"IF(Table3[[#This Row],[Parcours choisi]]<>\"\",(VLOOKUP(Table356[[#Headers],[Communication : vidéo]],'Def. Prix & Parcours'!$I$6:$M$28,2,FALSE)*Table3[[#This Row],[Points Communication : vidéo]]),\"\")","v":54},{"$f":"IF(Table3[[#This Row],[Parcours choisi]]<>\"\",(VLOOKUP(Table356[[#Headers],[Epreuve CAO]],'Def. Prix & Parcours'!$I$6:$M$28,2,FALSE)*Table3[[#This Row],[Points Epreuve CAO]]),\"\")","v":80},{"$f":"IF(Table3[[#This Row],[Parcours choisi]]<>\"\",(VLOOKUP(Table356[[#Headers],[Temps Réaction]],'Def. Prix & Parcours'!$I$6:$M$28,2,FALSE)*Table3[[#This Row],[Points Temps Réaction]]),\"\")","v":12},{"$f":"IF(Table3[[#This Row],[Parcours choisi]]<>\"\",(VLOOKUP(Table356[[#Headers],[Temps Course]],'Def. Prix & Parcours'!$I$6:$M$28,2,FALSE)*Table3[[#This Row],[Points Temps Course]]),\"\")","v":90},{"$f":"IF(Table3[[#This Row],[Parcours choisi]]<>\"\",(VLOOKUP(Table356[[#Headers],[Epreuve arrêt au stand]],'Def. Prix & Parcours'!$I$6:$M$28,2,FALSE)*Table3[[#This Row],[Points Epreuve arrêt au stand]]),\"\")","v":80},{"$f":"IF(Table3[[#This Row],[Parcours choisi]]<>\"\",(VLOOKUP(Table356[[#Headers],[Coup de Cœur]],'Def. Prix & Parcours'!$I$6:$M$28,2,FALSE)*Table3[[#This Row],[Points Coup de cœur]]),\"\")","v":0},null,{"$f":"IF(Table3[[#This Row],[Parcours choisi]]<>\"\",SUM(Table356[[#This Row],[Ingénierie et conception]:[1]]),\"\")","v":672},{"$f":"IF(Table3[[#This Row],[Parcours choisi]]<>\"\",_xlfn.RANK.EQ(Table356[[#This Row],[Total Prix Avenir]],Table356[Total Prix Avenir],0),\"\")","v":19}]
[20,{"$f":"Table3[[#This Row],[Nom équipe]]","v":"Amercan's 70"},{"$f":"Table3[[#This Row],[Etablissement]]","v":"A. Dreux Folschviller"},{"$f":"Table3[[#This Row],[Type établissement]]","v":"C"},{"$f":"Table3[[#This Row],[Académie]]","v":"Nancy-Metz"},{"$f":"IF(Table3[[#This Row],[Parcours choisi]]<>\"\",Table3[[#This Row],[Parcours choisi]],\"\")","v":"G"},{"$f":"IF(Table3[[#This Row],[Parcours choisi]]<>\"\",(VLOOKUP(Table356[[#Headers],[Ingénierie et conception]],'Def. Prix & Parcours'!$I$6:$M$28,2,FALSE)*Table3[[#This Row],[Points Ingénierie et conception]]),\"\")","v":78},{"$f":"IF(Table3[[#This Row],[Parcours choisi]]<>\"\",(VLOOKUP(Table356[[#Headers],[Innovation mécanique]],'Def. Prix & Parcours'!$I$6:$M$28,2,FALSE)*Table3[[#This Row],[Points Innovation mécanique]]),\"\")","v":0},{"$f":"IF(Table3[[#This Row],[Parcours choisi]]<>\"\",(VLOOKUP(Table356[[#Headers],[Développement Durable]],'Def. Prix & Parcours'!$I$6:$M$28,2,FALSE)*Table3[[#This Row],[Points Développement Durable]]),\"\")","v":0},{"$f":"IF(Table3[[#This Row],[Parcours choisi]]<>\"\",(VLOOKUP(Table356[[#Headers],[Ingénierie de fabrication]],'Def. Prix & Parcours'!$I$6:$M$28,2,FALSE)*Table3[[#This Row],[Points Ingénierie de fabrication]]),\"\")","v":0},{"$f":"IF(Table3[[#This Row],[Parcours choisi]]<>\"\",(VLOOKUP(Table356[[#Headers],[Gestion de projet et collaborations]],'Def. Prix & Parcours'!$I$6:$M$28,2,FALSE)*Table3[[#This Row],[Points Gestion de projet et \ncollaborations]]),\"\")","v":70},{"$f":"IF(Table3[[#This Row],[Parcours choisi]]<>\"\",(VLOOKUP(Table356[[#Headers],[Présentation Orale]],'Def. Prix & Parcours'!$I$6:$M$28,2,FALSE)*Table3[[#This Row],[Points Présentation Orale]]),\"\")","v":60},{"$f":"IF(Table3[[#This Row],[Parcours choisi]]<>\"\",(VLOOKUP(Table356[[#Headers],[Identité Equipe]],'Def. Prix & Parcours'!$I$6:$M$28,2,FALSE)*Table3[[#This Row],[Points Identité Equipe]]),\"\")","v":60},{"$f":"IF(Table3[[#This Row],[Parcours choisi]]<>\"\",(VLOOKUP(Table356[[#Headers],[Design du Stand]],'Def. Prix & Parcours'!$I$6:$M$28,2,FALSE)*Table3[[#This Row],[Points Design du Stand]]),\"\")","v":0},{"$f":"IF(Table3[[#This Row],[Parcours choisi]]<>\"\",(VLOOKUP(Table356[[#Headers],[Portfolio]],'Def. Prix & Parcours'!$I$6:$M$28,2,FALSE)*Table3[[#This Row],[Points Portfolio]]),\"\")","v":0},{"$f":"IF(Table3[[#This Row],[Parcours choisi]]<>\"\",(VLOOKUP(Table356[[#Headers],[Marketing et Sponsoring]],'Def. Prix & Parcours'!$I$6:$M$28,2,FALSE)*Table3[[#This Row],[Points Marketing et Sponsoring]]),\"\")","v":0},{"$f":"IF(Table3[[#This Row],[Parcours choisi]]<>\"\",(VLOOKUP(Table356[[#Headers],[Budget]],'Def. Prix & Parcours'!$I$6:$M$28,2,FALSE)*Table3[[#This Row],[Points Budget]]),\"\")","v":0},{"$f":"IF(Table3[[#This Row],[Parcours choisi]]<>\"\",(VLOOKUP(Table356[[#Headers],[Design du Véhicule]],'Def. Prix & Parcours'!$I$6:$M$28,2,FALSE)*Table3[[#This Row],[Points Design du Véhicule]]),\"\")","v":0},{"$f":"IF(Table3[[#This Row],[Parcours choisi]]<>\"\",(VLOOKUP(Table356[[#Headers],[Innovation numérique]],'Def. Prix & Parcours'!$I$6:$M$28,2,FALSE)*Table3[[#This Row],[Points Innovation numérique]]),\"\")","v":0},{"$f":"IF(Table3[[#This Row],[Parcours choisi]]<>\"\",(VLOOKUP(Table356[[#Headers],[Programmation]],'Def. Prix & Parcours'!$I$6:$M$28,2,FALSE)*Table3[[#This Row],[Points Programmation]]),\"\")","v":0},{"$f":"IF(Table3[[#This Row],[Parcours choisi]]<>\"\",(VLOOKUP(Table356[[#Headers],[Respect du règlement]],'Def. Prix & Parcours'!$I$6:$M$28,2,FALSE)*Table3[[#This Row],[Points Respect du règlement]]),\"\")","v":70},{"$f":"IF(Table3[[#This Row],[Parcours choisi]]<>\"\",(VLOOKUP(Table356[[#Headers],[Communication : vidéo]],'Def. Prix & Parcours'!$I$6:$M$28,2,FALSE)*Table3[[#This Row],[Points Communication : vidéo]]),\"\")","v":48},{"$f":"IF(Table3[[#This Row],[Parcours choisi]]<>\"\",(VLOOKUP(Table356[[#Headers],[Epreuve CAO]],'Def. Prix & Parcours'!$I$6:$M$28,2,FALSE)*Table3[[#This Row],[Points Epreuve CAO]]),\"\")","v":80},{"$f":"IF(Table3[[#This Row],[Parcours choisi]]<>\"\",(VLOOKUP(Table356[[#Headers],[Temps Réaction]],'Def. Prix & Parcours'!$I$6:$M$28,2,FALSE)*Table3[[#This Row],[Points Temps Réaction]]),\"\")","v":24},{"$f":"IF(Table3[[#This Row],[Parcours choisi]]<>\"\",(VLOOKUP(Table356[[#Headers],[Temps Course]],'Def. Prix & Parcours'!$I$6:$M$28,2,FALSE)*Table3[[#This Row],[Points Temps Course]]),\"\")","v":80},{"$f":"IF(Table3[[#This Row],[Parcours choisi]]<>\"\",(VLOOKUP(Table356[[#Headers],[Epreuve arrêt au stand]],'Def. Prix & Parcours'!$I$6:$M$28,2,FALSE)*Table3[[#This Row],[Points Epreuve arrêt au stand]]),\"\")","v":80},{"$f":"IF(Table3[[#This Row],[Parcours choisi]]<>\"\",(VLOOKUP(Table356[[#Headers],[Coup de Cœur]],'Def. Prix & Parcours'!$I$6:$M$28,2,FALSE)*Table3[[#This Row],[Points Coup de cœur]]),\"\")","v":0},null,{"$f":"IF(Table3[[#This Row],[Parcours choisi]]<>\"\",SUM(Table356[[#This Row],[Ingénierie et conception]:[1]]),\"\")","v":650},{"$f":"IF(Table3[[#This Row],[Parcours choisi]]<>\"\",_xlfn.RANK.EQ(Table356[[#This Row],[Total Prix Avenir]],Table356[Total Prix Avenir],0),\"\")","v":21}]
[21,{"$f":"Table3[[#This Row],[Nom équipe]]","v":"Les 80's"},{"$f":"Table3[[#This Row],[Etablissement]]","v":"A. Dreux Folschviller"},{"$f":"Table3[[#This Row],[Type établissement]]","v":"C"},{"$f":"Table3[[#This Row],[Académie]]","v":"Nancy-Metz"},{"$f":"IF(Table3[[#This Row],[Parcours choisi]]<>\"\",Table3[[#This Row],[Parcours choisi]],\"\")","v":"G"},{"$f":"IF(Table3[[#This Row],[Parcours choisi]]<>\"\",(VLOOKUP(Table356[[#Headers],[Ingénierie et conception]],'Def. Prix & Parcours'!$I$6:$M$28,2,FALSE)*Table3[[#This Row],[Points Ingénierie et conception]]),\"\")","v":84},{"$f":"IF(Table3[[#This Row],[Parcours choisi]]<>\"\",(VLOOKUP(Table356[[#Headers],[Innovation mécanique]],'Def. Prix & Parcours'!$I$6:$M$28,2,FALSE)*Table3[[#This Row],[Points Innovation mécanique]]),\"\")","v":0},{"$f":"IF(Table3[[#This Row],[Parcours choisi]]<>\"\",(VLOOKUP(Table356[[#Headers],[Développement Durable]],'Def. Prix & Parcours'!$I$6:$M$28,2,FALSE)*Table3[[#This Row],[Points Développement Durable]]),\"\")","v":0},{"$f":"IF(Table3[[#This Row],[Parcours choisi]]<>\"\",(VLOOKUP(Table356[[#Headers],[Ingénierie de fabrication]],'Def. Prix & Parcours'!$I$6:$M$28,2,FALSE)*Table3[[#This Row],[Points Ingénierie de fabrication]]),\"\")","v":0},{"$f":"IF(Table3[[#This Row],[Parcours choisi]]<>\"\",(VLOOKUP(Table356[[#Headers],[Gestion de projet et collaborations]],'Def. Prix & Parcours'!$I$6:$M$28,2,FALSE)*Table3[[#This Row],[Points Gestion de projet et \ncollaborations]]),\"\")","v":50},{"$f":"IF(Table3[[#This Row],[Parcours choisi]]<>\"\",(VLOOKUP(Table356[[#Headers],[Présentation Orale]],'Def. Prix & Parcours'!$I$6:$M$28,2,FALSE)*Table3[[#This Row],[Points Présentation Orale]]),\"\")","v":70},{"$f":"IF(Table3[[#This Row],[Parcours choisi]]<>\"\",(VLOOKUP(Table356[[#Headers],[Identité Equipe]],'Def. Prix & Parcours'!$I$6:$M$28,2,FALSE)*Table3[[#This Row],[Points Identité Equipe]]),\"\")","v":75},{"$f":"IF(Table3[[#This Row],[Parcours choisi]]<>\"\",(VLOOKUP(Table356[[#Headers],[Design du Stand]],'Def. Prix & Parcours'!$I$6:$M$28,2,FALSE)*Table3[[#This Row],[Points Design du Stand]]),\"\")","v":0},{"$f":"IF(Table3[[#This Row],[Parcours choisi]]<>\"\",(VLOOKUP(Table356[[#Headers],[Portfolio]],'Def. Prix & Parcours'!$I$6:$M$28,2,FALSE)*Table3[[#This Row],[Points Portfolio]]),\"\")","v":0},{"$f":"IF(Table3[[#This Row],[Parcours choisi]]<>\"\",(VLOOKUP(Table356[[#Headers],[Marketing et Sponsoring]],'Def. Prix & Parcours'!$I$6:$M$28,2,FALSE)*Table3[[#This Row],[Points Marketing et Sponsoring]]),\"\")","v":0},{"$f":"IF(Table3[[#This Row],[Parcours choisi]]<>\"\",(VLOOKUP(Table356[[#Headers],[Budget]],'Def. Prix & Parcours'!$I$6:$M$28,2,FALSE)*Table3[[#This Row],[Points Budget]]),\"\")","v":0},{"$f":"IF(Table3[[#This Row],[Parcours choisi]]<>\"\",(VLOOKUP(Table356[[#Headers],[Design du Véhicule]],'Def. Prix & Parcours'!$I$6:$M$28,2,FALSE)*Table3[[#This Row],[Points Design du Véhicule]]),\"\")","v":0},{"$f":"IF(Table3[[#This Row],[Parcours choisi]]<>\"\",(VLOOKUP(Table356[[#Headers],[Innovation numérique]],'Def. Prix & Parcours'!$I$6:$M$28,2,FALSE)*Table3[[#This Row],[Points Innovation numérique]]),\"\")","v":0},{"$f":"IF(Table3[[#This Row],[Parcours choisi]]<>\"\",(VLOOKUP(Table356[[#Headers],[Programmation]],'Def. Prix & Parcours'!$I$6:$M$28,2,FALSE)*Table3[[#This Row],[Points Programmation]]),\"\")","v":0},{"$f":"IF(Table3[[#This Row],[Parcours choisi]]<>\"\",(VLOOKUP(Table356[[#Headers],[Respect du règlement]],'Def. Prix & Parcours'!$I$6:$M$28,2,FALSE)*Table3[[#This Row],[Points Respect du règlement]]),\"\")","v":75},{"$f":"IF(Table3[[#This Row],[Parcours choisi]]<>\"\",(VLOOKUP(Table356[[#Headers],[Communication : vidéo]],'Def. Prix & Parcours'!$I$6:$M$28,2,FALSE)*Table3[[#This Row],[Points Communication : vidéo]]),\"\")","v":33},{"$f":"IF(Table3[[#This Row],[Parcours choisi]]<>\"\",(VLOOKUP(Table356[[#Headers],[Epreuve CAO]],'Def. Prix & Parcours'!$I$6:$M$28,2,FALSE)*Table3[[#This Row],[Points Epreuve CAO]]),\"\")","v":80},{"$f":"IF(Table3[[#This Row],[Parcours choisi]]<>\"\",(VLOOKUP(Table356[[#Headers],[Temps Réaction]],'Def. Prix & Parcours'!$I$6:$M$28,2,FALSE)*Table3[[#This Row],[Points Temps Réaction]]),\"\")","v":33},{"$f":"IF(Table3[[#This Row],[Parcours choisi]]<>\"\",(VLOOKUP(Table356[[#Headers],[Temps Course]],'Def. Prix & Parcours'!$I$6:$M$28,2,FALSE)*Table3[[#This Row],[Points Temps Course]]),\"\")","v":80},{"$f":"IF(Table3[[#This Row],[Parcours choisi]]<>\"\",(VLOOKUP(Table356[[#Headers],[Epreuve arrêt au stand]],'Def. Prix & Parcours'!$I$6:$M$28,2,FALSE)*Table3[[#This Row],[Points Epreuve arrêt au stand]]),\"\")","v":80},{"$f":"IF(Table3[[#This Row],[Parcours choisi]]<>\"\",(VLOOKUP(Table356[[#Headers],[Coup de Cœur]],'Def. Prix & Parcours'!$I$6:$M$28,2,FALSE)*Table3[[#This Row],[Points Coup de cœur]]),\"\")","v":0},null,{"$f":"IF(Table3[[#This Row],[Parcours choisi]]<>\"\",SUM(Table356[[#This Row],[Ingénierie et conception]:[1]]),\"\")","v":660},{"$f":"IF(Table3[[#This Row],[Parcours choisi]]<>\"\",_xlfn.RANK.EQ(Table356[[#This Row],[Total Prix Avenir]],Table356[Total Prix Avenir],0),\"\")","v":20}]
[22,{"$f":"Table3[[#This Row],[Nom équipe]]","v":"E-magie-nation"},{"$f":"Table3[[#This Row],[Etablissement]]","v":"A. Dreux Folschviller"},{"$f":"Table3[[#This Row],[Type établissement]]","v":"C"},{"$f":"Table3[[#This Row],[Académie]]","v":"Nancy-Metz"},{"$f":"IF(Table3[[#This Row],[Parcours choisi]]<>\"\",Table3[[#This Row],[Parcours choisi]],\"\")","v":"G"},{"$f":"IF(Table3[[#This Row],[Parcours choisi]]<>\"\",(VLOOKUP(Table356[[#Headers],[Ingénierie et conception]],'Def. Prix & Parcours'!$I$6:$M$28,2,FALSE)*Table3[[#This Row],[Points Ingénierie et conception]]),\"\")","v":78},{"$f":"IF(Table3[[#This Row],[Parcours choisi]]<>\"\",(VLOOKUP(Table356[[#Headers],[Innovation mécanique]],'Def. Prix & Parcours'!$I$6:$M$28,2,FALSE)*Table3[[#This Row],[Points Innovation mécanique]]),\"\")","v":0},{"$f":"IF(Table3[[#This Row],[Parcours choisi]]<>\"\",(VLOOKUP(Table356[[#Headers],[Développement Durable]],'Def. Prix & Parcours'!$I$6:$M$28,2,FALSE)*Table3[[#This Row],[Points Développement Durable]]),\"\")","v":0},{"$f":"IF(Table3[[#This Row],[Parcours choisi]]<>\"\",(VLOOKUP(Table356[[#Headers],[Ingénierie de fabrication]],'Def. Prix & Parcours'!$I$6:$M$28,2,FALSE)*Table3[[#This Row],[Points Ingénierie de fabrication]]),\"\")","v":0},{"$f":"IF(Table3[[#This Row],[Parcours choisi]]<>\"\",(VLOOKUP(Table356[[#Headers],[Gestion de projet et collaborations]],'Def. Prix & Parcours'!$I$6:$M$28,2,FALSE)*Table3[[#This Row],[Points Gestion de projet et \ncollaborations]]),\"\")","v":70},{"$f":"IF(Table3[[#This Row],[Parcours choisi]]<>\"\",(VLOOKUP(Table356[[#Headers],[Présentation Orale]],'Def. Prix & Parcours'!$I$6:$M$28,2,FALSE)*Table3[[#This Row],[Points Présentation Orale]]),\"\")","v":65},{"$f":"IF(Table3[[#This Row],[Parcours choisi]]<>\"\",(VLOOKUP(Table356[[#Headers],[Identité Equipe]],'Def. Prix & Parcours'!$I$6:$M$28,2,FALSE)*Table3[[#This Row],[Points Identité Equipe]]),\"\")","v":70},{"$f":"IF(Table3[[#This Row],[Parcours choisi]]<>\"\",(VLOOKUP(Table356[[#Headers],[Design du Stand]],'Def. Prix & Parcours'!$I$6:$M$28,2,FALSE)*Table3[[#This Row],[Points Design du Stand]]),\"\")","v":0},{"$f":"IF(Table3[[#This Row],[Parcours choisi]]<>\"\",(VLOOKUP(Table356[[#Headers],[Portfolio]],'Def. Prix & Parcours'!$I$6:$M$28,2,FALSE)*Table3[[#This Row],[Points Portfolio]]),\"\")","v":0},{"$f":"IF(Table3[[#This Row],[Parcours choisi]]<>\"\",(VLOOKUP(Table356[[#Headers],[Marketing et Sponsoring]],'Def. Prix & Parcours'!$I$6:$M$28,2,FALSE)*Table3[[#This Row],[Points Marketing et Sponsoring]]),\"\")","v":0},{"$f":"IF(Table3[[#This Row],[Parcours choisi]]<>\"\",(VLOOKUP(Table356[[#Headers],[Budget]],'Def. Prix & Parcours'!$I$6:$M$28,2,FALSE)*Table3[[#This Row],[Points Budget]]),\"\")","v":0},{"$f":"IF(Table3[[#This Row],[Parcours choisi]]<>\"\",(VLOOKUP(Table356[[#Headers],[Design du Véhicule]],'Def. Prix & Parcours'!$I$6:$M$28,2,FALSE)*Table3[[#This Row],[Points Design du Véhicule]]),\"\")","v":0},{"$f":"IF(Table3[[#This Row],[Parcours choisi]]<>\"\",(VLOOKUP(Table356[[#Headers],[Innovation numérique]],'Def. Prix & Parcours'!$I$6:$M$28,2,FALSE)*Table3[[#This Row],[Points Innovation numérique]]),\"\")","v":0},{"$f":"IF(Table3[[#This Row],[Parcours choisi]]<>\"\",(VLOOKUP(Table356[[#Headers],[Programmation]],'Def. Prix & Parcours'!$I$6:$M$28,2,FALSE)*Table3[[#This Row],[Points Programmation]]),\"\")","v":0},{"$f":"IF(Table3[[#This Row],[Parcours choisi]]<>\"\",(VLOOKUP(Table356[[#Headers],[Respect du règlement]],'Def. Prix & Parcours'!$I$6:$M$28,2,FALSE)*Table3[[#This Row],[Points Respect du règlement]]),\"\")","v":100},{"$f":"IF(Table3[[#This Row],[Parcours choisi]]<>\"\",(VLOOKUP(Table356[[#Headers],[Communication : vidéo]],'Def. Prix & Parcours'!$I$6:$M$28,2,FALSE)*Table3[[#This Row],[Points Communication : vidéo]]),\"\")","v":60},{"$f":"IF(Table3[[#This Row],[Parcours choisi]]<>\"\",(VLOOKUP(Table356[[#Headers],[Epreuve CAO]],'Def. Prix & Parcours'!$I$6:$M$28,2,FALSE)*Table3[[#This Row],[Points Epreuve CAO]]),\"\")","v":80},{"$f":"IF(Table3[[#This Row],[Parcours choisi]]<>\"\",(VLOOKUP(Table356[[#Headers],[Temps Réaction]],'Def. Prix & Parcours'!$I$6:$M$28,2,FALSE)*Table3[[#This Row],[Points Temps Réaction]]),\"\")","v":6},{"$f":"IF(Table3[[#This Row],[Parcours choisi]]<>\"\",(VLOOKUP(Table356[[#Headers],[Temps Course]],'Def. Prix & Parcours'!$I$6:$M$28,2,FALSE)*Table3[[#This Row],[Points Temps Course]]),\"\")","v":100},{"$f":"IF(Table3[[#This Row],[Parcours choisi]]<>\"\",(VLOOKUP(Table356[[#Headers],[Epreuve arrêt au stand]],'Def. Prix & Parcours'!$I$6:$M$28,2,FALSE)*Table3[[#This Row],[Points Epreuve arrêt au stand]]),\"\")","v":80},{"$f":"IF(Table3[[#This Row],[Parcours choisi]]<>\"\",(VLOOKUP(Table356[[#Headers],[Coup de Cœur]],'Def. Prix & Parcours'!$I$6:$M$28,2,FALSE)*Table3[[#This Row],[Points Coup de cœur]]),\"\")","v":0},null,{"$f":"IF(Table3[[#This Row],[Parcours choisi]]<>\"\",SUM(Table356[[#This Row],[Ingénierie et conception]:[1]]),\"\")","v":709},{"$f":"IF(Table3[[#This Row],[Parcours choisi]]<>\"\",_xlfn.RANK.EQ(Table356[[#This Row],[Total Prix Avenir]],Table356[Total Prix Avenir],0),\"\")","v":17}]
[23,{"$f":"Table3[[#This Row],[Nom équipe]]","v":"Gol'o Team"},{"$f":"Table3[[#This Row],[Etablissement]]","v":"A. Dreux Folschviller"},{"$f":"Table3[[#This Row],[Type établissement]]","v":"C"},{"$f":"Table3[[#This Row],[Académie]]","v":"Nancy-Metz"},{"$f":"IF(Table3[[#This Row],[Parcours choisi]]<>\"\",Table3[[#This Row],[Parcours choisi]],\"\")","v":"G"},{"$f":"IF(Table3[[#This Row],[Parcours choisi]]<>\"\",(VLOOKUP(Table356[[#Headers],[Ingénierie et conception]],'Def. Prix & Parcours'!$I$6:$M$28,2,FALSE)*Table3[[#This Row],[Points Ingénierie et conception]]),\"\")","v":90},{"$f":"IF(Table3[[#This Row],[Parcours choisi]]<>\"\",(VLOOKUP(Table356[[#Headers],[Innovation mécanique]],'Def. Prix & Parcours'!$I$6:$M$28,2,FALSE)*Table3[[#This Row],[Points Innovation mécanique]]),\"\")","v":0},{"$f":"IF(Table3[[#This Row],[Parcours choisi]]<>\"\",(VLOOKUP(Table356[[#Headers],[Développement Durable]],'Def. Prix & Parcours'!$I$6:$M$28,2,FALSE)*Table3[[#This Row],[Points Développement Durable]]),\"\")","v":0},{"$f":"IF(Table3[[#This Row],[Parcours choisi]]<>\"\",(VLOOKUP(Table356[[#Headers],[Ingénierie de fabrication]],'Def. Prix & Parcours'!$I$6:$M$28,2,FALSE)*Table3[[#This Row],[Points Ingénierie de fabrication]]),\"\")","v":0},{"$f":"IF(Table3[[#This Row],[Parcours choisi]]<>\"\",(VLOOKUP(Table356[[#Headers],[Gestion de projet et collaborations]],'Def. Prix & Parcours'!$I$6:$M$28,2,FALSE)*Table3[[#This Row],[Points Gestion de projet et \ncollaborations]]),\"\")","v":85},{"$f":"IF(Table3[[#This Row],[Parcours choisi]]<>\"\",(VLOOKUP(Table356[[#Headers],[Présentation Orale]],'Def. Prix & Parcours'!$I$6:$M$28,2,FALSE)*Table3[[#This Row],[Points Présentation Orale]]),\"\")","v":90},{"$f":"IF(Table3[[#This Row],[Parcours choisi]]<>\"\",(VLOOKUP(Table356[[#Headers],[Identité Equipe]],'Def. Prix & Parcours'!$I$6:$M$28,2,FALSE)*Table3[[#This Row],[Points Identité Equipe]]),\"\")","v":80},{"$f":"IF(Table3[[#This Row],[Parcours choisi]]<>\"\",(VLOOKUP(Table356[[#Headers],[Design du Stand]],'Def. Prix & Parcours'!$I$6:$M$28,2,FALSE)*Table3[[#This Row],[Points Design du Stand]]),\"\")","v":0},{"$f":"IF(Table3[[#This Row],[Parcours choisi]]<>\"\",(VLOOKUP(Table356[[#Headers],[Portfolio]],'Def. Prix & Parcours'!$I$6:$M$28,2,FALSE)*Table3[[#This Row],[Points Portfolio]]),\"\")","v":0},{"$f":"IF(Table3[[#This Row],[Parcours choisi]]<>\"\",(VLOOKUP(Table356[[#Headers],[Marketing et Sponsoring]],'Def. Prix & Parcours'!$I$6:$M$28,2,FALSE)*Table3[[#This Row],[Points Marketing et Sponsoring]]),\"\")","v":0},{"$f":"IF(Table3[[#This Row],[Parcours choisi]]<>\"\",(VLOOKUP(Table356[[#Headers],[Budget]],'Def. Prix & Parcours'!$I$6:$M$28,2,FALSE)*Table3[[#This Row],[Points Budget]]),\"\")","v":0},{"$f":"IF(Table3[[#This Row],[Parcours choisi]]<>\"\",(VLOOKUP(Table356[[#Headers],[Design du Véhicule]],'Def. Prix & Parcours'!$I$6:$M$28,2,FALSE)*Table3[[#This Row],[Points Design du Véhicule]]),\"\")","v":0},{"$f":"IF(Table3[[#This Row],[Parcours choisi]]<>\"\",(VLOOKUP(Table356[[#Headers],[Innovation numérique]],'Def. Prix & Parcours'!$I$6:$M$28,2,FALSE)*Table3[[#This Row],[Points Innovation numérique]]),\"\")","v":0},{"$f":"IF(Table3[[#This Row],[Parcours choisi]]<>\"\",(VLOOKUP(Table356[[#Headers],[Programmation]],'Def. Prix & Parcours'!$I$6:$M$28,2,FALSE)*Table3[[#This Row],[Points Programmation]]),\"\")","v":0},{"$f":"IF(Table3[[#This Row],[Parcours choisi]]<>\"\",(VLOOKUP(Table356[[#Headers],[Respect du règlement]],'Def. Prix & Parcours'!$I$6:$M$28,2,FALSE)*Table3[[#This Row],[Points Respect du règlement]]),\"\")","v":75},{"$f":"IF(Table3[[#This Row],[Parcours choisi]]<>\"\",(VLOOKUP(Table356[[#Headers],[Communication : vidéo]],'Def. Prix & Parcours'!$I$6:$M$28,2,FALSE)*Table3[[#This Row],[Points Communication : vidéo]]),\"\")","v":21},{"$f":"IF(Table3[[#This Row],[Parcours choisi]]<>\"\",(VLOOKUP(Table356[[#Headers],[Epreuve CAO]],'Def. Prix & Parcours'!$I$6:$M$28,2,FALSE)*Table3[[#This Row],[Points Epreuve CAO]]),\"\")","v":80},{"$f":"IF(Table3[[#This Row],[Parcours choisi]]<>\"\",(VLOOKUP(Table356[[#Headers],[Temps Réaction]],'Def. Prix & Parcours'!$I$6:$M$28,2,FALSE)*Table3[[#This Row],[Points Temps Réaction]]),\"\")","v":60},{"$f":"IF(Table3[[#This Row],[Parcours choisi]]<>\"\",(VLOOKUP(Table356[[#Headers],[Temps Course]],'Def. Prix & Parcours'!$I$6:$M$28,2,FALSE)*Table3[[#This Row],[Points Temps Course]]),\"\")","v":80},{"$f":"IF(Table3[[#This Row],[Parcours choisi]]<>\"\",(VLOOKUP(Table356[[#Headers],[Epreuve arrêt au stand]],'Def. Prix & Parcours'!$I$6:$M$28,2,FALSE)*Table3[[#This Row],[Points Epreuve arrêt au stand]]),\"\")","v":80},{"$f":"IF(Table3[[#This Row],[Parcours choisi]]<>\"\",(VLOOKUP(Table356[[#Headers],[Coup de Cœur]],'Def. Prix & Parcours'!$I$6:$M$28,2,FALSE)*Table3[[#This Row],[Points Coup de cœur]]),\"\")","v":0},null,{"$f":"IF(Table3[[#This Row],[Parcours choisi]]<>\"\",SUM(Table356[[#This Row],[Ingénierie et conception]:[1]]),\"\")","v":741},{"$f":"IF(Table3[[#This Row],[Parcours choisi]]<>\"\",_xlfn.RANK.EQ(Table356[[#This Row],[Total Prix Avenir]],Table356[Total Prix Avenir],0),\"\")","v":14}]
[24,{"$f":"Table3[[#This Row],[Nom équipe]]","v":"Serpent"},{"$f":"Table3[[#This Row],[Etablissement]]","v":"A. Dreux Folschviller"},{"$f":"Table3[[#This Row],[Type établissement]]","v":"C"},{"$f":"Table3[[#This Row],[Académie]]","v":"Nancy-Metz"},{"$f":"IF(Table3[[#This Row],[Parcours choisi]]<>\"\",Table3[[#This Row],[Parcours choisi]],\"\")","v":"G"},{"$f":"IF(Table3[[#This Row],[Parcours choisi]]<>\"\",(VLOOKUP(Table356[[#Headers],[Ingénierie et conception]],'Def. Prix & Parcours'!$I$6:$M$28,2,FALSE)*Table3[[#This Row],[Points Ingénierie et conception]]),\"\")","v":48},{"$f":"IF(Table3[[#This Row],[Parcours choisi]]<>\"\",(VLOOKUP(Table356[[#Headers],[Innovation mécanique]],'Def. Prix & Parcours'!$I$6:$M$28,2,FALSE)*Table3[[#This Row],[Points Innovation mécanique]]),\"\")","v":0},{"$f":"IF(Table3[[#This Row],[Parcours choisi]]<>\"\",(VLOOKUP(Table356[[#Headers],[Développement Durable]],'Def. Prix & Parcours'!$I$6:$M$28,2,FALSE)*Table3[[#This Row],[Points Développement Durable]]),\"\")","v":0},{"$f":"IF(Table3[[#This Row],[Parcours choisi]]<>\"\",(VLOOKUP(Table356[[#Headers],[Ingénierie de fabrication]],'Def. Prix & Parcours'!$I$6:$M$28,2,FALSE)*Table3[[#This Row],[Points Ingénierie de fabrication]]),\"\")","v":0},{"$f":"IF(Table3[[#This Row],[Parcours choisi]]<>\"\",(VLOOKUP(Table356[[#Headers],[Gestion de projet et collaborations]],'Def. Prix & Parcours'!$I$6:$M$28,2,FALSE)*Table3[[#This Row],[Points Gestion de projet et \ncollaborations]]),\"\")","v":25},{"$f":"IF(Table3[[#This Row],[Parcours choisi]]<>\"\",(VLOOKUP(Table356[[#Headers],[Présentation Orale]],'Def. Prix & Parcours'!$I$6:$M$28,2,FALSE)*Table3[[#This Row],[Points Présentation Orale]]),\"\")","v":20},{"$f":"IF(Table3[[#This Row],[Parcours choisi]]<>\"\",(VLOOKUP(Table356[[#Headers],[Identité Equipe]],'Def. Prix & Parcours'!$I$6:$M$28,2,FALSE)*Table3[[#This Row],[Points Identité Equipe]]),\"\")","v":65},{"$f":"IF(Table3[[#This Row],[Parcours choisi]]<>\"\",(VLOOKUP(Table356[[#Headers],[Design du Stand]],'Def. Prix & Parcours'!$I$6:$M$28,2,FALSE)*Table3[[#This Row],[Points Design du Stand]]),\"\")","v":0},{"$f":"IF(Table3[[#This Row],[Parcours choisi]]<>\"\",(VLOOKUP(Table356[[#Headers],[Portfolio]],'Def. Prix & Parcours'!$I$6:$M$28,2,FALSE)*Table3[[#This Row],[Points Portfolio]]),\"\")","v":0},{"$f":"IF(Table3[[#This Row],[Parcours choisi]]<>\"\",(VLOOKUP(Table356[[#Headers],[Marketing et Sponsoring]],'Def. Prix & Parcours'!$I$6:$M$28,2,FALSE)*Table3[[#This Row],[Points Marketing et Sponsoring]]),\"\")","v":0},{"$f":"IF(Table3[[#This Row],[Parcours choisi]]<>\"\",(VLOOKUP(Table356[[#Headers],[Budget]],'Def. Prix & Parcours'!$I$6:$M$28,2,FALSE)*Table3[[#This Row],[Points Budget]]),\"\")","v":0},{"$f":"IF(Table3[[#This Row],[Parcours choisi]]<>\"\",(VLOOKUP(Table356[[#Headers],[Design du Véhicule]],'Def. Prix & Parcours'!$I$6:$M$28,2,FALSE)*Table3[[#This Row],[Points Design du Véhicule]]),\"\")","v":0},{"$f":"IF(Table3[[#This Row],[Parcours choisi]]<>\"\",(VLOOKUP(Table356[[#Headers],[Innovation numérique]],'Def. Prix & Parcours'!$I$6:$M$28,2,FALSE)*Table3[[#This Row],[Points Innovation numérique]]),\"\")","v":0},{"$f":"IF(Table3[[#This Row],[Parcours choisi]]<>\"\",(VLOOKUP(Table356[[#Headers],[Programmation]],'Def. Prix & Parcours'!$I$6:$M$28,2,FALSE)*Table3[[#This Row],[Points Programmation]]),\"\")","v":0},{"$f":"IF(Table3[[#This Row],[Parcours choisi]]<>\"\",(VLOOKUP(Table356[[#Headers],[Respect du règlement]],'Def. Prix & Parcours'!$I$6:$M$28,2,FALSE)*Table3[[#This Row],[Points Respect du règlement]]),\"\")","v":75},{"$f":"IF(Table3[[#This Row],[Parcours choisi]]<>\"\",(VLOOKUP(Table356[[#Headers],[Communication : vidéo]],'Def. Prix & Parcours'!$I$6:$M$28,2,FALSE)*Table3[[#This Row],[Points Communication : vidéo]]),\"\")","v":39},{"$f":"IF(Table3[[#This Row],[Parcours choisi]]<>\"\",(VLOOKUP(Table356[[#Headers],[Epreuve CAO]],'Def. Prix & Parcours'!$I$6:$M$28,2,FALSE)*Table3[[#This Row],[Points Epreuve CAO]]),\"\")","v":80},{"$f":"IF(Table3[[#This Row],[Parcours choisi]]<>\"\",(VLOOKUP(Table356[[#Headers],[Temps Réaction]],'Def. Prix & Parcours'!$I$6:$M$28,2,FALSE)*Table3[[#This Row],[Points Temps Réaction]]),\"\")","v":24},{"$f":"IF(Table3[[#This Row],[Parcours choisi]]<>\"\",(VLOOKUP(Table356[[#Headers],[Temps Course]],'Def. Prix & Parcours'!$I$6:$M$28,2,FALSE)*Table3[[#This Row],[Points Temps Course]]),\"\")","v":90},{"$f":"IF(Table3[[#This Row],[Parcours choisi]]<>\"\",(VLOOKUP(Table356[[#Headers],[Epreuve arrêt au stand]],'Def. Prix & Parcours'!$I$6:$M$28,2,FALSE)*Table3[[#This Row],[Points Epreuve arrêt au stand]]),\"\")","v":80},{"$f":"IF(Table3[[#This Row],[Parcours choisi]]<>\"\",(VLOOKUP(Table356[[#Headers],[Coup de Cœur]],'Def. Prix & Parcours'!$I$6:$M$28,2,FALSE)*Table3[[#This Row],[Points Coup de cœur]]),\"\")","v":0},null,{"$f":"IF(Table3[[#This Row],[Parcours choisi]]<>\"\",SUM(Table356[[#This Row],[Ingénierie et conception]:[1]]),\"\")","v":546},{"$f":"IF(Table3[[#This Row],[Parcours choisi]]<>\"\",_xlfn.RANK.EQ(Table356[[#This Row],[Total Prix Avenir]],Table356[Total Prix Avenir],0),\"\")","v":25}]
[25,{"$f":"Table3[[#This Row],[Nom équipe]]","v":"The Peaky's"},{"$f":"Table3[[#This Row],[Etablissement]]","v":"La Fontaine St Avold"},{"$f":"Table3[[#This Row],[Type établissement]]","v":"C"},{"$f":"Table3[[#This Row],[Académie]]","v":"Nancy-Metz"},{"$f":"IF(Table3[[#This Row],[Parcours choisi]]<>\"\",Table3[[#This Row],[Parcours choisi]],\"\")","v":"G"},{"$f":"IF(Table3[[#This Row],[Parcours choisi]]<>\"\",(VLOOKUP(Table356[[#Headers],[Ingénierie et conception]],'Def. Prix & Parcours'!$I$6:$M$28,2,FALSE)*Table3[[#This Row],[Points Ingénierie et conception]]),\"\")","v":120},{"$f":"IF(Table3[[#This Row],[Parcours choisi]]<>\"\",(VLOOKUP(Table356[[#Headers],[Innovation mécanique]],'Def. Prix & Parcours'!$I$6:$M$28,2,FALSE)*Table3[[#This Row],[Points Innovation mécanique]]),\"\")","v":0},{"$f":"IF(Table3[[#This Row],[Parcours choisi]]<>\"\",(VLOOKUP(Table356[[#Headers],[Développement Durable]],'Def. Prix & Parcours'!$I$6:$M$28,2,FALSE)*Table3[[#This Row],[Points Développement Durable]]),\"\")","v":0},{"$f":"IF(Table3[[#This Row],[Parcours choisi]]<>\"\",(VLOOKUP(Table356[[#Headers],[Ingénierie de fabrication]],'Def. Prix & Parcours'!$I$6:$M$28,2,FALSE)*Table3[[#This Row],[Points Ingénierie de fabrication]]),\"\")","v":0},{"$f":"IF(Table3[[#This Row],[Parcours choisi]]<>\"\",(VLOOKUP(Table356[[#Headers],[Gestion de projet et collaborations]],'Def. Prix & Parcours'!$I$6:$M$28,2,FALSE)*Table3[[#This Row],[Points Gestion de projet et \ncollaborations]]),\"\")","v":95},{"$f":"IF(Table3[[#This Row],[Parcours choisi]]<>\"\",(VLOOKUP(Table356[[#Headers],[Présentation Orale]],'Def. Prix & Parcours'!$I$6:$M$28,2,FALSE)*Table3[[#This Row],[Points Présentation Orale]]),\"\")","v":85},{"$f":"IF(Table3[[#This Row],[Parcours choisi]]<>\"\",(VLOOKUP(Table356[[#Headers],[Identité Equipe]],'Def. Prix & Parcours'!$I$6:$M$28,2,FALSE)*Table3[[#This Row],[Points Identité Equipe]]),\"\")","v":85},{"$f":"IF(Table3[[#This Row],[Parcours choisi]]<>\"\",(VLOOKUP(Table356[[#Headers],[Design du Stand]],'Def. Prix & Parcours'!$I$6:$M$28,2,FALSE)*Table3[[#This Row],[Points Design du Stand]]),\"\")","v":0},{"$f":"IF(Table3[[#This Row],[Parcours choisi]]<>\"\",(VLOOKUP(Table356[[#Headers],[Portfolio]],'Def. Prix & Parcours'!$I$6:$M$28,2,FALSE)*Table3[[#This Row],[Points Portfolio]]),\"\")","v":0},{"$f":"IF(Table3[[#This Row],[Parcours choisi]]<>\"\",(VLOOKUP(Table356[[#Headers],[Marketing et Sponsoring]],'Def. Prix & Parcours'!$I$6:$M$28,2,FALSE)*Table3[[#This Row],[Points Marketing et Sponsoring]]),\"\")","v":0},{"$f":"IF(Table3[[#This Row],[Parcours choisi]]<>\"\",(VLOOKUP(Table356[[#Headers],[Budget]],'Def. Prix & Parcours'!$I$6:$M$28,2,FALSE)*Table3[[#This Row],[Points Budget]]),\"\")","v":0},{"$f":"IF(Table3[[#This Row],[Parcours choisi]]<>\"\",(VLOOKUP(Table356[[#Headers],[Design du Véhicule]],'Def. Prix & Parcours'!$I$6:$M$28,2,FALSE)*Table3[[#This Row],[Points Design du Véhicule]]),\"\")","v":0},{"$f":"IF(Table3[[#This Row],[Parcours choisi]]<>\"\",(VLOOKUP(Table356[[#Headers],[Innovation numérique]],'Def. Prix & Parcours'!$I$6:$M$28,2,FALSE)*Table3[[#This Row],[Points Innovation numérique]]),\"\")","v":0},{"$f":"IF(Table3[[#This Row],[Parcours choisi]]<>\"\",(VLOOKUP(Table356[[#Headers],[Programmation]],'Def. Prix & Parcours'!$I$6:$M$28,2,FALSE)*Table3[[#This Row],[Points Programmation]]),\"\")","v":0},{"$f":"IF(Table3[[#This Row],[Parcours choisi]]<>\"\",(VLOOKUP(Table356[[#Headers],[Respect du règlement]],'Def. Prix & Parcours'!$I$6:$M$28,2,FALSE)*Table3[[#This Row],[Points Respect du règlement]]),\"\")","v":95},{"$f":"IF(Table3[[#This Row],[Parcours choisi]]<>\"\",(VLOOKUP(Table356[[#Headers],[Communication : vidéo]],'Def. Prix & Parcours'!$I$6:$M$28,2,FALSE)*Table3[[#This Row],[Points Communication : vidéo]]),\"\")","v":51},{"$f":"IF(Table3[[#This Row],[Parcours choisi]]<>\"\",(VLOOKUP(Table356[[#Headers],[Epreuve CAO]],'Def. Prix & Parcours'!$I$6:$M$28,2,FALSE)*Table3[[#This Row],[Points Epreuve CAO]]),\"\")","v":80},{"$f":"IF(Table3[[#This Row],[Parcours choisi]]<>\"\",(VLOOKUP(Table356[[#Headers],[Temps Réaction]],'Def. Prix & Parcours'!$I$6:$M$28,2,FALSE)*Table3[[#This Row],[Points Temps Réaction]]),\"\")","v":33},{"$f":"IF(Table3[[#This Row],[Parcours choisi]]<>\"\",(VLOOKUP(Table356[[#Headers],[Temps Course]],'Def. Prix & Parcours'!$I$6:$M$28,2,FALSE)*Table3[[#This Row],[Points Temps Course]]),\"\")","v":110},{"$f":"IF(Table3[[#This Row],[Parcours choisi]]<>\"\",(VLOOKUP(Table356[[#Headers],[Epreuve arrêt au stand]],'Def. Prix & Parcours'!$I$6:$M$28,2,FALSE)*Table3[[#This Row],[Points Epreuve arrêt au stand]]),\"\")","v":80},{"$f":"IF(Table3[[#This Row],[Parcours choisi]]<>\"\",(VLOOKUP(Table356[[#Headers],[Coup de Cœur]],'Def. Prix & Parcours'!$I$6:$M$28,2,FALSE)*Table3[[#This Row],[Points Coup de cœur]]),\"\")","v":0},null,{"$f":"IF(Table3[[#This Row],[Parcours choisi]]<>\"\",SUM(Table356[[#This Row],[Ingénierie et conception]:[1]]),\"\")","v":834},{"$f":"IF(Table3[[#This Row],[Parcours choisi]]<>\"\",_xlfn.RANK.EQ(Table356[[#This Row],[Total Prix Avenir]],Table356[Total Prix Avenir],0),\"\")","v":2}]
[26,{"$f":"Table3[[#This Row],[Nom équipe]]","v":"Cosmos"},{"$f":"Table3[[#This Row],[Etablissement]]","v":"La Fontaine St Avold"},{"$f":"Table3[[#This Row],[Type établissement]]","v":"C"},{"$f":"Table3[[#This Row],[Académie]]","v":"Nancy-Metz"},{"$f":"IF(Table3[[#This Row],[Parcours choisi]]<>\"\",Table3[[#This Row],[Parcours choisi]],\"\")","v":"G"},{"$f":"IF(Table3[[#This Row],[Parcours choisi]]<>\"\",(VLOOKUP(Table356[[#Headers],[Ingénierie et conception]],'Def. Prix & Parcours'!$I$6:$M$28,2,FALSE)*Table3[[#This Row],[Points Ingénierie et conception]]),\"\")","v":90},{"$f":"IF(Table3[[#This Row],[Parcours choisi]]<>\"\",(VLOOKUP(Table356[[#Headers],[Innovation mécanique]],'Def. Prix & Parcours'!$I$6:$M$28,2,FALSE)*Table3[[#This Row],[Points Innovation mécanique]]),\"\")","v":0},{"$f":"IF(Table3[[#This Row],[Parcours choisi]]<>\"\",(VLOOKUP(Table356[[#Headers],[Développement Durable]],'Def. Prix & Parcours'!$I$6:$M$28,2,FALSE)*Table3[[#This Row],[Points Développement Durable]]),\"\")","v":0},{"$f":"IF(Table3[[#This Row],[Parcours choisi]]<>\"\",(VLOOKUP(Table356[[#Headers],[Ingénierie de fabrication]],'Def. Prix & Parcours'!$I$6:$M$28,2,FALSE)*Table3[[#This Row],[Points Ingénierie de fabrication]]),\"\")","v":0},{"$f":"IF(Table3[[#This Row],[Parcours choisi]]<>\"\",(VLOOKUP(Table356[[#Headers],[Gestion de projet et collaborations]],'Def. Prix & Parcours'!$I$6:$M$28,2,FALSE)*Table3[[#This Row],[Points Gestion de projet et \ncollaborations]]),\"\")","v":75},{"$f":"IF(Table3[[#This Row],[Parcours choisi]]<>\"\",(VLOOKUP(Table356[[#Headers],[Présentation Orale]],'Def. Prix & Parcours'!$I$6:$M$28,2,FALSE)*Table3[[#This Row],[Points Présentation Orale]]),\"\")","v":40},{"$f":"IF(Table3[[#This Row],[Parcours choisi]]<>\"\",(VLOOKUP(Table356[[#Headers],[Identité Equipe]],'Def. Prix & Parcours'!$I$6:$M$28,2,FALSE)*Table3[[#This Row],[Points Identité Equipe]]),\"\")","v":90},{"$f":"IF(Table3[[#This Row],[Parcours choisi]]<>\"\",(VLOOKUP(Table356[[#Headers],[Design du Stand]],'Def. Prix & Parcours'!$I$6:$M$28,2,FALSE)*Table3[[#This Row],[Points Design du Stand]]),\"\")","v":0},{"$f":"IF(Table3[[#This Row],[Parcours choisi]]<>\"\",(VLOOKUP(Table356[[#Headers],[Portfolio]],'Def. Prix & Parcours'!$I$6:$M$28,2,FALSE)*Table3[[#This Row],[Points Portfolio]]),\"\")","v":0},{"$f":"IF(Table3[[#This Row],[Parcours choisi]]<>\"\",(VLOOKUP(Table356[[#Headers],[Marketing et Sponsoring]],'Def. Prix & Parcours'!$I$6:$M$28,2,FALSE)*Table3[[#This Row],[Points Marketing et Sponsoring]]),\"\")","v":0},{"$f":"IF(Table3[[#This Row],[Parcours choisi]]<>\"\",(VLOOKUP(Table356[[#Headers],[Budget]],'Def. Prix & Parcours'!$I$6:$M$28,2,FALSE)*Table3[[#This Row],[Points Budget]]),\"\")","v":0},{"$f":"IF(Table3[[#This Row],[Parcours choisi]]<>\"\",(VLOOKUP(Table356[[#Headers],[Design du Véhicule]],'Def. Prix & Parcours'!$I$6:$M$28,2,FALSE)*Table3[[#This Row],[Points Design du Véhicule]]),\"\")","v":0},{"$f":"IF(Table3[[#This Row],[Parcours choisi]]<>\"\",(VLOOKUP(Table356[[#Headers],[Innovation numérique]],'Def. Prix & Parcours'!$I$6:$M$28,2,FALSE)*Table3[[#This Row],[Points Innovation numérique]]),\"\")","v":0},{"$f":"IF(Table3[[#This Row],[Parcours choisi]]<>\"\",(VLOOKUP(Table356[[#Headers],[Programmation]],'Def. Prix & Parcours'!$I$6:$M$28,2,FALSE)*Table3[[#This Row],[Points Programmation]]),\"\")","v":0},{"$f":"IF(Table3[[#This Row],[Parcours choisi]]<>\"\",(VLOOKUP(Table356[[#Headers],[Respect du règlement]],'Def. Prix & Parcours'!$I$6:$M$28,2,FALSE)*Table3[[#This Row],[Points Respect du règlement]]),\"\")","v":100},{"$f":"IF(Table3[[#This Row],[Parcours choisi]]<>\"\",(VLOOKUP(Table356[[#Headers],[Communication : vidéo]],'Def. Prix & Parcours'!$I$6:$M$28,2,FALSE)*Table3[[#This Row],[Points Communication : vidéo]]),\"\")","v":54},{"$f":"IF(Table3[[#This Row],[Parcours choisi]]<>\"\",(VLOOKUP(Table356[[#Headers],[Epreuve CAO]],'Def. Prix & Parcours'!$I$6:$M$28,2,FALSE)*Table3[[#This Row],[Points Epreuve CAO]]),\"\")","v":80},{"$f":"IF(Table3[[#This Row],[Parcours choisi]]<>\"\",(VLOOKUP(Table356[[#Headers],[Temps Réaction]],'Def. Prix & Parcours'!$I$6:$M$28,2,FALSE)*Table3[[#This Row],[Points Temps Réaction]]),\"\")","v":54},{"$f":"IF(Table3[[#This Row],[Parcours choisi]]<>\"\",(VLOOKUP(Table356[[#Headers],[Temps Course]],'Def. Prix & Parcours'!$I$6:$M$28,2,FALSE)*Table3[[#This Row],[Points Temps Course]]),\"\")","v":140},{"$f":"IF(Table3[[#This Row],[Parcours choisi]]<>\"\",(VLOOKUP(Table356[[#Headers],[Epreuve arrêt au stand]],'Def. Prix & Parcours'!$I$6:$M$28,2,FALSE)*Table3[[#This Row],[Points Epreuve arrêt au stand]]),\"\")","v":80},{"$f":"IF(Table3[[#This Row],[Parcours choisi]]<>\"\",(VLOOKUP(Table356[[#Headers],[Coup de Cœur]],'Def. Prix & Parcours'!$I$6:$M$28,2,FALSE)*Table3[[#This Row],[Points Coup de cœur]]),\"\")","v":0},null,{"$f":"IF(Table3[[#This Row],[Parcours choisi]]<>\"\",SUM(Table356[[#This Row],[Ingénierie et conception]:[1]]),\"\")","v":803},{"$f":"IF(Table3[[#This Row],[Parcours choisi]]<>\"\",_xlfn.RANK.EQ(Table356[[#This Row],[Total Prix Avenir]],Table356[Total Prix Avenir],0),\"\")","v":4}]
[27,{"$f":"Table3[[#This Row],[Nom équipe]]","v":"Otaku"},{"$f":"Table3[[#This Row],[Etablissement]]","v":"La Fontaine St Avold"},{"$f":"Table3[[#This Row],[Type établissement]]","v":"C"},{"$f":"Table3[[#This Row],[Académie]]","v":"Nancy-Metz"},{"$f":"IF(Table3[[#This Row],[Parcours choisi]]<>\"\",Table3[[#This Row],[Parcours choisi]],\"\")","v":"G"},{"$f":"IF(Table3[[#This Row],[Parcours choisi]]<>\"\",(VLOOKUP(Table356[[#Headers],[Ingénierie et conception]],'Def. Prix & Parcours'!$I$6:$M$28,2,FALSE)*Table3[[#This Row],[Points Ingénierie et conception]]),\"\")","v":72},{"$f":"IF(Table3[[#This Row],[Parcours choisi]]<>\"\",(VLOOKUP(Table356[[#Headers],[Innovation mécanique]],'Def. Prix & Parcours'!$I$6:$M$28,2,FALSE)*Table3[[#This Row],[Points Innovation mécanique]]),\"\")","v":0},{"$f":"IF(Table3[[#This Row],[Parcours choisi]]<>\"\",(VLOOKUP(Table356[[#Headers],[Développement Durable]],'Def. Prix & Parcours'!$I$6:$M$28,2,FALSE)*Table3[[#This Row],[Points Développement Durable]]),\"\")","v":0},{"$f":"IF(Table3[[#This Row],[Parcours choisi]]<>\"\",(VLOOKUP(Table356[[#Headers],[Ingénierie de fabrication]],'Def. Prix & Parcours'!$I$6:$M$28,2,FALSE)*Table3[[#This Row],[Points Ingénierie de fabrication]]),\"\")","v":0},{"$f":"IF(Table3[[#This Row],[Parcours choisi]]<>\"\",(VLOOKUP(Table356[[#Headers],[Gestion de projet et collaborations]],'Def. Prix & Parcours'!$I$6:$M$28,2,FALSE)*Table3[[#This Row],[Points Gestion de projet et \ncollaborations]]),\"\")","v":85},{"$f":"IF(Table3[[#This Row],[Parcours choisi]]<>\"\",(VLOOKUP(Table356[[#Headers],[Présentation Orale]],'Def. Prix & Parcours'!$I$6:$M$28,2,FALSE)*Table3[[#This Row],[Points Présentation Orale]]),\"\")","v":70},{"$f":"IF(Table3[[#This Row],[Parcours choisi]]<>\"\",(VLOOKUP(Table356[[#Headers],[Identité Equipe]],'Def. Prix & Parcours'!$I$6:$M$28,2,FALSE)*Table3[[#This Row],[Points Identité Equipe]]),\"\")","v":90},{"$f":"IF(Table3[[#This Row],[Parcours choisi]]<>\"\",(VLOOKUP(Table356[[#Headers],[Design du Stand]],'Def. Prix & Parcours'!$I$6:$M$28,2,FALSE)*Table3[[#This Row],[Points Design du Stand]]),\"\")","v":0},{"$f":"IF(Table3[[#This Row],[Parcours choisi]]<>\"\",(VLOOKUP(Table356[[#Headers],[Portfolio]],'Def. Prix & Parcours'!$I$6:$M$28,2,FALSE)*Table3[[#This Row],[Points Portfolio]]),\"\")","v":0},{"$f":"IF(Table3[[#This Row],[Parcours choisi]]<>\"\",(VLOOKUP(Table356[[#Headers],[Marketing et Sponsoring]],'Def. Prix & Parcours'!$I$6:$M$28,2,FALSE)*Table3[[#This Row],[Points Marketing et Sponsoring]]),\"\")","v":0},{"$f":"IF(Table3[[#This Row],[Parcours choisi]]<>\"\",(VLOOKUP(Table356[[#Headers],[Budget]],'Def. Prix & Parcours'!$I$6:$M$28,2,FALSE)*Table3[[#This Row],[Points Budget]]),\"\")","v":0},{"$f":"IF(Table3[[#This Row],[Parcours choisi]]<>\"\",(VLOOKUP(Table356[[#Headers],[Design du Véhicule]],'Def. Prix & Parcours'!$I$6:$M$28,2,FALSE)*Table3[[#This Row],[Points Design du Véhicule]]),\"\")","v":0},{"$f":"IF(Table3[[#This Row],[Parcours choisi]]<>\"\",(VLOOKUP(Table356[[#Headers],[Innovation numérique]],'Def. Prix & Parcours'!$I$6:$M$28,2,FALSE)*Table3[[#This Row],[Points Innovation numérique]]),\"\")","v":0},{"$f":"IF(Table3[[#This Row],[Parcours choisi]]<>\"\",(VLOOKUP(Table356[[#Headers],[Programmation]],'Def. Prix & Parcours'!$I$6:$M$28,2,FALSE)*Table3[[#This Row],[Points Programmation]]),\"\")","v":0},{"$f":"IF(Table3[[#This Row],[Parcours choisi]]<>\"\",(VLOOKUP(Table356[[#Headers],[Respect du règlement]],'Def. Prix & Parcours'!$I$6:$M$28,2,FALSE)*Table3[[#This Row],[Points Respect du règlement]]),\"\")","v":95},{"$f":"IF(Table3[[#This Row],[Parcours choisi]]<>\"\",(VLOOKUP(Table356[[#Headers],[Communication : vidéo]],'Def. Prix & Parcours'!$I$6:$M$28,2,FALSE)*Table3[[#This Row],[Points Communication : vidéo]]),\"\")","v":48},{"$f":"IF(Table3[[#This Row],[Parcours choisi]]<>\"\",(VLOOKUP(Table356[[#Headers],[Epreuve CAO]],'Def. Prix & Parcours'!$I$6:$M$28,2,FALSE)*Table3[[#This Row],[Points Epreuve CAO]]),\"\")","v":80},{"$f":"IF(Table3[[#This Row],[Parcours choisi]]<>\"\",(VLOOKUP(Table356[[#Headers],[Temps Réaction]],'Def. Prix & Parcours'!$I$6:$M$28,2,FALSE)*Table3[[#This Row],[Points Temps Réaction]]),\"\")","v":42},{"$f":"IF(Table3[[#This Row],[Parcours choisi]]<>\"\",(VLOOKUP(Table356[[#Headers],[Temps Course]],'Def. Prix & Parcours'!$I$6:$M$28,2,FALSE)*Table3[[#This Row],[Points Temps Course]]),\"\")","v":100},{"$f":"IF(Table3[[#This Row],[Parcours choisi]]<>\"\",(VLOOKUP(Table356[[#Headers],[Epreuve arrêt au stand]],'Def. Prix & Parcours'!$I$6:$M$28,2,FALSE)*Table3[[#This Row],[Points Epreuve arrêt au stand]]),\"\")","v":80},{"$f":"IF(Table3[[#This Row],[Parcours choisi]]<>\"\",(VLOOKUP(Table356[[#Headers],[Coup de Cœur]],'Def. Prix & Parcours'!$I$6:$M$28,2,FALSE)*Table3[[#This Row],[Points Coup de cœur]]),\"\")","v":0},null,{"$f":"IF(Table3[[#This Row],[Parcours choisi]]<>\"\",SUM(Table356[[#This Row],[Ingénierie et conception]:[1]]),\"\")","v":762},{"$f":"IF(Table3[[#This Row],[Parcours choisi]]<>\"\",_xlfn.RANK.EQ(Table356[[#This Row],[Total Prix Avenir]],Table356[Total Prix Avenir],0),\"\")","v":10}]
[28,{"$f":"Table3[[#This Row],[Nom équipe]]","v":"Bal'eau"},{"$f":"Table3[[#This Row],[Etablissement]]","v":"La Fontaine St Avold"},{"$f":"Table3[[#This Row],[Type établissement]]","v":"C"},{"$f":"Table3[[#This Row],[Académie]]","v":"Nancy-Metz"},{"$f":"IF(Table3[[#This Row],[Parcours choisi]]<>\"\",Table3[[#This Row],[Parcours choisi]],\"\")","v":"G"},{"$f":"IF(Table3[[#This Row],[Parcours choisi]]<>\"\",(VLOOKUP(Table356[[#Headers],[Ingénierie et conception]],'Def. Prix & Parcours'!$I$6:$M$28,2,FALSE)*Table3[[#This Row],[Points Ingénierie et conception]]),\"\")","v":102},{"$f":"IF(Table3[[#This Row],[Parcours choisi]]<>\"\",(VLOOKUP(Table356[[#Headers],[Innovation mécanique]],'Def. Prix & Parcours'!$I$6:$M$28,2,FALSE)*Table3[[#This Row],[Points Innovation mécanique]]),\"\")","v":0},{"$f":"IF(Table3[[#This Row],[Parcours choisi]]<>\"\",(VLOOKUP(Table356[[#Headers],[Développement Durable]],'Def. Prix & Parcours'!$I$6:$M$28,2,FALSE)*Table3[[#This Row],[Points Développement Durable]]),\"\")","v":0},{"$f":"IF(Table3[[#This Row],[Parcours choisi]]<>\"\",(VLOOKUP(Table356[[#Headers],[Ingénierie de fabrication]],'Def. Prix & Parcours'!$I$6:$M$28,2,FALSE)*Table3[[#This Row],[Points Ingénierie de fabrication]]),\"\")","v":0},{"$f":"IF(Table3[[#This Row],[Parcours choisi]]<>\"\",(VLOOKUP(Table356[[#Headers],[Gestion de projet et collaborations]],'Def. Prix & Parcours'!$I$6:$M$28,2,FALSE)*Table3[[#This Row],[Points Gestion de projet et \ncollaborations]]),\"\")","v":90},{"$f":"IF(Table3[[#This Row],[Parcours choisi]]<>\"\",(VLOOKUP(Table356[[#Headers],[Présentation Orale]],'Def. Prix & Parcours'!$I$6:$M$28,2,FALSE)*Table3[[#This Row],[Points Présentation Orale]]),\"\")","v":65},{"$f":"IF(Table3[[#This Row],[Parcours choisi]]<>\"\",(VLOOKUP(Table356[[#Headers],[Identité Equipe]],'Def. Prix & Parcours'!$I$6:$M$28,2,FALSE)*Table3[[#This Row],[Points Identité Equipe]]),\"\")","v":85},{"$f":"IF(Table3[[#This Row],[Parcours choisi]]<>\"\",(VLOOKUP(Table356[[#Headers],[Design du Stand]],'Def. Prix & Parcours'!$I$6:$M$28,2,FALSE)*Table3[[#This Row],[Points Design du Stand]]),\"\")","v":0},{"$f":"IF(Table3[[#This Row],[Parcours choisi]]<>\"\",(VLOOKUP(Table356[[#Headers],[Portfolio]],'Def. Prix & Parcours'!$I$6:$M$28,2,FALSE)*Table3[[#This Row],[Points Portfolio]]),\"\")","v":0},{"$f":"IF(Table3[[#This Row],[Parcours choisi]]<>\"\",(VLOOKUP(Table356[[#Headers],[Marketing et Sponsoring]],'Def. Prix & Parcours'!$I$6:$M$28,2,FALSE)*Table3[[#This Row],[Points Marketing et Sponsoring]]),\"\")","v":0},{"$f":"IF(Table3[[#This Row],[Parcours choisi]]<>\"\",(VLOOKUP(Table356[[#Headers],[Budget]],'Def. Prix & Parcours'!$I$6:$M$28,2,FALSE)*Table3[[#This Row],[Points Budget]]),\"\")","v":0},{"$f":"IF(Table3[[#This Row],[Parcours choisi]]<>\"\",(VLOOKUP(Table356[[#Headers],[Design du Véhicule]],'Def. Prix & Parcours'!$I$6:$M$28,2,FALSE)*Table3[[#This Row],[Points Design du Véhicule]]),\"\")","v":0},{"$f":"IF(Table3[[#This Row],[Parcours choisi]]<>\"\",(VLOOKUP(Table356[[#Headers],[Innovation numérique]],'Def. Prix & Parcours'!$I$6:$M$28,2,FALSE)*Table3[[#This Row],[Points Innovation numérique]]),\"\")","v":0},{"$f":"IF(Table3[[#This Row],[Parcours choisi]]<>\"\",(VLOOKUP(Table356[[#Headers],[Programmation]],'Def. Prix & Parcours'!$I$6:$M$28,2,FALSE)*Table3[[#This Row],[Points Programmation]]),\"\")","v":0},{"$f":"IF(Table3[[#This Row],[Parcours choisi]]<>\"\",(VLOOKUP(Table356[[#Headers],[Respect du règlement]],'Def. Prix & Parcours'!$I$6:$M$28,2,FALSE)*Table3[[#This Row],[Points Respect du règlement]]),\"\")","v":95},{"$f":"IF(Table3[[#This Row],[Parcours choisi]]<>\"\",(VLOOKUP(Table356[[#Headers],[Communication : vidéo]],'Def. Prix & Parcours'!$I$6:$M$28,2,FALSE)*Table3[[#This Row],[Points Communication : vidéo]]),\"\")","v":33},{"$f":"IF(Table3[[#This Row],[Parcours choisi]]<>\"\",(VLOOKUP(Table356[[#Headers],[Epreuve CAO]],'Def. Prix & Parcours'!$I$6:$M$28,2,FALSE)*Table3[[#This Row],[Points Epreuve CAO]]),\"\")","v":80},{"$f":"IF(Table3[[#This Row],[Parcours choisi]]<>\"\",(VLOOKUP(Table356[[#Headers],[Temps Réaction]],'Def. Prix & Parcours'!$I$6:$M$28,2,FALSE)*Table3[[#This Row],[Points Temps Réaction]]),\"\")","v":6},{"$f":"IF(Table3[[#This Row],[Parcours choisi]]<>\"\",(VLOOKUP(Table356[[#Headers],[Temps Course]],'Def. Prix & Parcours'!$I$6:$M$28,2,FALSE)*Table3[[#This Row],[Points Temps Course]]),\"\")","v":120},{"$f":"IF(Table3[[#This Row],[Parcours choisi]]<>\"\",(VLOOKUP(Table356[[#Headers],[Epreuve arrêt au stand]],'Def. Prix & Parcours'!$I$6:$M$28,2,FALSE)*Table3[[#This Row],[Points Epreuve arrêt au stand]]),\"\")","v":80},{"$f":"IF(Table3[[#This Row],[Parcours choisi]]<>\"\",(VLOOKUP(Table356[[#Headers],[Coup de Cœur]],'Def. Prix & Parcours'!$I$6:$M$28,2,FALSE)*Table3[[#This Row],[Points Coup de cœur]]),\"\")","v":0},null,{"$f":"IF(Table3[[#This Row],[Parcours choisi]]<>\"\",SUM(Table356[[#This Row],[Ingénierie et conception]:[1]]),\"\")","v":756},{"$f":"IF(Table3[[#This Row],[Parcours choisi]]<>\"\",_xlfn.RANK.EQ(Table356[[#This Row],[Total Prix Avenir]],Table356[Total Prix Avenir],0),\"\")","v":12}]
[29,{"$f":"Table3[[#This Row],[Nom équipe]]","v":"Team Lambo"},{"$f":"Table3[[#This Row],[Etablissement]]","v":"La Fontaine St Avold"},{"$f":"Table3[[#This Row],[Type établissement]]","v":"C"},{"$f":"Table3[[#This Row],[Académie]]","v":"Nancy-Metz"},{"$f":"IF(Table3[[#This Row],[Parcours choisi]]<>\"\",Table3[[#This Row],[Parcours choisi]],\"\")","v":"G"},{"$f":"IF(Table3[[#This Row],[Parcours choisi]]<>\"\",(VLOOKUP(Table356[[#Headers],[Ingénierie et conception]],'Def. Prix & Parcours'!$I$6:$M$28,2,FALSE)*Table3[[#This Row],[Points Ingénierie et conception]]),\"\")","v":90},{"$f":"IF(Table3[[#This Row],[Parcours choisi]]<>\"\",(VLOOKUP(Table356[[#Headers],[Innovation mécanique]],'Def. Prix & Parcours'!$I$6:$M$28,2,FALSE)*Table3[[#This Row],[Points Innovation mécanique]]),\"\")","v":0},{"$f":"IF(Table3[[#This Row],[Parcours choisi]]<>\"\",(VLOOKUP(Table356[[#Headers],[Développement Durable]],'Def. Prix & Parcours'!$I$6:$M$28,2,FALSE)*Table3[[#This Row],[Points Développement Durable]]),\"\")","v":0},{"$f":"IF(Table3[[#This Row],[Parcours choisi]]<>\"\",(VLOOKUP(Table356[[#Headers],[Ingénierie de fabrication]],'Def. Prix & Parcours'!$I$6:$M$28,2,FALSE)*Table3[[#This Row],[Points Ingénierie de fabrication]]),\"\")","v":0},{"$f":"IF(Table3[[#This Row],[Parcours choisi]]<>\"\",(VLOOKUP(Table356[[#Headers],[Gestion de projet et collaborations]],'Def. Prix & Parcours'!$I$6:$M$28,2,FALSE)*Table3[[#This Row],[Points Gestion de projet et \ncollaborations]]),\"\")","v":55},{"$f":"IF(Table3[[#This Row],[Parcours choisi]]<>\"\",(VLOOKUP(Table356[[#Headers],[Présentation Orale]],'Def. Prix & Parcours'!$I$6:$M$28,2,FALSE)*Table3[[#This Row],[Points Présentation Orale]]),\"\")","v":60},{"$f":"IF(Table3[[#This Row],[Parcours choisi]]<>\"\",(VLOOKUP(Table356[[#Headers],[Identité Equipe]],'Def. Prix & Parcours'!$I$6:$M$28,2,FALSE)*Table3[[#This Row],[Points Identité Equipe]]),\"\")","v":35},{"$f":"IF(Table3[[#This Row],[Parcours choisi]]<>\"\",(VLOOKUP(Table356[[#Headers],[Design du Stand]],'Def. Prix & Parcours'!$I$6:$M$28,2,FALSE)*Table3[[#This Row],[Points Design du Stand]]),\"\")","v":0},{"$f":"IF(Table3[[#This Row],[Parcours choisi]]<>\"\",(VLOOKUP(Table356[[#Headers],[Portfolio]],'Def. Prix & Parcours'!$I$6:$M$28,2,FALSE)*Table3[[#This Row],[Points Portfolio]]),\"\")","v":0},{"$f":"IF(Table3[[#This Row],[Parcours choisi]]<>\"\",(VLOOKUP(Table356[[#Headers],[Marketing et Sponsoring]],'Def. Prix & Parcours'!$I$6:$M$28,2,FALSE)*Table3[[#This Row],[Points Marketing et Sponsoring]]),\"\")","v":0},{"$f":"IF(Table3[[#This Row],[Parcours choisi]]<>\"\",(VLOOKUP(Table356[[#Headers],[Budget]],'Def. Prix & Parcours'!$I$6:$M$28,2,FALSE)*Table3[[#This Row],[Points Budget]]),\"\")","v":0},{"$f":"IF(Table3[[#This Row],[Parcours choisi]]<>\"\",(VLOOKUP(Table356[[#Headers],[Design du Véhicule]],'Def. Prix & Parcours'!$I$6:$M$28,2,FALSE)*Table3[[#This Row],[Points Design du Véhicule]]),\"\")","v":0},{"$f":"IF(Table3[[#This Row],[Parcours choisi]]<>\"\",(VLOOKUP(Table356[[#Headers],[Innovation numérique]],'Def. Prix & Parcours'!$I$6:$M$28,2,FALSE)*Table3[[#This Row],[Points Innovation numérique]]),\"\")","v":0},{"$f":"IF(Table3[[#This Row],[Parcours choisi]]<>\"\",(VLOOKUP(Table356[[#Headers],[Programmation]],'Def. Prix & Parcours'!$I$6:$M$28,2,FALSE)*Table3[[#This Row],[Points Programmation]]),\"\")","v":0},{"$f":"IF(Table3[[#This Row],[Parcours choisi]]<>\"\",(VLOOKUP(Table356[[#Headers],[Respect du règlement]],'Def. Prix & Parcours'!$I$6:$M$28,2,FALSE)*Table3[[#This Row],[Points Respect du règlement]]),\"\")","v":70},{"$f":"IF(Table3[[#This Row],[Parcours choisi]]<>\"\",(VLOOKUP(Table356[[#Headers],[Communication : vidéo]],'Def. Prix & Parcours'!$I$6:$M$28,2,FALSE)*Table3[[#This Row],[Points Communication : vidéo]]),\"\")","v":30},{"$f":"IF(Table3[[#This Row],[Parcours choisi]]<>\"\",(VLOOKUP(Table356[[#Headers],[Epreuve CAO]],'Def. Prix & Parcours'!$I$6:$M$28,2,FALSE)*Table3[[#This Row],[Points Epreuve CAO]]),\"\")","v":80},{"$f":"IF(Table3[[#This Row],[Parcours choisi]]<>\"\",(VLOOKUP(Table356[[#Headers],[Temps Réaction]],'Def. Prix & Parcours'!$I$6:$M$28,2,FALSE)*Table3[[#This Row],[Points Temps Réaction]]),\"\")","v":12},{"$f":"IF(Table3[[#This Row],[Parcours choisi]]<>\"\",(VLOOKUP(Table356[[#Headers],[Temps Course]],'Def. Prix & Parcours'!$I$6:$M$28,2,FALSE)*Table3[[#This Row],[Points Temps Course]]),\"\")","v":80},{"$f":"IF(Table3[[#This Row],[Parcours choisi]]<>\"\",(VLOOKUP(Table356[[#Headers],[Epreuve arrêt au stand]],'Def. Prix & Parcours'!$I$6:$M$28,2,FALSE)*Table3[[#This Row],[Points Epreuve arrêt au stand]]),\"\")","v":80},{"$f":"IF(Table3[[#This Row],[Parcours choisi]]<>\"\",(VLOOKUP(Table356[[#Headers],[Coup de Cœur]],'Def. Prix & Parcours'!$I$6:$M$28,2,FALSE)*Table3[[#This Row],[Points Coup de cœur]]),\"\")","v":0},null,{"$f":"IF(Table3[[#This Row],[Parcours choisi]]<>\"\",SUM(Table356[[#This Row],[Ingénierie et conception]:[1]]),\"\")","v":592},{"$f":"IF(Table3[[#This Row],[Parcours choisi]]<>\"\",_xlfn.RANK.EQ(Table356[[#This Row],[Total Prix Avenir]],Table356[Total Prix Avenir],0),\"\")","v":24}]
[30,{"$f":"Table3[[#This Row],[Nom équipe]]","v":0},{"$f":"Table3[[#This Row],[Etablissement]]","v":0},{"$f":"Table3[[#This Row],[Type établissement]]","v":0},{"$f":"Table3[[#This Row],[Académie]]","v":0},{"$f":"IF(Table3[[#This Row],[Parcours choisi]]<>\"\",Table3[[#This Row],[Parcours choisi]],\"\")","v":""},{"$f":"IF(Table3[[#This Row],[Parcours choisi]]<>\"\",(VLOOKUP(Table356[[#Headers],[Ingénierie et conception]],'Def. Prix & Parcours'!$I$6:$M$28,2,FALSE)*Table3[[#This Row],[Points Ingénierie et conception]]),\"\")","v":""},{"$f":"IF(Table3[[#This Row],[Parcours choisi]]<>\"\",(VLOOKUP(Table356[[#Headers],[Innovation mécanique]],'Def. Prix & Parcours'!$I$6:$M$28,2,FALSE)*Table3[[#This Row],[Points Innovation mécanique]]),\"\")","v":""},{"$f":"IF(Table3[[#This Row],[Parcours choisi]]<>\"\",(VLOOKUP(Table356[[#Headers],[Développement Durable]],'Def. Prix & Parcours'!$I$6:$M$28,2,FALSE)*Table3[[#This Row],[Points Développement Durable]]),\"\")","v":""},{"$f":"IF(Table3[[#This Row],[Parcours choisi]]<>\"\",(VLOOKUP(Table356[[#Headers],[Ingénierie de fabrication]],'Def. Prix & Parcours'!$I$6:$M$28,2,FALSE)*Table3[[#This Row],[Points Ingénierie de fabrication]]),\"\")","v":""},{"$f":"IF(Table3[[#This Row],[Parcours choisi]]<>\"\",(VLOOKUP(Table356[[#Headers],[Gestion de projet et collaborations]],'Def. Prix & Parcours'!$I$6:$M$28,2,FALSE)*Table3[[#This Row],[Points Gestion de projet et \ncollaborations]]),\"\")","v":""},{"$f":"IF(Table3[[#This Row],[Parcours choisi]]<>\"\",(VLOOKUP(Table356[[#Headers],[Présentation Orale]],'Def. Prix & Parcours'!$I$6:$M$28,2,FALSE)*Table3[[#This Row],[Points Présentation Orale]]),\"\")","v":""},{"$f":"IF(Table3[[#This Row],[Parcours choisi]]<>\"\",(VLOOKUP(Table356[[#Headers],[Identité Equipe]],'Def. Prix & Parcours'!$I$6:$M$28,2,FALSE)*Table3[[#This Row],[Points Identité Equipe]]),\"\")","v":""},{"$f":"IF(Table3[[#This Row],[Parcours choisi]]<>\"\",(VLOOKUP(Table356[[#Headers],[Design du Stand]],'Def. Prix & Parcours'!$I$6:$M$28,2,FALSE)*Table3[[#This Row],[Points Design du Stand]]),\"\")","v":""},{"$f":"IF(Table3[[#This Row],[Parcours choisi]]<>\"\",(VLOOKUP(Table356[[#Headers],[Portfolio]],'Def. Prix & Parcours'!$I$6:$M$28,2,FALSE)*Table3[[#This Row],[Points Portfolio]]),\"\")","v":""},{"$f":"IF(Table3[[#This Row],[Parcours choisi]]<>\"\",(VLOOKUP(Table356[[#Headers],[Marketing et Sponsoring]],'Def. Prix & Parcours'!$I$6:$M$28,2,FALSE)*Table3[[#This Row],[Points Marketing et Sponsoring]]),\"\")","v":""},{"$f":"IF(Table3[[#This Row],[Parcours choisi]]<>\"\",(VLOOKUP(Table356[[#Headers],[Budget]],'Def. Prix & Parcours'!$I$6:$M$28,2,FALSE)*Table3[[#This Row],[Points Budget]]),\"\")","v":""},{"$f":"IF(Table3[[#This Row],[Parcours choisi]]<>\"\",(VLOOKUP(Table356[[#Headers],[Design du Véhicule]],'Def. Prix & Parcours'!$I$6:$M$28,2,FALSE)*Table3[[#This Row],[Points Design du Véhicule]]),\"\")","v":""},{"$f":"IF(Table3[[#This Row],[Parcours choisi]]<>\"\",(VLOOKUP(Table356[[#Headers],[Innovation numérique]],'Def. Prix & Parcours'!$I$6:$M$28,2,FALSE)*Table3[[#This Row],[Points Innovation numérique]]),\"\")","v":""},{"$f":"IF(Table3[[#This Row],[Parcours choisi]]<>\"\",(VLOOKUP(Table356[[#Headers],[Programmation]],'Def. Prix & Parcours'!$I$6:$M$28,2,FALSE)*Table3[[#This Row],[Points Programmation]]),\"\")","v":""},{"$f":"IF(Table3[[#This Row],[Parcours choisi]]<>\"\",(VLOOKUP(Table356[[#Headers],[Respect du règlement]],'Def. Prix & Parcours'!$I$6:$M$28,2,FALSE)*Table3[[#This Row],[Points Respect du règlement]]),\"\")","v":""},{"$f":"IF(Table3[[#This Row],[Parcours choisi]]<>\"\",(VLOOKUP(Table356[[#Headers],[Communication : vidéo]],'Def. Prix & Parcours'!$I$6:$M$28,2,FALSE)*Table3[[#This Row],[Points Communication : vidéo]]),\"\")","v":""},{"$f":"IF(Table3[[#This Row],[Parcours choisi]]<>\"\",(VLOOKUP(Table356[[#Headers],[Epreuve CAO]],'Def. Prix & Parcours'!$I$6:$M$28,2,FALSE)*Table3[[#This Row],[Points Epreuve CAO]]),\"\")","v":""},{"$f":"IF(Table3[[#This Row],[Parcours choisi]]<>\"\",(VLOOKUP(Table356[[#Headers],[Temps Réaction]],'Def. Prix & Parcours'!$I$6:$M$28,2,FALSE)*Table3[[#This Row],[Points Temps Réaction]]),\"\")","v":""},{"$f":"IF(Table3[[#This Row],[Parcours choisi]]<>\"\",(VLOOKUP(Table356[[#Headers],[Temps Course]],'Def. Prix & Parcours'!$I$6:$M$28,2,FALSE)*Table3[[#This Row],[Points Temps Course]]),\"\")","v":""},{"$f":"IF(Table3[[#This Row],[Parcours choisi]]<>\"\",(VLOOKUP(Table356[[#Headers],[Epreuve arrêt au stand]],'Def. Prix & Parcours'!$I$6:$M$28,2,FALSE)*Table3[[#This Row],[Points Epreuve arrêt au stand]]),\"\")","v":""},{"$f":"IF(Table3[[#This Row],[Parcours choisi]]<>\"\",(VLOOKUP(Table356[[#Headers],[Coup de Cœur]],'Def. Prix & Parcours'!$I$6:$M$28,2,FALSE)*Table3[[#This Row],[Points Coup de cœur]]),\"\")","v":""},null,{"$f":"IF(Table3[[#This Row],[Parcours choisi]]<>\"\",SUM(Table356[[#This Row],[Ingénierie et conception]:[1]]),\"\")","v":""},{"$f":"IF(Table3[[#This Row],[Parcours choisi]]<>\"\",_xlfn.RANK.EQ(Table356[[#This Row],[Total Prix Avenir]],Table356[Total Prix Avenir],0),\"\")","v":""}]

{"sheet":"Resultats","index":8,"n_rows":67,"n_cols":6,"rows_kept":67,"cut":false,"hidden":false,"merged":[[64,1,64,5],[53,1,53,4],[48,1,48,4],[1,1,1,4],[3,1,3,5],[31,1,31,5],[58,1,58,4],[36,1,36,5],[41,1,41,5]]}
[]
[null,"Résultats Finale Nationale"]
[]
[null,"Classement Général toutes catégories"]
[null,null,"Nom Equipe","Académie","Etablissement","Total Points"]
[null,1,"The Peaky's","Nancy-Metz","La Fontaine St Avold",1763]
[null,2,"Fifties","Nancy-Metz","Duvivier Einville",1697]
[null,3,"Six divergents","Nancy-Metz","Bichat Lunéville",1581]
[null,4,"Les Daltram","Nancy-Metz","Jean Lamour Nancy",1579]
[null,5,"Andromeda","Nancy-Metz","Duvivier Einville",1572]
[null,6,"Cosmos","Nancy-Metz","La Fontaine St Avold",1516]
[null,7,"Bal'eau","Nancy-Metz","La Fontaine St Avold",1474]
[null,8,"Molécuisto","Nancy-Metz","Bichat Lunéville",1473]
[null,9,"Otaku","Nancy-Metz","La Fontaine St Avold",1465]
[null,10,"SharkAttack","Nancy-Metz","Vogt Commercy",1422]
[null,11,"Les Toucaninos","Nancy-Metz","Jean Lamour Nancy",1411]
[null,12,"Space-hat","Nancy-Metz","Boutet Lunéville",1401]
[null,13,"Back to the past","Nancy-Metz","Loritz Nancy",1389]
[null,14,"Scott","Nancy-Metz","Hauts de Blémont Metz",1342]
[null,15,"Green Tiger","Nancy-Metz","Hauts de Blémont Metz",1340]
[null,16,"E-magie-nation","Nancy-Metz","A. Dreux Folschviller",1340]
[null,17,"Ionix","Nancy-Metz","Loritz Nancy",1322]
[null,18,"Gol'o Team","Nancy-Metz","A. Dreux Folschviller",1284]
[null,19,"Grey","Nancy-Metz","Hauts de Blémont Metz",1252]
[null,20,"Les 80's","Nancy-Metz","A. Dreux Folschviller",1236]
[null,21,"Danger","Nancy-Metz","Hauts de Blémont Metz",1225]
[null,22,"Amercan's 70","Nancy-Metz","A. Dreux Folschviller",1128]
[null,23,"Star Car","Nancy-Metz","AVEC",1045]
[null,24,"Team Lambo","Nancy-Metz","La Fontaine St Avold",1025]
[null,25,"Serpent","Nancy-Metz","A. Dreux Folschviller",982]
[]
[null,"Prix \"Sciences et Techniques\""]
[]
[null,"Collège","Bal'eau","Nancy-Metz","La Fontaine St Avold",1151]
[null,"Lycée"]
[]
[null,"Prix \"Marketing et Communication\""]
[null,null,"Nom Equipe","Académie","Etablissement","Total Points"]
[null,"Collège","Andromeda","Nancy-Metz","Duvivier Einville",1129]
[null,"Lycée"]
[]
[null,"Prix \"Innovation Technologique à caractère numérique\""]
[null,null,"Nom Equipe","Académie","Etablissement","Total Points"]
[null,"Collège","Les Daltram","Nancy-Metz","Jean Lamour Nancy",1121]
[null,"Lycée"]
[]
[]
[]
[null,"Trophée \"Coup de Cœur du Jury\""]
[null,null,"Nom Equipe","Académie","Etablissement"]
[null,"1er","Star Car","Nancy-Metz","AVEC"]
[]
[]
[null,"Trophée \"Elles Bougent\""]
[null,null,"Nom Equipe","Académie","Etablissement"]
[null,"1er","Les Toucaninos","Nancy-Metz","Jean Lamour Nancy"]
[]
[]
[null,"Trophée \"Design\""]
[null,null,"Nom Equipe","Académie","Etablissement"]
[null,"1er","Cosmos","Nancy-Metz","La Fontaine St Avold"]
[]
[]
[]
[null,"Prix \"Avenir\""]
[null,null,"Nom Equipe","Académie","Etablissement"]
[null,"1er","Space Hat","Nancy-Metz","Boutet de Monvel Lunéville"]

{"sheet":"KO 16 Vierge","index":9,"n_rows":0,"n_cols":0,"rows_kept":0,"cut":false,"hidden":false,"merged":[]}